Story-Interact v0.001014 Perl 5 v5.32.0 i686-linux-64int

Status
Pass
From
David Cantrell (DCANTRELL)
Dist
Story-Interact v0.001014
Platform
Perl 5 v5.32.0 i686-linux-64int
Date
2023-09-01 23:21:17
ID
409475f4-491e-11ee-b1d2-bd7cd9d2c909
This distribution has been tested as part of the CPAN Testers
project, supporting the Perl programming language.  See
http://wiki.cpantesters.org/ for more information or email
questions to cpan-testers-discuss@perl.org


--
Dear Toby Inkster,

This is a computer-generated report for Story-Interact-0.001014
on perl 5.32.0, created by CPAN-Reporter-1.2018.

Thank you for uploading your work to CPAN.  Congratulations!
All tests were successful.

Sections of this report:

    * Tester comments
    * Program output
    * Prerequisites
    * Environment and other context

------------------------------
TESTER COMMENTS
------------------------------

Additional comments from tester:

this report is from an automated smoke testing program
and was not reviewed by a human for accuracy

------------------------------
PROGRAM OUTPUT
------------------------------

Output from '/usr/bin/make test':

PERL_DL_NONLAZY=1 "/home/david/cpantesting/perl-5.32.0-int64/bin/perl" "-MExtUtils::Command::MM" "-MTest::Harness" "-e" "undef *Test::Harness::Switches; test_harness(0, 'blib/lib', 'blib/arch')" t/*.t t/integration/*.t
# 
# ####
# Carp                 1.50
# DBD::SQLite          1.72
# DBI                  1.643
# Exporter::Shiny      1.006002
# List::Util           1.63
# Module::Runtime      0.016
# Moo                  2.005005
Use of uninitialized value in sprintf at t/00start.t line 50.
# String::Tagged::Markdown 
Use of uninitialized value in sprintf at t/00start.t line 50.
# String::Tagged::Terminal 
# Term::Choose         1.762
# Test2::Require::AuthorTesting 0.000155
# Test2::Require::Module 0.000155
# Test2::Tools::Spec   0.000155
# Test2::V0            0.000155
# Text::Wrap           2023.0511
# Types::Common        2.004000
# Types::Path::Tiny    0.006
# URI::Query           0.16
# match::simple        0.012
# namespace::clean     0.27
# ####
t/00start.t ......................... ok
LOADED DEV VERSION! at /home/david/cpantesting/perl-5.32.0-int64/.cpan/build/Story-Interact-0.001014-0/blib/lib/Story/Interact/State.pm line 7.
t/01basic.t ......................... ok
LOADED DEV VERSION! at /home/david/cpantesting/perl-5.32.0-int64/.cpan/build/Story-Interact-0.001014-0/blib/lib/Story/Interact/State.pm line 7.
t/integration/house-story.t ......... ok
LOADED DEV VERSION! at /home/david/cpantesting/perl-5.32.0-int64/.cpan/build/Story-Interact-0.001014-0/blib/lib/Story/Interact/State.pm line 7.
t/integration/story-with-prelude.t .. ok
LOADED DEV VERSION! at /home/david/cpantesting/perl-5.32.0-int64/.cpan/build/Story-Interact-0.001014-0/blib/lib/Story/Interact/State.pm line 7.
t/integration/uri-query.t ........... ok
LOADED DEV VERSION! at /home/david/cpantesting/perl-5.32.0-int64/.cpan/build/Story-Interact-0.001014-0/blib/lib/Story/Interact/State.pm line 7.
t/integration/waterfall.t ........... ok
All tests successful.
Files=6, Tests=6, 14 wallclock secs ( 0.04 usr  0.03 sys +  3.89 cusr  0.59 csys =  4.55 CPU)
Result: PASS

------------------------------
PREREQUISITES
------------------------------

Prerequisite modules loaded:

requires:

    Module                        Need     Have     
    ----------------------------- -------- ---------
    Bytes::Random::Secure         0        0.29     
    Carp                          0        1.50     
    Compress::Bzip2               0        2.28     
    CryptX                        0        0.078    
    DBD::SQLite                   0        1.72     
    DBI                           0        1.643    
    Exporter::Shiny               0        1.006002 
    List::Util                    1.54     1.63     
    match::simple                 0        0.012    
    Module::Runtime               0        0.016    
    Moo                           0        2.005005 
    namespace::clean              0        0.27     
    perl                          5.010001 5.032000 
    Term::Choose                  0        1.762    
    Text::Wrap                    0        2023.0511
    Types::Common                 0        2.004000 
    Types::Path::Tiny             0        0.006    
    URI::Query                    0        0.16     

build_requires:

    Module                        Need     Have     
    ----------------------------- -------- ---------
    Test2::Require::AuthorTesting 0        0.000155 
    Test2::Require::Module        0        0.000155 
    Test2::Tools::Spec            0        0.000155 
    Test2::V0                     0        0.000155 

configure_requires:

    Module                        Need     Have     
    ----------------------------- -------- ---------
    ExtUtils::MakeMaker           6.17     7.70     


------------------------------
ENVIRONMENT AND OTHER CONTEXT
------------------------------

Environment variables:

    AUTOMATED_TESTING = 1
    LANG = en_GB.UTF-8
    LANGUAGE = en_GB:en
    LC_TERMINAL = iTerm2
    LC_TERMINAL_VERSION = 3.4.20
    NONINTERACTIVE_TESTING = 1
    PATH = /home/david/.cargo/bin:/home/david/perl5/perlbrew/bin:/home/david/perl5/perlbrew/perls/perl-5.32.0/bin:/home/david/bin:/usr/local/bin:/usr/bin:/bin:/usr/local/games:/usr/games
    PERL = 5.32.0-int64
    PERL5LIB = 
    PERL5OPT = 
    PERL5_CPANPLUS_IS_RUNNING = 5492
    PERL5_CPAN_IS_RUNNING = 5492
    PERLBREW_HOME = /home/david/.perlbrew
    PERLBREW_MANPATH = /home/david/perl5/perlbrew/perls/perl-5.32.0/man
    PERLBREW_PATH = /home/david/perl5/perlbrew/bin:/home/david/perl5/perlbrew/perls/perl-5.32.0/bin
    PERLBREW_PERL = perl-5.32.0
    PERLBREW_ROOT = /home/david/perl5/perlbrew
    PERLBREW_SHELLRC_VERSION = 0.89
    PERLBREW_VERSION = 0.89
    PERLVER = 5.32.0-int64
    PERL_INLINE_DIRECTORY = /home/david/.Inline-5.32.0-int64
    PERL_MM_USE_DEFAULT = 1
    PERL_USE_UNSAFE_INC = 0
    SHELL = /bin/bash
    TERM = screen

Perl special variables (and OS-specific diagnostics, for MSWin32):

    $^X = /home/david/cpantesting/perl-5.32.0-int64/bin/perl
    $UID/$EUID = 1000 / 1000
    $GID = 1000 24 25 27 29 30 44 46 109 1000
    $EGID = 1000 24 25 27 29 30 44 46 109 1000

Perl module toolchain versions installed:

    Module              Have    
    ------------------- --------
    CPAN                2.27    
    CPAN::Meta          2.150010
    Cwd                 3.75    
    ExtUtils::CBuilder  0.280236
    ExtUtils::Command   7.70    
    ExtUtils::Install   2.22    
    ExtUtils::MakeMaker 7.70    
    ExtUtils::Manifest  1.75    
    ExtUtils::ParseXS   3.44    
    File::Spec          3.75    
    JSON                4.10    
    JSON::PP            4.16    
    Module::Build       0.4234  
    Module::Signature   n/a     
    Parse::CPAN::Meta   2.150010
    Test::Harness       3.44    
    Test::More          1.302195
    YAML                1.30    
    YAML::Syck          n/a     
    version             0.9929  


--

Summary of my perl5 (revision 5 version 32 subversion 0) configuration:
   
  Platform:
    osname=linux
    osvers=5.10.0-11-686-pae
    archname=i686-linux-64int
    uname='linux cpantesting-linux-32bit-utm 5.10.0-11-686-pae #1 smp debian 5.10.92-1 (2022-01-18) i686 gnulinux '
    config_args='-de -Dprefix=/home/david/cpantesting/perl-5.32.0-int64 -Duse64bitint'
    hint=recommended
    useposix=true
    d_sigaction=define
    useithreads=undef
    usemultiplicity=undef
    use64bitint=define
    use64bitall=undef
    uselongdouble=undef
    usemymalloc=n
    default_inc_excludes_dot=define
    bincompat5005=undef
  Compiler:
    cc='cc'
    ccflags ='-fwrapv -fno-strict-aliasing -pipe -fstack-protector-strong -I/usr/local/include -D_LARGEFILE_SOURCE -D_FILE_OFFSET_BITS=64 -D_FORTIFY_SOURCE=2'
    optimize='-O2'
    cppflags='-fwrapv -fno-strict-aliasing -pipe -fstack-protector-strong -I/usr/local/include'
    ccversion=''
    gccversion='10.2.1 20210110'
    gccosandvers=''
    intsize=4
    longsize=4
    ptrsize=4
    doublesize=8
    byteorder=12345678
    doublekind=3
    d_longlong=define
    longlongsize=8
    d_longdbl=define
    longdblsize=12
    longdblkind=3
    ivtype='long long'
    ivsize=8
    nvtype='double'
    nvsize=8
    Off_t='off_t'
    lseeksize=8
    alignbytes=4
    prototype=define
  Linker and Libraries:
    ld='cc'
    ldflags =' -fstack-protector-strong -L/usr/local/lib'
    libpth=/usr/local/lib /usr/include/i386-linux-gnu /usr/lib /lib/i386-linux-gnu /lib/../lib /usr/lib/i386-linux-gnu /usr/lib/../lib /lib /lib64 /usr/lib64
    libs=-lpthread -lnsl -ldl -lm -lcrypt -lutil -lc
    perllibs=-lpthread -lnsl -ldl -lm -lcrypt -lutil -lc
    libc=libc-2.31.so
    so=so
    useshrplib=false
    libperl=libperl.a
    gnulibc_version='2.31'
  Dynamic Linking:
    dlsrc=dl_dlopen.xs
    dlext=so
    d_dlsymun=undef
    ccdlflags='-Wl,-E'
    cccdlflags='-fPIC'
    lddlflags='-shared -O2 -L/usr/local/lib -fstack-protector-strong'


Characteristics of this binary (from libperl): 
  Compile-time options:
    HAS_TIMES
    PERLIO_LAYERS
    PERL_COPY_ON_WRITE
    PERL_DONT_CREATE_GVSV
    PERL_MALLOC_WRAP
    PERL_OP_PARENT
    PERL_PRESERVE_IVUV
    USE_64_BIT_INT
    USE_LARGE_FILES
    USE_LOCALE
    USE_LOCALE_COLLATE
    USE_LOCALE_CTYPE
    USE_LOCALE_NUMERIC
    USE_LOCALE_TIME
    USE_PERLIO
    USE_PERL_ATOF
  Built under linux
  Compiled at Feb  8 2022 19:01:41
  %ENV:
    PERL="5.32.0-int64"
    PERL5LIB=""
    PERL5OPT=""
    PERL5_CPANPLUS_IS_RUNNING="5492"
    PERL5_CPAN_IS_RUNNING="5492"
    PERLBREW_HOME="/home/david/.perlbrew"
    PERLBREW_MANPATH="/home/david/perl5/perlbrew/perls/perl-5.32.0/man"
    PERLBREW_PATH="/home/david/perl5/perlbrew/bin:/home/david/perl5/perlbrew/perls/perl-5.32.0/bin"
    PERLBREW_PERL="perl-5.32.0"
    PERLBREW_ROOT="/home/david/perl5/perlbrew"
    PERLBREW_SHELLRC_VERSION="0.89"
    PERLBREW_VERSION="0.89"
    PERLVER="5.32.0-int64"
    PERL_INLINE_DIRECTORY="/home/david/.Inline-5.32.0-int64"
    PERL_MM_USE_DEFAULT="1"
    PERL_USE_UNSAFE_INC="0"
  @INC:
    /home/david/cpantesting/perl-5.32.0-int64/lib/site_perl/5.32.0/i686-linux-64int
    /home/david/cpantesting/perl-5.32.0-int64/lib/site_perl/5.32.0
    /home/david/cpantesting/perl-5.32.0-int64/lib/5.32.0/i686-linux-64int
    /home/david/cpantesting/perl-5.32.0-int64/lib/5.32.0