Back
From: metabase:user:320bfe00-2aae-11df-837a-5e0a49663a4f
Subject: PASS Geo-Coder-Many-0.46-5 v5.25.2 GNU/Linux
Date: 2016-06-04T19:40:54Z
This distribution has been tested as part of the CPAN Testers
project, supporting the Perl programming language. See
http://wiki.cpantesters.org/ for more information or email
questions to cpan-testers-discuss@perl.org
--
Dear Alex Balhatchet,
This is a computer-generated report for Geo-Coder-Many-0.46-5
on perl 5.25.2, created by CPAN-Reporter-1.2017.
Thank you for uploading your work to CPAN. Congratulations!
All tests were successful.
Sections of this report:
* Tester comments
* Program output
* Prerequisites
* Environment and other context
------------------------------
TESTER COMMENTS
------------------------------
Additional comments from tester:
this report is from an automated smoke testing program
and was not reviewed by a human for accuracy
------------------------------
PROGRAM OUTPUT
------------------------------
Output from './Build test':
t/critic.t .................... skipped: Author test. Set $ENV{TEST_AUTHOR} to a true value to run.
t/geo-coder-many-geocoders.t .. ok
t/geo-coder-many-util.t ....... ok
Geo::Coder::Bing was not available - not testing it.
Geo::Coder::Google was not available - not testing it.
Geo::Coder::Mapquest was not available - not testing it.
Geo::Coder::OSM was not available - not testing it.
Geo::Coder::PlaceFinder was not available - not testing it.
t/geo-coder-many.t ............ ok
t/kwalitee.t .................. skipped: Author test. Set $ENV{TEST_AUTHOR} to a true value to run.
t/pod-coverage.t .............. skipped: Author test. Set $ENV{TEST_AUTHOR} to a true value to run.
t/pod.t ....................... skipped: Author test. Set $ENV{TEST_AUTHOR} to a true value to run.
t/release-cpan-changes.t ...... ok
All tests successful.
Files=8, Tests=229, 6 wallclock secs ( 0.07 usr 0.05 sys + 0.97 cusr 0.14 csys = 1.23 CPU)
Result: PASS
------------------------------
PREREQUISITES
------------------------------
Prerequisite modules loaded:
requires:
Module Need Have
------------------------------ ------ ----------
Geo::Distance::XS 0.08 0.13
HTTP::Request 5.827 6.11
List::MoreUtils 0.22 0.415
List::Util 1.23 1.45_01
List::Util::WeightedRoundRobin 0.4 0.4
Net::Ping 2.33 2.43
perl 5.010 5.025002
Sort::Versions 1.5 1.62
Time::HiRes 1.9711 1.9733
build_requires:
Module Need Have
------------------------------ ------ ----------
Test::Exception 0 0.43
Test::MockObject 0 1.20150527
Test::Pod::Coverage 0 1.10
Test::Simple 0 1.302022
configure_requires:
Module Need Have
------------------------------ ------ ----------
ExtUtils::MakeMaker 0 7.18
------------------------------
ENVIRONMENT AND OTHER CONTEXT
------------------------------
Environment variables:
AUTOMATED_TESTING = 1
LANG = en_US.UTF-8
LANGUAGE = en_US:en
PATH = /usr/lib/ccache:/home/sand/bin:/usr/local/bin:/usr/bin:/bin:/usr/games:/usr/local/perl/bin:/usr/X11/bin:/sbin:/usr/sbin
PERL5LIB = /tmp/loop_over_bdir-17258-EMoKNY/FusionInventory-Agent-2.3.17-0/blib/arch:/tmp/loop_over_bdir-17258-EMoKNY/FusionInventory-Agent-2.3.17-0/blib/lib:/tmp/loop_over_bdir-17258-EMoKNY/Alien-ActiveMQ-0.00005-0/blib/arch:/tmp/loop_over_bdir-17258-EMoKNY/Alien-ActiveMQ-0.00005-0/blib/lib
PERL5OPT =
PERL5_CPANPLUS_IS_RUNNING = 23829
PERL5_CPAN_IS_RUNNING = 23829
PERL_CANARY_STABILITY_NOPROMPT = 1
PERL_MM_USE_DEFAULT = 1
SHELL = /usr/bin/zsh
TERM = screen
Perl special variables (and OS-specific diagnostics, for MSWin32):
$^X = /tmp/basesmoker-reloperl-J2Gt/bin/perl
$UID/$EUID = 1005 / 1005
$GID = 1005 1005
$EGID = 1005 1005
Perl module toolchain versions installed:
Module Have
------------------- --------
CPAN 2.13
CPAN::Meta 2.150005
Cwd 3.64
ExtUtils::CBuilder 0.280225
ExtUtils::Command 7.18
ExtUtils::Install 2.04
ExtUtils::MakeMaker 7.18
ExtUtils::Manifest 1.70
ExtUtils::ParseXS 3.32
File::Spec 3.64
JSON 2.90
JSON::PP 2.27300
Module::Build 0.4218
Module::Signature 0.79
Parse::CPAN::Meta 1.4417
Test::Harness 3.36
Test::More 1.302022
YAML 1.15
YAML::Syck 1.29
version 0.9917
--
Summary of my perl5 (revision 5 version 25 subversion 2) configuration:
Commit id: e7127e21a1976771d8a5eaf45c257b1d97ca9232
Platform:
osname=linux, osvers=4.3.0-1-amd64, archname=x86_64-linux-ld
uname='linux k83 4.3.0-1-amd64 #1 smp debian 4.3.3-7 (2016-01-19) x86_64 gnulinux '
config_args='-Dprefix=/home/sand/src/perl/repoperls/installed-perls/perl/v5.25.1-104-ge7127e2/8942 -Dmyhostname=k83 -Dinstallusrbinperl=n -Uversiononly -Dusedevel -des -Ui_db -Dlibswanted=cl pthread socket inet nsl gdbm dbm malloc dl ld sun m crypt sec util c cposix posix ucb BSD gdbm_compat -Uuseithreads -Duselongdouble -DDEBUGGING=-g'
hint=recommended, useposix=true, d_sigaction=define
useithreads=undef, usemultiplicity=undef
use64bitint=define, use64bitall=define, uselongdouble=define
usemymalloc=n, bincompat5005=undef
Compiler:
cc='cc', ccflags ='-fwrapv -fno-strict-aliasing -pipe -fstack-protector-strong -I/usr/local/include -D_LARGEFILE_SOURCE -D_FILE_OFFSET_BITS=64 -D_FORTIFY_SOURCE=2',
optimize='-O2 -g',
cppflags='-fwrapv -fno-strict-aliasing -pipe -fstack-protector-strong -I/usr/local/include'
ccversion='', gccversion='5.3.1 20160121', gccosandvers=''
intsize=4, longsize=8, ptrsize=8, doublesize=8, byteorder=12345678, doublekind=3
d_longlong=define, longlongsize=8, d_longdbl=define, longdblsize=16, longdblkind=3
ivtype='long', ivsize=8, nvtype='long double', nvsize=16, Off_t='off_t', lseeksize=8
alignbytes=16, prototype=define
Linker and Libraries:
ld='cc', ldflags =' -fstack-protector-strong -L/usr/local/lib'
libpth=/usr/local/lib /usr/lib/gcc/x86_64-linux-gnu/5/include-fixed /usr/include/x86_64-linux-gnu /usr/lib /lib/x86_64-linux-gnu /lib/../lib /usr/lib/x86_64-linux-gnu /usr/lib/../lib /lib
libs=-lpthread -lnsl -lgdbm -ldl -lm -lcrypt -lutil -lc -lgdbm_compat
perllibs=-lpthread -lnsl -ldl -lm -lcrypt -lutil -lc
libc=libc-2.21.so, so=so, useshrplib=false, libperl=libperl.a
gnulibc_version='2.21'
Dynamic Linking:
dlsrc=dl_dlopen.xs, dlext=so, d_dlsymun=undef, ccdlflags='-Wl,-E'
cccdlflags='-fPIC', lddlflags='-shared -O2 -g -L/usr/local/lib -fstack-protector-strong'
Characteristics of this binary (from libperl):
Compile-time options: HAS_TIMES PERLIO_LAYERS PERL_COPY_ON_WRITE
PERL_DONT_CREATE_GVSV
PERL_HASH_FUNC_ONE_AT_A_TIME_HARD PERL_MALLOC_WRAP
PERL_OP_PARENT PERL_PRESERVE_IVUV PERL_USE_DEVEL
USE_64_BIT_ALL USE_64_BIT_INT USE_LARGE_FILES
USE_LOCALE USE_LOCALE_COLLATE USE_LOCALE_CTYPE
USE_LOCALE_NUMERIC USE_LOCALE_TIME USE_LONG_DOUBLE
USE_PERLIO USE_PERL_ATOF
Built under linux
Compiled at Jun 3 2016 07:53:36
%ENV:
PERL5LIB="/tmp/loop_over_bdir-17258-EMoKNY/FusionInventory-Agent-2.3.17-0/blib/arch:/tmp/loop_over_bdir-17258-EMoKNY/FusionInventory-Agent-2.3.17-0/blib/lib:/tmp/loop_over_bdir-17258-EMoKNY/Alien-ActiveMQ-0.00005-0/blib/arch:/tmp/loop_over_bdir-17258-EMoKNY/Alien-ActiveMQ-0.00005-0/blib/lib"
PERL5OPT=""
PERL5_CPANPLUS_IS_RUNNING="23829"
PERL5_CPAN_IS_RUNNING="23829"
PERL_CANARY_STABILITY_NOPROMPT="1"
PERL_MM_USE_DEFAULT="1"
@INC:
/tmp/loop_over_bdir-17258-EMoKNY/FusionInventory-Agent-2.3.17-0/blib/arch
/tmp/loop_over_bdir-17258-EMoKNY/FusionInventory-Agent-2.3.17-0/blib/lib
/tmp/loop_over_bdir-17258-EMoKNY/Alien-ActiveMQ-0.00005-0/blib/arch
/tmp/loop_over_bdir-17258-EMoKNY/Alien-ActiveMQ-0.00005-0/blib/lib
/home/sand/src/perl/repoperls/installed-perls/perl/v5.25.1-104-ge7127e2/8942/lib/site_perl/5.25.2/x86_64-linux-ld
/home/sand/src/perl/repoperls/installed-perls/perl/v5.25.1-104-ge7127e2/8942/lib/site_perl/5.25.2
/home/sand/src/perl/repoperls/installed-perls/perl/v5.25.1-104-ge7127e2/8942/lib/5.25.2/x86_64-linux-ld
/home/sand/src/perl/repoperls/installed-perls/perl/v5.25.1-104-ge7127e2/8942/lib/5.25.2
.