PDLx-DetachedObject v0.02 Perl 5 v5.28.3 arm64-freebsd

Status
Pass
From
Slaven Rezić
Dist
PDLx-DetachedObject v0.02
Platform
Perl 5 v5.28.3 arm64-freebsd
Date
2023-12-29 16:56:46
ID
4065a904-a66b-11ee-a62a-6fe86d8775ea
This distribution has been tested as part of the CPAN Testers
project, supporting the Perl programming language.  See
http://wiki.cpantesters.org/ for more information or email
questions to cpan-testers-discuss@perl.org


--
Dear Diab Jerius,

This is a computer-generated report for PDLx-DetachedObject-0.02
on perl 5.28.3, created by CPAN-Reporter-1.2019.

Thank you for uploading your work to CPAN.  Congratulations!
All tests were successful.

Sections of this report:

    * Tester comments
    * Program output
    * Prerequisites
    * Environment and other context

------------------------------
TESTER COMMENTS
------------------------------

Additional comments from tester:

none provided

------------------------------
PROGRAM OUTPUT
------------------------------

Output from '/usr/bin/make test':

PERL_DL_NONLAZY=1 "/usr/perl5.28.3/bin/perl" "-MExtUtils::Command::MM" "-MTest::Harness" "-e" "undef *Test::Harness::Switches; test_harness(0, 'blib/lib', 'blib/arch')" t/*.t
t/00-compile.t ......... ok
# Testing PDLx::DetachedObject 0.02, Perl 5.028003, /usr/perl5.28.3/bin/perl
t/00-load.t ............ ok
# 
# Versions for all modules listed in MYMETA.json (including optional ones):
# 
# === Configure Requires ===
# 
#     Module              Want Have
#     ------------------- ---- ----
#     ExtUtils::MakeMaker  any 7.70
# 
# === Build Requires ===
# 
#     Module              Want Have
#     ------------------- ---- ----
#     ExtUtils::MakeMaker  any 7.70
# 
# === Test Requires ===
# 
#     Module               Want     Have
#     ------------------- ----- --------
#     Class::Accessor       any     0.51
#     Class::Tiny           any    1.008
#     ExtUtils::MakeMaker   any     7.70
#     File::Spec            any     3.74
#     IO::Handle            any     1.39
#     IPC::Open3            any     1.20
#     Moo                   any 2.005005
#     Object::Tiny          any     1.09
#     PDL                 2.000    2.084
#     Test::Deep            any    1.204
#     Test::More            any 1.302198
#     blib                 1.01     1.07
#     parent                any    0.236
# 
# === Test Recommends ===
# 
#     Module         Want     Have
#     ---------- -------- --------
#     CPAN::Meta 2.120900 2.150010
# 
# === Runtime Requires ===
# 
#     Module     Want     Have
#     --------- ----- --------
#     Moo         any 2.005005
#     PDL       2.000    2.084
#     PDL::Lite   any    undef
#     strict      any     1.11
#     warnings    any     1.42
# 
t/00-report-prereqs.t .. ok
t/classes.t ............ ok
All tests successful.
Files=4, Tests=8,  1 wallclock secs ( 0.04 usr  0.01 sys +  0.46 cusr  0.13 csys =  0.64 CPU)
Result: PASS

------------------------------
PREREQUISITES
------------------------------

Prerequisite modules loaded:

requires:

    Module              Need  Have    
    ------------------- ----- --------
    Moo                 0     2.005005
    PDL                 2.000 2.084   
    PDL::Lite           0     2.084   
    perl                5.006 5.028003
    strict              0     1.11    
    warnings            0     1.42    

build_requires:

    Module              Need  Have    
    ------------------- ----- --------
    blib                1.01  1.07    
    Class::Accessor     0     0.51    
    Class::Tiny         0     1.008   
    ExtUtils::MakeMaker 0     7.70    
    File::Spec          0     3.74    
    IO::Handle          0     1.39    
    IPC::Open3          0     1.20    
    Moo                 0     2.005005
    Object::Tiny        0     1.09    
    parent              0     0.236   
    PDL                 2.000 2.084   
    Test::Deep          0     1.204   
    Test::More          0     1.302198

configure_requires:

    Module              Need  Have    
    ------------------- ----- --------
    ExtUtils::MakeMaker 0     7.70    


------------------------------
ENVIRONMENT AND OTHER CONTEXT
------------------------------

Environment variables:

    LANG = C.UTF-8
    PATH = /usr/local/bin:/usr/bin:/bin:/usr/local/sbin:/usr/sbin:/sbin:/home/cpansand/bin/freebsd14.0:/home/cpansand/bin/sh:/home/cpansand/bin:/usr/games:/home/cpansand/devel:/home/eserte/src/srezic-misc/scripts
    PERL5LIB = /home/cpansand/.cpan/build/2023122915/Object-Tiny-1.09-0/blib/arch:/home/cpansand/.cpan/build/2023122915/Object-Tiny-1.09-0/blib/lib:/home/cpansand/.cpan/build/2023122915/PDL-2.084-0/blib/arch:/home/cpansand/.cpan/build/2023122915/PDL-2.084-0/blib/lib:/home/cpansand/.cpan/build/2023122915/Text-Balanced-2.06-0/blib/arch:/home/cpansand/.cpan/build/2023122915/Text-Balanced-2.06-0/blib/lib:/home/cpansand/.cpan/build/2023122915/File-Map-0.71-0/blib/arch:/home/cpansand/.cpan/build/2023122915/File-Map-0.71-0/blib/lib:/home/cpansand/.cpan/build/2023122915/Devel-CheckLib-1.16-0/blib/arch:/home/cpansand/.cpan/build/2023122915/Devel-CheckLib-1.16-0/blib/lib:/home/cpansand/.cpan/build/2023122915/Mock-Config-0.03-0/blib/arch:/home/cpansand/.cpan/build/2023122915/Mock-Config-0.03-0/blib/lib:/home/cpansand/.cpan/build/2023122915/MooX-ProtectedAttributes-0.03-0/blib/arch:/home/cpansand/.cpan/build/2023122915/MooX-ProtectedAttributes-0.03-0/blib/lib:/home/cpansand/.cpan/build/2023122915/Test-Trap-v0.3.5-0/blib/arch:/home/cpansand/.cpan/build/2023122915/Test-Trap-v0.3.5-0/blib/lib
    PERL5OPT = 
    PERL5_CPANPLUS_IS_RUNNING = 85430
    PERL5_CPAN_IS_RUNNING = 85430
    PERL5_CPAN_IS_RUNNING_IN_RECURSION = 85417,85430
    PERLDOC = -MPod::Perldoc::ToTextOverstrike
    PERL_BATCH = yes
    PERL_CANARY_STABILITY_NOPROMPT = 1
    PERL_CPAN_REPORTER_CONFIG = /var/tmp/cpansmoker-1023/2023122915/cpanreporter_001_config.ini
    PERL_EXTUTILS_AUTOINSTALL = --defaultdeps
    PERL_USE_UNSAFE_INC = 1
    SHELL = /usr/local/bin/zsh
    TERM = screen
    TMPDIR = /var/tmp/cpansmoker-1023/2023122915

Perl special variables (and OS-specific diagnostics, for MSWin32):

    $^X = /usr/perl5.28.3/bin/perl
    $UID/$EUID = 1023 / 1023
    $GID = 1023 1023
    $EGID = 1023 1023

Perl module toolchain versions installed:

    Module              Have    
    ------------------- --------
    CPAN                2.20    
    CPAN::Meta          2.150010
    Cwd                 3.74    
    ExtUtils::CBuilder  0.280236
    ExtUtils::Command   7.70    
    ExtUtils::Install   2.14    
    ExtUtils::MakeMaker 7.70    
    ExtUtils::Manifest  1.70    
    ExtUtils::ParseXS   3.39    
    File::Spec          3.74    
    JSON                4.10    
    JSON::PP            4.16    
    Module::Build       0.4234  
    Module::Signature   n/a     
    Parse::CPAN::Meta   2.150010
    Test2               1.302198
    Test::Harness       3.42    
    Test::More          1.302198
    YAML                1.31    
    YAML::Syck          1.34    
    version             0.9930  


--

Summary of my perl5 (revision 5 version 28 subversion 3) configuration:
   
  Platform:
    osname=freebsd
    osvers=14.0-stable
    archname=arm64-freebsd
    uname='freebsd cloud9.bbbike.org 14.0-stable freebsd 14.0-stable #0 stable14-ac83f3fa4: mon dec 25 18:44:17 utc 2023 root@cloud9.bbbike.org:usrobjhomeprojectsfreebsd-srcarm64.aarch64sysgeneric arm64 '
    config_args='-ds -e -Dprefix=/usr/perl5.28.3 -Dcf_email=srezic@cpan.org -Doptimize=-O2 -pipe'
    hint=recommended
    useposix=true
    d_sigaction=define
    useithreads=undef
    usemultiplicity=undef
    use64bitint=define
    use64bitall=define
    uselongdouble=undef
    usemymalloc=n
    default_inc_excludes_dot=define
    bincompat5005=undef
  Compiler:
    cc='cc'
    ccflags ='-DHAS_FPSETMASK -DHAS_FLOATINGPOINT_H -fno-strict-aliasing -pipe -fstack-protector-strong -I/usr/local/include'
    optimize='-O2 -pipe'
    cppflags='-DHAS_FPSETMASK -DHAS_FLOATINGPOINT_H -fno-strict-aliasing -pipe -fstack-protector-strong -I/usr/local/include'
    ccversion=''
    gccversion='FreeBSD Clang 16.0.6 (https://github.com/llvm/llvm-project.git llvmorg-16.0.6-0-g7cbf1a259152)'
    gccosandvers=''
    intsize=4
    longsize=8
    ptrsize=8
    doublesize=8
    byteorder=12345678
    doublekind=3
    d_longlong=define
    longlongsize=8
    d_longdbl=define
    longdblsize=16
    longdblkind=1
    ivtype='long'
    ivsize=8
    nvtype='double'
    nvsize=8
    Off_t='off_t'
    lseeksize=8
    alignbytes=8
    prototype=define
  Linker and Libraries:
    ld='cc'
    ldflags ='-Wl,-E  -fstack-protector-strong -L/usr/local/lib'
    libpth=/usr/lib /usr/local/lib /usr/lib/clang/16/lib /usr/lib
    libs=-lpthread -lgdbm -ldl -lm -lcrypt -lutil -lc
    perllibs=-lpthread -ldl -lm -lcrypt -lutil -lc
    libc=
    so=so
    useshrplib=false
    libperl=libperl.a
    gnulibc_version=''
  Dynamic Linking:
    dlsrc=dl_dlopen.xs
    dlext=so
    d_dlsymun=undef
    ccdlflags=' '
    cccdlflags='-DPIC -fPIC'
    lddlflags='-shared  -L/usr/local/lib -fstack-protector-strong'


Characteristics of this binary (from libperl): 
  Compile-time options:
    HAS_TIMES
    PERLIO_LAYERS
    PERL_COPY_ON_WRITE
    PERL_DONT_CREATE_GVSV
    PERL_MALLOC_WRAP
    PERL_OP_PARENT
    PERL_PRESERVE_IVUV
    USE_64_BIT_ALL
    USE_64_BIT_INT
    USE_LARGE_FILES
    USE_LOCALE
    USE_LOCALE_COLLATE
    USE_LOCALE_CTYPE
    USE_LOCALE_NUMERIC
    USE_LOCALE_TIME
    USE_PERLIO
    USE_PERL_ATOF
  Locally applied patches:
    Devel::PatchPerl 2.08
  Built under freebsd
  Compiled at Dec 27 2023 08:38:14
  %ENV:
    PERL5LIB="/home/cpansand/.cpan/build/2023122915/Object-Tiny-1.09-0/blib/arch:/home/cpansand/.cpan/build/2023122915/Object-Tiny-1.09-0/blib/lib:/home/cpansand/.cpan/build/2023122915/PDL-2.084-0/blib/arch:/home/cpansand/.cpan/build/2023122915/PDL-2.084-0/blib/lib:/home/cpansand/.cpan/build/2023122915/Text-Balanced-2.06-0/blib/arch:/home/cpansand/.cpan/build/2023122915/Text-Balanced-2.06-0/blib/lib:/home/cpansand/.cpan/build/2023122915/File-Map-0.71-0/blib/arch:/home/cpansand/.cpan/build/2023122915/File-Map-0.71-0/blib/lib:/home/cpansand/.cpan/build/2023122915/Devel-CheckLib-1.16-0/blib/arch:/home/cpansand/.cpan/build/2023122915/Devel-CheckLib-1.16-0/blib/lib:/home/cpansand/.cpan/build/2023122915/Mock-Config-0.03-0/blib/arch:/home/cpansand/.cpan/build/2023122915/Mock-Config-0.03-0/blib/lib:/home/cpansand/.cpan/build/2023122915/MooX-ProtectedAttributes-0.03-0/blib/arch:/home/cpansand/.cpan/build/2023122915/MooX-ProtectedAttributes-0.03-0/blib/lib:/home/cpansand/.cpan/build/2023122915/Test-Trap-v0.3.5-0/blib/arch:/home/cpansand/.cpan/build/2023122915/Test-Trap-v0.3.5-0/blib/lib"
    PERL5OPT=""
    PERL5_CPANPLUS_IS_RUNNING="85430"
    PERL5_CPAN_IS_RUNNING="85430"
    PERL5_CPAN_IS_RUNNING_IN_RECURSION="85417,85430"
    PERLDOC="-MPod::Perldoc::ToTextOverstrike"
    PERL_BATCH="yes"
    PERL_CANARY_STABILITY_NOPROMPT="1"
    PERL_CPAN_REPORTER_CONFIG="/var/tmp/cpansmoker-1023/2023122915/cpanreporter_001_config.ini"
    PERL_EXTUTILS_AUTOINSTALL="--defaultdeps"
    PERL_USE_UNSAFE_INC="1"
  @INC:
    /home/cpansand/.cpan/build/2023122915/Object-Tiny-1.09-0/blib/arch
    /home/cpansand/.cpan/build/2023122915/Object-Tiny-1.09-0/blib/lib
    /home/cpansand/.cpan/build/2023122915/PDL-2.084-0/blib/arch
    /home/cpansand/.cpan/build/2023122915/PDL-2.084-0/blib/lib
    /home/cpansand/.cpan/build/2023122915/Text-Balanced-2.06-0/blib/arch
    /home/cpansand/.cpan/build/2023122915/Text-Balanced-2.06-0/blib/lib
    /home/cpansand/.cpan/build/2023122915/File-Map-0.71-0/blib/arch
    /home/cpansand/.cpan/build/2023122915/File-Map-0.71-0/blib/lib
    /home/cpansand/.cpan/build/2023122915/Devel-CheckLib-1.16-0/blib/arch
    /home/cpansand/.cpan/build/2023122915/Devel-CheckLib-1.16-0/blib/lib
    /home/cpansand/.cpan/build/2023122915/Mock-Config-0.03-0/blib/arch
    /home/cpansand/.cpan/build/2023122915/Mock-Config-0.03-0/blib/lib
    /home/cpansand/.cpan/build/2023122915/MooX-ProtectedAttributes-0.03-0/blib/arch
    /home/cpansand/.cpan/build/2023122915/MooX-ProtectedAttributes-0.03-0/blib/lib
    /home/cpansand/.cpan/build/2023122915/Test-Trap-v0.3.5-0/blib/arch
    /home/cpansand/.cpan/build/2023122915/Test-Trap-v0.3.5-0/blib/lib
    /usr/perl5.28.3/lib/site_perl/5.28.3/arm64-freebsd
    /usr/perl5.28.3/lib/site_perl/5.28.3
    /usr/perl5.28.3/lib/5.28.3/arm64-freebsd
    /usr/perl5.28.3/lib/5.28.3
    .