Back
From: metabase:user:30977d10-2aae-11df-837a-5e0a49663a4f
Subject: PASS Crypt-Password-Util-0.17 v5.22.2 GNU/Linux
Date: 2016-05-12T22:02:42Z
This distribution has been tested as part of the CPAN Testers
project, supporting the Perl programming language. See
http://wiki.cpantesters.org/ for more information or email
questions to cpan-testers-discuss@perl.org
--
Dear perlancar,
This is a computer-generated report for Crypt-Password-Util-0.17
on perl 5.22.2, created by CPAN-Reporter-1.2017.
Thank you for uploading your work to CPAN. Congratulations!
All tests were successful.
Sections of this report:
* Tester comments
* Program output
* Prerequisites
* Environment and other context
------------------------------
TESTER COMMENTS
------------------------------
Additional comments from tester:
this report is from an automated smoke testing program
and was not reviewed by a human for accuracy
------------------------------
PROGRAM OUTPUT
------------------------------
Output from '/usr/bin/make test':
PERL_DL_NONLAZY=1 "/home/stro/perl/5.22.2/bin/perl" "-MExtUtils::Command::MM" "-MTest::Harness" "-e" "undef *Test::Harness::Switches; test_harness(0, 'blib/lib', 'blib/arch')" t/*.t
t/00-compile.t ........... ok
# Some crypt() results on this system: [
# '$6$rounds=15000$j3GFZQ9PBf9RK.kS$zBAvCw.b2Nygj.7PQP0kS8VON.9V/M.IpGByA9zM3usop2OL/NAIW6/QPUGm9W944DZ5lNLvP0hF1eaDGTPQM1',
# '$6$rounds=15000$9mAmUZOGuUzpV4s7$sLT2gDfKQ9726qpbfcmqBeJ6bXt8g8SXtmAzQBa3RQz3prum6YDb3JDwiDOgekg0gRWV3ApZVDT21aKOUXCma1',
# '$6$rounds=15000$oU4NgTa65kCoMtx7$tm5Dn4q/j2FqkAGmhhki2Uc.C45pSS/j1cf1cvBhY313db1E3kQXwjLE01m3dB0BU.n3jdkddhubFrUGFj2TL.',
# '$6$rounds=15000$WRD8F2sR3gw9fqb3$HzvBXwGgSio56Ue1t6ptZ0Irpn2S0iDiwRT1AdmrAqLWTVhZWPkxGIpl.tMdIBB2KOiTpjVL0a/93kO/Z54/A.',
# '$6$rounds=15000$Cdqjy51kd4XcsG1b$lKytKcMf0NwDw82kOVbvDO.taz63IOBB97ZCVN5Fe.p8bYVMpT1vRKZhVAXkz/Gp/qVwpJmGkEp69Dwg/5UB41'
# ]
t/01-basics.t ............ ok
t/author-pod-coverage.t .. skipped: these tests are for testing by the author
t/author-pod-syntax.t .... skipped: these tests are for testing by the author
All tests successful.
Files=4, Tests=27, 0 wallclock secs ( 0.02 usr 0.00 sys + 0.13 cusr 0.01 csys = 0.16 CPU)
Result: PASS
------------------------------
PREREQUISITES
------------------------------
Prerequisite modules loaded:
requires:
Module Need Have
--------------------- -------- --------
Bytes::Random::Secure 0 0.29
Config 0 5.022002
perl 5.010001 5.022002
build_requires:
Module Need Have
--------------------- -------- --------
ExtUtils::MakeMaker 0 7.16
File::Spec 0 3.56_01
IO::Handle 0 1.35
IPC::Open3 0 1.18
Sort::Versions 0 1.62
Test::More 0.98 1.001014
configure_requires:
Module Need Have
--------------------- -------- --------
ExtUtils::MakeMaker 0 7.16
------------------------------
ENVIRONMENT AND OTHER CONTEXT
------------------------------
Environment variables:
AUTOMATED_TESTING = 1
LANG = en_US.UTF-8
PATH = /usr/local/bin:/usr/bin:/bin:/usr/local/games:/usr/games
PERL5LIB =
PERL5OPT =
PERL5_CPANPLUS_IS_RUNNING = 31852
PERL5_CPAN_IS_RUNNING = 31852
PERL5_CPAN_IS_RUNNING_IN_RECURSION = 29515,31852
PERL_CR_SMOKER_CURRENT = Perinci-CmdLine-Lite-1.54
PERL_EXTUTILS_AUTOINSTALL = --defaultdeps
PERL_MM_USE_DEFAULT = 1
SHELL = /bin/bash
TERM = xterm
Perl special variables (and OS-specific diagnostics, for MSWin32):
$^X = /home/stro/perl/5.22.2/bin/perl
$UID/$EUID = 1000 / 1000
$GID = 1000 24 25 29 30 44 46 108 114 1000
$EGID = 1000 24 25 29 30 44 46 108 114 1000
Perl module toolchain versions installed:
Module Have
------------------- --------
CPAN 2.11
CPAN::Meta 2.150001
Cwd 3.56_01
ExtUtils::CBuilder 0.280221
ExtUtils::Command 7.16
ExtUtils::Install 2.04
ExtUtils::MakeMaker 7.16
ExtUtils::Manifest 1.70
ExtUtils::ParseXS 3.28
File::Spec 3.56_01
JSON 2.90
JSON::PP 2.27300
Module::Build 0.4218
Module::Signature 0.79
Parse::CPAN::Meta 1.4414
Test::Harness 3.35
Test::More 1.001014
YAML 1.15
YAML::Syck 1.29
version 0.9909
--
Summary of my perl5 (revision 5 version 22 subversion 2) configuration:
Platform:
osname=linux, osvers=3.16.0-4-amd64, archname=x86_64-linux
uname='linux vm-debian-001 3.16.0-4-amd64 #1 smp debian 3.16.7-ckt11-1 (2015-05-24) x86_64 gnulinux '
config_args=''
hint=recommended, useposix=true, d_sigaction=define
useithreads=undef, usemultiplicity=undef
use64bitint=define, use64bitall=define, uselongdouble=undef
usemymalloc=n, bincompat5005=undef
Compiler:
cc='cc', ccflags ='-fwrapv -fno-strict-aliasing -pipe -fstack-protector-strong -I/usr/local/include -D_LARGEFILE_SOURCE -D_FILE_OFFSET_BITS=64 -D_FORTIFY_SOURCE=2',
optimize='-O2',
cppflags='-fwrapv -fno-strict-aliasing -pipe -fstack-protector-strong -I/usr/local/include'
ccversion='', gccversion='4.9.2', gccosandvers=''
intsize=4, longsize=8, ptrsize=8, doublesize=8, byteorder=12345678, doublekind=3
d_longlong=define, longlongsize=8, d_longdbl=define, longdblsize=16, longdblkind=3
ivtype='long', ivsize=8, nvtype='double', nvsize=8, Off_t='off_t', lseeksize=8
alignbytes=8, prototype=define
Linker and Libraries:
ld='cc', ldflags =' -fstack-protector-strong -L/usr/local/lib'
libpth=/usr/local/lib /usr/lib/gcc/x86_64-linux-gnu/4.9/include-fixed /usr/include/x86_64-linux-gnu /usr/lib /lib/x86_64-linux-gnu /lib/../lib /usr/lib/x86_64-linux-gnu /usr/lib/../lib /lib
libs=-lpthread -lnsl -ldl -lm -lcrypt -lutil -lc
perllibs=-lpthread -lnsl -ldl -lm -lcrypt -lutil -lc
libc=libc-2.19.so, so=so, useshrplib=false, libperl=libperl.a
gnulibc_version='2.19'
Dynamic Linking:
dlsrc=dl_dlopen.xs, dlext=so, d_dlsymun=undef, ccdlflags='-Wl,-E'
cccdlflags='-fPIC', lddlflags='-shared -O2 -L/usr/local/lib -fstack-protector-strong'
Characteristics of this binary (from libperl):
Compile-time options: HAS_TIMES PERLIO_LAYERS PERL_DONT_CREATE_GVSV
PERL_HASH_FUNC_ONE_AT_A_TIME_HARD PERL_MALLOC_WRAP
PERL_NEW_COPY_ON_WRITE PERL_PRESERVE_IVUV
USE_64_BIT_ALL USE_64_BIT_INT USE_LARGE_FILES
USE_LOCALE USE_LOCALE_COLLATE USE_LOCALE_CTYPE
USE_LOCALE_NUMERIC USE_LOCALE_TIME USE_PERLIO
USE_PERL_ATOF
Built under linux
Compiled at May 11 2016 12:50:38
%ENV:
PERL5LIB=""
PERL5OPT=""
PERL5_CPANPLUS_IS_RUNNING="31852"
PERL5_CPAN_IS_RUNNING="31852"
PERL5_CPAN_IS_RUNNING_IN_RECURSION="29515,31852"
PERL_CR_SMOKER_CURRENT="Perinci-CmdLine-Lite-1.54"
PERL_EXTUTILS_AUTOINSTALL="--defaultdeps"
PERL_MM_USE_DEFAULT="1"
@INC:
/home/stro/perl/5.22.2/lib/site_perl/5.22.2/x86_64-linux
/home/stro/perl/5.22.2/lib/site_perl/5.22.2
/home/stro/perl/5.22.2/lib/5.22.2/x86_64-linux
/home/stro/perl/5.22.2/lib/5.22.2
.