Report for Crypt-SSLeay-0.72

Back
From: metabase:user:1df860e2-5511-11e4-98f0-0dd1d82eb042
Subject: PASS Crypt-SSLeay-0.72 v5.21.5 GNU/Linux
Date: 2014-10-17T15:42:50Z

This distribution has been tested as part of the CPAN Testers
project, supporting the Perl programming language.  See
http://wiki.cpantesters.org/ for more information or email
questions to cpan-testers-discuss@perl.org


--
Dear NANIS,

This is a computer-generated report for Crypt-SSLeay-0.72
on perl 5.21.5, created by App::cpanminus::reporter 0.11 (1.7014).

Thank you for uploading your work to CPAN.  Congratulations!
All tests were successful.

Sections of this report:

    * Tester comments
    * Program output
    * Prerequisites
    * Environment and other context

------------------------------
TESTER COMMENTS
------------------------------

Additional comments from tester:

none provided

------------------------------
PROGRAM OUTPUT
------------------------------

Output from '':

Building and testing Crypt-SSLeay-0.72
cp lib/Crypt/SSLeay/Version.pm blib/lib/Crypt/SSLeay/Version.pm
cp lib/Crypt/SSLeay/MainContext.pm blib/lib/Crypt/SSLeay/MainContext.pm
cp lib/Crypt/SSLeay/X509.pm blib/lib/Crypt/SSLeay/X509.pm
cp lib/Crypt/SSLeay/Err.pm blib/lib/Crypt/SSLeay/Err.pm
cp SSLeay.pm blib/lib/Crypt/SSLeay.pm
cp lib/Crypt/SSLeay/CTX.pm blib/lib/Crypt/SSLeay/CTX.pm
cp lib/Net/SSL.pm blib/lib/Net/SSL.pm
cp lib/Crypt/SSLeay/Conn.pm blib/lib/Crypt/SSLeay/Conn.pm
Running Mkbootstrap for Crypt::SSLeay ()
chmod 644 SSLeay.bs
/home/schulung/perl5/perlbrew/perls/perl-blead/bin/perl5.21.5 /home/schulung/perl5/perlbrew/perls/perl-blead/lib/5.21.5/ExtUtils/xsubpp  -typemap /home/schulung/perl5/perlbrew/perls/perl-blead/lib/5.21.5/ExtUtils/typemap -typemap typemap  SSLeay.xs > SSLeay.xsc && mv SSLeay.xsc SSLeay.c
cc -c   -fwrapv -fno-strict-aliasing -pipe -fstack-protector -I/usr/local/include -D_LARGEFILE_SOURCE -D_FILE_OFFSET_BITS=64 -O2   -DVERSION=\"0.72\" -DXS_VERSION=\"0.72\" -fPIC "-I/home/schulung/perl5/perlbrew/perls/perl-blead/lib/5.21.5/x86_64-linux/CORE"   SSLeay.c
rm -f blib/arch/auto/Crypt/SSLeay/SSLeay.so
LD_RUN_PATH="/lib/x86_64-linux-gnu" cc  -shared -O2 -L/usr/local/lib -fstack-protector SSLeay.o  -o blib/arch/auto/Crypt/SSLeay/SSLeay.so 	\
	   -lssl -lcrypto -lz  	\
	  
chmod 755 blib/arch/auto/Crypt/SSLeay/SSLeay.so
/home/schulung/perl5/perlbrew/perls/perl-blead/bin/perl5.21.5 -MExtUtils::Command::MM -e 'cp_nonempty' -- SSLeay.bs blib/arch/auto/Crypt/SSLeay/SSLeay.bs 644
Manifying blib/man3/Crypt::SSLeay.3
Manifying blib/man3/Crypt::SSLeay::Version.3
Manifying blib/man3/Net::SSL.3
Running Mkbootstrap for Crypt::SSLeay ()
chmod 644 SSLeay.bs
PERL_DL_NONLAZY=1 /home/schulung/perl5/perlbrew/perls/perl-blead/bin/perl5.21.5 "-MExtUtils::Command::MM" "-MTest::Harness" "-e" "undef *Test::Harness::Switches; test_harness(0, 'blib/lib', 'blib/arch')" t/*.t
t/00-basic.t ..... ok
t/01-connect.t ... ok
# Reading configuration from 'test.config' on linux
# network_tests : 0
t/02-live.t ...... skipped: Network tests disabled
#     You have 'OpenSSL 1.0.1f 6 Jan 2014'
#     built on 'built on: Thu Aug  7 13:42:35 UTC 2014'
#     and SSL Heartbeats are not disabled.
# 
#     That means your client may be vulnerable to a server exploiting the
#     Heartbleed bug unless the vulnerability was patched without changing
#     version. The vulnerability was disclosed on or about 2014/04/07. A
#     build date after that may indicate that the library you are using
#     may have been patched. You should check this.
# 
#     The risk is compounded by the fact that Crypt::SSLeay does not
#     verify hosts.  You can still force install Crypt::SSLeay, but you
#     need to be aware of this issue, and strongly consider upgrading to a
#     safer version of OpenSSL.
# 
#     See also:
# 
#       - https://cve.mitre.org/cgi-bin/cvename.cgi?name=CVE-2014-0160
#       - http://isc.sans.edu/diary/17945
#       - http://seclists.org/fulldisclosure/2014/Apr/91
t/03-version.t ... ok
t/boilerplate.t .. ok
t/manifest.t ..... skipped: Author tests not required for installation
All tests successful.
Files=6, Tests=43,  1 wallclock secs ( 0.02 usr  0.00 sys +  0.18 cusr  0.02 csys =  0.22 CPU)
Result: PASS

------------------------------
PREREQUISITES
------------------------------

Prerequisite modules loaded:

    No requirements found

------------------------------
ENVIRONMENT AND OTHER CONTEXT
------------------------------

Environment variables:

    LANG = de_DE.UTF-8
    LANGUAGE = de_DE
    PATH = /home/schulung/perl5/perlbrew/bin:/home/schulung/perl5/perlbrew/perls/perl-blead/bin:/usr/local/sbin:/usr/local/bin:/usr/sbin:/usr/bin:/sbin:/bin:/usr/games:/usr/local/games
    PERLBREW_BASHRC_VERSION = 0.71
    PERLBREW_HOME = /home/schulung/.perlbrew
    PERLBREW_MANPATH = /home/schulung/perl5/perlbrew/perls/perl-blead/man
    PERLBREW_PATH = /home/schulung/perl5/perlbrew/bin:/home/schulung/perl5/perlbrew/perls/perl-blead/bin
    PERLBREW_PERL = perl-blead
    PERLBREW_ROOT = /home/schulung/perl5/perlbrew
    PERLBREW_VERSION = 0.71
    SHELL = /bin/bash
    TERM = xterm

Perl special variables (and OS-specific diagnostics, for MSWin32):

    EGID = 1000 24 30 46 108 124 1000
    EUID = 1000
    EXECUTABLE_NAME = /home/schulung/perl5/perlbrew/perls/perl-blead/bin/perl5.21.5
    GID = 1000 24 30 46 108 124 1000
    UID = 1000

Perl module toolchain versions installed:

    Module              Have    
    ------------------- --------
    CPAN                2.05    
    CPAN::Meta          2.142690
    Cwd                 3.51    
    ExtUtils::CBuilder  0.280220
    ExtUtils::Command   1.18    
    ExtUtils::Install   2.04    
    ExtUtils::MakeMaker 6.98    
    ExtUtils::Manifest  1.68    
    ExtUtils::ParseXS   3.25    
    File::Spec          3.51    
    JSON                2.90    
    JSON::PP            2.27300 
    Module::Build       0.4210  
    Module::Signature   0.73    
    Parse::CPAN::Meta   1.4414  
    Test::Harness       3.33    
    Test::More          1.001008
    YAML                1.13    
    YAML::Syck          1.27    
    version             0.9909  


--

Summary of my perl5 (revision 5 version 21 subversion 5) configuration:
  Snapshot of: 0d42e778cfa0ef9c7315b82e62a6c9fe0cb1cec5
  Platform:
    osname=linux, osvers=3.13.0-24-generic, archname=x86_64-linux
    uname='linux schulung2 3.13.0-24-generic #47-ubuntu smp fri may 2 23:30:00 utc 2014 x86_64 x86_64 x86_64 gnulinux '
    config_args='-de -Dprefix=/home/schulung/perl5/perlbrew/perls/perl-blead -Dusedevel -Aeval:scriptdir=/home/schulung/perl5/perlbrew/perls/perl-blead/bin'
    hint=recommended, useposix=true, d_sigaction=define
    useithreads=undef, usemultiplicity=undef
    use64bitint=define, use64bitall=define, uselongdouble=undef
    usemymalloc=n, bincompat5005=undef
  Compiler:
    cc='cc', ccflags ='-fwrapv -fno-strict-aliasing -pipe -fstack-protector -I/usr/local/include -D_LARGEFILE_SOURCE -D_FILE_OFFSET_BITS=64',
    optimize='-O2',
    cppflags='-fwrapv -fno-strict-aliasing -pipe -fstack-protector -I/usr/local/include'
    ccversion='', gccversion='4.8.2', gccosandvers=''
    intsize=4, longsize=8, ptrsize=8, doublesize=8, byteorder=12345678
    d_longlong=define, longlongsize=8, d_longdbl=define, longdblsize=16, longdblkind=3
    ivtype='long', ivsize=8, nvtype='double', nvsize=8, Off_t='off_t', lseeksize=8
    alignbytes=8, prototype=define
  Linker and Libraries:
    ld='cc', ldflags =' -fstack-protector -L/usr/local/lib'
    libpth=/usr/local/lib /usr/lib/gcc/x86_64-linux-gnu/4.8/include-fixed /usr/include/x86_64-linux-gnu /usr/lib /lib/x86_64-linux-gnu /lib/../lib /usr/lib/x86_64-linux-gnu /usr/lib/../lib /lib
    libs=-lnsl -ldl -lm -lcrypt -lutil -lc
    perllibs=-lnsl -ldl -lm -lcrypt -lutil -lc
    libc=libc-2.19.so, so=so, useshrplib=false, libperl=libperl.a
    gnulibc_version='2.19'
  Dynamic Linking:
    dlsrc=dl_dlopen.xs, dlext=so, d_dlsymun=undef, ccdlflags='-Wl,-E'
    cccdlflags='-fPIC', lddlflags='-shared -O2 -L/usr/local/lib -fstack-protector'


Characteristics of this binary (from libperl): 
  Compile-time options: HAS_TIMES PERLIO_LAYERS PERL_DONT_CREATE_GVSV
                        PERL_HASH_FUNC_ONE_AT_A_TIME_HARD PERL_MALLOC_WRAP
                        PERL_NEW_COPY_ON_WRITE PERL_PRESERVE_IVUV
                        PERL_USE_DEVEL USE_64_BIT_ALL USE_64_BIT_INT
                        USE_LARGE_FILES USE_LOCALE USE_LOCALE_COLLATE
                        USE_LOCALE_CTYPE USE_LOCALE_NUMERIC USE_LOCALE_TIME
                        USE_PERLIO USE_PERL_ATOF
  Built under linux
  Compiled at Oct 17 2014 09:13:36
  %ENV:
    PERLBREW_BASHRC_VERSION="0.71"
    PERLBREW_HOME="/home/schulung/.perlbrew"
    PERLBREW_MANPATH="/home/schulung/perl5/perlbrew/perls/perl-blead/man"
    PERLBREW_PATH="/home/schulung/perl5/perlbrew/bin:/home/schulung/perl5/perlbrew/perls/perl-blead/bin"
    PERLBREW_PERL="perl-blead"
    PERLBREW_ROOT="/home/schulung/perl5/perlbrew"
    PERLBREW_VERSION="0.71"
  @INC:
    /home/schulung/perl5/perlbrew/perls/perl-blead/lib/site_perl/5.21.5/x86_64-linux
    /home/schulung/perl5/perlbrew/perls/perl-blead/lib/site_perl/5.21.5
    /home/schulung/perl5/perlbrew/perls/perl-blead/lib/5.21.5/x86_64-linux
    /home/schulung/perl5/perlbrew/perls/perl-blead/lib/5.21.5
    .