Report for Perlbal-1.80

Back
From: metabase:user:9c36dc84-a30f-11e0-a9fc-0a18abbd4f2f
Subject: PASS Perlbal-1.80 v5.25.0 GNU/Linux
Date: 2016-10-17T03:24:44Z

This distribution has been tested as part of the CPAN Testers
project, supporting the Perl programming language.  See
http://wiki.cpantesters.org/ for more information or email
questions to cpan-testers-discuss@perl.org


--
Dear Alan Kasindorf,

This is a computer-generated report for Perlbal-1.80
on perl 5.25.0, created by CPAN-Reporter-1.2018.

Thank you for uploading your work to CPAN.  Congratulations!
All tests were successful.

Sections of this report:

    * Tester comments
    * Program output
    * Prerequisites
    * Environment and other context

------------------------------
TESTER COMMENTS
------------------------------

Additional comments from tester:

this report is from an automated smoke testing program
and was not reviewed by a human for accuracy

------------------------------
PROGRAM OUTPUT
------------------------------

Output from '/usr/bin/make test':

PERL_DL_NONLAZY=1 "/home/alceu/perl5/perlbrew/perls/perl-5.25.0/bin/perl5.25.0" "-MExtUtils::Command::MM" "-MTest::Harness" "-e" "undef *Test::Harness::Switches; test_harness(0, 'blib/lib', 'blib/arch')" t/*.t
t/00-use.t ............... ok
t/10-testharness.t ....... ok
t/12-headers.t ........... ok
t/13-server-tokens.t ..... ok
t/15-webserver.t ......... ok
t/17-webserver-concat.t .. ok
Manage command failed: 'SERVER aio_mode = ioaio' 'ERROR: IO::AIO not available
'
Manage command failed: 'SERVER aio_mode = ioaio' 'ERROR: IO::AIO not available
'
Manage command failed: 'SERVER aio_mode = ioaio' 'ERROR: IO::AIO not available
'
t/20-put.t ............... ok
# Writing: 500
# Writing: 5
# Writing: 5
# Writing: 5
# Writing: 100000
# Writing: 60000
# Writing: 1000
# Writing: 338485
t/22-chunked-put.t ....... ok
t/30-reverseproxy.t ...... ok
t/31-realworld.t ......... ok
# separator length 2
# separator length 0
500 response!
t/32-pipelining.t ........ ok
t/32-selector.t .......... ok
Manage command failed: 'SERVER aio_mode = ioaio' 'ERROR: IO::AIO not available
'
t/35-reproxy.t ........... ok
Manage command failed: 'SERVER aio_mode = ioaio' 'ERROR: IO::AIO not available
'
Manage command failed: 'SERVER aio_mode = ioaio' 'ERROR: IO::AIO not available
'
t/40-ranges.t ............ ok
t/45-buffereduploads.t ... ok
t/50-plugins.t ........... ok
t/52-chunked-upload.t .... ok
t/60-child-httpd.t ....... skipped: Alpha feature; test skipped without $ENV{PERLBAL_TEST_ALPHA}
t/75-plugin-include.t .... ok
t/76-plugin-redirect.t ... ok
t/77-plugin-throttle.t ... ok
t/78-plugin-xffextras.t .. ok
t/90-accesscontrol.t ..... skipped: Net::Netmask not installed
t/91-fields.t ............ ok
t/99-benchmark-bool.t .... ok
All tests successful.
Files=25, Tests=525, 57 wallclock secs ( 0.16 usr  0.04 sys +  4.11 cusr  1.04 csys =  5.35 CPU)
Result: PASS

------------------------------
PREREQUISITES
------------------------------

Prerequisite modules loaded:

requires:

    Module              Need Have    
    ------------------- ---- --------
    base                0    2.23    
    BSD::Resource       0    1.2910  
    Carp                0    1.40    
    constant            0    1.33    
    Danga::Socket       1.44 1.61    
    Errno               0    1.25    
    Exporter            0    5.72    
    Fcntl               0    1.13    
    fields              0    2.23    
    File::Path          0    2.12_01 
    File::Temp          0    0.2304  
    FindBin             0    1.51    
    Getopt::Long        0    2.49    
    Hash::Util          0    0.19    
    HTTP::Date          0    6.02    
    HTTP::Request       0    6.11    
    HTTP::Response      0    6.11    
    IO::File            0    1.16    
    IO::Handle          0    1.36    
    IO::Select          0    1.22    
    IO::Socket::INET    0    1.35    
    lib                 0    0.63    
    LWP::UserAgent      0    6.15    
    Scalar::Util        0    1.45    
    Socket              0    2.021   
    strict              0    1.11    
    Sys::Syscall        0    0.25    
    Test::More          0.94 1.302035
    Time::HiRes         0    1.9739  
    vars                0    1.03    
    warnings            0    1.36    

build_requires:

    Module              Need Have    
    ------------------- ---- --------
    ExtUtils::MakeMaker 0    7.18    

configure_requires:

    Module              Need Have    
    ------------------- ---- --------
    ExtUtils::MakeMaker 0    7.18    


------------------------------
ENVIRONMENT AND OTHER CONTEXT
------------------------------

Environment variables:

    AUTOMATED_TESTING = 1
    PATH = /home/alceu/perl5/perlbrew/bin:/home/alceu/perl5/perlbrew/perls/perl-5.25.0/bin:/usr/local/sbin:/usr/local/bin:/usr/sbin:/usr/bin:/sbin:/bin
    PERL5LIB = /home/alceu/.cpan/build/Danga-Socket-1.61-0/blib/arch:/home/alceu/.cpan/build/Danga-Socket-1.61-0/blib/lib:/home/alceu/.cpan/build/Sys-Syscall-0.25-0/blib/arch:/home/alceu/.cpan/build/Sys-Syscall-0.25-0/blib/lib:/home/alceu/.cpan/build/BSD-Resource-1.2910-0/blib/arch:/home/alceu/.cpan/build/BSD-Resource-1.2910-0/blib/lib
    PERL5OPT = 
    PERL5_CPANPLUS_IS_RUNNING = 8316
    PERL5_CPAN_IS_RUNNING = 8316
    PERL5_CPAN_IS_RUNNING_IN_RECURSION = 14,8316
    PERLBREW_BASHRC_VERSION = 0.76
    PERLBREW_HOME = /home/alceu/.perlbrew
    PERLBREW_MANPATH = /home/alceu/perl5/perlbrew/perls/perl-5.25.0/man
    PERLBREW_PATH = /home/alceu/perl5/perlbrew/bin:/home/alceu/perl5/perlbrew/perls/perl-5.25.0/bin
    PERLBREW_PERL = perl-5.25.0
    PERLBREW_ROOT = /home/alceu/perl5/perlbrew
    PERLBREW_VERSION = 0.76
    PERL_CR_SMOKER_CURRENT = Perlbal-Plugin-SessionAffinity-0.101
    PERL_EXTUTILS_AUTOINSTALL = --defaultdeps
    PERL_MM_USE_DEFAULT = 1
    TERM = xterm

Perl special variables (and OS-specific diagnostics, for MSWin32):

    $^X = /home/alceu/perl5/perlbrew/perls/perl-5.25.0/bin/perl5.25.0
    $UID/$EUID = 1000 / 1000
    $GID = 1000
    $EGID = 1000

Perl module toolchain versions installed:

    Module              Have    
    ------------------- --------
    CPAN                2.14    
    CPAN::Meta          2.150005
    Cwd                 3.63    
    ExtUtils::CBuilder  0.280225
    ExtUtils::Command   7.18    
    ExtUtils::Install   2.04    
    ExtUtils::MakeMaker 7.18    
    ExtUtils::Manifest  1.70    
    ExtUtils::ParseXS   3.31    
    File::Spec          3.63    
    JSON                n/a     
    JSON::PP            2.27400 
    Module::Build       0.4218  
    Module::Signature   n/a     
    Parse::CPAN::Meta   1.4421  
    Test::Harness       3.36    
    Test::More          1.302035
    YAML                1.15    
    YAML::Syck          1.29    
    version             0.9917  


--

Summary of my perl5 (revision 5 version 25 subversion 0) configuration:
   
  Platform:
    osname=linux, osvers=3.13.0-86-generic, archname=x86_64-linux
    uname='linux yggdrasil 3.13.0-86-generic #130-ubuntu smp mon apr 18 18:27:15 utc 2016 x86_64 x86_64 x86_64 gnulinux '
    config_args='-de -Dprefix=/home/alceu/perl5/perlbrew/perls/perl-5.25.0 -Dusedevel -Aeval:scriptdir=/home/alceu/perl5/perlbrew/perls/perl-5.25.0/bin'
    hint=recommended, useposix=true, d_sigaction=define
    useithreads=undef, usemultiplicity=undef
    use64bitint=define, use64bitall=define, uselongdouble=undef
    usemymalloc=n, bincompat5005=undef
  Compiler:
    cc='cc', ccflags ='-fwrapv -fno-strict-aliasing -pipe -fstack-protector -I/usr/local/include -D_LARGEFILE_SOURCE -D_FILE_OFFSET_BITS=64',
    optimize='-O2',
    cppflags='-fwrapv -fno-strict-aliasing -pipe -fstack-protector -I/usr/local/include'
    ccversion='', gccversion='4.8.4', gccosandvers=''
    intsize=4, longsize=8, ptrsize=8, doublesize=8, byteorder=12345678, doublekind=3
    d_longlong=define, longlongsize=8, d_longdbl=define, longdblsize=16, longdblkind=3
    ivtype='long', ivsize=8, nvtype='double', nvsize=8, Off_t='off_t', lseeksize=8
    alignbytes=8, prototype=define
  Linker and Libraries:
    ld='cc', ldflags =' -fstack-protector -L/usr/local/lib'
    libpth=/usr/local/lib /usr/lib/gcc/x86_64-linux-gnu/4.8/include-fixed /usr/include/x86_64-linux-gnu /usr/lib /lib/x86_64-linux-gnu /lib/../lib /usr/lib/x86_64-linux-gnu /usr/lib/../lib /lib
    libs=-lpthread -lnsl -ldl -lm -lcrypt -lutil -lc
    perllibs=-lpthread -lnsl -ldl -lm -lcrypt -lutil -lc
    libc=libc-2.19.so, so=so, useshrplib=false, libperl=libperl.a
    gnulibc_version='2.19'
  Dynamic Linking:
    dlsrc=dl_dlopen.xs, dlext=so, d_dlsymun=undef, ccdlflags='-Wl,-E'
    cccdlflags='-fPIC', lddlflags='-shared -O2 -L/usr/local/lib -fstack-protector'


Characteristics of this binary (from libperl): 
  Compile-time options: HAS_TIMES PERLIO_LAYERS PERL_COPY_ON_WRITE
                        PERL_DONT_CREATE_GVSV
                        PERL_HASH_FUNC_ONE_AT_A_TIME_HARD PERL_MALLOC_WRAP
                        PERL_PRESERVE_IVUV PERL_USE_DEVEL USE_64_BIT_ALL
                        USE_64_BIT_INT USE_LARGE_FILES USE_LOCALE
                        USE_LOCALE_COLLATE USE_LOCALE_CTYPE
                        USE_LOCALE_NUMERIC USE_LOCALE_TIME USE_PERLIO
                        USE_PERL_ATOF
  Locally applied patches:
	Devel::PatchPerl 1.38
  Built under linux
  Compiled at May 16 2016 10:58:43
  %ENV:
    PERL5LIB="/home/alceu/.cpan/build/Danga-Socket-1.61-0/blib/arch:/home/alceu/.cpan/build/Danga-Socket-1.61-0/blib/lib:/home/alceu/.cpan/build/Sys-Syscall-0.25-0/blib/arch:/home/alceu/.cpan/build/Sys-Syscall-0.25-0/blib/lib:/home/alceu/.cpan/build/BSD-Resource-1.2910-0/blib/arch:/home/alceu/.cpan/build/BSD-Resource-1.2910-0/blib/lib"
    PERL5OPT=""
    PERL5_CPANPLUS_IS_RUNNING="8316"
    PERL5_CPAN_IS_RUNNING="8316"
    PERL5_CPAN_IS_RUNNING_IN_RECURSION="14,8316"
    PERLBREW_BASHRC_VERSION="0.76"
    PERLBREW_HOME="/home/alceu/.perlbrew"
    PERLBREW_MANPATH="/home/alceu/perl5/perlbrew/perls/perl-5.25.0/man"
    PERLBREW_PATH="/home/alceu/perl5/perlbrew/bin:/home/alceu/perl5/perlbrew/perls/perl-5.25.0/bin"
    PERLBREW_PERL="perl-5.25.0"
    PERLBREW_ROOT="/home/alceu/perl5/perlbrew"
    PERLBREW_VERSION="0.76"
    PERL_CR_SMOKER_CURRENT="Perlbal-Plugin-SessionAffinity-0.101"
    PERL_EXTUTILS_AUTOINSTALL="--defaultdeps"
    PERL_MM_USE_DEFAULT="1"
  @INC:
    /home/alceu/.cpan/build/Danga-Socket-1.61-0/blib/arch
    /home/alceu/.cpan/build/Danga-Socket-1.61-0/blib/lib
    /home/alceu/.cpan/build/Sys-Syscall-0.25-0/blib/arch
    /home/alceu/.cpan/build/Sys-Syscall-0.25-0/blib/lib
    /home/alceu/.cpan/build/BSD-Resource-1.2910-0/blib/arch
    /home/alceu/.cpan/build/BSD-Resource-1.2910-0/blib/lib
    /home/alceu/perl5/perlbrew/perls/perl-5.25.0/lib/site_perl/5.25.0/x86_64-linux
    /home/alceu/perl5/perlbrew/perls/perl-5.25.0/lib/site_perl/5.25.0
    /home/alceu/perl5/perlbrew/perls/perl-5.25.0/lib/5.25.0/x86_64-linux
    /home/alceu/perl5/perlbrew/perls/perl-5.25.0/lib/5.25.0
    .