Report for Test-JsonAPI-Autodoc-0.22

Back
From: metabase:user:320bfe00-2aae-11df-837a-5e0a49663a4f
Subject: PASS Test-JsonAPI-Autodoc-0.22 v5.21.9 GNU/Linux
Date: 2015-05-30T03:59:20Z

This distribution has been tested as part of the CPAN Testers
project, supporting the Perl programming language.  See
http://wiki.cpantesters.org/ for more information or email
questions to cpan-testers-discuss@perl.org


--
Dear Taiki Kawakami,

This is a computer-generated report for Test-JsonAPI-Autodoc-0.22
on perl 5.21.9, created by CPAN-Reporter-1.2014.

Thank you for uploading your work to CPAN.  Congratulations!
All tests were successful.

Sections of this report:

    * Tester comments
    * Program output
    * Prerequisites
    * Environment and other context

------------------------------
TESTER COMMENTS
------------------------------

Additional comments from tester:

this report is from an automated smoke testing program
and was not reviewed by a human for accuracy

------------------------------
PROGRAM OUTPUT
------------------------------

Output from './Build test':

t/00_compile.t ..................... ok
t/01_find_project_root_path.t ...... ok
t/02_basic.t ....................... ok
t/03_nested_hash.t ................. ok
t/04_array.t ....................... ok
t/05_non_json_request.t ............ ok
t/06_own_template.t ................ ok
t/07_http_ok_is_not_in_describe.t .. ok
t/08_plack.t ....................... ok
t/09_non_json_request_full_url.t ... ok
t/10_not_generate_doc.t ............ ok
t/11_like_number.t ................. ok
t/12_nullable.t .................... ok
t/13_test_builder_level.t .......... ok
t/14_response_parameters_order.t ... ok
/tmp/test-jsonapi-autodoc-pTAb7Uds at t/15_multi_byte_output.t line 22.
t/15_multi_byte_output.t ........... ok
All tests successful.
Files=16, Tests=48,  6 wallclock secs ( 0.07 usr  0.13 sys +  2.23 cusr  0.50 csys =  2.93 CPU)
Result: PASS

------------------------------
PREREQUISITES
------------------------------

Prerequisite modules loaded:

requires:

    Module                       Need     Have    
    ---------------------------- -------- --------
    Data::Section::Simple        0        0.07    
    JSON                         0        2.90    
    LWP::UserAgent               0        6.13    
    parent                       0        0.234   
    Path::Tiny                   0.051    0.068   
    perl                         5.008005 5.021009
    Scope::Guard                 0        0.20    
    Test::More                   0.98     1.001014
    Text::Xslate                 0        3.3.4   
    Text::Xslate::Bridge::Star   0        0       
    Time::Piece                  0        1.29    
    URL::Encode                  0        0.03    

build_requires:

    Module                       Need     Have    
    ---------------------------- -------- --------
    HTTP::Request::Common        0        6.04    
    HTTP::Response               0        6.04    
    Plack::Request               0        1.0034  
    Plack::Test                  0        0       
    Test::Mock::LWP::Conditional 0        0.03    

configure_requires:

    Module                       Need     Have    
    ---------------------------- -------- --------
    CPAN::Meta                   0        2.150004
    CPAN::Meta::Prereqs          0        2.150004
    Module::Build                0.38     0.4212  


------------------------------
ENVIRONMENT AND OTHER CONTEXT
------------------------------

Environment variables:

    AUTOMATED_TESTING = 1
    LANG = en_US.UTF-8
    LANGUAGE = en_US:en
    PATH = /home/sand/bin:/usr/local/bin:/usr/bin:/bin:/usr/games:/usr/local/perl/bin:/usr/X11/bin:/sbin:/usr/sbin
    PERL5LIB = 
    PERL5OPT = 
    PERL5_CPANPLUS_IS_RUNNING = 24123
    PERL5_CPAN_IS_RUNNING = 24123
    PERL_MM_USE_DEFAULT = 1
    SHELL = /usr/bin/zsh
    TERM = screen

Perl special variables (and OS-specific diagnostics, for MSWin32):

    $^X = /home/sand/src/perl/repoperls/installed-perls/perl/v5.21.9/165a/bin/perl
    $UID/$EUID = 1005 / 1005
    $GID = 1005 1005
    $EGID = 1005 1005

Perl module toolchain versions installed:

    Module              Have    
    ------------------- --------
    CPAN                2.10    
    CPAN::Meta          2.150004
    Cwd                 3.54    
    ExtUtils::CBuilder  0.280221
    ExtUtils::Command   1.20    
    ExtUtils::Install   2.04    
    ExtUtils::MakeMaker 7.04    
    ExtUtils::Manifest  1.70    
    ExtUtils::ParseXS   3.27    
    File::Spec          3.53    
    JSON                2.90    
    JSON::PP            2.27300 
    Module::Build       0.4212  
    Module::Signature   0.79    
    Parse::CPAN::Meta   1.4416  
    Test::Harness       3.35    
    Test::More          1.001014
    YAML                1.15    
    YAML::Syck          1.29    
    version             0.9909  


--

Summary of my perl5 (revision 5 version 21 subversion 9) configuration:
  Commit id: 9200eb3463082f416cc7f441ae6ec39829d1e46a
  Platform:
    osname=linux, osvers=4.0.0-1-amd64, archname=x86_64-linux
    uname='linux k83 4.0.0-1-amd64 #1 smp debian 4.0.2-1 (2015-05-11) x86_64 gnulinux '
    config_args='-Dprefix=/home/sand/src/perl/repoperls/installed-perls/perl/v5.21.9/165a -Dmyhostname=k83 -Dinstallusrbinperl=n -Uversiononly -Dusedevel -des -Ui_db -Uuseithreads -Uuselongdouble -DDEBUGGING=-g'
    hint=recommended, useposix=true, d_sigaction=define
    useithreads=undef, usemultiplicity=undef
    use64bitint=define, use64bitall=define, uselongdouble=undef
    usemymalloc=n, bincompat5005=undef
  Compiler:
    cc='cc', ccflags ='-fwrapv -fno-strict-aliasing -pipe -fstack-protector-strong -I/usr/local/include -D_LARGEFILE_SOURCE -D_FILE_OFFSET_BITS=64 -D_FORTIFY_SOURCE=2',
    optimize='-O2 -g',
    cppflags='-fwrapv -fno-strict-aliasing -pipe -fstack-protector-strong -I/usr/local/include'
    ccversion='', gccversion='4.9.2', gccosandvers=''
    intsize=4, longsize=8, ptrsize=8, doublesize=8, byteorder=12345678, doublekind=3
    d_longlong=define, longlongsize=8, d_longdbl=define, longdblsize=16, longdblkind=3
    ivtype='long', ivsize=8, nvtype='double', nvsize=8, Off_t='off_t', lseeksize=8
    alignbytes=8, prototype=define
  Linker and Libraries:
    ld='cc', ldflags =' -fstack-protector-strong -L/usr/local/lib'
    libpth=/usr/local/lib /usr/lib/gcc/x86_64-linux-gnu/4.9/include-fixed /usr/include/x86_64-linux-gnu /usr/lib /lib/x86_64-linux-gnu /lib/../lib /usr/lib/x86_64-linux-gnu /usr/lib/../lib /lib
    libs=-lpthread -lnsl -lgdbm -ldb -ldl -lm -lcrypt -lutil -lc -lgdbm_compat
    perllibs=-lpthread -lnsl -ldl -lm -lcrypt -lutil -lc
    libc=libc-2.19.so, so=so, useshrplib=false, libperl=libperl.a
    gnulibc_version='2.19'
  Dynamic Linking:
    dlsrc=dl_dlopen.xs, dlext=so, d_dlsymun=undef, ccdlflags='-Wl,-E'
    cccdlflags='-fPIC', lddlflags='-shared -O2 -g -L/usr/local/lib -fstack-protector-strong'


Characteristics of this binary (from libperl): 
  Compile-time options: HAS_TIMES PERLIO_LAYERS PERL_DONT_CREATE_GVSV
                        PERL_HASH_FUNC_ONE_AT_A_TIME_HARD PERL_MALLOC_WRAP
                        PERL_NEW_COPY_ON_WRITE PERL_PRESERVE_IVUV
                        PERL_USE_DEVEL USE_64_BIT_ALL USE_64_BIT_INT
                        USE_LARGE_FILES USE_LOCALE USE_LOCALE_COLLATE
                        USE_LOCALE_CTYPE USE_LOCALE_NUMERIC USE_LOCALE_TIME
                        USE_PERLIO USE_PERL_ATOF
  Built under linux
  Compiled at May 13 2015 13:20:38
  %ENV:
    PERL5LIB=""
    PERL5OPT=""
    PERL5_CPANPLUS_IS_RUNNING="24123"
    PERL5_CPAN_IS_RUNNING="24123"
    PERL_MM_USE_DEFAULT="1"
  @INC:
    /home/sand/src/perl/repoperls/installed-perls/perl/v5.21.9/165a/lib/site_perl/5.21.9/x86_64-linux
    /home/sand/src/perl/repoperls/installed-perls/perl/v5.21.9/165a/lib/site_perl/5.21.9
    /home/sand/src/perl/repoperls/installed-perls/perl/v5.21.9/165a/lib/5.21.9/x86_64-linux
    /home/sand/src/perl/repoperls/installed-perls/perl/v5.21.9/165a/lib/5.21.9
    .