Pod-Markdown v3.200 Perl 5 v5.31.4 amd64-freebsd
- Status
- Pass
- From
- Slaven Rezić (SREZIC)
- Dist
-
Pod-Markdown v3.200
- Platform
- Perl 5 v5.31.4 amd64-freebsd
- Date
- 2019-10-21 05:54:30
- ID
- 3fc02dcc-f3c7-11e9-8e81-9e501f24ea8f
This distribution has been tested as part of the CPAN Testers
project, supporting the Perl programming language. See
http://wiki.cpantesters.org/ for more information or email
questions to cpan-testers-discuss@perl.org
--
Dear Randy Stauner,
This is a computer-generated report for Pod-Markdown-3.200
on perl 5.31.4, created by CPAN-Reporter-1.2018.
Thank you for uploading your work to CPAN. Congratulations!
All tests were successful.
Sections of this report:
* Tester comments
* Program output
* Prerequisites
* Environment and other context
------------------------------
TESTER COMMENTS
------------------------------
Additional comments from tester:
none provided
------------------------------
PROGRAM OUTPUT
------------------------------
Output from '/usr/bin/make test':
PERL_DL_NONLAZY=1 "/usr/perl5.31.4p/bin/perl5.31.4" "-MExtUtils::Command::MM" "-MTest::Harness" "-e" "undef *Test::Harness::Switches; test_harness(0, 'blib/lib', 'blib/arch')" t/*.t
t/00-compile.t ......... ok
#
# Versions for all modules listed in MYMETA.json (including optional ones):
#
# === Configure Requires ===
#
# Module Want Have
# ------------------- ---- ----
# ExtUtils::MakeMaker any 7.38
#
# === Build Requires ===
#
# Module Want Have
# ------------------- ---- ----
# ExtUtils::MakeMaker any 7.38
#
# === Test Requires ===
#
# Module Want Have
# --------------------- ---- --------
# Exporter any 5.74
# ExtUtils::MakeMaker any 7.38
# File::Spec any 3.78
# File::Spec::Functions any 3.78
# File::Temp any 0.2309
# IO::Handle any 1.41
# IPC::Open3 any 1.20
# Symbol any 1.08
# Test::Differences any 0.67
# Test::More 0.88 1.302168
# lib any 0.65
# utf8 any 1.22
#
# === Test Recommends ===
#
# Module Want Have
# ---------- -------- --------
# CPAN::Meta 2.120900 2.150010
#
# === Runtime Requires ===
#
# Module Want Have
# -------------------- ---- -----
# Encode any 3.01
# Getopt::Long any 2.51
# Pod::Simple 3.27 3.39
# Pod::Simple::Methody any 3.39
# Pod::Usage any 1.69
# URI::Escape any 3.31
# parent any 0.237
# strict any 1.11
# warnings any 1.45
#
# === Runtime Recommends ===
#
# Module Want Have
# -------------- ---- ----
# HTML::Entities any 3.69
#
t/00-report-prereqs.t .. ok
t/back-compat.t ........ ok
t/basic.t .............. ok
t/codes.t .............. ok
t/encoding.t ........... ok
t/entities.t ........... ok
t/escape.t ............. ok
t/formats.t ............ ok
t/links.t .............. ok
t/lists.t .............. ok
t/meta.t ............... ok
t/misc.t ............... ok
t/nested.t ............. ok
t/new.t ................ ok
t/perldoc.t ............ ok
t/pod2markdown.t ....... ok
t/verbatim.t ........... ok
All tests successful.
Files=18, Tests=354, 5 wallclock secs ( 0.17 usr 0.07 sys + 3.95 cusr 0.72 csys = 4.91 CPU)
Result: PASS
------------------------------
PREREQUISITES
------------------------------
Prerequisite modules loaded:
requires:
Module Need Have
--------------------- ----- --------
Encode 0 3.01
Getopt::Long 0 2.51
parent 0 0.237
perl 5.008 5.031004
Pod::Simple 3.27 3.39
Pod::Simple::Methody 0 3.39
Pod::Usage 0 1.69
strict 0 1.11
URI::Escape 0 3.31
warnings 0 1.45
build_requires:
Module Need Have
--------------------- ----- --------
Exporter 0 5.74
ExtUtils::MakeMaker 0 7.38
File::Spec 0 3.78
File::Spec::Functions 0 3.78
File::Temp 0 0.2309
IO::Handle 0 1.41
IPC::Open3 0 1.20
lib 0 0.65
Symbol 0 1.08
Test::Differences 0 0.67
Test::More 0.88 1.302168
utf8 0 1.22
configure_requires:
Module Need Have
--------------------- ----- --------
ExtUtils::MakeMaker 0 7.38
perl 5.008 5.031004
------------------------------
ENVIRONMENT AND OTHER CONTEXT
------------------------------
Environment variables:
PATH = /usr/local/bin:/usr/bin:/bin:/usr/local/sbin:/usr/sbin:/sbin:/home/cpansand/bin/sh:/home/cpansand/bin:/usr/games:/home/cpansand/devel:/usr/home/eserte/src/srezic-misc/scripts
PERL5LIB =
PERL5OPT =
PERL5_CPANPLUS_IS_RUNNING = 88170
PERL5_CPAN_IS_RUNNING = 88170
PERL5_CPAN_IS_RUNNING_IN_RECURSION = 87811,88170
PERL_BATCH = yes
PERL_CANARY_STABILITY_NOPROMPT = 1
PERL_CPAN_REPORTER_CONFIG = /var/tmp/cpansmoker-1023/2019100917/cpanreporter_000_config.ini
PERL_EXTUTILS_AUTOINSTALL = --defaultdeps
PERL_USE_UNSAFE_INC = 1
SHELL = /bin/sh
TMPDIR = /var/tmp/cpansmoker-1023/2019100917
Perl special variables (and OS-specific diagnostics, for MSWin32):
$^X = /usr/perl5.31.4p/bin/perl5.31.4
$UID/$EUID = 1023 / 1023
$GID = 1023 1023
$EGID = 1023 1023
Perl module toolchain versions installed:
Module Have
------------------- --------
CPAN 2.27
CPAN::Meta 2.150010
Cwd 3.78
ExtUtils::CBuilder 0.280232
ExtUtils::Command 7.38
ExtUtils::Install 2.14
ExtUtils::MakeMaker 7.38
ExtUtils::Manifest 1.72
ExtUtils::ParseXS 3.40
File::Spec 3.78
JSON 4.02
JSON::PP 4.04
Module::Build 0.4229
Module::Signature n/a
Parse::CPAN::Meta 2.150010
Test::Harness 3.42
Test::More 1.302168
YAML 1.29
YAML::Syck 1.31
version 0.9924
--
Summary of my perl5 (revision 5 version 31 subversion 4) configuration:
Platform:
osname=freebsd
osvers=12.1-prerelease
archname=amd64-freebsd
uname='freebsd cloud1.bbbike.org 12.1-prerelease freebsd 12.1-prerelease 94fee6e185b(stable12) generic amd64 '
config_args='-ds -e -Dprefix=/usr/perl5.31.4p -Dusedevel -Dusemallocwrap=no -Dcf_email=srezic@cpan.org -Doptimize=-O2 -pipe'
hint=recommended
useposix=true
d_sigaction=define
useithreads=undef
usemultiplicity=undef
use64bitint=define
use64bitall=define
uselongdouble=undef
usemymalloc=n
default_inc_excludes_dot=define
bincompat5005=undef
Compiler:
cc='cc'
ccflags ='-DHAS_FPSETMASK -DHAS_FLOATINGPOINT_H -fno-strict-aliasing -pipe -fstack-protector-strong -I/usr/local/include -D_FORTIFY_SOURCE=2'
optimize='-O2 -pipe'
cppflags='-DHAS_FPSETMASK -DHAS_FLOATINGPOINT_H -fno-strict-aliasing -pipe -fstack-protector-strong -I/usr/local/include'
ccversion=''
gccversion='4.2.1 Compatible FreeBSD Clang 8.0.1 (tags/RELEASE_801/final 366581)'
gccosandvers=''
intsize=4
longsize=8
ptrsize=8
doublesize=8
byteorder=12345678
doublekind=3
d_longlong=define
longlongsize=8
d_longdbl=define
longdblsize=16
longdblkind=3
ivtype='long'
ivsize=8
nvtype='double'
nvsize=8
Off_t='off_t'
lseeksize=8
alignbytes=8
prototype=define
Linker and Libraries:
ld='cc'
ldflags ='-pthread -Wl,-E -fstack-protector-strong -L/usr/local/lib'
libpth=/usr/lib /usr/local/lib /usr/lib/clang/8.0.1/lib /usr/lib
libs=-lpthread -lgdbm -ldl -lm -lcrypt -lutil -lc
perllibs=-lpthread -ldl -lm -lcrypt -lutil -lc
libc=
so=so
useshrplib=false
libperl=libperl.a
gnulibc_version=''
Dynamic Linking:
dlsrc=dl_dlopen.xs
dlext=so
d_dlsymun=undef
ccdlflags=' '
cccdlflags='-DPIC -fPIC'
lddlflags='-shared -L/usr/local/lib -fstack-protector-strong'
Characteristics of this binary (from libperl):
Compile-time options:
HAS_TIMES
PERLIO_LAYERS
PERL_COPY_ON_WRITE
PERL_DONT_CREATE_GVSV
PERL_OP_PARENT
PERL_PRESERVE_IVUV
PERL_USE_DEVEL
USE_64_BIT_ALL
USE_64_BIT_INT
USE_LARGE_FILES
USE_LOCALE
USE_LOCALE_COLLATE
USE_LOCALE_CTYPE
USE_LOCALE_NUMERIC
USE_LOCALE_TIME
USE_PERLIO
USE_PERL_ATOF
Built under freebsd
Compiled at Sep 21 2019 06:31:05
%ENV:
PERL5LIB=""
PERL5OPT=""
PERL5_CPANPLUS_IS_RUNNING="88170"
PERL5_CPAN_IS_RUNNING="88170"
PERL5_CPAN_IS_RUNNING_IN_RECURSION="87811,88170"
PERL_BATCH="yes"
PERL_CANARY_STABILITY_NOPROMPT="1"
PERL_CPAN_REPORTER_CONFIG="/var/tmp/cpansmoker-1023/2019100917/cpanreporter_000_config.ini"
PERL_EXTUTILS_AUTOINSTALL="--defaultdeps"
PERL_USE_UNSAFE_INC="1"
@INC:
/usr/perl5.31.4p/lib/site_perl/5.31.4/amd64-freebsd
/usr/perl5.31.4p/lib/site_perl/5.31.4
/usr/perl5.31.4p/lib/5.31.4/amd64-freebsd
/usr/perl5.31.4p/lib/5.31.4
.