CGI-Application-Plugin-OpenTracing vv0.104.2 Perl 5 v5.24.0 x86_64-linux-thread-multi
- Status
- Pass
- From
- Andreas J. König (ANDK)
- Dist
-
CGI-Application-Plugin-OpenTracing vv0.104.2
- Platform
- Perl 5 v5.24.0 x86_64-linux-thread-multi
- Date
- 2024-01-01 00:39:40
- ID
- 3f8dac6e-a83e-11ee-a1cc-2fd9fd0e8b53
This distribution has been tested as part of the CPAN Testers
project, supporting the Perl programming language. See
http://wiki.cpantesters.org/ for more information or email
questions to cpan-testers-discuss@perl.org
--
Dear Theo van Hoesel,
This is a computer-generated report for CGI-Application-Plugin-OpenTracing-v0.104.2
on perl 5.24.0, created by CPAN-Reporter-1.2019.
Thank you for uploading your work to CPAN. Congratulations!
All tests were successful.
Sections of this report:
* Tester comments
* Program output
* Prerequisites
* Environment and other context
------------------------------
TESTER COMMENTS
------------------------------
Additional comments from tester:
this report is from an automated smoke testing program
and was not reviewed by a human for accuracy
------------------------------
PROGRAM OUTPUT
------------------------------
Output from '/usr/bin/make test':
PERL_DL_NONLAZY=1 "/home/sand/src/perl/repoperls/installed-perls/host/k93msid/v5.24.0/29fb/bin/perl" "-MExtUtils::Command::MM" "-MTest::Harness" "-e" "undef *Test::Harness::Switches; test_harness(0, 'blib/lib', 'blib/arch')" t/*.t
GlobalTracer can't find default implementation [OpenTracing::Implementation::NoOp::Tracer] at /home/sand/src/perl/repoperls/installed-perls/host/k93msid/v5.24.0/29fb/lib/site_perl/5.24.0/OpenTracing/Implementation.pm line 30.
t/00_use_ok.t .............. ok
GlobalTracer can't find default implementation [OpenTracing::Implementation::NoOp::Tracer] at /home/sand/src/perl/repoperls/installed-perls/host/k93msid/v5.24.0/29fb/lib/site_perl/5.24.0/Test/OpenTracing/Integration.pm line 9.
t/90_simple_integration.t .. ok
GlobalTracer can't find default implementation [OpenTracing::Implementation::NoOp::Tracer] at /home/sand/src/perl/repoperls/installed-perls/host/k93msid/v5.24.0/29fb/lib/site_perl/5.24.0/Test/OpenTracing/Integration.pm line 9.
t/91_form_data.t ........... ok
GlobalTracer can't find default implementation [OpenTracing::Implementation::NoOp::Tracer] at /home/sand/src/perl/repoperls/installed-perls/host/k93msid/v5.24.0/29fb/lib/site_perl/5.24.0/Test/OpenTracing/Integration.pm line 9.
t/92_tag_processing.t ...... ok
GlobalTracer can't find default implementation [OpenTracing::Implementation::NoOp::Tracer] at /home/sand/src/perl/repoperls/installed-perls/host/k93msid/v5.24.0/29fb/lib/site_perl/5.24.0/Test/OpenTracing/Integration.pm line 9.
t/93_error_handling.t ...... ok
GlobalTracer can't find default implementation [OpenTracing::Implementation::NoOp::Tracer] at /home/sand/src/perl/repoperls/installed-perls/host/k93msid/v5.24.0/29fb/lib/site_perl/5.24.0/Test/OpenTracing/Integration.pm line 9.
t/94_headers.t ............. ok
All tests successful.
Files=6, Tests=32, 6 wallclock secs ( 0.05 usr 0.02 sys + 3.12 cusr 0.73 csys = 3.92 CPU)
Result: PASS
------------------------------
PREREQUISITES
------------------------------
Prerequisite modules loaded:
requires:
Module Need Have
------------------------------ -------- ----------
HTTP::Headers 0 6.36
HTTP::Status 0 6.36
OpenTracing::GlobalTracer 0 0.04
OpenTracing::Implementation v0.33.2 v0.33.2
syntax 0 0.004
Syntax::Feature::Maybe 0 1.202
Time::HiRes 0 1.9764
build_requires:
Module Need Have
------------------------------ -------- ----------
CGI::Application 0 4.61
ExtUtils::MakeMaker 0 7.70
LWP::UserAgent 6.42 6.62
Ref::Util 0 0.204
Test::MockObject 0 1.20200122
Test::Most 0 0.38
Test::OpenTracing::Integration v0.102.0 v0.104.1
Test::WWW::Mechanize::CGIApp 0 0.05
configure_requires:
Module Need Have
------------------------------ -------- ----------
ExtUtils::MakeMaker::CPANfile 0.09 0.09
------------------------------
ENVIRONMENT AND OTHER CONTEXT
------------------------------
Environment variables:
AUTOMATED_TESTING = 1
LANG = en_US.UTF-8
LANGUAGE = en_US:en
PATH = /home/sand/bin:/usr/local/bin:/usr/bin:/bin:/usr/games:/usr/local/perl/bin:/usr/X11/bin:/sbin:/usr/sbin
PERL5LIB =
PERL5OPT =
PERL5_CPANPLUS_IS_RUNNING = 1848932
PERL5_CPAN_IS_RUNNING = 1848932
PERL_CANARY_STABILITY_NOPROMPT = 1
PERL_MM_USE_DEFAULT = 1
PERL_USE_UNSAFE_INC = 1
SHELL = /usr/bin/zsh
TERM = screen
Perl special variables (and OS-specific diagnostics, for MSWin32):
$^X = /home/sand/src/perl/repoperls/installed-perls/host/k93msid/v5.24.0/29fb/bin/perl
$UID/$EUID = 1005 / 1005
$GID = 1005 1005
$EGID = 1005 1005
Perl module toolchain versions installed:
Module Have
------------------- --------
CPAN 2.34
CPAN::Meta 2.150010
Cwd 3.75
ExtUtils::CBuilder 0.280236
ExtUtils::Command 7.70
ExtUtils::Install 2.06
ExtUtils::MakeMaker 7.70
ExtUtils::Manifest 1.75
ExtUtils::ParseXS 3.51
File::Spec 3.75
JSON 4.10
JSON::PP 4.12
Module::Build 0.4231
Module::Signature 0.88
Parse::CPAN::Meta 2.150010
Test2 1.302195
Test::Harness 3.44
Test::More 1.302195
YAML 1.30
YAML::Syck 1.34
version 0.9929
--
Summary of my perl5 (revision 5 version 24 subversion 0) configuration:
Derived from: be2c0c650b028f54e427f2469a59942edfdff8a9
Platform:
osname=linux, osvers=5.16.0-6-amd64, archname=x86_64-linux-thread-multi
uname='linux k93msid 5.16.0-6-amd64 #1 smp preempt debian 5.16.18-1 (2022-03-29) x86_64 gnulinux '
config_args='-Dprefix=/home/sand/src/perl/repoperls/installed-perls/host/k93msid/v5.24.0/29fb -Dmyhostname=k93msid -Dinstallusrbinperl=n -Uversiononly -Dusedevel -des -Ui_db -Dlibswanted=cl pthread socket inet nsl gdbm dbm malloc dl ld sun m crypt sec util c cposix posix ucb BSD gdbm_compat -Duseithreads -Uuselongdouble -DEBUGGING=both'
hint=recommended, useposix=true, d_sigaction=define
useithreads=define, usemultiplicity=define
use64bitint=define, use64bitall=define, uselongdouble=undef
usemymalloc=n, bincompat5005=undef
Compiler:
cc='cc', ccflags ='-D_REENTRANT -D_GNU_SOURCE -fwrapv -DDEBUGGING -fno-strict-aliasing -pipe -fstack-protector-strong -I/usr/local/include -D_LARGEFILE_SOURCE -D_FILE_OFFSET_BITS=64 -D_FORTIFY_SOURCE=2',
optimize='-O2 -g',
cppflags='-D_REENTRANT -D_GNU_SOURCE -fwrapv -DDEBUGGING -fno-strict-aliasing -pipe -fstack-protector-strong -I/usr/local/include'
ccversion='', gccversion='11.2.0', gccosandvers=''
intsize=4, longsize=8, ptrsize=8, doublesize=8, byteorder=12345678, doublekind=3
d_longlong=define, longlongsize=8, d_longdbl=define, longdblsize=16, longdblkind=3
ivtype='long', ivsize=8, nvtype='double', nvsize=8, Off_t='off_t', lseeksize=8
alignbytes=8, prototype=define
Linker and Libraries:
ld='cc', ldflags =' -fstack-protector-strong -L/usr/local/lib'
libpth=/usr/local/lib /usr/include/x86_64-linux-gnu /usr/lib /lib/x86_64-linux-gnu /lib/../lib /usr/lib/x86_64-linux-gnu /usr/lib/../lib /lib
libs=-lpthread -lnsl -ldl -lm -lcrypt -lutil -lc
perllibs=-lpthread -lnsl -ldl -lm -lcrypt -lutil -lc
libc=libc-2.33.so, so=so, useshrplib=false, libperl=libperl.a
gnulibc_version='2.33'
Dynamic Linking:
dlsrc=dl_dlopen.xs, dlext=so, d_dlsymun=undef, ccdlflags='-Wl,-E'
cccdlflags='-fPIC', lddlflags='-shared -O2 -g -L/usr/local/lib -fstack-protector-strong'
Characteristics of this binary (from libperl):
Compile-time options: DEBUGGING HAS_TIMES MULTIPLICITY PERLIO_LAYERS
PERL_COPY_ON_WRITE PERL_DONT_CREATE_GVSV
PERL_HASH_FUNC_ONE_AT_A_TIME_HARD
PERL_IMPLICIT_CONTEXT PERL_MALLOC_WRAP
PERL_PRESERVE_IVUV PERL_TRACK_MEMPOOL PERL_USE_DEVEL
USE_64_BIT_ALL USE_64_BIT_INT USE_ITHREADS
USE_LARGE_FILES USE_LOCALE USE_LOCALE_COLLATE
USE_LOCALE_CTYPE USE_LOCALE_NUMERIC USE_LOCALE_TIME
USE_PERLIO USE_PERL_ATOF USE_REENTRANT_API
Locally applied patches:
uncommitted-changes
Built under linux
Compiled at Apr 22 2022 08:18:39
%ENV:
PERL5LIB=""
PERL5OPT=""
PERL5_CPANPLUS_IS_RUNNING="1848932"
PERL5_CPAN_IS_RUNNING="1848932"
PERL_CANARY_STABILITY_NOPROMPT="1"
PERL_MM_USE_DEFAULT="1"
PERL_USE_UNSAFE_INC="1"
@INC:
/home/sand/src/perl/repoperls/installed-perls/host/k93msid/v5.24.0/29fb/lib/site_perl/5.24.0/x86_64-linux-thread-multi
/home/sand/src/perl/repoperls/installed-perls/host/k93msid/v5.24.0/29fb/lib/site_perl/5.24.0
/home/sand/src/perl/repoperls/installed-perls/host/k93msid/v5.24.0/29fb/lib/5.24.0/x86_64-linux-thread-multi
/home/sand/src/perl/repoperls/installed-perls/host/k93msid/v5.24.0/29fb/lib/5.24.0
.