Report for HTML-FormatText-WithLinks-0.15

Back
From: metabase:user:f0a1e540-adf3-11e5-b4d9-0267490dd990
Subject: PASS HTML-FormatText-WithLinks-0.15 v5.22.1 Mac OS X
Date: 2016-03-31T02:21:16Z

This distribution has been tested as part of the CPAN Testers
project, supporting the Perl programming language.  See
http://wiki.cpantesters.org/ for more information or email
questions to cpan-testers-discuss@perl.org


--
Dear Struan Donald,

This is a computer-generated report for HTML-FormatText-WithLinks-0.15
on perl 5.22.1, created by CPAN-Reporter-1.2017.

Thank you for uploading your work to CPAN.  Congratulations!
All tests were successful.

Sections of this report:

    * Tester comments
    * Program output
    * Prerequisites
    * Environment and other context

------------------------------
TESTER COMMENTS
------------------------------

Additional comments from tester:

none provided

------------------------------
PROGRAM OUTPUT
------------------------------

Output from './Build test':

t/01load.t ...................... ok
t/basic_parse.t ................. ok
t/custom_format.t ............... ok
t/no_html_passed.t .............. ok
t/parse_a_with_no_href.t ........ ok
t/parse_file.t .................. ok
t/parse_missing_file.t .......... ok
t/parse_multiple_times.t ........ ok
t/parse_with_base.t ............. ok
t/parse_with_html_fragment.t .... ok
t/parse_with_identical_links.t .. ok
t/parse_with_links.t ............ ok
t/parse_with_local_links.t ...... ok
t/parse_with_name.t ............. ok
t/parse_with_relative_links.t ... ok
t/pod.t ......................... ok
t/podcover.t .................... ok
t/skip_linked_urls.t ............ ok
t/treebuilder_problem.t ......... skipped: Test::MockObject  required for testing TreeBuilder problems
t/with_emphasis.t ............... ok
All tests successful.
Files=20, Tests=94,  2 wallclock secs ( 0.08 usr  0.05 sys +  1.35 cusr  0.22 csys =  1.70 CPU)
Result: PASS

------------------------------
PREREQUISITES
------------------------------

Prerequisite modules loaded:

requires:

    Module            Need Have    
    ----------------- ---- --------
    HTML::FormatText  2    2.14    
    HTML::TreeBuilder 0    5.03    
    URI::WithBase     0    2.20    

build_requires:

    Module            Need Have    
    ----------------- ---- --------
    Test::More        0    1.001014

configure_requires:

    Module            Need Have    
    ----------------- ---- --------
    Module::Build     0.38 0.4216  


------------------------------
ENVIRONMENT AND OTHER CONTEXT
------------------------------

Environment variables:

    LANG = en_US.UTF-8
    LC_ALL = en_US.UTF-8
    LC_CTYPE = C
    PATH = /opt/Perl/bin:/opt/Perl/sbin:/Users/ggreene/bin:/opt/local/bin:/opt/local/sbin:/opt/local/libexec/gnubin:/usr/local/mysql/bin:/Users/ggreene/Development/hrs:/Applications/Server.app/Contents/ServerRoot/usr/bin:/Applications/Server.app/Contents/ServerRoot/usr/sbin:/opt/X11/bin:/usr/local/bin:/usr/bin:/bin:/usr/sbin:/sbin
    PERL5LIB = 
    PERL5OPT = 
    PERL5_CPANPLUS_IS_RUNNING = 68802
    PERL5_CPAN_IS_RUNNING = 68802
    SHELL = /bin/zsh
    TERM = xterm
    TMPDIR = /var/folders/9n/_nl5z6w10qj1dsf18lqbf_w96n_pcq/T/

Perl special variables (and OS-specific diagnostics, for MSWin32):

    $^X = /opt/Perl/bin/perl
    $UID/$EUID = 1297439127 / 1297439127
    $GID = 582448329 582448329
    $EGID = 582448329 582448329

Perl module toolchain versions installed:

    Module              Have    
    ------------------- --------
    CPAN                2.11    
    CPAN::Meta          2.150005
    Cwd                 3.62    
    ExtUtils::CBuilder  0.280224
    ExtUtils::Command   7.10    
    ExtUtils::Install   2.04    
    ExtUtils::MakeMaker 7.10    
    ExtUtils::Manifest  1.70    
    ExtUtils::ParseXS   3.30    
    File::Spec          3.62    
    JSON                2.90    
    JSON::PP            2.27300 
    Module::Build       0.4216  
    Module::Signature   0.79    
    Parse::CPAN::Meta   1.4417  
    Test::Harness       3.36    
    Test::More          1.001014
    YAML                1.15    
    YAML::Syck          1.29    
    version             0.9916  


--

Summary of my perl5 (revision 5 version 22 subversion 1) configuration:
   
  Platform:
    osname=darwin, osvers=15.2.0, archname=darwin-thread-multi-ld-2level
    uname='darwin ggreene-mbp.local 15.2.0 darwin kernel version 15.2.0: fri nov 13 19:56:56 pst 2015; root:xnu-3248.20.55~2release_x86_64 x86_64 '
    config_args=''
    hint=recommended, useposix=true, d_sigaction=define
    useithreads=define, usemultiplicity=define
    use64bitint=define, use64bitall=define, uselongdouble=define
    usemymalloc=n, bincompat5005=undef
  Compiler:
    cc='cc', ccflags ='-fno-common -DPERL_DARWIN -fno-strict-aliasing -pipe -fstack-protector-strong -I/opt/local/include',
    optimize='-O3',
    cppflags='-fno-common -DPERL_DARWIN -fno-strict-aliasing -pipe -fstack-protector-strong -I/opt/local/include'
    ccversion='', gccversion='4.2.1 Compatible Apple LLVM 7.0.2 (clang-700.1.81)', gccosandvers=''
    intsize=4, longsize=8, ptrsize=8, doublesize=8, byteorder=12345678, doublekind=3
    d_longlong=define, longlongsize=8, d_longdbl=define, longdblsize=16, longdblkind=3
    ivtype='long', ivsize=8, nvtype='long double', nvsize=16, Off_t='off_t', lseeksize=8
    alignbytes=16, prototype=define
  Linker and Libraries:
    ld='env MACOSX_DEPLOYMENT_TARGET=10.9 cc', ldflags =' -fstack-protector-strong -L/opt/local/lib'
    libpth=/Applications/Xcode.app/Contents/Developer/Toolchains/XcodeDefault.xctoolchain/usr/bin/../lib/clang/7.0.2/lib /Applications/Xcode.app/Contents/Developer/Toolchains/XcodeDefault.xctoolchain/usr/lib /usr/lib /opt/local/lib /usr/local/mysql/lib
    libs=-lpthread -lgdbm -ldbm -ldl -lm -lutil -lc
    perllibs=-lpthread -ldl -lm -lutil -lc
    libc=, so=dylib, useshrplib=false, libperl=libperl.a
    gnulibc_version=''
  Dynamic Linking:
    dlsrc=dl_dlopen.xs, dlext=bundle, d_dlsymun=undef, ccdlflags=' '
    cccdlflags=' ', lddlflags=' -bundle -undefined dynamic_lookup -L/opt/local/lib -fstack-protector-strong'


Characteristics of this binary (from libperl): 
  Compile-time options: HAS_TIMES MULTIPLICITY PERLIO_LAYERS
                        PERL_DONT_CREATE_GVSV
                        PERL_HASH_FUNC_ONE_AT_A_TIME_HARD
                        PERL_IMPLICIT_CONTEXT PERL_MALLOC_WRAP
                        PERL_NEW_COPY_ON_WRITE PERL_PRESERVE_IVUV
                        USE_64_BIT_ALL USE_64_BIT_INT USE_ITHREADS
                        USE_LARGE_FILES USE_LOCALE USE_LOCALE_COLLATE
                        USE_LOCALE_CTYPE USE_LOCALE_NUMERIC USE_LOCALE_TIME
                        USE_LONG_DOUBLE USE_PERLIO USE_PERL_ATOF
  Built under darwin
  Compiled at Dec 28 2015 14:34:27
  %ENV:
    PERL5LIB=""
    PERL5OPT=""
    PERL5_CPANPLUS_IS_RUNNING="68802"
    PERL5_CPAN_IS_RUNNING="68802"
  @INC:
    /opt/Perl/lib/perl5/site_perl/5.22.1/darwin-thread-multi-ld-2level
    /opt/Perl/lib/perl5/site_perl/5.22.1
    /opt/Perl/lib/perl5/5.22.1/darwin-thread-multi-ld-2level
    /opt/Perl/lib/perl5/5.22.1
    .