Report for MozRepl-0.06

Back
From: metabase:user:0d96120c-29e2-11e5-b049-ede3035d37de
Subject: PASS MozRepl-0.06 v5.18.4 GNU/Linux
Date: 2015-07-21T13:41:54Z

This distribution has been tested as part of the CPAN Testers
project, supporting the Perl programming language.  See
http://wiki.cpantesters.org/ for more information or email
questions to cpan-testers-discuss@perl.org


--
Dear Toru Yamaguchi,

This is a computer-generated report for MozRepl-0.06
on perl 5.18.4, created by CPAN-Reporter-1.2014.

Thank you for uploading your work to CPAN.  Congratulations!
All tests were successful.

Sections of this report:

    * Tester comments
    * Program output
    * Prerequisites
    * Environment and other context

------------------------------
TESTER COMMENTS
------------------------------

Additional comments from tester:

this report is from an automated smoke testing program
and was not reviewed by a human for accuracy

------------------------------
PROGRAM OUTPUT
------------------------------

Output from '/usr/bin/make test':

/data/perl5/perlbrew/perls/perl-5.18.4-thread-multi-ld/bin/perl "-Iinc" Makefile.PL --config= --installdeps=Data::JavaScript::Anon,0,Module::Pluggable::Fast,0,Net::Telnet,0,Template,0,Template::Provider::FromDATA,0,Text::SimpleTable,0,UNIVERSAL::require,0
PERL_DL_NONLAZY=1 /data/perl5/perlbrew/perls/perl-5.18.4-thread-multi-ld/bin/perl "-MExtUtils::Command::MM" "-e" "test_harness(0, 'inc', 'blib/lib', 'blib/arch')" t/00-load.t t/10-plugin-repl-enter.t t/11-plugin-repl-search.t t/12-plugin-repl-inspect.t t/13-plugin-repl-load.t t/14-plugin-repl-rename.t t/15-plugin-repl-print.t t/16-plugin-repl-home.t t/17-plugin-repl-back.t t/18-plugin-repl-util-help_url_for.t t/19-plugin-repl-util-doc_for.t t/20-plugin-json.t t/pod-coverage.t t/pod.t
# Testing MozRepl 0.06
t/00-load.t ........................... ok
[DEBUG] MozRepl logging enabled
[DEBUG] 
---- Client arguments ----
.----------------------+------------------------------------------.
| client_arg_name      | client_arg_value                         |
+----------------------+------------------------------------------+
| host                 | localhost                                |
| port                 | 4242                                     |
| timeout              | 10                                       |
| extra_client_args    | {}                                       |
'----------------------+------------------------------------------'
t/10-plugin-repl-enter.t .............. ok
[DEBUG] MozRepl logging enabled
[DEBUG] 
---- Client arguments ----
.----------------------+------------------------------------------.
| client_arg_name      | client_arg_value                         |
+----------------------+------------------------------------------+
| host                 | localhost                                |
| port                 | 4242                                     |
| timeout              | 10                                       |
| extra_client_args    | {}                                       |
'----------------------+------------------------------------------'
t/11-plugin-repl-search.t ............. ok
[DEBUG] MozRepl logging enabled
[DEBUG] 
---- Client arguments ----
.----------------------+------------------------------------------.
| client_arg_name      | client_arg_value                         |
+----------------------+------------------------------------------+
| host                 | localhost                                |
| port                 | 4242                                     |
| timeout              | 10                                       |
| extra_client_args    | {}                                       |
'----------------------+------------------------------------------'
t/12-plugin-repl-inspect.t ............ ok
[DEBUG] MozRepl logging enabled
[DEBUG] 
---- Client arguments ----
.----------------------+------------------------------------------.
| client_arg_name      | client_arg_value                         |
+----------------------+------------------------------------------+
| host                 | localhost                                |
| port                 | 4242                                     |
| timeout              | 10                                       |
| extra_client_args    | {}                                       |
'----------------------+------------------------------------------'
t/13-plugin-repl-load.t ............... ok
[DEBUG] MozRepl logging enabled
[DEBUG] 
---- Client arguments ----
.----------------------+------------------------------------------.
| client_arg_name      | client_arg_value                         |
+----------------------+------------------------------------------+
| host                 | localhost                                |
| port                 | 4242                                     |
| timeout              | 10                                       |
| extra_client_args    | {}                                       |
'----------------------+------------------------------------------'
t/14-plugin-repl-rename.t ............. ok
[DEBUG] MozRepl logging enabled
[DEBUG] 
---- Client arguments ----
.----------------------+------------------------------------------.
| client_arg_name      | client_arg_value                         |
+----------------------+------------------------------------------+
| host                 | localhost                                |
| port                 | 4242                                     |
| timeout              | 10                                       |
| extra_client_args    | {}                                       |
'----------------------+------------------------------------------'
t/15-plugin-repl-print.t .............. ok
[DEBUG] MozRepl logging enabled
[DEBUG] 
---- Client arguments ----
.----------------------+------------------------------------------.
| client_arg_name      | client_arg_value                         |
+----------------------+------------------------------------------+
| host                 | localhost                                |
| port                 | 4242                                     |
| timeout              | 10                                       |
| extra_client_args    | {}                                       |
'----------------------+------------------------------------------'
t/16-plugin-repl-home.t ............... ok
[DEBUG] MozRepl logging enabled
[DEBUG] 
---- Client arguments ----
.----------------------+------------------------------------------.
| client_arg_name      | client_arg_value                         |
+----------------------+------------------------------------------+
| host                 | localhost                                |
| port                 | 4242                                     |
| timeout              | 10                                       |
| extra_client_args    | {}                                       |
'----------------------+------------------------------------------'
t/17-plugin-repl-back.t ............... ok
[DEBUG] MozRepl logging enabled
[DEBUG] 
---- Client arguments ----
.----------------------+------------------------------------------.
| client_arg_name      | client_arg_value                         |
+----------------------+------------------------------------------+
| host                 | localhost                                |
| port                 | 4242                                     |
| timeout              | 10                                       |
| extra_client_args    | {}                                       |
'----------------------+------------------------------------------'
t/18-plugin-repl-util-help_url_for.t .. ok
[DEBUG] MozRepl logging enabled
[DEBUG] 
---- Client arguments ----
.----------------------+------------------------------------------.
| client_arg_name      | client_arg_value                         |
+----------------------+------------------------------------------+
| host                 | localhost                                |
| port                 | 4242                                     |
| timeout              | 10                                       |
| extra_client_args    | {}                                       |
'----------------------+------------------------------------------'
t/19-plugin-repl-util-doc_for.t ....... ok
[DEBUG] MozRepl logging enabled
[DEBUG] 
---- Client arguments ----
.----------------------+------------------------------------------.
| client_arg_name      | client_arg_value                         |
+----------------------+------------------------------------------+
| host                 | localhost                                |
| port                 | 4242                                     |
| timeout              | 10                                       |
| extra_client_args    | {}                                       |
'----------------------+------------------------------------------'
t/20-plugin-json.t .................... ok
t/pod-coverage.t ...................... skipped: Test::Pod::Coverage 1.04 required for testing POD coverage
t/pod.t ............................... ok
All tests successful.
Files=14, Tests=58,  1 wallclock secs ( 0.04 usr  0.01 sys +  0.66 cusr  0.09 csys =  0.80 CPU)
Result: PASS

------------------------------
PREREQUISITES
------------------------------

Prerequisite modules loaded:

requires:

    Module                       Need Have
    ---------------------------- ---- ----
    Carp::Clan                   0    6.04
    Class::Accessor::Fast        0    0.34
    Class::Data::Inheritable     0    0.08
    Data::Dump                   0    1.23
    Data::JavaScript::Anon       0    1.03
    File::Spec                   0    3.40
    Module::Pluggable::Fast      0    0.19
    Net::Telnet                  0    3.04
    Template                     0    2.26
    Template::Provider::FromDATA 0    0.13
    Text::SimpleTable            0    2.03
    UNIVERSAL::require           0    0.18
    URI                          0    1.68

build_requires:

    Module                       Need Have
    ---------------------------- ---- ----
    ExtUtils::MakeMaker          0    6.66


------------------------------
ENVIRONMENT AND OTHER CONTEXT
------------------------------

Environment variables:

    AUTOMATED_TESTING = 1
    LANG = en_US.UTF-8
    NONINTERACTIVE_TESTING = 1
    PATH = /home/perltest/sysperl/bin:/home/perltest/perl5/perlbrew/bin:/home/perltest/perl5/perlbrew/perls/perl-5.18.4-thread-multi-ld/bin:/home/perltest/perltest/bin:/home/perltest/perltest/bin:/home/perltest/perltest/bin:/home/perltest/perl5/perlbrew/bin:/home/perltest/perl5/perlbrew/perls/perl-5.23.0/bin:/usr/local/sbin:/usr/local/bin:/usr/sbin:/usr/bin:/sbin:/bin:/usr/games:/usr/local/games:/home/perltest/perltest/bin
    PERL5LIB = /home/perltest/.cpan/build/Module-Pluggable-Fast-0.19-rO12zs/blib/arch:/home/perltest/.cpan/build/Module-Pluggable-Fast-0.19-rO12zs/blib/lib:/home/perltest/.cpan/build/Text-SimpleTable-2.03-ppClYZ/blib/arch:/home/perltest/.cpan/build/Text-SimpleTable-2.03-ppClYZ/blib/lib:/home/perltest/.cpan/build/Template-Provider-FromDATA-0.13-itQkYM/blib/arch:/home/perltest/.cpan/build/Template-Provider-FromDATA-0.13-itQkYM/blib/lib:/home/perltest/.cpan/build/Template-Toolkit-2.26-SHr3bV/blib/arch:/home/perltest/.cpan/build/Template-Toolkit-2.26-SHr3bV/blib/lib:/home/perltest/.cpan/build/AppConfig-1.71-0gaqmm/blib/arch:/home/perltest/.cpan/build/AppConfig-1.71-0gaqmm/blib/lib:/home/perltest/.cpan/build/Test-Pod-1.51-ZHkZ9q/blib/arch:/home/perltest/.cpan/build/Test-Pod-1.51-ZHkZ9q/blib/lib:/home/perltest/.cpan/build/Test-LeakTrace-0.15-kAU7Ht/blib/arch:/home/perltest/.cpan/build/Test-LeakTrace-0.15-kAU7Ht/blib/lib:/home/perltest/.cpan/build/Data-JavaScript-Anon-1.03-5Q20zY/blib/arch:/home/perltest/.cpan/build/Data-JavaScript-Anon-1.03-5Q20zY/blib/lib:/home/perltest/.cpan/build/Class-Default-1.51-4ATNlN/blib/arch:/home/perltest/.cpan/build/Class-Default-1.51-4ATNlN/blib/lib:/home/perltest/.cpan/build/UNIVERSAL-require-0.18-H1XKV4/blib/arch:/home/perltest/.cpan/build/UNIVERSAL-require-0.18-H1XKV4/blib/lib:/home/perltest/.cpan/build/Net-Telnet-3.04-8HThWy/blib/arch:/home/perltest/.cpan/build/Net-Telnet-3.04-8HThWy/blib/lib:/home/perltest/sysperl/lib/perl5
    PERL5OPT = 
    PERL5_CPANPLUS_IS_RUNNING = 337
    PERL5_CPAN_IS_RUNNING = 337
    PERL5_CPAN_IS_RUNNING_IN_RECURSION = 9790,337
    PERLBREW_BASHRC_VERSION = 0.73
    PERLBREW_HOME = /home/perltest/.perlbrew
    PERLBREW_LIB = 
    PERLBREW_MANPATH = /home/perltest/perl5/perlbrew/perls/perl-5.18.4-thread-multi-ld/man
    PERLBREW_PATH = /home/perltest/perl5/perlbrew/bin:/home/perltest/perl5/perlbrew/perls/perl-5.18.4-thread-multi-ld/bin
    PERLBREW_PERL = perl-5.18.4-thread-multi-ld
    PERLBREW_ROOT = /home/perltest/perl5/perlbrew
    PERLBREW_VERSION = 0.73
    PERL_CR_SMOKER_CURRENT = WWW-Mechanize-Firefox-Extended-0.03
    PERL_EXTUTILS_AUTOINSTALL = --defaultdeps
    PERL_LOCAL_LIB_ROOT = /home/perltest/sysperl:
    PERL_MB_OPT = --install_base "//home/perltest/sysperl"
    PERL_MM_OPT = INSTALL_BASE=/home/perltest/sysperl
    PERL_MM_USE_DEFAULT = 1
    SHELL = /bin/bash
    TERM = screen

Perl special variables (and OS-specific diagnostics, for MSWin32):

    $^X = /data/perl5/perlbrew/perls/perl-5.18.4-thread-multi-ld/bin/perl
    $UID/$EUID = 2000 / 2000
    $GID = 2000 2000
    $EGID = 2000 2000

Perl module toolchain versions installed:

    Module              Have    
    ------------------- --------
    CPAN                2.00    
    CPAN::Meta          2.150005
    Cwd                 3.40    
    ExtUtils::CBuilder  0.280210
    ExtUtils::Command   1.17    
    ExtUtils::Install   1.59    
    ExtUtils::MakeMaker 6.66    
    ExtUtils::Manifest  1.70    
    ExtUtils::ParseXS   3.18    
    File::Spec          3.40    
    JSON                2.90    
    JSON::PP            2.27202 
    Module::Build       0.4214  
    Module::Signature   n/a     
    Parse::CPAN::Meta   1.4417  
    Test::Harness       3.35    
    Test::More          1.001014
    YAML                1.15    
    YAML::Syck          n/a     
    version             0.9912  


--

Summary of my perl5 (revision 5 version 18 subversion 4) configuration:
   
  Platform:
    osname=linux, osvers=3.19.0-18-generic, archname=x86_64-linux-thread-multi-ld
    uname='linux perltest.antelope.net 3.19.0-18-generic #18-ubuntu smp tue may 19 18:31:35 utc 2015 x86_64 x86_64 x86_64 gnulinux '
    config_args='-de -Dprefix=/home/perltest/perl5/perlbrew/perls/perl-5.18.4-thread-multi-ld -Dusemultiplicity -Duselongdouble -Dusethreads -Aeval:scriptdir=/home/perltest/perl5/perlbrew/perls/perl-5.18.4-thread-multi-ld/bin'
    hint=recommended, useposix=true, d_sigaction=define
    useithreads=define, usemultiplicity=define
    useperlio=define, d_sfio=undef, uselargefiles=define, usesocks=undef
    use64bitint=define, use64bitall=define, uselongdouble=define
    usemymalloc=n, bincompat5005=undef
  Compiler:
    cc='cc', ccflags ='-D_REENTRANT -D_GNU_SOURCE -fno-strict-aliasing -pipe -fstack-protector -I/usr/local/include -D_LARGEFILE_SOURCE -D_FILE_OFFSET_BITS=64',
    optimize='-O2',
    cppflags='-D_REENTRANT -D_GNU_SOURCE -fno-strict-aliasing -pipe -fstack-protector -I/usr/local/include'
    ccversion='', gccversion='4.9.2', gccosandvers=''
    intsize=4, longsize=8, ptrsize=8, doublesize=8, byteorder=12345678
    d_longlong=define, longlongsize=8, d_longdbl=define, longdblsize=16
    ivtype='long', ivsize=8, nvtype='long double', nvsize=16, Off_t='off_t', lseeksize=8
    alignbytes=16, prototype=define
  Linker and Libraries:
    ld='cc', ldflags =' -fstack-protector -L/usr/local/lib'
    libpth=/usr/local/lib /lib/x86_64-linux-gnu /lib/../lib /usr/lib/x86_64-linux-gnu /usr/lib/../lib /lib /usr/lib
    libs=-lnsl -ldb -ldl -lm -lcrypt -lutil -lpthread -lc
    perllibs=-lnsl -ldl -lm -lcrypt -lutil -lpthread -lc
    libc=libc-2.21.so, so=so, useshrplib=false, libperl=libperl.a
    gnulibc_version='2.21'
  Dynamic Linking:
    dlsrc=dl_dlopen.xs, dlext=so, d_dlsymun=undef, ccdlflags='-Wl,-E'
    cccdlflags='-fPIC', lddlflags='-shared -O2 -L/usr/local/lib -fstack-protector'


Characteristics of this binary (from libperl): 
  Compile-time options: HAS_TIMES MULTIPLICITY PERLIO_LAYERS
                        PERL_DONT_CREATE_GVSV
                        PERL_HASH_FUNC_ONE_AT_A_TIME_HARD
                        PERL_IMPLICIT_CONTEXT PERL_MALLOC_WRAP
                        PERL_PRESERVE_IVUV PERL_SAWAMPERSAND USE_64_BIT_ALL
                        USE_64_BIT_INT USE_ITHREADS USE_LARGE_FILES
                        USE_LOCALE USE_LOCALE_COLLATE USE_LOCALE_CTYPE
                        USE_LOCALE_NUMERIC USE_LONG_DOUBLE USE_PERLIO
                        USE_PERL_ATOF USE_REENTRANT_API
  Locally applied patches:
	Devel::PatchPerl 1.38
  Built under linux
  Compiled at Jul 19 2015 23:12:48
  %ENV:
    PERL5LIB="/home/perltest/.cpan/build/Module-Pluggable-Fast-0.19-rO12zs/blib/arch:/home/perltest/.cpan/build/Module-Pluggable-Fast-0.19-rO12zs/blib/lib:/home/perltest/.cpan/build/Text-SimpleTable-2.03-ppClYZ/blib/arch:/home/perltest/.cpan/build/Text-SimpleTable-2.03-ppClYZ/blib/lib:/home/perltest/.cpan/build/Template-Provider-FromDATA-0.13-itQkYM/blib/arch:/home/perltest/.cpan/build/Template-Provider-FromDATA-0.13-itQkYM/blib/lib:/home/perltest/.cpan/build/Template-Toolkit-2.26-SHr3bV/blib/arch:/home/perltest/.cpan/build/Template-Toolkit-2.26-SHr3bV/blib/lib:/home/perltest/.cpan/build/AppConfig-1.71-0gaqmm/blib/arch:/home/perltest/.cpan/build/AppConfig-1.71-0gaqmm/blib/lib:/home/perltest/.cpan/build/Test-Pod-1.51-ZHkZ9q/blib/arch:/home/perltest/.cpan/build/Test-Pod-1.51-ZHkZ9q/blib/lib:/home/perltest/.cpan/build/Test-LeakTrace-0.15-kAU7Ht/blib/arch:/home/perltest/.cpan/build/Test-LeakTrace-0.15-kAU7Ht/blib/lib:/home/perltest/.cpan/build/Data-JavaScript-Anon-1.03-5Q20zY/blib/arch:/home/perltest/.cpan/build/Data-JavaScript-Anon-1.03-5Q20zY/blib/lib:/home/perltest/.cpan/build/Class-Default-1.51-4ATNlN/blib/arch:/home/perltest/.cpan/build/Class-Default-1.51-4ATNlN/blib/lib:/home/perltest/.cpan/build/UNIVERSAL-require-0.18-H1XKV4/blib/arch:/home/perltest/.cpan/build/UNIVERSAL-require-0.18-H1XKV4/blib/lib:/home/perltest/.cpan/build/Net-Telnet-3.04-8HThWy/blib/arch:/home/perltest/.cpan/build/Net-Telnet-3.04-8HThWy/blib/lib:/home/perltest/sysperl/lib/perl5"
    PERL5OPT=""
    PERL5_CPANPLUS_IS_RUNNING="337"
    PERL5_CPAN_IS_RUNNING="337"
    PERL5_CPAN_IS_RUNNING_IN_RECURSION="9790,337"
    PERLBREW_BASHRC_VERSION="0.73"
    PERLBREW_HOME="/home/perltest/.perlbrew"
    PERLBREW_LIB=""
    PERLBREW_MANPATH="/home/perltest/perl5/perlbrew/perls/perl-5.18.4-thread-multi-ld/man"
    PERLBREW_PATH="/home/perltest/perl5/perlbrew/bin:/home/perltest/perl5/perlbrew/perls/perl-5.18.4-thread-multi-ld/bin"
    PERLBREW_PERL="perl-5.18.4-thread-multi-ld"
    PERLBREW_ROOT="/home/perltest/perl5/perlbrew"
    PERLBREW_VERSION="0.73"
    PERL_CR_SMOKER_CURRENT="WWW-Mechanize-Firefox-Extended-0.03"
    PERL_EXTUTILS_AUTOINSTALL="--defaultdeps"
    PERL_LOCAL_LIB_ROOT="/home/perltest/sysperl:"
    PERL_MB_OPT="--install_base "//home/perltest/sysperl""
    PERL_MM_OPT="INSTALL_BASE=/home/perltest/sysperl"
    PERL_MM_USE_DEFAULT="1"
  @INC:
    /home/perltest/.cpan/build/Module-Pluggable-Fast-0.19-rO12zs/blib/arch
    /home/perltest/.cpan/build/Module-Pluggable-Fast-0.19-rO12zs/blib/lib
    /home/perltest/.cpan/build/Text-SimpleTable-2.03-ppClYZ/blib/arch
    /home/perltest/.cpan/build/Text-SimpleTable-2.03-ppClYZ/blib/lib
    /home/perltest/.cpan/build/Template-Provider-FromDATA-0.13-itQkYM/blib/arch
    /home/perltest/.cpan/build/Template-Provider-FromDATA-0.13-itQkYM/blib/lib
    /home/perltest/.cpan/build/Template-Toolkit-2.26-SHr3bV/blib/arch
    /home/perltest/.cpan/build/Template-Toolkit-2.26-SHr3bV/blib/lib
    /home/perltest/.cpan/build/AppConfig-1.71-0gaqmm/blib/arch
    /home/perltest/.cpan/build/AppConfig-1.71-0gaqmm/blib/lib
    /home/perltest/.cpan/build/Test-Pod-1.51-ZHkZ9q/blib/arch
    /home/perltest/.cpan/build/Test-Pod-1.51-ZHkZ9q/blib/lib
    /home/perltest/.cpan/build/Test-LeakTrace-0.15-kAU7Ht/blib/arch
    /home/perltest/.cpan/build/Test-LeakTrace-0.15-kAU7Ht/blib/lib
    /home/perltest/.cpan/build/Data-JavaScript-Anon-1.03-5Q20zY/blib/arch
    /home/perltest/.cpan/build/Data-JavaScript-Anon-1.03-5Q20zY/blib/lib
    /home/perltest/.cpan/build/Class-Default-1.51-4ATNlN/blib/arch
    /home/perltest/.cpan/build/Class-Default-1.51-4ATNlN/blib/lib
    /home/perltest/.cpan/build/UNIVERSAL-require-0.18-H1XKV4/blib/arch
    /home/perltest/.cpan/build/UNIVERSAL-require-0.18-H1XKV4/blib/lib
    /home/perltest/.cpan/build/Net-Telnet-3.04-8HThWy/blib/arch
    /home/perltest/.cpan/build/Net-Telnet-3.04-8HThWy/blib/lib
    /home/perltest/sysperl/lib/perl5/x86_64-linux-thread-multi-ld
    /home/perltest/sysperl/lib/perl5
    /home/perltest/perl5/perlbrew/perls/perl-5.18.4-thread-multi-ld/lib/site_perl/5.18.4/x86_64-linux-thread-multi-ld
    /home/perltest/perl5/perlbrew/perls/perl-5.18.4-thread-multi-ld/lib/site_perl/5.18.4
    /home/perltest/perl5/perlbrew/perls/perl-5.18.4-thread-multi-ld/lib/5.18.4/x86_64-linux-thread-multi-ld
    /home/perltest/perl5/perlbrew/perls/perl-5.18.4-thread-multi-ld/lib/5.18.4
    .