Report for Dist-Zilla-Config-Slicer-0.200

Back
From: metabase:user:3138bf04-2aae-11df-837a-5e0a49663a4f
Subject: PASS Dist-Zilla-Config-Slicer-0.200 v5.16.1 Mac OS X
Date: 2013-08-14T21:55:35Z

This distribution has been tested as part of the CPAN Testers
project, supporting the Perl programming language.  See
http://wiki.cpantesters.org/ for more information or email
questions to cpan-testers-discuss@perl.org


--
Dear Randy Stauner,

This is a computer-generated report for Dist-Zilla-Config-Slicer-0.200
on perl 5.16.1, created by CPAN-Reporter-1.2010.

Thank you for uploading your work to CPAN.  Congratulations!
All tests were successful.

Sections of this report:

    * Tester comments
    * Program output
    * Prerequisites
    * Environment and other context

------------------------------
TESTER COMMENTS
------------------------------

Additional comments from tester:

none provided

------------------------------
PROGRAM OUTPUT
------------------------------

Output from '/usr/bin/make test':

PERL_DL_NONLAZY=1 /opt/local/bin/perl5.16 "-MExtUtils::Command::MM" "-e" "test_harness(0, 'blib/lib', 'blib/arch')" t/*.t
t/00-compile.t ................ ok
# 
# 
# perl: v5.16.1 (wanted 5.006) on darwin from /opt/local/bin/perl5.16
# 
# Config::MVP::Slicer                           => 0.302      (want any version)
# Dist::Zilla::PluginBundle::Filter             => 4.300035   (want any version)
# Dist::Zilla::Role::PluginBundle               => 4.300035   (want any version)
# Dist::Zilla::Role::PluginBundle::Easy         => 4.300035   (want any version)
# Dist::Zilla::Util                             => 4.300035   (want 4)      
# ExtUtils::MakeMaker                           => 6.72       (want 6.30)   
# File::Find                                    => 1.20       (want any version)
# File::Temp                                    => 0.2301     (want any version)
# Moose                                         => 2.1005     (want any version)
# Moose::Role                                   => 2.1005     (want any version)
# Test::More                                    => 0.98       (want 0.96)   
# strict                                        => 1.07       (want any version)
# warnings                                      => 1.13       (want any version)
# 
# Thanks for using my code.  I hope it works for you.
# If not, please try and include this output in the bug report.
# That will help me reproduce the issue and solve you problem.
# 
t/000-report-versions-tiny.t .. ok
t/bundle-filter.t ............. ok
t/bundle-role.t ............... ok
t/slicer.t .................... ok
All tests successful.
Files=5, Tests=27,  3 wallclock secs ( 0.04 usr  0.02 sys +  2.69 cusr  0.15 csys =  2.90 CPU)
Result: PASS

------------------------------
PREREQUISITES
------------------------------

Prerequisite modules loaded:

requires:

    Module                                Need Have    
    ------------------------------------- ---- --------
    Config::MVP::Slicer                   0    0.302   
    Dist::Zilla::PluginBundle::Filter     0    4.300035
    Dist::Zilla::Util                     4    4.300035
    Moose                                 0    2.1005  
    Moose::Role                           0    2.1005  
    strict                                0    1.07    
    warnings                              0    1.13    

build_requires:

    Module                                Need Have    
    ------------------------------------- ---- --------
    Dist::Zilla::Role::PluginBundle       0    4.300035
    Dist::Zilla::Role::PluginBundle::Easy 0    4.300035
    File::Find                            0    1.20    
    File::Temp                            0    0.2301  
    Test::More                            0.96 0.98    

configure_requires:

    Module                                Need Have    
    ------------------------------------- ---- --------
    ExtUtils::MakeMaker                   6.30 6.72    


------------------------------
ENVIRONMENT AND OTHER CONTEXT
------------------------------

Environment variables:

    LANG = en_US.UTF-8
    LC_ALL = en_US.UTF-8
    LC_CTYPE = UTF-8
    PATH = /opt/local/bin:/opt/local/sbin:/usr/local/bin:/usr/local/sbin:/Library/Frameworks/Python.framework/Versions/2.7/bin:/Library/Frameworks/Python.framework/Versions/2.6/bin:/opt/local/bin:/opt/local/sbin:/Applications/android-sdk-macosx/platform-tools:/Applications/android-sdk-macosx/tools:/usr/local/bin:/usr/bin:/bin:/usr/sbin:/sbin:/usr/local/bin:/opt/X11/bin
    PERL5LIB = 
    PERL5OPT = 
    PERL5_CPANPLUS_IS_RUNNING = 50608
    PERL5_CPAN_IS_RUNNING = 50608
    SHELL = /bin/bash
    TERM = xterm-256color

Perl special variables (and OS-specific diagnostics, for MSWin32):

    $^X = /opt/local/bin/perl5.16
    $UID/$EUID = 0 / 0
    $GID = 0 0 401 403 1 2 3 4 5 8 9 12 20 29 33 61 80
    $EGID = 0 0 401 403 1 2 3 4 5 8 9 12 20 29 33 61 80

Perl module toolchain versions installed:

    Module              Have    
    ------------------- --------
    CPAN                2.00    
    CPAN::Meta          2.132140
    Cwd                 3.40    
    ExtUtils::CBuilder  0.280206
    ExtUtils::Command   1.17    
    ExtUtils::Install   1.58    
    ExtUtils::MakeMaker 6.72    
    ExtUtils::Manifest  1.61    
    ExtUtils::ParseXS   3.21    
    File::Spec          3.40    
    JSON                2.59    
    JSON::PP            2.27202 
    Module::Build       0.4005  
    Module::Signature   n/a     
    Parse::CPAN::Meta   1.4405  
    Test::Harness       3.28    
    Test::More          0.98    
    YAML                0.84    
    YAML::Syck          n/a     
    version             0.9902  


--

Summary of my perl5 (revision 5 version 16 subversion 1) configuration:
   
  Platform:
    osname=darwin, osvers=12.3.0, archname=darwin-thread-multi-2level
    uname='darwin teneight-slave.macports.org 12.3.0 darwin kernel version 12.3.0: sun jan 6 22:37:10 pst 2013; root:xnu-2050.22.13~1release_x86_64 x86_64 '
    config_args='-D inc_version_list=5.16.0/darwin-thread-multi-2level 5.16.0  -des -Dprefix=/opt/local -Dscriptdir=/opt/local/bin -Dcppflags=-I/opt/local/include -Dccflags=-pipe -O2  -Dldflags=-L/opt/local/lib  -Dvendorprefix=/opt/local -Dusemultiplicity=y -Dusethreads -Duseshrplib -D cc=/usr/bin/clang -D ld=/usr/bin/clang -D man1ext=1pm -D man3ext=3pm -D man1dir=/opt/local/share/man/man1p -D man3dir=/opt/local/share/man/man3p -D sitebin=/opt/local/libexec/perl5.16/sitebin -D siteman1dir=/opt/local/share/perl5.16/siteman/man1 -D siteman3dir=/opt/local/share/perl5.16/siteman/man3 -D vendorbin=/opt/local/libexec/perl5.16 -D vendorman1dir=/opt/local/share/perl5.16/man/man1 -D vendorman3dir=/opt/local/share/perl5.16/man/man3 -D pager=/usr/bin/less -sR -D perlpath=/opt/local/bin/perl5.16 -D startperl=#!/opt/local/bin/perl5.16'
    hint=recommended, useposix=true, d_sigaction=define
    useithreads=define, usemultiplicity=define
    useperlio=define, d_sfio=undef, uselargefiles=define, usesocks=undef
    use64bitint=define, use64bitall=define, uselongdouble=undef
    usemymalloc=n, bincompat5005=undef
  Compiler:
    cc='/usr/bin/clang', ccflags ='-pipe -O2  -fno-common -DPERL_DARWIN -I/opt/local/include -fno-strict-aliasing -fstack-protector -I/opt/local/include',
    optimize='-O3',
    cppflags='-I/opt/local/include -pipe -O2  -fno-common -DPERL_DARWIN -I/opt/local/include -fno-strict-aliasing -fstack-protector -I/opt/local/include'
    ccversion='', gccversion='4.2.1 Compatible Apple Clang 4.1 ((tags/Apple/clang-421.11.66))', gccosandvers=''
    intsize=4, longsize=8, ptrsize=8, doublesize=8, byteorder=12345678
    d_longlong=define, longlongsize=8, d_longdbl=define, longdblsize=16
    ivtype='long', ivsize=8, nvtype='double', nvsize=8, Off_t='off_t', lseeksize=8
    alignbytes=8, prototype=define
  Linker and Libraries:
    ld='env MACOSX_DEPLOYMENT_TARGET=10.8 /usr/bin/clang', ldflags ='-L/opt/local/lib  -fstack-protector'
    libpth=/opt/local/lib /usr/lib
    libs=-lgdbm -ldbm -ldl -lm -lutil -lc
    perllibs=-ldl -lm -lutil -lc
    libc=, so=dylib, useshrplib=true, libperl=libperl.dylib
    gnulibc_version=''
  Dynamic Linking:
    dlsrc=dl_dlopen.xs, dlext=bundle, d_dlsymun=undef, ccdlflags=' '
    cccdlflags=' ', lddlflags='-L/opt/local/lib  -bundle -undefined dynamic_lookup -fstack-protector'


Characteristics of this binary (from libperl): 
  Compile-time options: HAS_TIMES MULTIPLICITY PERLIO_LAYERS
                        PERL_DONT_CREATE_GVSV PERL_IMPLICIT_CONTEXT
                        PERL_MALLOC_WRAP PERL_PRESERVE_IVUV USE_64_BIT_ALL
                        USE_64_BIT_INT USE_ITHREADS USE_LARGE_FILES
                        USE_LOCALE USE_LOCALE_COLLATE USE_LOCALE_CTYPE
                        USE_LOCALE_NUMERIC USE_PERLIO USE_PERL_ATOF
                        USE_REENTRANT_API
  Built under darwin
  Compiled at May  8 2013 10:35:32
  %ENV:
    PERL5LIB=""
    PERL5OPT=""
    PERL5_CPANPLUS_IS_RUNNING="50608"
    PERL5_CPAN_IS_RUNNING="50608"
  @INC:
    /opt/local/lib/perl5/site_perl/5.16.1/darwin-thread-multi-2level
    /opt/local/lib/perl5/site_perl/5.16.1
    /opt/local/lib/perl5/vendor_perl/5.16.1/darwin-thread-multi-2level
    /opt/local/lib/perl5/vendor_perl/5.16.1
    /opt/local/lib/perl5/5.16.1/darwin-thread-multi-2level
    /opt/local/lib/perl5/5.16.1
    /opt/local/lib/perl5/site_perl
    /opt/local/lib/perl5/vendor_perl
    .