Alt-Crypt-RSA-BigInt v0.06 Perl 5 v5.18.3 x86_64-linux-thread-multi

Status
Pass
From
Andreas J. König (ANDK)
Dist
Alt-Crypt-RSA-BigInt v0.06
Platform
Perl 5 v5.18.3 x86_64-linux-thread-multi
Date
2024-12-25 06:55:38
ID
3f638078-c28d-11ef-a69f-9a4c14bb734c
This distribution has been tested as part of the CPAN Testers
project, supporting the Perl programming language.  See
http://wiki.cpantesters.org/ for more information or email
questions to cpan-testers-discuss@perl.org


--
Dear Dana Jacobsen,

This is a computer-generated report for Alt-Crypt-RSA-BigInt-0.06
on perl 5.18.3, created by CPAN-Reporter-1.2018.

Thank you for uploading your work to CPAN.  Congratulations!
All tests were successful.

Sections of this report:

    * Tester comments
    * Program output
    * Prerequisites
    * Environment and other context

------------------------------
TESTER COMMENTS
------------------------------

Additional comments from tester:

this report is from an automated smoke testing program
and was not reviewed by a human for accuracy

------------------------------
PROGRAM OUTPUT
------------------------------

Output from '/usr/bin/make test':

PERL_DL_NONLAZY=1 "/home/sand/src/perl/repoperls/installed-perls/host/k93msid/v5.18.3/1e0c/bin/perl" "-MExtUtils::Command::MM" "-MTest::Harness" "-e" "undef *Test::Harness::Switches; test_harness(0, 'blib/lib', 'blib/arch')" t/*.t
t/00-errorhandler.t ........ ok
t/01-i2osp.t ............... ok
t/02-os2ip.t ............... ok
t/02a-h2osp.t .............. ok
t/03-random_octet.t ........ ok
t/04-octet_xor.t ........... ok
t/05-primitives.t .......... ok
# BigInt library: GMP
t/06-oaep.t ................ ok
t/07-pss.t ................. ok
WARNING: The key derivation method "opensslv1" is deprecated. Using -pbkdf=>'pbkdf2' would be better.
Pass -nodeprecate=>1 to inhibit this message.
 at /home/sand/src/perl/repoperls/installed-perls/host/k93msid/v5.18.3/1e0c/lib/site_perl/5.18.3/Tie/EncryptedHash.pm line 125.
WARNING: The key derivation method "opensslv1" is deprecated. Using -pbkdf=>'pbkdf2' would be better.
Pass -nodeprecate=>1 to inhibit this message.
 at /home/sand/src/perl/repoperls/installed-perls/host/k93msid/v5.18.3/1e0c/lib/site_perl/5.18.3/Tie/EncryptedHash.pm line 125.
WARNING: The key derivation method "opensslv1" is deprecated. Using -pbkdf=>'pbkdf2' would be better.
Pass -nodeprecate=>1 to inhibit this message.
 at /home/sand/src/perl/repoperls/installed-perls/host/k93msid/v5.18.3/1e0c/lib/site_perl/5.18.3/Tie/EncryptedHash.pm line 125.
WARNING: The key derivation method "opensslv1" is deprecated. Using -pbkdf=>'pbkdf2' would be better.
Pass -nodeprecate=>1 to inhibit this message.
 at /home/sand/src/perl/repoperls/installed-perls/host/k93msid/v5.18.3/1e0c/lib/site_perl/5.18.3/Tie/EncryptedHash.pm line 125.
t/08-secretkey.t ........... ok
t/09-publickey.t ........... ok
t/10-keygen.t .............. ok
t/11-wrapper.t ............. ok
t/12-versioning.t .......... ok
t/13-es-pkcs1v15.t ......... ok
t/14-ss-pkcs1v15.t ......... ok
t/15-benchmark.t ........... ok
t/16-serialize.t ........... ok
t/17-public-ssh.t .......... ok
WARNING: The key derivation method "opensslv1" is deprecated. Using -pbkdf=>'pbkdf2' would be better.
Pass -nodeprecate=>1 to inhibit this message.
 at /tmp/loop_over_bdir-788307-KIyfFc/Alt-Crypt-RSA-BigInt-0.06-0/blib/lib/Crypt/RSA/Key/Private/SSH.pm line 236.
t/18-private-ssh.t ......... ok
t/91-release-pod-syntax.t .. skipped: these tests are for release candidate testing
All tests successful.
Files=21, Tests=117,  7 wallclock secs ( 0.07 usr  0.06 sys +  2.65 cusr  0.61 csys =  3.39 CPU)
Result: PASS

------------------------------
PREREQUISITES
------------------------------

Prerequisite modules loaded:

requires:

    Module                 Need  Have    
    ---------------------- ----- --------
    Carp                   0     1.50    
    Class::Loader          0     2.03    
    Convert::ASCII::Armour 0     1.4     
    Crypt::Blowfish        0     2.14    
    Crypt::CBC             2.17  3.04    
    Data::Buffer           0     0.04    
    Data::Dumper           0     2.183   
    Digest::MD2            0     2.04    
    Digest::MD5            0     2.59    
    Digest::SHA            0     6.03    
    Exporter               0     5.78    
    Math::BigInt           1.78  2.003003
    Math::Prime::Util      0.64  0.73    
    perl                   5.008 5.018003
    Sort::Versions         0     1.62    
    Tie::EncryptedHash     0     1.8     

build_requires:

    Module                 Need  Have    
    ---------------------- ----- --------
    Benchmark              0     1.15    
    MIME::Base64           0     3.16    
    Test::More             0.45  1.302206

configure_requires:

    Module                 Need  Have    
    ---------------------- ----- --------
    ExtUtils::MakeMaker    0     7.70    


------------------------------
ENVIRONMENT AND OTHER CONTEXT
------------------------------

Environment variables:

    AUTOMATED_TESTING = 1
    LANG = en_US.UTF-8
    LANGUAGE = en_US:en
    PATH = /home/sand/bin:/usr/local/bin:/usr/bin:/bin:/usr/games:/usr/local/perl/bin:/usr/X11/bin:/sbin:/usr/sbin
    PERL5LIB = 
    PERL5OPT = 
    PERL5_CPANPLUS_IS_RUNNING = 2880532
    PERL5_CPAN_IS_RUNNING = 2880532
    PERL_CANARY_STABILITY_NOPROMPT = 1
    PERL_MM_USE_DEFAULT = 1
    PERL_USE_UNSAFE_INC = 1
    SHELL = /usr/bin/zsh
    TERM = screen

Perl special variables (and OS-specific diagnostics, for MSWin32):

    $^X = /home/sand/src/perl/repoperls/installed-perls/host/k93msid/v5.18.3/1e0c/bin/perl
    $UID/$EUID = 1005 / 1005
    $GID = 1005 1005
    $EGID = 1005 1005

Perl module toolchain versions installed:

    Module              Have    
    ------------------- --------
    CPAN                2.38    
    CPAN::Meta          2.150010
    Cwd                 3.75    
    ExtUtils::CBuilder  0.280236
    ExtUtils::Command   7.70    
    ExtUtils::Install   2.22    
    ExtUtils::MakeMaker 7.70    
    ExtUtils::Manifest  1.70    
    ExtUtils::ParseXS   3.51    
    File::Spec          3.75    
    JSON                4.10    
    JSON::PP            4.16    
    Module::Build       0.4234  
    Module::Signature   0.88    
    Parse::CPAN::Meta   2.150010
    Test::Harness       3.44    
    Test::More          1.302206
    YAML                1.30    
    YAML::Syck          1.34    
    version             0.9933  


--

Summary of my perl5 (revision 5 version 18 subversion 3) configuration:
  Derived from: ed6569dd9dfe73242c5e0338bf5b07ce6b6fdfcd
  Platform:
    osname=linux, osvers=6.0.0-5-amd64, archname=x86_64-linux-thread-multi
    uname='linux k93msid 6.0.0-5-amd64 #1 smp preempt_dynamic debian 6.0.10-2 (2022-12-01) x86_64 gnulinux '
    config_args='-Dprefix=/home/sand/src/perl/repoperls/installed-perls/host/k93msid/v5.18.3/1e0c -Dmyhostname=k93msid -Dinstallusrbinperl=n -Uversiononly -Dusedevel -des -Ui_db -Dlibswanted=cl pthread socket inet nsl gdbm dbm malloc dl ld sun m crypt sec util c cposix posix ucb BSD gdbm_compat -Duseithreads -Uuselongdouble -DEBUGGING=-g'
    hint=recommended, useposix=true, d_sigaction=define
    useithreads=define, usemultiplicity=define
    useperlio=define, d_sfio=undef, uselargefiles=define, usesocks=undef
    use64bitint=define, use64bitall=define, uselongdouble=undef
    usemymalloc=n, bincompat5005=undef
  Compiler:
    cc='cc', ccflags ='-D_REENTRANT -D_GNU_SOURCE -fwrapv -fno-strict-aliasing -pipe -fstack-protector -I/usr/local/include -D_LARGEFILE_SOURCE -D_FILE_OFFSET_BITS=64',
    optimize='-O2 -g',
    cppflags='-D_REENTRANT -D_GNU_SOURCE -fwrapv -fno-strict-aliasing -pipe -fstack-protector -I/usr/local/include'
    ccversion='', gccversion='12.2.0', gccosandvers=''
    intsize=4, longsize=8, ptrsize=8, doublesize=8, byteorder=12345678
    d_longlong=define, longlongsize=8, d_longdbl=define, longdblsize=16
    ivtype='long', ivsize=8, nvtype='double', nvsize=8, Off_t='off_t', lseeksize=8
    alignbytes=8, prototype=define
  Linker and Libraries:
    ld='cc', ldflags =' -fstack-protector -L/usr/local/lib'
    libpth=/usr/local/lib /lib/x86_64-linux-gnu /lib/../lib /usr/lib/x86_64-linux-gnu /usr/lib/../lib /lib /usr/lib /lib64 /usr/lib64
    libs=-lpthread -lnsl -ldl -lm -lcrypt -lutil -lc
    perllibs=-lpthread -lnsl -ldl -lm -lcrypt -lutil -lc
    libc=/lib/x86_64-linux-gnu/libc.so.6, so=so, useshrplib=false, libperl=libperl.a
    gnulibc_version='2.36'
  Dynamic Linking:
    dlsrc=dl_dlopen.xs, dlext=so, d_dlsymun=undef, ccdlflags='-Wl,-E'
    cccdlflags='-fPIC', lddlflags='-shared -O2 -g -L/usr/local/lib -fstack-protector'


Characteristics of this binary (from libperl): 
  Compile-time options: HAS_TIMES MULTIPLICITY PERLIO_LAYERS
                        PERL_DONT_CREATE_GVSV
                        PERL_HASH_FUNC_ONE_AT_A_TIME_HARD
                        PERL_IMPLICIT_CONTEXT PERL_MALLOC_WRAP
                        PERL_PRESERVE_IVUV PERL_SAWAMPERSAND PERL_USE_DEVEL
                        USE_64_BIT_ALL USE_64_BIT_INT USE_ITHREADS
                        USE_LARGE_FILES USE_LOCALE USE_LOCALE_COLLATE
                        USE_LOCALE_CTYPE USE_LOCALE_NUMERIC USE_PERLIO
                        USE_PERL_ATOF USE_REENTRANT_API
  Locally applied patches:
	uncommitted-changes
  Built under linux
  Compiled at Feb 11 2023 07:14:33
  %ENV:
    PERL5LIB=""
    PERL5OPT=""
    PERL5_CPANPLUS_IS_RUNNING="2880532"
    PERL5_CPAN_IS_RUNNING="2880532"
    PERL_CANARY_STABILITY_NOPROMPT="1"
    PERL_MM_USE_DEFAULT="1"
    PERL_USE_UNSAFE_INC="1"
  @INC:
    /home/sand/src/perl/repoperls/installed-perls/host/k93msid/v5.18.3/1e0c/lib/site_perl/5.18.3/x86_64-linux-thread-multi
    /home/sand/src/perl/repoperls/installed-perls/host/k93msid/v5.18.3/1e0c/lib/site_perl/5.18.3
    /home/sand/src/perl/repoperls/installed-perls/host/k93msid/v5.18.3/1e0c/lib/5.18.3/x86_64-linux-thread-multi
    /home/sand/src/perl/repoperls/installed-perls/host/k93msid/v5.18.3/1e0c/lib/5.18.3
    .