Back
From: metabase:user:3c0d75b6-029c-11e5-90b1-5b610b895903
Subject: PASS Acme-MyFirstModule-MCMILLHJ-0.01 v5.22.0 GNU/Linux
Date: 2015-06-06T16:29:47Z
This distribution has been tested as part of the CPAN Testers
project, supporting the Perl programming language. See
http://wiki.cpantesters.org/ for more information or email
questions to cpan-testers-discuss@perl.org
--
Dear Hunter McMillen,
This is a computer-generated report for Acme-MyFirstModule-MCMILLHJ-0.01
on perl 5.22.0, created by CPAN-Reporter-1.2014.
Thank you for uploading your work to CPAN. Congratulations!
All tests were successful.
Sections of this report:
* Tester comments
* Program output
* Prerequisites
* Environment and other context
------------------------------
TESTER COMMENTS
------------------------------
Additional comments from tester:
this report is from an automated smoke testing program
and was not reviewed by a human for accuracy
------------------------------
PROGRAM OUTPUT
------------------------------
Output from '/usr/bin/make test':
PERL_DL_NONLAZY=1 "/home/fperrad/perl5/perlbrew/perls/perl-5.22.0/bin/perl" "-MExtUtils::Command::MM" "-MTest::Harness" "-e" "undef *Test::Harness::Switches; test_harness(0, 'blib/lib', 'blib/arch')" t/*.t
# Testing Acme::MyFirstModule::MCMILLHJ 0.01, Perl 5.022000, /home/fperrad/perl5/perlbrew/perls/perl-5.22.0/bin/perl
t/00-load.t ....... ok
t/manifest.t ...... skipped: Author tests not required for installation
t/pod-coverage.t .. skipped: Author tests not required for installation
t/pod.t ........... skipped: Author tests not required for installation
All tests successful.
Files=4, Tests=1, 0 wallclock secs ( 0.18 usr 0.05 sys + 0.50 cusr 0.10 csys = 0.83 CPU)
Result: PASS
------------------------------
PREREQUISITES
------------------------------
Prerequisite modules loaded:
requires:
Module Need Have
------------------- ----- --------
perl 5.006 5.022000
build_requires:
Module Need Have
------------------- ----- --------
Test::More 0 1.001014
configure_requires:
Module Need Have
------------------- ----- --------
ExtUtils::MakeMaker 0 7.04_01
------------------------------
ENVIRONMENT AND OTHER CONTEXT
------------------------------
Environment variables:
AUTOMATED_TESTING = 1
LANG = C.UTF-8
LANGUAGE = en_US.UTF-8
LC_ADDRESS = fr_FR.UTF-8
LC_ALL = en_US.UTF-8
LC_IDENTIFICATION = fr_FR.UTF-8
LC_MEASUREMENT = fr_FR.UTF-8
LC_MESSAGES = POSIX
LC_MONETARY = fr_FR.UTF-8
LC_NAME = fr_FR.UTF-8
LC_NUMERIC = fr_FR.UTF-8
LC_PAPER = fr_FR.UTF-8
LC_TELEPHONE = fr_FR.UTF-8
LC_TIME = fr_FR.UTF-8
PATH = /home/fperrad/perl5/perlbrew/bin:/home/fperrad/perl5/perlbrew/perls/perl-5.22.0/bin:/usr/local/bin:/usr/bin:/bin:/usr/local/games:/usr/games
PERL5LIB =
PERL5OPT =
PERL5_CPANPLUS_IS_RUNNING = 7643
PERL5_CPAN_IS_RUNNING = 7643
PERL5_CPAN_IS_RUNNING_IN_RECURSION = 2986,7643
PERLBREW_BASHRC_VERSION = 0.73
PERLBREW_HOME = /home/fperrad/.perlbrew
PERLBREW_MANPATH = /home/fperrad/perl5/perlbrew/perls/perl-5.22.0/man
PERLBREW_PATH = /home/fperrad/perl5/perlbrew/bin:/home/fperrad/perl5/perlbrew/perls/perl-5.22.0/bin
PERLBREW_PERL = perl-5.22.0
PERLBREW_ROOT = /home/fperrad/perl5/perlbrew
PERLBREW_VERSION = 0.73
PERL_CR_SMOKER_CURRENT = Acme-MyFirstModule-MCMILLHJ-0.01
PERL_EXTUTILS_AUTOINSTALL = --defaultdeps
PERL_MM_USE_DEFAULT = 1
SHELL = /bin/bash
TERM = linux
Perl special variables (and OS-specific diagnostics, for MSWin32):
$^X = /home/fperrad/perl5/perlbrew/perls/perl-5.22.0/bin/perl
$UID/$EUID = 1000 / 1000
$GID = 1000 1000
$EGID = 1000 1000
Perl module toolchain versions installed:
Module Have
------------------- --------
CPAN 2.11
CPAN::Meta 2.150001
Cwd 3.56
ExtUtils::CBuilder 0.280221
ExtUtils::Command 1.20
ExtUtils::Install 2.04
ExtUtils::MakeMaker 7.04_01
ExtUtils::Manifest 1.70
ExtUtils::ParseXS 3.28
File::Spec 3.56
JSON 2.90
JSON::PP 2.27300
Module::Build 0.4212
Module::Signature n/a
Parse::CPAN::Meta 1.4414
Test::Harness 3.35
Test::More 1.001014
YAML n/a
YAML::Syck n/a
version 0.9912
--
Summary of my perl5 (revision 5 version 22 subversion 0) configuration:
Platform:
osname=linux, osvers=3.4.107-lime, archname=armv7l-linux
uname='linux lime 3.4.107-lime #15 smp preempt fri may 22 11:36:49 cest 2015 armv7l gnulinux '
config_args='-de -Dprefix=/home/fperrad/perl5/perlbrew/perls/perl-5.22.0 -Aeval:scriptdir=/home/fperrad/perl5/perlbrew/perls/perl-5.22.0/bin'
hint=recommended, useposix=true, d_sigaction=define
useithreads=undef, usemultiplicity=undef
use64bitint=undef, use64bitall=undef, uselongdouble=undef
usemymalloc=n, bincompat5005=undef
Compiler:
cc='cc', ccflags ='-fwrapv -fno-strict-aliasing -pipe -fstack-protector-strong -I/usr/local/include -D_LARGEFILE_SOURCE -D_FILE_OFFSET_BITS=64 -D_FORTIFY_SOURCE=2',
optimize='-O2',
cppflags='-fwrapv -fno-strict-aliasing -pipe -fstack-protector-strong -I/usr/local/include'
ccversion='', gccversion='4.9.2', gccosandvers=''
intsize=4, longsize=4, ptrsize=4, doublesize=8, byteorder=1234, doublekind=3
d_longlong=define, longlongsize=8, d_longdbl=define, longdblsize=8, longdblkind=0
ivtype='long', ivsize=4, nvtype='double', nvsize=8, Off_t='off_t', lseeksize=8
alignbytes=8, prototype=define
Linker and Libraries:
ld='cc', ldflags =' -fstack-protector-strong -L/usr/local/lib'
libpth=/usr/local/lib /usr/lib/gcc/arm-linux-gnueabihf/4.9/include-fixed /usr/include/arm-linux-gnueabihf /usr/lib /lib/arm-linux-gnueabihf /lib /usr/lib/arm-linux-gnueabihf
libs=-lpthread -lnsl -ldl -lm -lcrypt -lutil -lc
perllibs=-lpthread -lnsl -ldl -lm -lcrypt -lutil -lc
libc=libc-2.19.so, so=so, useshrplib=false, libperl=libperl.a
gnulibc_version='2.19'
Dynamic Linking:
dlsrc=dl_dlopen.xs, dlext=so, d_dlsymun=undef, ccdlflags='-Wl,-E'
cccdlflags='-fPIC', lddlflags='-shared -O2 -L/usr/local/lib -fstack-protector-strong'
Characteristics of this binary (from libperl):
Compile-time options: HAS_TIMES PERLIO_LAYERS PERL_DONT_CREATE_GVSV
PERL_HASH_FUNC_ONE_AT_A_TIME_HARD PERL_MALLOC_WRAP
PERL_NEW_COPY_ON_WRITE PERL_PRESERVE_IVUV
USE_LARGE_FILES USE_LOCALE USE_LOCALE_COLLATE
USE_LOCALE_CTYPE USE_LOCALE_NUMERIC USE_LOCALE_TIME
USE_PERLIO USE_PERL_ATOF
Locally applied patches:
Devel::PatchPerl 1.34
Built under linux
Compiled at Jun 5 2015 17:33:03
%ENV:
PERL5LIB=""
PERL5OPT=""
PERL5_CPANPLUS_IS_RUNNING="7643"
PERL5_CPAN_IS_RUNNING="7643"
PERL5_CPAN_IS_RUNNING_IN_RECURSION="2986,7643"
PERLBREW_BASHRC_VERSION="0.73"
PERLBREW_HOME="/home/fperrad/.perlbrew"
PERLBREW_MANPATH="/home/fperrad/perl5/perlbrew/perls/perl-5.22.0/man"
PERLBREW_PATH="/home/fperrad/perl5/perlbrew/bin:/home/fperrad/perl5/perlbrew/perls/perl-5.22.0/bin"
PERLBREW_PERL="perl-5.22.0"
PERLBREW_ROOT="/home/fperrad/perl5/perlbrew"
PERLBREW_VERSION="0.73"
PERL_CR_SMOKER_CURRENT="Acme-MyFirstModule-MCMILLHJ-0.01"
PERL_EXTUTILS_AUTOINSTALL="--defaultdeps"
PERL_MM_USE_DEFAULT="1"
@INC:
/home/fperrad/perl5/perlbrew/perls/perl-5.22.0/lib/site_perl/5.22.0/armv7l-linux
/home/fperrad/perl5/perlbrew/perls/perl-5.22.0/lib/site_perl/5.22.0
/home/fperrad/perl5/perlbrew/perls/perl-5.22.0/lib/5.22.0/armv7l-linux
/home/fperrad/perl5/perlbrew/perls/perl-5.22.0/lib/5.22.0
.