Back
From: metabase:user:7298ebcc-b357-11e4-8d18-8eca7e4756b9
Subject: PASS Mojolicious-Plugin-LinkEmbedder-0.2301 v5.21.8 GNU/Linux
Date: 2015-04-07T11:28:42Z
This distribution has been tested as part of the CPAN Testers
project, supporting the Perl programming language. See
http://wiki.cpantesters.org/ for more information or email
questions to cpan-testers-discuss@perl.org
--
Dear JHTHORSEN,
This is a computer-generated report for Mojolicious-Plugin-LinkEmbedder-0.2301
on perl 5.21.8, created by App::cpanminus::reporter 0.12 (1.7027).
Thank you for uploading your work to CPAN. Congratulations!
All tests were successful.
Sections of this report:
* Tester comments
* Program output
* Prerequisites
* Environment and other context
------------------------------
TESTER COMMENTS
------------------------------
Additional comments from tester:
none provided
------------------------------
PROGRAM OUTPUT
------------------------------
Output from '':
Building and testing Mojolicious-Plugin-LinkEmbedder-0.2301
cp lib/Mojolicious/Plugin/LinkEmbedder/Link/Text/PasteScsysCoUk.pm blib/lib/Mojolicious/Plugin/LinkEmbedder/Link/Text/PasteScsysCoUk.pm
cp lib/Mojolicious/Plugin/LinkEmbedder/Link/Text/Ix.pm blib/lib/Mojolicious/Plugin/LinkEmbedder/Link/Text/Ix.pm
cp lib/Mojolicious/Plugin/LinkEmbedder/Link/Video/Blip.pm blib/lib/Mojolicious/Plugin/LinkEmbedder/Link/Video/Blip.pm
cp lib/Mojolicious/Plugin/LinkEmbedder/Link/Music.pm blib/lib/Mojolicious/Plugin/LinkEmbedder/Link/Music.pm
cp lib/Mojolicious/Plugin/LinkEmbedder/Link/Game.pm blib/lib/Mojolicious/Plugin/LinkEmbedder/Link/Game.pm
cp lib/Mojolicious/Plugin/LinkEmbedder/Link/Text/Pastie.pm blib/lib/Mojolicious/Plugin/LinkEmbedder/Link/Text/Pastie.pm
cp lib/Mojolicious/Plugin/LinkEmbedder/Link/Text/Pastebin.pm blib/lib/Mojolicious/Plugin/LinkEmbedder/Link/Text/Pastebin.pm
cp lib/Mojolicious/Plugin/LinkEmbedder/Link/Image/Xkcd.pm blib/lib/Mojolicious/Plugin/LinkEmbedder/Link/Image/Xkcd.pm
cp lib/Mojolicious/Plugin/LinkEmbedder/Link/Image.pm blib/lib/Mojolicious/Plugin/LinkEmbedder/Link/Image.pm
cp lib/Mojolicious/Plugin/LinkEmbedder/Link/Text/HTML.pm blib/lib/Mojolicious/Plugin/LinkEmbedder/Link/Text/HTML.pm
cp lib/Mojolicious/Plugin/LinkEmbedder/Link.pm blib/lib/Mojolicious/Plugin/LinkEmbedder/Link.pm
cp lib/Mojolicious/Plugin/LinkEmbedder/Link/Music/Spotify.pm blib/lib/Mojolicious/Plugin/LinkEmbedder/Link/Music/Spotify.pm
cp lib/Mojolicious/Plugin/LinkEmbedder/Link/Video.pm blib/lib/Mojolicious/Plugin/LinkEmbedder/Link/Video.pm
cp lib/Mojolicious/Plugin/LinkEmbedder.pm blib/lib/Mojolicious/Plugin/LinkEmbedder.pm
cp lib/Mojolicious/Plugin/LinkEmbedder/Link/Game/_2play.pm blib/lib/Mojolicious/Plugin/LinkEmbedder/Link/Game/_2play.pm
cp lib/Mojolicious/Plugin/LinkEmbedder/Link/Text/GistGithub.pm blib/lib/Mojolicious/Plugin/LinkEmbedder/Link/Text/GistGithub.pm
cp lib/Mojolicious/Plugin/LinkEmbedder/Link/Video/AppearIn.pm blib/lib/Mojolicious/Plugin/LinkEmbedder/Link/Video/AppearIn.pm
cp lib/Mojolicious/Plugin/LinkEmbedder/Link/Text/Github.pm blib/lib/Mojolicious/Plugin/LinkEmbedder/Link/Text/Github.pm
cp lib/Mojolicious/Plugin/LinkEmbedder/Link/Image/Imgur.pm blib/lib/Mojolicious/Plugin/LinkEmbedder/Link/Image/Imgur.pm
cp lib/Mojolicious/Plugin/LinkEmbedder/Link/Text/Twitter.pm blib/lib/Mojolicious/Plugin/LinkEmbedder/Link/Text/Twitter.pm
cp lib/Mojolicious/Plugin/LinkEmbedder/Link/Text.pm blib/lib/Mojolicious/Plugin/LinkEmbedder/Link/Text.pm
cp lib/Mojolicious/Plugin/LinkEmbedder/Link/Text/Travis.pm blib/lib/Mojolicious/Plugin/LinkEmbedder/Link/Text/Travis.pm
cp lib/Mojolicious/Plugin/LinkEmbedder/Link/Text/Metacpan.pm blib/lib/Mojolicious/Plugin/LinkEmbedder/Link/Text/Metacpan.pm
cp lib/Mojolicious/Plugin/LinkEmbedder/Link/Video/Vimeo.pm blib/lib/Mojolicious/Plugin/LinkEmbedder/Link/Video/Vimeo.pm
cp lib/Mojolicious/Plugin/LinkEmbedder/Link/Video/Dbtv.pm blib/lib/Mojolicious/Plugin/LinkEmbedder/Link/Video/Dbtv.pm
cp lib/Mojolicious/Plugin/LinkEmbedder/Link/Video/Ted.pm blib/lib/Mojolicious/Plugin/LinkEmbedder/Link/Video/Ted.pm
cp lib/Mojolicious/Plugin/LinkEmbedder/Link/Video/Collegehumor.pm blib/lib/Mojolicious/Plugin/LinkEmbedder/Link/Video/Collegehumor.pm
cp lib/Mojolicious/Plugin/LinkEmbedder/Link/Video/Youtube.pm blib/lib/Mojolicious/Plugin/LinkEmbedder/Link/Video/Youtube.pm
Manifying 20 pod documents
Manifying 8 pod documents
PERL_DL_NONLAZY=1 "/home/mojolicious/perl5/perlbrew/perls/perl-5.21.8/bin/perl5.21.8" "-MExtUtils::Command::MM" "-MTest::Harness" "-e" "undef *Test::Harness::Switches; test_harness(0, 'blib/lib', 'blib/arch')" t/*.t
t/00-basic.t ................ ok
t/fallback.t ................ ok
t/image-base.t .............. skipped: TEST_ONLINE=1 need to be set
t/image-imgur.t ............. skipped: TEST_ONLINE=1 need to be set
t/image-xkcd.t .............. skipped: TEST_ONLINE=1 need to be set
t/is.t ...................... ok
t/music-spotify.t ........... skipped: TEST_ONLINE=1 need to be set
t/text-gist-github.t ........ skipped: TEST_ONLINE=1 need to be set
t/text-github.t ............. skipped: TEST_ONLINE=1 need to be set
t/text-html.t ............... ok
t/text-ix.t ................. skipped: TEST_ONLINE=1 need to be set
t/text-metacpan.t ........... skipped: TEST_ONLINE=1 need to be set
t/text-paste-scsys-co-uk.t .. skipped: PASTE_SCSYS_ID=470943 need to be set
t/text-pastebin.t ........... skipped: TEST_ONLINE=1 need to be set
t/text-pastie.t ............. skipped: PASTIE_ID=10069272 need to be set
t/text-travis.t ............. skipped: TEST_ONLINE=1 need to be set
t/text-twitter.t ............ skipped: TEST_ONLINE=1 need to be set
t/video-appearin.t .......... skipped: TEST_ONLINE=1 need to be set
t/video-base.t .............. skipped: TEST_ONLINE=1 need to be set
t/video-blip.t .............. skipped: TEST_ONLINE=1 need to be set
t/video-collegehumor.t ...... skipped: TEST_ONLINE=1 need to be set
t/video-dbtv.t .............. skipped: TEST_ONLINE=1 need to be set
t/video-ted.t ............... skipped: TEST_ONLINE=1 need to be set
t/video-vimeo.t ............. skipped: TEST_ONLINE=1 need to be set
t/video-youtube.t ........... skipped: TEST_ONLINE=1 need to be set
All tests successful.
Files=25, Tests=121, 8 wallclock secs ( 0.08 usr 0.02 sys + 7.01 cusr 0.82 csys = 7.93 CPU)
Result: PASS
------------------------------
PREREQUISITES
------------------------------
Prerequisite modules loaded:
runtime:
Module Need Have
------------------- ---- ------------
! Mojolicious 5.00 n/a
build:
Module Need Have
------------------- ---- ------------
File::Find 0 1.29
! Module::Find 0 n/a
Test::More 0.90 1.301001_097
configure:
Module Need Have
------------------- ---- ------------
ExtUtils::MakeMaker 0 7.04
------------------------------
ENVIRONMENT AND OTHER CONTEXT
------------------------------
Environment variables:
PATH = /home/mojolicious/perl5/perlbrew/bin:/home/mojolicious/perl5/perlbrew/perls/perl-5.20.1/bin:/usr/local/bin:/usr/bin:/bin:/usr/local/games:/usr/games
PERLBREW_BASHRC_VERSION = 0.73
PERLBREW_HOME = /home/mojolicious/.perlbrew
PERLBREW_MANPATH = /home/mojolicious/perl5/perlbrew/perls/perl-5.20.1/man
PERLBREW_PATH = /home/mojolicious/perl5/perlbrew/bin:/home/mojolicious/perl5/perlbrew/perls/perl-5.20.1/bin
PERLBREW_PERL = perl-5.20.1
PERLBREW_ROOT = /home/mojolicious/perl5/perlbrew
PERLBREW_VERSION = 0.73
SHELL = /bin/bash
TERM = xterm
Perl special variables (and OS-specific diagnostics, for MSWin32):
EGID = 1003 1003
EUID = 1003
EXECUTABLE_NAME = /home/mojolicious/perl5/perlbrew/perls/perl-5.21.8/bin/perl5.21.8
GID = 1003 1003
UID = 1003
Perl module toolchain versions installed:
Module Have
------------------- ------------
CPAN 2.05
CPAN::Meta 2.143240
Cwd 3.54
ExtUtils::CBuilder 0.280221
ExtUtils::Command 1.20
ExtUtils::Install 2.04
ExtUtils::MakeMaker 7.04
ExtUtils::Manifest 1.70
ExtUtils::ParseXS 3.27
File::Spec 3.53
JSON 2.90
JSON::PP 2.27300
Module::Build 0.4211
Module::Signature n/a
Parse::CPAN::Meta 1.4414
Test::Harness 3.35
Test::More 1.301001_097
YAML n/a
YAML::Syck n/a
version 0.9909
--
Summary of my perl5 (revision 5 version 21 subversion 8) configuration:
Platform:
osname=linux, osvers=3.13.0-042stab094.8, archname=x86_64-linux
uname='linux lvps92-51-161-142.dedicated.hosteurope.de 3.13.0-042stab094.8 #1 smp tue dec 16 20:36:56 msk 2014 x86_64 x86_64 x86_64 gnulinux '
config_args='-de -Dprefix=/home/mojolicious/perl5/perlbrew/perls/perl-5.21.8 -Dusedevel -Aeval:scriptdir=/home/mojolicious/perl5/perlbrew/perls/perl-5.21.8/bin'
hint=recommended, useposix=true, d_sigaction=define
useithreads=undef, usemultiplicity=undef
use64bitint=define, use64bitall=define, uselongdouble=undef
usemymalloc=n, bincompat5005=undef
Compiler:
cc='cc', ccflags ='-fwrapv -fno-strict-aliasing -pipe -fstack-protector -I/usr/local/include -D_LARGEFILE_SOURCE -D_FILE_OFFSET_BITS=64',
optimize='-O2',
cppflags='-fwrapv -fno-strict-aliasing -pipe -fstack-protector -I/usr/local/include'
ccversion='', gccversion='4.8.2', gccosandvers=''
intsize=4, longsize=8, ptrsize=8, doublesize=8, byteorder=12345678, doublekind=3
d_longlong=define, longlongsize=8, d_longdbl=define, longdblsize=16, longdblkind=3
ivtype='long', ivsize=8, nvtype='double', nvsize=8, Off_t='off_t', lseeksize=8
alignbytes=8, prototype=define
Linker and Libraries:
ld='cc', ldflags =' -fstack-protector -L/usr/local/lib'
libpth=/usr/local/lib /usr/lib/gcc/x86_64-linux-gnu/4.8/include-fixed /usr/include/x86_64-linux-gnu /usr/lib /lib/x86_64-linux-gnu /lib/../lib /usr/lib/x86_64-linux-gnu /usr/lib/../lib /lib
libs=-lpthread -lnsl -ldl -lm -lcrypt -lutil -lc
perllibs=-lpthread -lnsl -ldl -lm -lcrypt -lutil -lc
libc=libc-2.19.so, so=so, useshrplib=false, libperl=libperl.a
gnulibc_version='2.19'
Dynamic Linking:
dlsrc=dl_dlopen.xs, dlext=so, d_dlsymun=undef, ccdlflags='-Wl,-E'
cccdlflags='-fPIC', lddlflags='-shared -O2 -L/usr/local/lib -fstack-protector'
Characteristics of this binary (from libperl):
Compile-time options: HAS_TIMES PERLIO_LAYERS PERL_DONT_CREATE_GVSV
PERL_HASH_FUNC_ONE_AT_A_TIME_HARD PERL_MALLOC_WRAP
PERL_NEW_COPY_ON_WRITE PERL_PRESERVE_IVUV
PERL_USE_DEVEL USE_64_BIT_ALL USE_64_BIT_INT
USE_LARGE_FILES USE_LOCALE USE_LOCALE_COLLATE
USE_LOCALE_CTYPE USE_LOCALE_NUMERIC USE_LOCALE_TIME
USE_PERLIO USE_PERL_ATOF
Locally applied patches:
Devel::PatchPerl 1.30
Built under linux
Compiled at Feb 14 2015 18:26:33
%ENV:
PERLBREW_BASHRC_VERSION="0.73"
PERLBREW_HOME="/home/mojolicious/.perlbrew"
PERLBREW_MANPATH="/home/mojolicious/perl5/perlbrew/perls/perl-5.20.1/man"
PERLBREW_PATH="/home/mojolicious/perl5/perlbrew/bin:/home/mojolicious/perl5/perlbrew/perls/perl-5.20.1/bin"
PERLBREW_PERL="perl-5.20.1"
PERLBREW_ROOT="/home/mojolicious/perl5/perlbrew"
PERLBREW_VERSION="0.73"
@INC:
/home/mojolicious/perl5/perlbrew/perls/perl-5.21.8/lib/site_perl/5.21.8/x86_64-linux
/home/mojolicious/perl5/perlbrew/perls/perl-5.21.8/lib/site_perl/5.21.8
/home/mojolicious/perl5/perlbrew/perls/perl-5.21.8/lib/5.21.8/x86_64-linux
/home/mojolicious/perl5/perlbrew/perls/perl-5.21.8/lib/5.21.8
.