App-GitFind v0.000002 Perl 5 v5.31.1 x86_64-linux

Status
Pass
From
Andreas J. König (ANDK)
Dist
App-GitFind v0.000002
Platform
Perl 5 v5.31.1 x86_64-linux
Date
2019-09-26 13:04:59
ID
3e8f9dec-e05e-11e9-b8ab-73d553501bd2
This distribution has been tested as part of the CPAN Testers
project, supporting the Perl programming language.  See
http://wiki.cpantesters.org/ for more information or email
questions to cpan-testers-discuss@perl.org


--
Dear Christopher White,

This is a computer-generated report for App-GitFind-0.000002
on perl 5.31.1, created by CPAN-Reporter-1.2018.

Thank you for uploading your work to CPAN.  Congratulations!
All tests were successful.

Sections of this report:

    * Tester comments
    * Program output
    * Prerequisites
    * Environment and other context

------------------------------
TESTER COMMENTS
------------------------------

Additional comments from tester:

this report is from an automated smoke testing program
and was not reviewed by a human for accuracy

------------------------------
PROGRAM OUTPUT
------------------------------

Output from '/usr/bin/make test':

PERL_DL_NONLAZY=1 "/home/sand/src/perl/repoperls/installed-perls/host/k93msid/v5.31.1/da1c/bin/perl" "-MExtUtils::Command::MM" "-MTest::Harness" "-e" "undef *Test::Harness::Switches; test_harness(0, 'blib/lib', 'blib/arch')" t/*.t
# Testing App::GitFind 0.000002, Perl 5.031001, /home/sand/src/perl/repoperls/installed-perls/host/k93msid/v5.31.1/da1c/bin/perl
t/00-load.t .......... ok
# Devel::Cover not covering
# Testing script/git-find with command line:
# /home/sand/src/perl/repoperls/installed-perls/host/k93msid/v5.31.1/da1c/bin/perl -I/tmp/loop_over_bdir-9479-L1FNbs/App-GitFind-0.000002-0/t -I/tmp/loop_over_bdir-9479-L1FNbs/App-GitFind-0.000002-0/blib/lib -I/tmp/loop_over_bdir-9479-L1FNbs/App-GitFind-0.000002-0/blib/arch -I/home/sand/src/perl/repoperls/installed-perls/host/k93msid/v5.31.1/da1c/lib/site_perl/5.31.1/x86_64-linux -I/home/sand/src/perl/repoperls/installed-perls/host/k93msid/v5.31.1/da1c/lib/site_perl/5.31.1 -I/home/sand/src/perl/repoperls/installed-perls/host/k93msid/v5.31.1/da1c/lib/5.31.1/x86_64-linux -I/home/sand/src/perl/repoperls/installed-perls/host/k93msid/v5.31.1/da1c/lib/5.31.1 -I. /tmp/loop_over_bdir-9479-L1FNbs/App-GitFind-0.000002-0/blib/script/git-find
t/01-script.t ........ ok
t/02-qwc.t ........... ok
t/11-lexer-rev.t ..... ok
t/20-parser-basic.t .. ok
All tests successful.
Files=5, Tests=187,  6 wallclock secs ( 0.02 usr  0.03 sys +  0.81 cusr  0.22 csys =  1.08 CPU)
Result: PASS

------------------------------
PREREQUISITES
------------------------------

Prerequisite modules loaded:

requires:

    Module                   Need     Have    
    ------------------------ -------- --------
    Class::Tiny              1.001    1.006   
    Class::Tiny::Immutable   0        0.001   
    Data::Dumper::Compact    0        0.004000
    Fcntl                    0        1.13    
    File::Find::Object       v0.3.1   v0.3.2  
    Getargs::Mixed           1.04     1.06    
    Getopt::Long             2.34     2.51    
    Git::Raw                 0.84     0.84    
    Hash::Merge              0.299    0.300   
    Iterator::Simple         0.07     0.07    
    List::SomeUtils          0.50     0.56    
    Math::Cartesian::Product 1.009    1.009   
    Path::Class              0.37     0.37    
    perl                     5.010    5.031001
    Pod::Usage               0        1.69    
    POSIX                    0        1.89    
    vars                     0        1.05    
    vars::i                  1.10     2.000000

build_requires:

    Module                   Need     Have    
    ------------------------ -------- --------
    Capture::Tiny            0.39     0.48    
    Carp                     0        1.50    
    Cwd                      0        3.78    
    Exporter                 0        5.73    
    File::Basename           0        2.85    
    Getopt::Long             2.5      2.51    
    Import::Into             0        1.002005
    lib::relative            1.000    1.000   
    List::AutoNumbered       0.000007 0.000007
    List::Util               1.43     1.52    
    Parse::Yapp              0        1.21    
    Path::Class              0.37     0.37    
    Pod::Markdown            0        3.101   
    Pod::Text                0        4.12    
    Sub::Multi::Tiny         0.000012 0.000012
    Test2::V0                0.000125 0.000126
    Test::UseAllModules      0.15     0.17    
    Types::Standard          1.004004 1.004004

configure_requires:

    Module                   Need     Have    
    ------------------------ -------- --------
    Config                   0        5.031001
    ExtUtils::MakeMaker      0        7.37_04 
    File::Spec               0        3.78    
    strict                   0        1.11    
    warnings                 0        1.45    


------------------------------
ENVIRONMENT AND OTHER CONTEXT
------------------------------

Environment variables:

    AUTOMATED_TESTING = 1
    LANG = en_US.UTF-8
    PATH = /home/sand/bin:/usr/local/bin:/usr/bin:/bin:/usr/games:/usr/local/perl/bin:/usr/X11/bin:/sbin:/usr/sbin
    PERL5LIB = 
    PERL5OPT = 
    PERL5_CPANPLUS_IS_RUNNING = 9488
    PERL5_CPAN_IS_RUNNING = 9488
    PERL_CANARY_STABILITY_NOPROMPT = 1
    PERL_MM_USE_DEFAULT = 1
    PERL_USE_UNSAFE_INC = 1
    SHELL = /usr/bin/zsh
    TERM = screen

Perl special variables (and OS-specific diagnostics, for MSWin32):

    $^X = /home/sand/src/perl/repoperls/installed-perls/host/k93msid/v5.31.1/da1c/bin/perl
    $UID/$EUID = 1005 / 1005
    $GID = 1005 1005
    $EGID = 1005 1005

Perl module toolchain versions installed:

    Module              Have    
    ------------------- --------
    CPAN                2.27    
    CPAN::Meta          2.150010
    Cwd                 3.78    
    ExtUtils::CBuilder  0.280232
    ExtUtils::Command   7.37_04 
    ExtUtils::Install   2.14    
    ExtUtils::MakeMaker 7.37_04 
    ExtUtils::Manifest  1.72    
    ExtUtils::ParseXS   3.40    
    File::Spec          3.78    
    JSON                4.02    
    JSON::PP            4.04    
    Module::Build       0.4229  
    Module::Signature   0.83    
    Parse::CPAN::Meta   2.150010
    Test::Harness       3.42    
    Test::More          1.302168
    YAML                1.29    
    YAML::Syck          1.31    
    version             0.9924  


--

Summary of my perl5 (revision 5 version 31 subversion 1) configuration:
  Commit id: 287636082155028adce267d8e660aedeea514897
  Platform:
    osname=linux
    osvers=4.18.0-2-amd64
    archname=x86_64-linux
    uname='linux k93msid 4.18.0-2-amd64 #1 smp debian 4.18.10-2 (2018-10-07) x86_64 gnulinux '
    config_args='-Dprefix=/home/sand/src/perl/repoperls/installed-perls/host/k93msid/v5.31.1/da1c -Dmyhostname=k93msid -Dinstallusrbinperl=n -Uversiononly -Dusedevel -des -Ui_db -Dlibswanted=cl pthread socket inet nsl gdbm dbm malloc dl ld sun m crypt sec util c cposix posix ucb BSD gdbm_compat -Uuseithreads -Uuselongdouble -DEBUGGING=-g'
    hint=recommended
    useposix=true
    d_sigaction=define
    useithreads=undef
    usemultiplicity=undef
    use64bitint=define
    use64bitall=define
    uselongdouble=undef
    usemymalloc=n
    default_inc_excludes_dot=define
    bincompat5005=undef
  Compiler:
    cc='cc'
    ccflags ='-fwrapv -fno-strict-aliasing -pipe -fstack-protector-strong -I/usr/local/include -D_LARGEFILE_SOURCE -D_FILE_OFFSET_BITS=64 -D_FORTIFY_SOURCE=2'
    optimize='-O2 -g'
    cppflags='-fwrapv -fno-strict-aliasing -pipe -fstack-protector-strong -I/usr/local/include'
    ccversion=''
    gccversion='8.2.0'
    gccosandvers=''
    intsize=4
    longsize=8
    ptrsize=8
    doublesize=8
    byteorder=12345678
    doublekind=3
    d_longlong=define
    longlongsize=8
    d_longdbl=define
    longdblsize=16
    longdblkind=3
    ivtype='long'
    ivsize=8
    nvtype='double'
    nvsize=8
    Off_t='off_t'
    lseeksize=8
    alignbytes=8
    prototype=define
  Linker and Libraries:
    ld='cc'
    ldflags =' -fstack-protector-strong -L/usr/local/lib'
    libpth=/usr/local/lib /usr/lib/gcc/x86_64-linux-gnu/8/include-fixed /usr/include/x86_64-linux-gnu /usr/lib /lib/x86_64-linux-gnu /lib/../lib /usr/lib/x86_64-linux-gnu /usr/lib/../lib /lib
    libs=-lpthread -lnsl -ldl -lm -lcrypt -lutil -lc
    perllibs=-lpthread -lnsl -ldl -lm -lcrypt -lutil -lc
    libc=libc-2.27.so
    so=so
    useshrplib=false
    libperl=libperl.a
    gnulibc_version='2.27'
  Dynamic Linking:
    dlsrc=dl_dlopen.xs
    dlext=so
    d_dlsymun=undef
    ccdlflags='-Wl,-E'
    cccdlflags='-fPIC'
    lddlflags='-shared -O2 -g -L/usr/local/lib -fstack-protector-strong'


Characteristics of this binary (from libperl): 
  Compile-time options:
    HAS_TIMES
    PERLIO_LAYERS
    PERL_COPY_ON_WRITE
    PERL_DONT_CREATE_GVSV
    PERL_MALLOC_WRAP
    PERL_OP_PARENT
    PERL_PRESERVE_IVUV
    PERL_USE_DEVEL
    USE_64_BIT_ALL
    USE_64_BIT_INT
    USE_LARGE_FILES
    USE_LOCALE
    USE_LOCALE_COLLATE
    USE_LOCALE_CTYPE
    USE_LOCALE_NUMERIC
    USE_LOCALE_TIME
    USE_PERLIO
    USE_PERL_ATOF
  Built under linux
  Compiled at Jun 21 2019 02:01:54
  %ENV:
    PERL5LIB=""
    PERL5OPT=""
    PERL5_CPANPLUS_IS_RUNNING="9488"
    PERL5_CPAN_IS_RUNNING="9488"
    PERL_CANARY_STABILITY_NOPROMPT="1"
    PERL_MM_USE_DEFAULT="1"
    PERL_USE_UNSAFE_INC="1"
  @INC:
    /home/sand/src/perl/repoperls/installed-perls/host/k93msid/v5.31.1/da1c/lib/site_perl/5.31.1/x86_64-linux
    /home/sand/src/perl/repoperls/installed-perls/host/k93msid/v5.31.1/da1c/lib/site_perl/5.31.1
    /home/sand/src/perl/repoperls/installed-perls/host/k93msid/v5.31.1/da1c/lib/5.31.1/x86_64-linux
    /home/sand/src/perl/repoperls/installed-perls/host/k93msid/v5.31.1/da1c/lib/5.31.1
    .