XString v0.005 Perl 5 v5.42.0 x86_64-linux-thread-multi
- Status
- Pass
- From
- Arpad Szasz
- Dist
-
XString v0.005
- Platform
- Perl 5 v5.42.0 x86_64-linux-thread-multi
- Date
- 2025-07-04 11:23:00
- ID
- 3e8a7e5e-58c9-11f0-9fe9-e2365622e8a0
This distribution has been tested as part of the CPAN Testers
project, supporting the Perl programming language. See
http://wiki.cpantesters.org/ for more information or email
questions to cpan-testers-discuss@perl.org
--
Dear ATOOMIC,
This is a computer-generated report for XString-0.005
on perl 5.42.0, created by App::cpanminus::reporter 0.22 (1.7048).
Thank you for uploading your work to CPAN. Congratulations!
All tests were successful.
Sections of this report:
* Tester comments
* Program output
* Prerequisites
* Environment and other context
------------------------------
TESTER COMMENTS
------------------------------
Additional comments from tester:
none provided
------------------------------
PROGRAM OUTPUT
------------------------------
Output from '':
Building and testing XString-0.005
cp lib/XString.pm blib/lib/XString.pm
Running Mkbootstrap for XString ()
chmod 644 "XString.bs"
"/home/arpi/opt/perl5/perls/perl-5.42.0/bin/perl" -MExtUtils::Command::MM -e 'cp_nonempty' -- XString.bs blib/arch/auto/XString/XString.bs 644
"/home/arpi/opt/perl5/perls/perl-5.42.0/bin/perl" "/home/arpi/opt/perl5/perls/perl-5.42.0/lib/5.42.0/ExtUtils/xsubpp" -typemap '/home/arpi/opt/perl5/perls/perl-5.42.0/lib/5.42.0/ExtUtils/typemap' XString.xs > XString.xsc
Please specify prototyping behavior for XString.xs (see perlxs manual)
mv XString.xsc XString.c
cc -c -D_REENTRANT -D_GNU_SOURCE -fwrapv -fno-strict-aliasing -pipe -fstack-protector-strong -I/usr/local/include -D_LARGEFILE_SOURCE -D_FILE_OFFSET_BITS=64 -O2 -DVERSION=\"0.005\" -DXS_VERSION=\"0.005\" -fPIC "-I/home/arpi/opt/perl5/perls/perl-5.42.0/lib/5.42.0/x86_64-linux-thread-multi/CORE" XString.c
rm -f blib/arch/auto/XString/XString.so
cc -shared -O2 -L/usr/local/lib -fstack-protector-strong XString.o -o blib/arch/auto/XString/XString.so \
\
chmod 755 blib/arch/auto/XString/XString.so
Manifying 1 pod document
"/home/arpi/opt/perl5/perls/perl-5.42.0/bin/perl" -MExtUtils::Command::MM -e 'cp_nonempty' -- XString.bs blib/arch/auto/XString/XString.bs 644
PERL_DL_NONLAZY=1 "/home/arpi/opt/perl5/perls/perl-5.42.0/bin/perl" "-MExtUtils::Command::MM" "-MTest::Harness" "-e" "undef *Test::Harness::Switches; test_harness(0, 'blib/lib', 'blib/arch')" t/*.t
t/00-load.t ............ ok
t/cstring.t ............ ok
t/perlstring.t ......... ok
#
# Versions for all modules listed in MYMETA.json (including optional ones):
#
# === Configure Requires ===
#
# Module Want Have
# ------------------- ---- ----
# ExtUtils::MakeMaker any 7.76
#
# === Build Requires ===
#
# Module Want Have
# ------------------- ---- ----
# ExtUtils::MakeMaker any 7.76
#
# === Test Requires ===
#
# Module Want Have
# ------------------- ---- --------
# ExtUtils::MakeMaker any 7.76
# File::Spec any 3.94
# File::Temp any 0.2311
# Test::More 0.87 1.302210
#
# === Test Recommends ===
#
# Module Want Have
# ---------- -------- --------
# CPAN::Meta 2.120900 2.150010
#
# === Runtime Requires ===
#
# Module Want Have
# ------ ---- ----
#
t/00-report-prereqs.t .. ok
All tests successful.
Files=4, Tests=282, 0 wallclock secs ( 0.02 usr 0.01 sys + 0.20 cusr 0.01 csys = 0.24 CPU)
Result: PASS
------------------------------
PREREQUISITES
------------------------------
Prerequisite modules loaded:
runtime:
Module Need Have
------------------- ----- --------
perl 5.008 5.042000
build:
Module Need Have
------------------- ----- --------
ExtUtils::MakeMaker 0 7.76
configure:
Module Need Have
------------------- ----- --------
ExtUtils::MakeMaker 0 7.76
------------------------------
ENVIRONMENT AND OTHER CONTEXT
------------------------------
Environment variables:
LANG = en_US.UTF-8
LC_ADDRESS = ro_RO.UTF-8
LC_IDENTIFICATION = ro_RO.UTF-8
LC_MEASUREMENT = ro_RO.UTF-8
LC_MONETARY = ro_RO.UTF-8
LC_NAME = ro_RO.UTF-8
LC_NUMERIC = ro_RO.UTF-8
LC_PAPER = ro_RO.UTF-8
LC_TELEPHONE = ro_RO.UTF-8
LC_TIME = ro_RO.UTF-8
PATH = /home/arpi/opt/perl5/bin:/home/arpi/opt/perl5/perls/stable/bin:/home/arpi/.cargo/bin:/home/arpi/.nvm/versions/node/v20.0.0/bin:/home/arpi/.rvm/gems/ruby-3.2.2/bin:/home/arpi/.rvm/gems/ruby-3.2.2@global/bin:/home/arpi/.rvm/rubies/ruby-3.2.2/bin:/home/arpi/.cargo/bin:/home/arpi/.local/share/umake/bin::/home/arpi/.rakudobrew/bin:/home/arpi/.local/bin:/home/arpi/bin:/home/arpi/bin:/usr/local/sbin:/usr/local/bin:/usr/sbin:/usr/bin:/sbin:/bin:/usr/games:/usr/local/games:/snap/bin:/snap/bin:/home/arpi/.yarn/bin:/home/arpi/go/bin:/home/arpi/.rvm/bin:/home/arpi/.fzf/bin:/home/arpi/go/bin:/home/arpi/.rvm/bin
PERLBREW_HOME = /home/arpi/.perlbrew
PERLBREW_MANPATH = /home/arpi/opt/perl5/perls/stable/man
PERLBREW_PATH = /home/arpi/opt/perl5/bin:/home/arpi/opt/perl5/perls/stable/bin
PERLBREW_PERL = stable
PERLBREW_ROOT = /home/arpi/opt/perl5
PERLBREW_SHELLRC_VERSION = 1.01
PERLBREW_VERSION = 1.01
PROGRAMMING_TESTS = /home/arpi/Tresors/Default/Programming
SHELL = /bin/bash
TERM = xterm-ghostty
Perl special variables (and OS-specific diagnostics, for MSWin32):
EGID = 1000 4 20 24 27 29 30 46 108 115 131 132 145 998 1000 1007
EUID = 1000
EXECUTABLE_NAME = /home/arpi/opt/perl5/perls/perl-5.42.0/bin/perl
GID = 1000 4 20 24 27 29 30 46 108 115 131 132 145 998 1000 1007
UID = 1000
Perl module toolchain versions installed:
Module Have
------------------- --------
CPAN 2.38
CPAN::Meta 2.150010
Cwd 3.94
ExtUtils::CBuilder 0.280242
ExtUtils::Command 7.76
ExtUtils::Install 2.22
ExtUtils::MakeMaker 7.76
ExtUtils::Manifest 1.75
ExtUtils::ParseXS 3.57
File::Spec 3.94
JSON 4.10
JSON::PP 4.16
Module::Build 0.4234
Module::Signature n/a
Parse::CPAN::Meta 2.150010
Test::Harness 3.50
Test::More 1.302210
YAML 1.31
YAML::Syck n/a
version 0.9933
--
Summary of my perl5 (revision 5 version 42 subversion 0) configuration:
Platform:
osname=linux
osvers=6.14.0-22-generic
archname=x86_64-linux-thread-multi
uname='linux guppy 6.14.0-22-generic #22-ubuntu smp preempt_dynamic wed may 21 15:01:51 utc 2025 x86_64 x86_64 x86_64 gnulinux '
config_args='-de -Dprefix=/home/arpi/opt/perl5/perls/perl-5.42.0 -Dusethreads -Duselargefiles -Duse64bitall -Dusesitecustomize -Duseshrplib -Dinc_version_list=none -Dpager=/bin/less -Doptimize=-O2 -Dcf_by=Plenum.ro -Dcf_email=arpad.szasz@plenum.ro -Uuserelocatableinc -UDEBUGGING -Aeval:scriptdir=/home/arpi/opt/perl5/perls/perl-5.42.0/bin'
hint=recommended
useposix=true
d_sigaction=define
useithreads=define
usemultiplicity=define
use64bitint=define
use64bitall=define
uselongdouble=undef
usemymalloc=n
default_inc_excludes_dot=define
Compiler:
cc='cc'
ccflags ='-D_REENTRANT -D_GNU_SOURCE -fwrapv -fno-strict-aliasing -pipe -fstack-protector-strong -I/usr/local/include -D_LARGEFILE_SOURCE -D_FILE_OFFSET_BITS=64'
optimize='-O2'
cppflags='-D_REENTRANT -D_GNU_SOURCE -fwrapv -fno-strict-aliasing -pipe -fstack-protector-strong -I/usr/local/include'
ccversion=''
gccversion='14.2.0'
gccosandvers=''
intsize=4
longsize=8
ptrsize=8
doublesize=8
byteorder=12345678
doublekind=3
d_longlong=define
longlongsize=8
d_longdbl=define
longdblsize=16
longdblkind=3
ivtype='long'
ivsize=8
nvtype='double'
nvsize=8
Off_t='off_t'
lseeksize=8
alignbytes=8
prototype=define
Linker and Libraries:
ld='cc'
ldflags =' -fstack-protector-strong -L/usr/local/lib'
libpth=/usr/local/lib /usr/lib/x86_64-linux-gnu /usr/lib /usr/lib64
libs=-lpthread -lgdbm -ldl -lm -lcrypt -lutil -lc
perllibs=-lpthread -ldl -lm -lcrypt -lutil -lc
libc=/lib/x86_64-linux-gnu/libc.so.6
so=so
useshrplib=true
libperl=libperl.so
gnulibc_version='2.41'
Dynamic Linking:
dlsrc=dl_dlopen.xs
dlext=so
d_dlsymun=undef
ccdlflags='-Wl,-E -Wl,-rpath,/home/arpi/opt/perl5/perls/perl-5.42.0/lib/5.42.0/x86_64-linux-thread-multi/CORE'
cccdlflags='-fPIC'
lddlflags='-shared -O2 -L/usr/local/lib -fstack-protector-strong'
Characteristics of this binary (from libperl):
Compile-time options:
HAS_LONG_DOUBLE
HAS_STRTOLD
HAS_TIMES
MULTIPLICITY
PERLIO_LAYERS
PERL_COPY_ON_WRITE
PERL_DONT_CREATE_GVSV
PERL_HASH_FUNC_SIPHASH13
PERL_HASH_USE_SBOX32
PERL_MALLOC_WRAP
PERL_OP_PARENT
PERL_PRESERVE_IVUV
PERL_USE_SAFE_PUTENV
USE_64_BIT_ALL
USE_64_BIT_INT
USE_ITHREADS
USE_LARGE_FILES
USE_LOCALE
USE_LOCALE_COLLATE
USE_LOCALE_CTYPE
USE_LOCALE_NUMERIC
USE_LOCALE_TIME
USE_PERLIO
USE_PERL_ATOF
USE_REENTRANT_API
USE_SITECUSTOMIZE
USE_THREAD_SAFE_LOCALE
Built under linux
Compiled at Jul 4 2025 13:55:43
%ENV:
PERLBREW_HOME="/home/arpi/.perlbrew"
PERLBREW_MANPATH="/home/arpi/opt/perl5/perls/stable/man"
PERLBREW_PATH="/home/arpi/opt/perl5/bin:/home/arpi/opt/perl5/perls/stable/bin"
PERLBREW_PERL="stable"
PERLBREW_ROOT="/home/arpi/opt/perl5"
PERLBREW_SHELLRC_VERSION="1.01"
PERLBREW_VERSION="1.01"
@INC:
/home/arpi/opt/perl5/perls/perl-5.42.0/lib/site_perl/5.42.0/x86_64-linux-thread-multi
/home/arpi/opt/perl5/perls/perl-5.42.0/lib/site_perl/5.42.0
/home/arpi/opt/perl5/perls/perl-5.42.0/lib/5.42.0/x86_64-linux-thread-multi
/home/arpi/opt/perl5/perls/perl-5.42.0/lib/5.42.0