Back
From: metabase:user:e3434da8-b236-11df-85ca-0247c6d74bde
Subject: PASS Env-Sanctify-Auto-1.001 v5.12.2 GNU/Linux
Date: 2010-10-01T14:36:14Z
This distribution has been tested as part of the CPAN Testers
project, supporting the Perl programming language. See
http://wiki.cpantesters.org/ for more information or email
questions to cpan-testers-discuss@perl.org
--
Dear Jonathan Yu (custodial account, see JAWNSY),
This is a computer-generated report for Env-Sanctify-Auto-1.001
on perl 5.12.2, created by CPAN-Reporter-1.1801.
Thank you for uploading your work to CPAN. Congratulations!
All tests were successful.
Sections of this report:
* Tester comments
* Program output
* Prerequisites
* Environment and other context
------------------------------
TESTER COMMENTS
------------------------------
Additional comments from tester:
this report is from an automated smoke testing program
and was not reviewed by a human for accuracy
------------------------------
PROGRAM OUTPUT
------------------------------
Output from './Build test':
t/00signature.t ..... skipped: Set HAS_INTERNET to enable tests requiring Internet
t/01manifest.t ...... skipped: Test::DistManifest not available for testing
t/02compile.t ....... ok
t/03core.t .......... ok
t/03defaults.t ...... ok
t/03exceptions.t .... ok
t/97pod.t ........... skipped: Test::Pod not available for testing
t/98pod-coverage.t .. skipped: Author tests not required for installation
t/99kwalitee.t ...... skipped: Module::CPANTS::Analyse not available for testing
t/99meta.t .......... skipped: Test::CPAN::Meta not available for testing
t/99min-perl.t ...... skipped: Test::MinimumVersion not available for testing
t/99portability.t ... skipped: Test::Portability::Files not available for testing
All tests successful.
Files=12, Tests=19, 1 wallclock secs ( 0.04 usr 0.03 sys + 0.24 cusr 0.06 csys = 0.37 CPU)
Result: PASS
------------------------------
PREREQUISITES
------------------------------
Prerequisite modules loaded:
requires:
Module Need Have
---------------- ----- --------
Carp 1.04 1.17
Env::Sanctify 0 1.04
perl 5.006 5.012002
strict 0 1.04
version 0.74 0.82
warnings 0 1.09
build_requires:
Module Need Have
---------------- ----- --------
Test::More 0 0.94
Test::NoWarnings 0.084 1.02
------------------------------
ENVIRONMENT AND OTHER CONTEXT
------------------------------
Environment variables:
AUTOMATED_TESTING = 1
LANG = en_US.utf8
PATH = /usr/local/bin:/usr/bin:/bin:/usr/local/games:/usr/games
PERL5LIB = /home/cpt1/.cpan/build/Env-Sanctify-1.04-YdlwHx/blib/arch:/home/cpt1/.cpan/build/Env-Sanctify-1.04-YdlwHx/blib/lib
PERL5OPT =
PERL5_CPANPLUS_IS_RUNNING = 9441
PERL5_CPAN_IS_RUNNING = 9441
PERL5_CPAN_IS_RUNNING_IN_RECURSION = 4495,9441
PERL_CR_SMOKER_CURRENT = Env-Sanctify-Auto-1.001
PERL_EXTUTILS_AUTOINSTALL = --defaultdeps
PERL_MM_USE_DEFAULT = 1
SHELL = /bin/bash
TERM = screen-bce
Perl special variables (and OS-specific diagnostics, for MSWin32):
$^X = /home/cpt1/cpantesting/perl-5.12.2/bin/perl
$UID/$EUID = 1002 / 1002
$GID = 1002 20 24 25 27 29 30 44 46 100 102 106 112 114 1002
$EGID = 1002 20 24 25 27 29 30 44 46 100 102 106 112 114 1002
Perl module toolchain versions installed:
Module Have
------------------- -------
CPAN 1.94_56
Cwd 3.31
ExtUtils::CBuilder 0.27
ExtUtils::Command 1.16
ExtUtils::Install 1.55
ExtUtils::MakeMaker 6.56
ExtUtils::Manifest 1.57
ExtUtils::ParseXS 2.21
File::Spec 3.31_01
Module::Build 0.3603
Module::Signature n/a
Test::Harness 3.17
Test::More 0.94
YAML 0.72
YAML::Syck n/a
version 0.82
--
Summary of my perl5 (revision 5 version 12 subversion 2) configuration:
Platform:
osname=linux, osvers=2.6.34-0.slh.9-sidux-amd64, archname=x86_64-linux
uname='linux verona 2.6.34-0.slh.9-sidux-amd64 #1 smp preempt sat jun 12 23:27:41 utc 2010 x86_64 gnulinux '
config_args='-Dprefix=/home/cpt1/cpantesting/perl-5.12.2'
hint=recommended, useposix=true, d_sigaction=define
useithreads=undef, usemultiplicity=undef
useperlio=define, d_sfio=undef, uselargefiles=define, usesocks=undef
use64bitint=define, use64bitall=define, uselongdouble=undef
usemymalloc=n, bincompat5005=undef
Compiler:
cc='cc', ccflags ='-fno-strict-aliasing -pipe -fstack-protector -I/usr/local/include -D_LARGEFILE_SOURCE -D_FILE_OFFSET_BITS=64',
optimize='-O2',
cppflags='-fno-strict-aliasing -pipe -fstack-protector -I/usr/local/include'
ccversion='', gccversion='4.4.5 20100902 (prerelease)', gccosandvers=''
intsize=4, longsize=8, ptrsize=8, doublesize=8, byteorder=12345678
d_longlong=define, longlongsize=8, d_longdbl=define, longdblsize=16
ivtype='long', ivsize=8, nvtype='double', nvsize=8, Off_t='off_t', lseeksize=8
alignbytes=8, prototype=define
Linker and Libraries:
ld='cc', ldflags =' -fstack-protector -L/usr/local/lib'
libpth=/usr/local/lib /lib /usr/lib /lib64 /usr/lib64
libs=-lnsl -lgdbm -ldb -ldl -lm -lcrypt -lutil -lc -lgdbm_compat
perllibs=-lnsl -ldl -lm -lcrypt -lutil -lc
libc=/lib/libc-2.11.1.so, so=so, useshrplib=false, libperl=libperl.a
gnulibc_version='2.11.1'
Dynamic Linking:
dlsrc=dl_dlopen.xs, dlext=so, d_dlsymun=undef, ccdlflags='-Wl,-E'
cccdlflags='-fPIC', lddlflags='-shared -O2 -L/usr/local/lib -fstack-protector'
Characteristics of this binary (from libperl):
Compile-time options: PERL_DONT_CREATE_GVSV PERL_MALLOC_WRAP USE_64_BIT_ALL
USE_64_BIT_INT USE_LARGE_FILES USE_PERLIO
USE_PERL_ATOF
Built under linux
Compiled at Sep 17 2010 19:05:46
%ENV:
PERL5LIB="/home/cpt1/.cpan/build/Env-Sanctify-1.04-YdlwHx/blib/arch:/home/cpt1/.cpan/build/Env-Sanctify-1.04-YdlwHx/blib/lib"
PERL5OPT=""
PERL5_CPANPLUS_IS_RUNNING="9441"
PERL5_CPAN_IS_RUNNING="9441"
PERL5_CPAN_IS_RUNNING_IN_RECURSION="4495,9441"
PERL_CR_SMOKER_CURRENT="Env-Sanctify-Auto-1.001"
PERL_EXTUTILS_AUTOINSTALL="--defaultdeps"
PERL_MM_USE_DEFAULT="1"
@INC:
/home/cpt1/.cpan/build/Env-Sanctify-1.04-YdlwHx/blib/arch
/home/cpt1/.cpan/build/Env-Sanctify-1.04-YdlwHx/blib/lib
/home/cpt1/cpantesting/perl-5.12.2/lib/site_perl/5.12.2/x86_64-linux
/home/cpt1/cpantesting/perl-5.12.2/lib/site_perl/5.12.2
/home/cpt1/cpantesting/perl-5.12.2/lib/5.12.2/x86_64-linux
/home/cpt1/cpantesting/perl-5.12.2/lib/5.12.2
.