Term-ReadLine-Perl5 v1.45 Perl 5 v5.14.4 i686-linux-thread-multi

Status
Pass
From
Nigel Horne
Dist
Term-ReadLine-Perl5 v1.45
Platform
Perl 5 v5.14.4 i686-linux-thread-multi
Date
2017-10-18 12:17:01
ID
3e872e3e-b3fe-11e7-a2a8-d0c13ad602b4
This distribution has been tested as part of the CPAN Testers
project, supporting the Perl programming language.  See
http://wiki.cpantesters.org/ for more information or email
questions to cpan-testers-discuss@perl.org


--
Dear Rocky Bernstein,

This is a computer-generated report for Term-ReadLine-Perl5-1.45
on perl 5.14.4, created by CPAN-Reporter-1.2017.

Thank you for uploading your work to CPAN.  Congratulations!
All tests were successful.

Sections of this report:

    * Tester comments
    * Program output
    * Prerequisites
    * Environment and other context

------------------------------
TESTER COMMENTS
------------------------------

Additional comments from tester:

this report is from an automated smoke testing program
and was not reviewed by a human for accuracy

------------------------------
PROGRAM OUTPUT
------------------------------

Output from './Build test':

test.pl ........................ skipped: Not interactive: $ENV{PERL_MM_NONINTERACTIVE}='' $ENV{AUTOMATED_TESTING}='1'
t/00test-pod.t ................. ok
Unable to get Terminal Size. The TIOCGWINSZ ioctl didn't work. The COLUMNS and LINES environment variables didn't work. The resize program didn't work. The stty program didn't work. at /home/njh/.cpan/build/Term-ReadLine-Perl5-1.45-16/blib/lib/Term/ReadLine/Perl5/readline.pm line 2937.
Unable to get Terminal Size. The TIOCGWINSZ ioctl didn't work. The COLUMNS and LINES environment variables didn't work. The resize program didn't work. The stty program didn't work. at /home/njh/.cpan/build/Term-ReadLine-Perl5-1.45-16/blib/lib/Term/ReadLine/Perl5/readline.pm line 2937.
t/01test-OO-compile.t .......... ok
Unable to get Terminal Size. The TIOCGWINSZ ioctl didn't work. The COLUMNS and LINES environment variables didn't work. The resize program didn't work. The stty program didn't work. at /home/njh/.cpan/build/Term-ReadLine-Perl5-1.45-16/blib/lib/Term/ReadLine/Perl5/readline.pm line 2937.
t/02test-OO-history-max-len.t .. ok
t/10test-basic.t ............... ok
Unable to get Terminal Size. The TIOCGWINSZ ioctl didn't work. The COLUMNS and LINES environment variables didn't work. The resize program didn't work. The stty program didn't work. at /home/njh/.cpan/build/Term-ReadLine-Perl5-1.45-16/blib/lib/Term/ReadLine/Perl5/readline.pm line 2937.
t/10test-common.t .............. ok
t/10test-changecase.t .......... ok
t/10test-filelist.t ............ ok
t/10test-history.t ............. ok
t/10test-motion.t .............. ok
t/10test-readline.t ............ ok
t/15test-unescape.t ............ ok
Unable to get Terminal Size. The TIOCGWINSZ ioctl didn't work. The COLUMNS and LINES environment variables didn't work. The resize program didn't work. The stty program didn't work. at /home/njh/.cpan/build/Term-ReadLine-Perl5-1.45-16/blib/lib/Term/ReadLine/Perl5/readline.pm line 2937.
t/20test-read-input-file.t ..... ok
All tests successful.
Files=13, Tests=146,  0 wallclock secs ( 0.07 usr  0.02 sys +  1.30 cusr  0.12 csys =  1.51 CPU)
Result: PASS

------------------------------
PREREQUISITES
------------------------------

Prerequisite modules loaded:

requires:

    Module                          Need     Have    
    ------------------------------- -------- --------
    Class::Accessor::Lite           0.05     0.08    
    File::HomeDir                   0.81     1.00    
    File::Spec                      0        3.33    
    IO::Handle                      0        1.31    
    perl                            5.008005 5.014004
    POSIX                           0        1.24    
    Term::ReadKey                   2.3      2.37    
    Text::VisualWidth::PP           0        0.04    
    Unicode::EastAsianWidth::Detect 0.03     0.03    
    version                         0        0.88    

build_requires:

    Module                          Need     Have    
    ------------------------------- -------- --------
    File::HomeDir                   0.81     1.00    
    File::Spec                      0        3.33    
    Term::Cap                       0        1.12    
    Term::ReadKey                   2.3      2.37    
    Test::More                      0.98     1.001014

configure_requires:

    Module                          Need     Have    
    ------------------------------- -------- --------
    Module::Build                   0.4004   0.4224  
    perl                            5.008005 5.014004


------------------------------
ENVIRONMENT AND OTHER CONTEXT
------------------------------

Environment variables:

    AUTOMATED_TESTING = 1
    HARNESS_OPTIONS = j2
    LANG = en_US.UTF-8
    PATH = /home/njh/perl5/perlbrew/bin:/home/njh/perl5/perlbrew/perls/perl-5.14.4/bin:/home/njh/perl5/perlbrew/bin:/usr/bin:/bin
    PERL5LIB = /home/njh/.cpan/build/Unicode-EastAsianWidth-Detect-0.03-12/blib/arch:/home/njh/.cpan/build/Unicode-EastAsianWidth-Detect-0.03-12/blib/lib:/home/njh/.cpan/build/Text-VisualWidth-PP-0.04-12/blib/arch:/home/njh/.cpan/build/Text-VisualWidth-PP-0.04-12/blib/lib:/home/njh/.cpan/build/Unicode-EastAsianWidth-1.33-12/blib/arch:/home/njh/.cpan/build/Unicode-EastAsianWidth-1.33-12/blib/lib:/home/njh/.cpan/build/TermReadKey-2.37-9/blib/arch:/home/njh/.cpan/build/TermReadKey-2.37-9/blib/lib:/home/njh/.cpan/build/Class-Accessor-Lite-0.08-12/blib/arch:/home/njh/.cpan/build/Class-Accessor-Lite-0.08-12/blib/lib:/home/njh/.cpan/build/Module-Build-0.4224-4/blib/arch:/home/njh/.cpan/build/Module-Build-0.4224-4/blib/lib
    PERL5OPT = 
    PERL5_CPANPLUS_IS_RUNNING = 29588
    PERL5_CPAN_IS_RUNNING = 29588
    PERLBREW_BASHRC_VERSION = 0.73
    PERLBREW_HOME = /home/njh/.perlbrew
    PERLBREW_LIB = 
    PERLBREW_MANPATH = /home/njh/perl5/perlbrew/perls/perl-5.14.4/man
    PERLBREW_PATH = /home/njh/perl5/perlbrew/bin:/home/njh/perl5/perlbrew/perls/perl-5.14.4/bin
    PERLBREW_PERL = perl-5.14.4
    PERLBREW_ROOT = /home/njh/perl5/perlbrew
    PERLBREW_VERSION = 0.73
    PERL_LOCAL_LIB_ROOT = 
    SHELL = /bin/sh

Perl special variables (and OS-specific diagnostics, for MSWin32):

    $^X = /home/njh/perl5/perlbrew/perls/perl-5.14.4/bin/perl
    $UID/$EUID = 1000 / 1000
    $GID = 1000 4 24 25 29 30 44 46 108 1000
    $EGID = 1000 4 24 25 29 30 44 46 108 1000

Perl module toolchain versions installed:

    Module              Have    
    ------------------- --------
    CPAN                2.16    
    CPAN::Meta          2.143240
    Cwd                 3.36    
    ExtUtils::CBuilder  0.280203
    ExtUtils::Command   7.18    
    ExtUtils::Install   1.56    
    ExtUtils::MakeMaker 7.18    
    ExtUtils::Manifest  1.70    
    ExtUtils::ParseXS   2.2210  
    File::Spec          3.33    
    JSON                n/a     
    JSON::PP            2.27203 
    Module::Build       0.4224  
    Module::Signature   n/a     
    Parse::CPAN::Meta   1.4414  
    Test::Harness       3.35    
    Test::More          1.001014
    YAML                1.23    
    YAML::Syck          1.30    
    version             0.88    


--

Summary of my perl5 (revision 5 version 14 subversion 4) configuration:
   
  Platform:
    osname=linux, osvers=4.2.0-1-686-pae, archname=i686-linux-thread-multi
    uname='linux zack 4.2.0-1-686-pae #1 smp debian 4.2.6-1 (2015-11-10) i686 gnulinux '
    config_args='-de -Dprefix=/home/njh/perl5/perlbrew/perls/perl-5.14.4 -Duseithreads -Dusemultiplicity -Dusedevel -Accflags= -Aeval:scriptdir=/home/njh/perl5/perlbrew/perls/perl-5.14.4/bin'
    hint=recommended, useposix=true, d_sigaction=define
    useithreads=define, usemultiplicity=define
    useperlio=define, d_sfio=undef, uselargefiles=define, usesocks=undef
    use64bitint=undef, use64bitall=undef, uselongdouble=undef
    usemymalloc=n, bincompat5005=undef
  Compiler:
    cc='cc', ccflags ='-D_REENTRANT -D_GNU_SOURCE -fno-strict-aliasing -pipe -fstack-protector -I/usr/local/include -D_LARGEFILE_SOURCE -D_FILE_OFFSET_BITS=64',
    optimize='-O2',
    cppflags='-D_REENTRANT -D_GNU_SOURCE -fno-strict-aliasing -pipe -fstack-protector -I/usr/local/include'
    ccversion='', gccversion='5.2.1 20151121', gccosandvers=''
    intsize=4, longsize=4, ptrsize=4, doublesize=8, byteorder=1234
    d_longlong=define, longlongsize=8, d_longdbl=define, longdblsize=12
    ivtype='long', ivsize=4, nvtype='double', nvsize=8, Off_t='off_t', lseeksize=8
    alignbytes=4, prototype=define
  Linker and Libraries:
    ld='cc', ldflags =' -fstack-protector -L/usr/local/lib'
    libpth=/usr/local/lib /lib/i386-linux-gnu /lib/../lib /usr/lib/i386-linux-gnu /usr/lib/../lib /lib /usr/lib
    libs=-lnsl -lgdbm -ldb -ldl -lm -lcrypt -lutil -lpthread -lc -lgdbm_compat
    perllibs=-lnsl -ldl -lm -lcrypt -lutil -lpthread -lc
    libc=libc-2.19.so, so=so, useshrplib=false, libperl=libperl.a
    gnulibc_version='2.19'
  Dynamic Linking:
    dlsrc=dl_dlopen.xs, dlext=so, d_dlsymun=undef, ccdlflags='-Wl,-E'
    cccdlflags='-fPIC', lddlflags='-shared -O2 -L/usr/local/lib -fstack-protector'


Characteristics of this binary (from libperl): 
  Compile-time options: MULTIPLICITY PERL_DONT_CREATE_GVSV
                        PERL_IMPLICIT_CONTEXT PERL_MALLOC_WRAP
                        PERL_PRESERVE_IVUV PERL_USE_DEVEL USE_ITHREADS
                        USE_LARGE_FILES USE_PERLIO USE_PERL_ATOF
                        USE_REENTRANT_API
  Locally applied patches:
	Devel::PatchPerl 1.38
  Built under linux
  Compiled at Nov 24 2015 02:14:02
  %ENV:
    PERL5LIB="/home/njh/.cpan/build/Unicode-EastAsianWidth-Detect-0.03-12/blib/arch:/home/njh/.cpan/build/Unicode-EastAsianWidth-Detect-0.03-12/blib/lib:/home/njh/.cpan/build/Text-VisualWidth-PP-0.04-12/blib/arch:/home/njh/.cpan/build/Text-VisualWidth-PP-0.04-12/blib/lib:/home/njh/.cpan/build/Unicode-EastAsianWidth-1.33-12/blib/arch:/home/njh/.cpan/build/Unicode-EastAsianWidth-1.33-12/blib/lib:/home/njh/.cpan/build/TermReadKey-2.37-9/blib/arch:/home/njh/.cpan/build/TermReadKey-2.37-9/blib/lib:/home/njh/.cpan/build/Class-Accessor-Lite-0.08-12/blib/arch:/home/njh/.cpan/build/Class-Accessor-Lite-0.08-12/blib/lib:/home/njh/.cpan/build/Module-Build-0.4224-4/blib/arch:/home/njh/.cpan/build/Module-Build-0.4224-4/blib/lib"
    PERL5OPT=""
    PERL5_CPANPLUS_IS_RUNNING="29588"
    PERL5_CPAN_IS_RUNNING="29588"
    PERLBREW_BASHRC_VERSION="0.73"
    PERLBREW_HOME="/home/njh/.perlbrew"
    PERLBREW_LIB=""
    PERLBREW_MANPATH="/home/njh/perl5/perlbrew/perls/perl-5.14.4/man"
    PERLBREW_PATH="/home/njh/perl5/perlbrew/bin:/home/njh/perl5/perlbrew/perls/perl-5.14.4/bin"
    PERLBREW_PERL="perl-5.14.4"
    PERLBREW_ROOT="/home/njh/perl5/perlbrew"
    PERLBREW_VERSION="0.73"
    PERL_LOCAL_LIB_ROOT=""
  @INC:
    /home/njh/.cpan/build/Unicode-EastAsianWidth-Detect-0.03-12/blib/arch
    /home/njh/.cpan/build/Unicode-EastAsianWidth-Detect-0.03-12/blib/lib
    /home/njh/.cpan/build/Text-VisualWidth-PP-0.04-12/blib/arch
    /home/njh/.cpan/build/Text-VisualWidth-PP-0.04-12/blib/lib
    /home/njh/.cpan/build/Unicode-EastAsianWidth-1.33-12/blib/arch
    /home/njh/.cpan/build/Unicode-EastAsianWidth-1.33-12/blib/lib
    /home/njh/.cpan/build/TermReadKey-2.37-9/blib/arch
    /home/njh/.cpan/build/TermReadKey-2.37-9/blib/lib
    /home/njh/.cpan/build/Class-Accessor-Lite-0.08-12/blib/arch
    /home/njh/.cpan/build/Class-Accessor-Lite-0.08-12/blib/lib
    /home/njh/.cpan/build/Module-Build-0.4224-4/blib/arch
    /home/njh/.cpan/build/Module-Build-0.4224-4/blib/lib
    /home/njh/perl5/perlbrew/perls/perl-5.14.4/lib/site_perl/5.14.4/i686-linux-thread-multi
    /home/njh/perl5/perlbrew/perls/perl-5.14.4/lib/site_perl/5.14.4
    /home/njh/perl5/perlbrew/perls/perl-5.14.4/lib/5.14.4/i686-linux-thread-multi
    /home/njh/perl5/perlbrew/perls/perl-5.14.4/lib/5.14.4
    .