Graphics-Grid v0.001 Perl 5 v5.34.1 x86_64-linux-thread-multi

Status
Pass
From
Andreas J. König (ANDK)
Dist
Graphics-Grid v0.001
Platform
Perl 5 v5.34.1 x86_64-linux-thread-multi
Date
2023-02-09 03:38:40
ID
3e7b7bc6-a82b-11ed-a2e0-e1320ca68ca3
This distribution has been tested as part of the CPAN Testers
project, supporting the Perl programming language.  See
http://wiki.cpantesters.org/ for more information or email
questions to cpan-testers-discuss@perl.org


--
Dear Stephan Loyd,

This is a computer-generated report for Graphics-Grid-0.001
on perl 5.34.1, created by CPAN-Reporter-1.2018.

Thank you for uploading your work to CPAN.  Congratulations!
All tests were successful.

Sections of this report:

    * Tester comments
    * Program output
    * Prerequisites
    * Environment and other context

------------------------------
TESTER COMMENTS
------------------------------

Additional comments from tester:

this report is from an automated smoke testing program
and was not reviewed by a human for accuracy

------------------------------
PROGRAM OUTPUT
------------------------------

Output from '/usr/bin/make test':

PERL_DL_NONLAZY=1 "/home/sand/src/perl/repoperls/installed-perls/host/k93stretch/v5.34.1/ef9e/bin/perl" "-MExtUtils::Command::MM" "-MTest::Harness" "-e" "undef *Test::Harness::Switches; test_harness(0, 'blib/lib', 'blib/arch')" t/*.t
t/01-unit.t ............. ok
t/02-unit_arithmetic.t .. ok
t/05-gpar.t ............. ok
t/09-util.t ............. ok
t/10-layout.t ........... ok
t/11-viewport.t ......... ok
t/21-circle_grob.t ...... ok
t/22-points_grob.t ...... ok
t/23-polyline_grob.t .... ok
t/24-rect_grob.t ........ ok
t/25-text_grob.t ........ ok
t/26-null_grob.t ........ ok
t/27-zero_grob.t ........ ok
t/30-grill.t ............ ok
t/40-gtree.t ............ ok
t/45-driver.t ........... ok
t/50-grid-vptree.t ...... ok
# $VAR1 = bless( {
#                  'y' => bless( {
#                                  'elems' => 1,
#                                  'value' => [
#                                               '13.0042708333333'
#                                             ],
#                                  'unit' => [
#                                              'cm'
#                                            ]
#                                }, 'Graphics::Grid::Unit' ),
#                  'width' => bless( {
#                                      'unit' => [
#                                                  'cm'
#                                                ],
#                                      'value' => [
#                                                   '2.301875'
#                                                 ],
#                                      'elems' => 1
#                                    }, 'Graphics::Grid::Unit' ),
#                  'height' => bless( {
#                                       'value' => [
#                                                    '0.343958333333333'
#                                                  ],
#                                       'unit' => [
#                                                   'cm'
#                                                 ],
#                                       'elems' => 1
#                                     }, 'Graphics::Grid::Unit' ),
#                  'x' => bless( {
#                                  'elems' => 1,
#                                  'value' => [
#                                               '12.1046875'
#                                             ],
#                                  'unit' => [
#                                              'cm'
#                                            ]
#                                }, 'Graphics::Grid::Unit' )
#                }, 'Graphics::Grid::Extents' );
t/51-extents.t .......... ok
t/90-functions.t ........ ok
t/91-examples.t ......... ok
t/author-critic.t ....... skipped: these tests are for testing by the author
t/author-pod-syntax.t ... skipped: these tests are for testing by the author
All tests successful.
Files=22, Tests=196, 37 wallclock secs ( 0.07 usr  0.03 sys + 27.18 cusr  2.13 csys = 29.41 CPU)
Result: PASS

------------------------------
PREREQUISITES
------------------------------

Prerequisite modules loaded:

requires:

    Module                    Need   Have    
    ------------------------- ------ --------
    boolean                   0      0.46    
    Cairo                     0      1.109   
    Carp                      0      1.52    
    Data::Dumper              0      2.183   
    Eval::Closure             0      0.14    
    Exporter::Tiny            0      1.006000
    feature                   0      1.64    
    Forest::Tree              0      0.10    
    Function::Parameters      2.0    2.001003
    Graphics::Color::RGB      0      0.31    
    Import::Into              0      1.002005
    List::AllUtils            0      0.19    
    Math::Trig                0      1.23    
    Module::Load              0      0.36    
    Moose                     2.1400 2.2202  
    Moose::Role               0      2.2202  
    MooseX::Aliases           0      0.11    
    MooseX::Clone             0      0.06    
    MooseX::LazyRequire       0      0.11    
    MooseX::StrictConstructor 0      0.21    
    namespace::autoclean      0.20   0.29    
    overload                  0      1.33    
    parent                    0      0.239   
    Path::Tiny                0      0.144   
    perl                      5.014  5.034001
    PerlX::Maybe              0      1.202   
    Ref::Util                 0      0.204   
    Safe::Isa                 0      1.000010
    Scalar::Util              0      1.63    
    strict                    0      1.12    
    Type::Library             0      2.002001
    Type::Params              0      2.002001
    Type::Utils               0      2.002001
    Types::Standard           0      2.002001
    utf8                      0      1.24    
    warnings                  0      1.51    

build_requires:

    Module                    Need   Have    
    ------------------------- ------ --------
    Capture::Tiny             0      0.48    
    ExtUtils::MakeMaker       0      7.66    
    File::Temp                0      0.2311  
    Test2::V0                 0      0.000145

configure_requires:

    Module                    Need   Have    
    ------------------------- ------ --------
    ExtUtils::MakeMaker       0      7.66    


------------------------------
ENVIRONMENT AND OTHER CONTEXT
------------------------------

Environment variables:

    AUTOMATED_TESTING = 1
    LANG = en_US.UTF-8
    LANGUAGE = en_US:en
    PATH = /home/sand/bin:/usr/local/bin:/usr/bin:/bin:/usr/games:/usr/local/perl/bin:/usr/X11/bin:/sbin:/usr/sbin
    PERL5LIB = 
    PERL5OPT = 
    PERL5_CPANPLUS_IS_RUNNING = 16316
    PERL5_CPAN_IS_RUNNING = 16316
    PERL_CANARY_STABILITY_NOPROMPT = 1
    PERL_MM_USE_DEFAULT = 1
    PERL_USE_UNSAFE_INC = 1
    SHELL = /usr/bin/zsh
    TERM = screen

Perl special variables (and OS-specific diagnostics, for MSWin32):

    $^X = /home/sand/src/perl/repoperls/installed-perls/host/k93stretch/v5.34.1/ef9e/bin/perl
    $UID/$EUID = 1005 / 1005
    $GID = 1005 1005
    $EGID = 1005 1005

Perl module toolchain versions installed:

    Module              Have    
    ------------------- --------
    CPAN                2.34    
    CPAN::Meta          2.150010
    Cwd                 3.80    
    ExtUtils::CBuilder  0.280236
    ExtUtils::Command   7.66    
    ExtUtils::Install   2.22    
    ExtUtils::MakeMaker 7.66    
    ExtUtils::Manifest  1.73    
    ExtUtils::ParseXS   3.44    
    File::Spec          3.80    
    JSON                4.10    
    JSON::PP            4.16    
    Module::Build       0.4232  
    Module::Signature   0.88    
    Parse::CPAN::Meta   2.150010
    Test::Harness       3.44    
    Test::More          1.302191
    YAML                1.30    
    YAML::Syck          1.34    
    version             0.9929  


--

Summary of my perl5 (revision 5 version 34 subversion 1) configuration:
  Commit id: 1181cf72936404b890ef41362f533fe2c2626f9b
  Platform:
    osname=linux
    osvers=4.9.0-18-amd64
    archname=x86_64-linux-thread-multi
    uname='linux k93stretch 4.9.0-18-amd64 #1 smp debian 4.9.303-1 (2022-03-07) x86_64 gnulinux '
    config_args='-Dprefix=/home/sand/src/perl/repoperls/installed-perls/host/k93stretch/v5.34.1/ef9e -Dmyhostname=k93stretch -Dinstallusrbinperl=n -Uversiononly -Dusedevel -des -Ui_db -Dlibswanted=cl pthread socket inet nsl gdbm dbm malloc dl ld sun m crypt sec util c cposix posix ucb BSD gdbm_compat -Duseithreads -Uuselongdouble -DEBUGGING=-g'
    hint=recommended
    useposix=true
    d_sigaction=define
    useithreads=define
    usemultiplicity=define
    use64bitint=define
    use64bitall=define
    uselongdouble=undef
    usemymalloc=n
    default_inc_excludes_dot=define
  Compiler:
    cc='cc'
    ccflags ='-D_REENTRANT -D_GNU_SOURCE -fwrapv -fno-strict-aliasing -pipe -fstack-protector-strong -I/usr/local/include -D_LARGEFILE_SOURCE -D_FILE_OFFSET_BITS=64 -D_FORTIFY_SOURCE=2'
    optimize='-O2 -g'
    cppflags='-D_REENTRANT -D_GNU_SOURCE -fwrapv -fno-strict-aliasing -pipe -fstack-protector-strong -I/usr/local/include'
    ccversion=''
    gccversion='6.3.0 20170516'
    gccosandvers=''
    intsize=4
    longsize=8
    ptrsize=8
    doublesize=8
    byteorder=12345678
    doublekind=3
    d_longlong=define
    longlongsize=8
    d_longdbl=define
    longdblsize=16
    longdblkind=3
    ivtype='long'
    ivsize=8
    nvtype='double'
    nvsize=8
    Off_t='off_t'
    lseeksize=8
    alignbytes=8
    prototype=define
  Linker and Libraries:
    ld='cc'
    ldflags =' -fstack-protector-strong -L/usr/local/lib'
    libpth=/usr/local/lib /usr/lib/x86_64-linux-gnu /usr/lib /lib/x86_64-linux-gnu /lib
    libs=-lpthread -lnsl -ldl -lm -lcrypt -lutil -lc
    perllibs=-lpthread -lnsl -ldl -lm -lcrypt -lutil -lc
    libc=libc-2.24.so
    so=so
    useshrplib=false
    libperl=libperl.a
    gnulibc_version='2.24'
  Dynamic Linking:
    dlsrc=dl_dlopen.xs
    dlext=so
    d_dlsymun=undef
    ccdlflags='-Wl,-E'
    cccdlflags='-fPIC'
    lddlflags='-shared -O2 -g -L/usr/local/lib -fstack-protector-strong'


Characteristics of this binary (from libperl): 
  Compile-time options:
    HAS_TIMES
    MULTIPLICITY
    PERLIO_LAYERS
    PERL_COPY_ON_WRITE
    PERL_DONT_CREATE_GVSV
    PERL_IMPLICIT_CONTEXT
    PERL_MALLOC_WRAP
    PERL_OP_PARENT
    PERL_PRESERVE_IVUV
    PERL_USE_DEVEL
    USE_64_BIT_ALL
    USE_64_BIT_INT
    USE_ITHREADS
    USE_LARGE_FILES
    USE_LOCALE
    USE_LOCALE_COLLATE
    USE_LOCALE_CTYPE
    USE_LOCALE_NUMERIC
    USE_LOCALE_TIME
    USE_PERLIO
    USE_PERL_ATOF
    USE_REENTRANT_API
    USE_THREAD_SAFE_LOCALE
  Built under linux
  Compiled at Apr 10 2022 05:24:57
  %ENV:
    PERL5LIB=""
    PERL5OPT=""
    PERL5_CPANPLUS_IS_RUNNING="16316"
    PERL5_CPAN_IS_RUNNING="16316"
    PERL_CANARY_STABILITY_NOPROMPT="1"
    PERL_MM_USE_DEFAULT="1"
    PERL_USE_UNSAFE_INC="1"
  @INC:
    /home/sand/src/perl/repoperls/installed-perls/host/k93stretch/v5.34.1/ef9e/lib/site_perl/5.34.1/x86_64-linux-thread-multi
    /home/sand/src/perl/repoperls/installed-perls/host/k93stretch/v5.34.1/ef9e/lib/site_perl/5.34.1
    /home/sand/src/perl/repoperls/installed-perls/host/k93stretch/v5.34.1/ef9e/lib/5.34.1/x86_64-linux-thread-multi
    /home/sand/src/perl/repoperls/installed-perls/host/k93stretch/v5.34.1/ef9e/lib/5.34.1
    .