Back
From: metabase:user:322078bc-2aae-11df-837a-5e0a49663a4f
Subject: PASS Benchmark-Timer-0.7107 v5.10.0 Debian GNU/kFreeBSD
Date: 2015-05-10T02:07:00Z
This distribution has been tested as part of the CPAN Testers
project, supporting the Perl programming language. See
http://wiki.cpantesters.org/ for more information or email
questions to cpan-testers-discuss@perl.org
--
Dear DCOPPIT,
This is a computer-generated error report created automatically by
CPANPLUS, version 0.9152. Testers personal comments may appear
at the end of this report.
Thank you for uploading your work to CPAN. Congratulations!
All tests were successful.
TEST RESULTS:
Below is the error stack from stage 'make test':
PERL_DL_NONLAZY=1 "/home/cpan/pit/thr/perl-5.10.0/bin/perl" "-MExtUtils::Command::MM" "-MTest::Harness" "-e" "undef *Test::Harness::Switches; test_harness(1, 'blib/lib', 'blib/arch')" t/*.t
t/01_basic.t ........
1..11
ok 1 - use Benchmark::Timer;
ok 2 - Construct Benchmark::Timer
ok 3 - reset
ok 4 - Start/stop a tag
ok 5 - Nonzero single result
ok 6 - Multiple results
ok 7 - 'Array ref results' isa 'ARRAY'
ok 8 - tag data array
ok 9 - 'Array ref data' isa 'ARRAY'
ok 10 - all tags data array
ok 11 - 'all tags data ref' isa 'ARRAY'
ok
t/02_skip.t .........
1..5
ok 1 - Data size two tags
ok 2 - Data size skip 1
ok 3 - Data size 1 trial only
ok 4 - Data size no trials
ok 5 - Data size no trials (n+1)
ok
t/03_statistical.t .. skipped: Statistics::PointEstimation is not installed
t/04_reports.t ......
1..10
ok 1 - Start/stop a tag
ok 2 - Single timing report
ok 3 - Multiple timing report
ok 4 - Multiple timing report--scalar
ok 5 - Multiple timing report--hash
ok 6 - Single timing report--last tag used
ok 7 - Multiple timing report--scalar
ok 8 - Multiple timing report--hash
ok 9 - Multiple timing report--hash element 1
ok 10 - Multiple timing report--hash element 2
ok
t/99_errors.t .......
1..6
ok 1 - Must call start first
ok 2 - Out of sync
ok 3 - Argument skip 1
ok 4 - Argument skip 2
ok 5 - Argument skip 3
ok 6 - Invalid argument
ok
t/pod.t ............. skipped: Test::Pod 1.00 required for testing POD
All tests successful.
Files=6, Tests=32, 1 wallclock secs ( 0.03 usr 0.02 sys + 0.15 cusr 0.02 csys = 0.22 CPU)
Result: PASS
PREREQUISITES:
Here is a list of prerequisites you specified and versions we
managed to load:
Module Name Have Want
ExtUtils::MakeMaker 7.04 6.36
Test::More 1.001014 0
Time::HiRes 1.9711 0
URI::Escape 3.31 0
Perl module toolchain versions installed:
Module Name Have
CPANPLUS 0.9152
CPANPLUS::Dist::Build 0.78
Cwd 3.47
ExtUtils::CBuilder 0.280220
ExtUtils::Command 1.16
ExtUtils::Install 2.04
ExtUtils::MakeMaker 7.04
ExtUtils::Manifest 1.70
ExtUtils::ParseXS 3.24
File::Spec 3.47
Module::Build 0.4211
Pod::Parser 1.35
Pod::Simple 3.28
Test::Harness 3.35
Test::More 1.001014
version 0.9912
******************************** NOTE ********************************
The comments above are created mechanically, possibly without manual
checking by the sender. As there are many people performing automatic
tests on each upload to CPAN, it is likely that you will receive
identical messages about the same problem.
If you believe that the message is mistaken, please reply to the first
one with correction and/or additional informations, and do not take
it personally. We appreciate your patience. :)
**********************************************************************
Additional comments:
This report was machine-generated by CPANPLUS::Dist::YACSmoke 0.90.
Powered by minismokebox version 0.58
------------------------------
ENVIRONMENT AND OTHER CONTEXT
------------------------------
Environment variables:
AUTOMATED_TESTING = 1
LANG = en_GB.UTF-8
LANGUAGE = en_GB:en
NONINTERACTIVE_TESTING = 1
PATH = /usr/local/bin:/usr/bin:/bin:/usr/local/games:/usr/games
PERL5LIB = :/home/cpan/pit/thr/conf/perl-5.10.0/.cpanplus/5.10.0/build/URI-1.67/blib/lib:/home/cpan/pit/thr/conf/perl-5.10.0/.cpanplus/5.10.0/build/URI-1.67/blib/arch:/home/cpan/pit/thr/conf/perl-5.10.0/.cpanplus/5.10.0/build/Benchmark-Timer-0.7107/blib/lib:/home/cpan/pit/thr/conf/perl-5.10.0/.cpanplus/5.10.0/build/Benchmark-Timer-0.7107/blib/arch
PERL5_CPANPLUS_IS_RUNNING = 78114
PERL5_CPANPLUS_IS_VERSION = 0.9152
PERL5_MINISMOKEBOX = 0.58
PERL5_YACSMOKE_BASE = /home/cpan/pit/thr/conf/perl-5.10.0
PERL_EXTUTILS_AUTOINSTALL = --defaultdeps
PERL_MM_USE_DEFAULT = 1
SHELL = /bin/bash
TERM = screen
Perl special variables (and OS-specific diagnostics, for MSWin32):
Perl: $^X = /home/cpan/pit/thr/perl-5.10.0/bin/perl
UID: $< = 1001
EUID: $> = 1001
GID: $( = 1001 1001
EGID: $) = 1001 1001
-------------------------------
--
Summary of my perl5 (revision 5 version 10 subversion 0) configuration:
Platform:
osname=gnukfreebsd, osvers=8.1-1-686, archname=i686-gnukfreebsd-thread-multi
uname='gnukfreebsd kaiser 8.1-1-686 #0 wed feb 23 16:08:54 utc 2011 i686 i386 amd athlon(tm) neo x2 dual core processor 6850e gnukfreebsd '
config_args='-des -Dprefix=/home/cpan/pit/thr/perl-5.10.0 -Dusethreads'
hint=recommended, useposix=true, d_sigaction=define
useithreads=define, usemultiplicity=define
useperlio=define, d_sfio=undef, uselargefiles=define, usesocks=undef
use64bitint=undef, use64bitall=undef, uselongdouble=undef
usemymalloc=n, bincompat5005=undef
Compiler:
cc='cc', ccflags ='-D_REENTRANT -D_GNU_SOURCE -DTHREADS_HAVE_PIDS -fno-strict-aliasing -pipe -I/usr/local/include -D_LARGEFILE_SOURCE -D_FILE_OFFSET_BITS=64',
optimize='-O2',
cppflags='-D_REENTRANT -D_GNU_SOURCE -DTHREADS_HAVE_PIDS -fno-strict-aliasing -pipe -I/usr/local/include'
ccversion='', gccversion='4.4.5', gccosandvers=''
intsize=4, longsize=4, ptrsize=4, doublesize=8, byteorder=1234
d_longlong=define, longlongsize=8, d_longdbl=define, longdblsize=12
ivtype='long', ivsize=4, nvtype='double', nvsize=8, Off_t='off_t', lseeksize=8
alignbytes=4, prototype=define
Linker and Libraries:
ld='cc', ldflags =' -L/usr/local/lib'
libpth=/usr/local/lib /lib /usr/lib
libs=-lnsl -lgdbm -ldb -ldl -lm -lcrypt -lutil -lpthread -lc
perllibs=-lnsl -ldl -lm -lcrypt -lutil -lpthread -lc
libc=, so=so, useshrplib=false, libperl=libperl.a
gnulibc_version='2.11.2'
Dynamic Linking:
dlsrc=dl_dlopen.xs, dlext=so, d_dlsymun=undef, ccdlflags='-Wl,-E'
cccdlflags='-fpic', lddlflags='-shared -L/usr/local/lib'
Characteristics of this binary (from libperl):
Compile-time options: MULTIPLICITY PERL_DONT_CREATE_GVSV
PERL_IMPLICIT_CONTEXT PERL_MALLOC_WRAP
THREADS_HAVE_PIDS USE_ITHREADS USE_LARGE_FILES
USE_PERLIO USE_REENTRANT_API
Built under gnukfreebsd
Compiled at Aug 23 2011 16:45:15
%ENV:
PERL5LIB=":/home/cpan/pit/thr/conf/perl-5.10.0/.cpanplus/5.10.0/build/URI-1.67/blib/lib:/home/cpan/pit/thr/conf/perl-5.10.0/.cpanplus/5.10.0/build/URI-1.67/blib/arch:/home/cpan/pit/thr/conf/perl-5.10.0/.cpanplus/5.10.0/build/Benchmark-Timer-0.7107/blib/lib:/home/cpan/pit/thr/conf/perl-5.10.0/.cpanplus/5.10.0/build/Benchmark-Timer-0.7107/blib/arch"
PERL5_CPANPLUS_IS_RUNNING="78114"
PERL5_CPANPLUS_IS_VERSION="0.9152"
PERL5_MINISMOKEBOX="0.58"
PERL5_YACSMOKE_BASE="/home/cpan/pit/thr/conf/perl-5.10.0"
PERL_EXTUTILS_AUTOINSTALL="--defaultdeps"
PERL_MM_USE_DEFAULT="1"
@INC:
/home/cpan/pit/thr/conf/perl-5.10.0/.cpanplus/5.10.0/build/URI-1.67/blib/lib
/home/cpan/pit/thr/conf/perl-5.10.0/.cpanplus/5.10.0/build/URI-1.67/blib/arch
/home/cpan/pit/thr/conf/perl-5.10.0/.cpanplus/5.10.0/build/Benchmark-Timer-0.7107/blib/lib
/home/cpan/pit/thr/conf/perl-5.10.0/.cpanplus/5.10.0/build/Benchmark-Timer-0.7107/blib/arch
/home/cpan/pit/thr/perl-5.10.0/lib/5.10.0/i686-gnukfreebsd-thread-multi
/home/cpan/pit/thr/perl-5.10.0/lib/5.10.0
/home/cpan/pit/thr/perl-5.10.0/lib/site_perl/5.10.0/i686-gnukfreebsd-thread-multi
/home/cpan/pit/thr/perl-5.10.0/lib/site_perl/5.10.0
.