XML-Invisible v0.07 Perl 5 v5.41.8 x86_64-linux
- Status
- Pass
- From
- Carlos Guevara
- Dist
-
XML-Invisible v0.07
- Platform
- Perl 5 v5.41.8 x86_64-linux
- Date
- 2024-12-29 14:07:30
- ID
- 3e35ddb8-c5ee-11ef-bf5e-80b3931bb4b9
This distribution has been tested as part of the CPAN Testers
project, supporting the Perl programming language. See
http://wiki.cpantesters.org/ for more information or email
questions to cpan-testers-discuss@perl.org
--
Dear Ed J,
This is a computer-generated report for XML-Invisible-0.07
on perl 5.41.8, created by CPAN-Reporter-1.2020.
Thank you for uploading your work to CPAN. Congratulations!
All tests were successful.
Sections of this report:
* Tester comments
* Program output
* Prerequisites
* Environment and other context
------------------------------
TESTER COMMENTS
------------------------------
Additional comments from tester:
this report is from an automated smoke testing program
and was not reviewed by a human for accuracy
------------------------------
PROGRAM OUTPUT
------------------------------
Output from '/usr/bin/make test':
PERL_DL_NONLAZY=1 "/home/cpan/bin/perl/bin/perl5.41.8" "-MExtUtils::Command::MM" "-MTest::Harness" "-e" "undef *Test::Harness::Switches; test_harness(0, 'blib/lib', 'blib/arch')" t/*.t
#
# Versions for all modules listed in MYMETA.json (including optional ones):
#
# === Configure Requires ===
#
# Module Want Have Where Howbig
# ------------------- ---- ---- ------------------------------ ------
# ExtUtils::MakeMaker 6.64 7.70 /home/cpan/bin/perl/lib/5.41.8 109260
#
# === Build Requires ===
#
# Module Want Have Where Howbig
# ------------------- ---- ---- ------------------------------ ------
# ExtUtils::MakeMaker any 7.70 /home/cpan/bin/perl/lib/5.41.8 109260
#
# === Test Requires ===
#
# Module Want Have Where Howbig
# -------------- ---- -------- ---------------------------------------- ------
# Import::Into any 1.002005 /home/cpan/bin/perl/lib/site_perl/5.41.8 8200
# Test::More 0.88 1.302207 /home/cpan/bin/perl/lib/site_perl/5.41.8 54460
# Test::Snapshot 0.02 0.06 /home/cpan/bin/perl/lib/site_perl/5.41.8 5216
#
# === Runtime Requires ===
#
# Module Want Have Where Howbig
# ------ ---- ---- ---------------------------------------- ------
# Pegex 0.64 0.75 /home/cpan/bin/perl/lib/site_perl/5.41.8 750
#
# === Runtime Suggests ===
#
# Module Want Have Where Howbig
# ----------- ---- ------ ----------------------------------------------------- ------
# XML::LibXML any 2.0210 /home/cpan/bin/perl/lib/site_perl/5.41.8/x86_64-linux 66344
#
t/00-report-prereqs.t .. ok
t/language-parser.t .... ok
t/reverse.t ............ ok
All tests successful.
Files=3, Tests=19, 1 wallclock secs ( 0.02 usr 0.01 sys + 0.26 cusr 0.04 csys = 0.33 CPU)
Result: PASS
------------------------------
PREREQUISITES
------------------------------
Prerequisite modules loaded:
requires:
Module Need Have
------------------- -------- --------
Pegex 0.64 0.75
perl 5.008003 5.041008
build_requires:
Module Need Have
------------------- -------- --------
ExtUtils::MakeMaker 0 7.70
Import::Into 0 1.002005
Test::More 0.88 1.302207
Test::Snapshot 0.02 0.06
configure_requires:
Module Need Have
------------------- -------- --------
ExtUtils::MakeMaker 6.64 7.70
------------------------------
ENVIRONMENT AND OTHER CONTEXT
------------------------------
Environment variables:
AUTOMATED_TESTING = 1
DATE_MANIP_TEST_DM5 = 1
LANG = en_US.UTF-8
LC_ALL = C
LC_COLLATE = C
NONINTERACTIVE_TESTING = 1
NO_NETWORK_TESTING = 1
PATH = /home/cpan/bin/perl/bin:/home/cpan/bin:/home/cpan/bin:/usr/local/sbin:/usr/local/bin:/usr/bin:/usr/sbin:/sbin:/bin
PERL5LIB =
PERL5OPT =
PERL5_CPANPLUS_IS_RUNNING = 21511
PERL5_CPAN_IS_RUNNING = 21511
PERL_MM_USE_DEFAULT = 1
PERL_USE_UNSAFE_INC = 1
SHELL = /bin/bash
TERM = screen
TMPDIR = /home/cpan/tmp
Perl special variables (and OS-specific diagnostics, for MSWin32):
$^X = /home/cpan/bin/perl/bin/perl5.41.8
$UID/$EUID = 1001 / 1001
$GID = 1001 1001
$EGID = 1001 1001
Perl module toolchain versions installed:
Module Have
------------------- --------
CPAN 2.38
CPAN::Meta 2.150010
Cwd 3.92
ExtUtils::CBuilder 0.280240
ExtUtils::Command 7.70
ExtUtils::Install 2.22
ExtUtils::MakeMaker 7.70
ExtUtils::Manifest 1.75
ExtUtils::ParseXS 3.56
File::Spec 3.93
JSON 4.10
JSON::PP 4.16
Module::Build 0.4234
Module::Signature 0.89
Parse::CPAN::Meta 2.150010
Test2 1.302207
Test::Harness 3.50
Test::More 1.302207
YAML 1.31
YAML::Syck 1.34
version 0.9933
--
Summary of my perl5 (revision 5 version 41 subversion 8) configuration:
Commit id: 8f5aa2238548f7e510cad92826b8d433860d2467
Platform:
osname=linux
osvers=6.12.6_3
archname=x86_64-linux
uname='linux cjg-void 6.12.6_3 #1 smp preempt_dynamic sat dec 21 23:48:13 utc 2024 x86_64 gnulinux '
config_args='-des -Dprefix=/home/cpan/bin/perl -Dscriptdir=/home/cpan/bin/perl/bin -Dusedevel -Duse64bitall'
hint=recommended
useposix=true
d_sigaction=define
useithreads=undef
usemultiplicity=undef
use64bitint=define
use64bitall=define
uselongdouble=undef
usemymalloc=n
default_inc_excludes_dot=define
Compiler:
cc='cc'
ccflags ='-D_GNU_SOURCE -fwrapv -fno-strict-aliasing -pipe -fstack-protector-strong -I/usr/local/include -D_LARGEFILE_SOURCE -D_FILE_OFFSET_BITS=64 -D_FORTIFY_SOURCE=2'
optimize='-O2'
cppflags='-D_GNU_SOURCE -fwrapv -fno-strict-aliasing -pipe -fstack-protector-strong -I/usr/local/include'
ccversion=''
gccversion='13.2.0'
gccosandvers=''
intsize=4
longsize=8
ptrsize=8
doublesize=8
byteorder=12345678
doublekind=3
d_longlong=define
longlongsize=8
d_longdbl=define
longdblsize=16
longdblkind=3
ivtype='long'
ivsize=8
nvtype='double'
nvsize=8
Off_t='off_t'
lseeksize=8
alignbytes=8
prototype=define
Linker and Libraries:
ld='cc'
ldflags =' -fstack-protector-strong -L/usr/local/lib'
libpth=/usr/local/lib /usr/lib
libs=-lpthread -ldb -ldl -lm -lcrypt -lutil -lc
perllibs=-lpthread -ldl -lm -lcrypt -lutil -lc
libc=/lib/../lib64/libc.so
so=so
useshrplib=false
libperl=libperl.a
gnulibc_version=''
Dynamic Linking:
dlsrc=dl_dlopen.xs
dlext=so
d_dlsymun=undef
ccdlflags='-Wl,-E'
cccdlflags='-fPIC'
lddlflags='-shared -O2 -L/usr/local/lib -fstack-protector-strong'
Characteristics of this binary (from libperl):
Compile-time options:
HAS_LONG_DOUBLE
HAS_STRTOLD
HAS_TIMES
PERLIO_LAYERS
PERL_COPY_ON_WRITE
PERL_DONT_CREATE_GVSV
PERL_HASH_FUNC_SIPHASH13
PERL_HASH_USE_SBOX32
PERL_MALLOC_WRAP
PERL_OP_PARENT
PERL_PRESERVE_IVUV
PERL_USE_DEVEL
PERL_USE_SAFE_PUTENV
USE_64_BIT_ALL
USE_64_BIT_INT
USE_LARGE_FILES
USE_LOCALE
USE_LOCALE_COLLATE
USE_LOCALE_CTYPE
USE_LOCALE_NUMERIC
USE_LOCALE_TIME
USE_PERLIO
USE_PERL_ATOF
Built under linux
Compiled at Dec 28 2024 23:47:59
%ENV:
PERL5LIB=""
PERL5OPT=""
PERL5_CPANPLUS_IS_RUNNING="21511"
PERL5_CPAN_IS_RUNNING="21511"
PERL_MM_USE_DEFAULT="1"
PERL_USE_UNSAFE_INC="1"
@INC:
/home/cpan/bin/perl/lib/site_perl/5.41.8/x86_64-linux
/home/cpan/bin/perl/lib/site_perl/5.41.8
/home/cpan/bin/perl/lib/5.41.8/x86_64-linux
/home/cpan/bin/perl/lib/5.41.8
.