Report for JIRA-Client-REST-0.06

Back
From: metabase:user:320bfe00-2aae-11df-837a-5e0a49663a4f
Subject: UNKNOWN JIRA-Client-REST-0.06 v5.15.4 GNU/Linux
Date: 2011-11-04T17:41:36Z

This distribution has been tested as part of the CPAN Testers
project, supporting the Perl programming language.  See
http://wiki.cpantesters.org/ for more information or email
questions to cpan-testers-discuss@perl.org


--
Dear Cory G Watson,

This is a computer-generated report for JIRA-Client-REST-0.06
on perl 5.15.4, created by CPAN-Reporter-1.1902.

Thank you for uploading your work to CPAN.  However, attempting to
test your distribution gave an inconclusive result.

This could be because your distribution had an error during the make/build
stage, did not define tests, tests could not be found, because your tests were
interrupted before they finished, or because the results of the tests could not
be parsed.  You may wish to consult the CPAN Testers Wiki:

http://wiki.cpantesters.org/wiki/CPANAuthorNotes

Sections of this report:

    * Tester comments
    * Program output
    * Prerequisites
    * Environment and other context

------------------------------
TESTER COMMENTS
------------------------------

Additional comments from tester:

this report is from an automated smoke testing program
and was not reviewed by a human for accuracy

------------------------------
PROGRAM OUTPUT
------------------------------

Output from '/usr/bin/make test':

PERL_DL_NONLAZY=1 /home/sand/src/perl/repoperls/installed-perls/perl/v5.15.4-92-g3cd0620/9980/bin/perl "-MExtUtils::Command::MM" "-e" "test_harness(0, 'blib/lib', 'blib/arch')" t/*.t
Providing an optimized subroutine ref for type constraints is deprecated. Use the inlining feature (inline_as) instead. at /home/src/perl/repoperls/installed-perls/perl/v5.15.4-92-g3cd0620/9980/lib/site_perl/5.15.4/Net/HTTP/Spore/Meta/Method.pm line 13
	Net::HTTP::Spore::Meta::Method::BEGIN() called at /home/src/perl/repoperls/installed-perls/perl/v5.15.4-92-g3cd0620/9980/lib/site_perl/5.15.4/MooseX/Types/URI.pm line 0
	eval {...} called at /home/src/perl/repoperls/installed-perls/perl/v5.15.4-92-g3cd0620/9980/lib/site_perl/5.15.4/MooseX/Types/URI.pm line 0
	require Net/HTTP/Spore/Meta/Method.pm called at /home/src/perl/repoperls/installed-perls/perl/v5.15.4-92-g3cd0620/9980/lib/site_perl/5.15.4/Net/HTTP/Spore/Meta/Method/Spore.pm line 11
	Net::HTTP::Spore::Meta::Method::Spore::BEGIN() called at /home/src/perl/repoperls/installed-perls/perl/v5.15.4-92-g3cd0620/9980/lib/site_perl/5.15.4/MooseX/Types/URI.pm line 0
	eval {...} called at /home/src/perl/repoperls/installed-perls/perl/v5.15.4-92-g3cd0620/9980/lib/site_perl/5.15.4/MooseX/Types/URI.pm line 0
	require Net/HTTP/Spore/Meta/Method/Spore.pm called at /home/src/perl/repoperls/installed-perls/perl/v5.15.4-92-g3cd0620/9980/lib/site_perl/5.15.4/Module/Runtime.pm line 205
	Module::Runtime::require_module('Net::HTTP::Spore::Meta::Method::Spore') called at /home/src/perl/repoperls/installed-perls/perl/v5.15.4-92-g3cd0620/9980/lib/site_perl/5.15.4/Class/Load.pm line 199
	Class::Load::__ANON__() called at /home/src/perl/repoperls/installed-perls/perl/v5.15.4-92-g3cd0620/9980/lib/site_perl/5.15.4/Try/Tiny.pm line 71
	eval {...} called at /home/src/perl/repoperls/installed-perls/perl/v5.15.4-92-g3cd0620/9980/lib/site_perl/5.15.4/Try/Tiny.pm line 67
	Try::Tiny::try('CODE(0x2eb37b0)', 'Try::Tiny::Catch=REF(0x2e8d140)') called at /home/src/perl/repoperls/installed-perls/perl/v5.15.4-92-g3cd0620/9980/lib/site_perl/5.15.4/Class/Load.pm line 205
	Class::Load::try_load_class('Net::HTTP::Spore::Meta::Method::Spore', undef) called at /home/src/perl/repoperls/installed-perls/perl/v5.15.4-92-g3cd0620/9980/lib/site_perl/5.15.4/Class/Load.pm line 64
	Class::Load::load_class('Net::HTTP::Spore::Meta::Method::Spore', undef) called at /home/src/perl/repoperls/installed-perls/perl/v5.15.4-92-g3cd0620/9980/lib/site_perl/5.15.4/x86_64-linux-thread-multi/Moose/Util.pm line 132
	Moose::Util::_apply_all_roles('Moose::Meta::Role=HASH(0x2e9ba78)', undef, 'Net::HTTP::Spore::Meta::Method::Spore') called at /home/src/perl/repoperls/installed-perls/perl/v5.15.4-92-g3cd0620/9980/lib/site_perl/5.15.4/x86_64-linux-thread-multi/Moose/Util.pm line 99
	Moose::Util::apply_all_roles('Moose::Meta::Role=HASH(0x2e9ba78)', 'Net::HTTP::Spore::Meta::Method::Spore') called at /home/src/perl/repoperls/installed-perls/perl/v5.15.4-92-g3cd0620/9980/lib/site_perl/5.15.4/x86_64-linux-thread-multi/Moose/Role.pm line 29
	Moose::Role::with('Moose::Meta::Role=HASH(0x2e9ba78)', 'Net::HTTP::Spore::Meta::Method::Spore') called at /home/src/perl/repoperls/installed-perls/perl/v5.15.4-92-g3cd0620/9980/lib/site_perl/5.15.4/x86_64-linux-thread-multi/Moose/Exporter.pm line 370
	Moose::Role::with('Net::HTTP::Spore::Meta::Method::Spore') called at /home/src/perl/repoperls/installed-perls/perl/v5.15.4-92-g3cd0620/9980/lib/site_perl/5.15.4/Net/HTTP/Spore/Meta/Class.pm line 10
	require Net/HTTP/Spore/Meta/Class.pm called at /home/src/perl/repoperls/installed-perls/perl/v5.15.4-92-g3cd0620/9980/lib/site_perl/5.15.4/Module/Runtime.pm line 205
	Module::Runtime::require_module('Net::HTTP::Spore::Meta::Class') called at /home/src/perl/repoperls/installed-perls/perl/v5.15.4-92-g3cd0620/9980/lib/site_perl/5.15.4/Class/Load.pm line 199
	Class::Load::__ANON__() called at /home/src/perl/repoperls/installed-perls/perl/v5.15.4-92-g3cd0620/9980/lib/site_perl/5.15.4/Try/Tiny.pm line 71
	eval {...} called at /home/src/perl/repoperls/installed-perls/perl/v5.15.4-92-g3cd0620/9980/lib/site_perl/5.15.4/Try/Tiny.pm line 67
	Try::Tiny::try('CODE(0x2e89258)', 'Try::Tiny::Catch=REF(0x2cd9320)') called at /home/src/perl/repoperls/installed-perls/perl/v5.15.4-92-g3cd0620/9980/lib/site_perl/5.15.4/Class/Load.pm line 205
	Class::Load::try_load_class('Net::HTTP::Spore::Meta::Class', undef) called at /home/src/perl/repoperls/installed-perls/perl/v5.15.4-92-g3cd0620/9980/lib/site_perl/5.15.4/Class/Load.pm line 64
	Class::Load::load_class('Net::HTTP::Spore::Meta::Class', undef) called at /home/src/perl/repoperls/installed-perls/perl/v5.15.4-92-g3cd0620/9980/lib/site_perl/5.15.4/x86_64-linux-thread-multi/Moose/Util.pm line 132
	Moose::Util::_apply_all_roles('Moose::Meta::Class=HASH(0x2e89768)', undef, 'Net::HTTP::Spore::Meta::Class') called at /home/src/perl/repoperls/installed-perls/perl/v5.15.4-92-g3cd0620/9980/lib/site_perl/5.15.4/x86_64-linux-thread-multi/Moose/Util.pm line 99
	Moose::Util::apply_all_roles('Moose::Meta::Class=HASH(0x2e89768)', 'Net::HTTP::Spore::Meta::Class') called at /home/src/perl/repoperls/installed-perls/perl/v5.15.4-92-g3cd0620/9980/lib/site_perl/5.15.4/x86_64-linux-thread-multi/Moose/Meta/Class.pm line 104
	Moose::Meta::Class::create('Moose::Meta::Class', 'Moose::Meta::Class::__ANON__::SERIAL::1', 'roles', 'ARRAY(0x2deb298)', 'weaken', '', 'superclasses', 'ARRAY(0x2e892a0)') called at /home/src/perl/repoperls/installed-perls/perl/v5.15.4-92-g3cd0620/9980/lib/site_perl/5.15.4/x86_64-linux-thread-multi/Class/MOP/Package.pm line 120
	Class::MOP::Package::create_anon('Moose::Meta::Class', 'superclasses', 'ARRAY(0x2e892a0)', 'roles', 'ARRAY(0x2deb298)', 'cache', 1) called at /home/src/perl/repoperls/installed-perls/perl/v5.15.4-92-g3cd0620/9980/lib/site_perl/5.15.4/x86_64-linux-thread-multi/Class/MOP/Class.pm line 474
	Class::MOP::Class::create_anon_class('Moose::Meta::Class', 'superclasses', 'ARRAY(0x2e892a0)', 'roles', 'ARRAY(0x2deb298)', 'cache', 1) called at /home/src/perl/repoperls/installed-perls/perl/v5.15.4-92-g3cd0620/9980/lib/site_perl/5.15.4/x86_64-linux-thread-multi/Moose/Util/MetaRole.pm line 134
	Moose::Util::MetaRole::_make_new_class('Moose::Meta::Class', 'ARRAY(0x2deb298)') called at /home/src/perl/repoperls/installed-perls/perl/v5.15.4-92-g3cd0620/9980/lib/site_perl/5.15.4/x86_64-linux-thread-multi/Moose/Util/MetaRole.pm line 79
	Moose::Util::MetaRole::_make_new_metaclass('Moose::Meta::Class=HASH(0x2e889a0)', 'HASH(0x2d7aed0)', 'class') called at /home/src/perl/repoperls/installed-perls/perl/v5.15.4-92-g3cd0620/9980/lib/site_perl/5.15.4/x86_64-linux-thread-multi/Moose/Util/MetaRole.pm line 28
	Moose::Util::MetaRole::apply_metaroles('for', 'Net::HTTP::Spore::Core', 'class_metaroles', 'HASH(0x2d7aed0)') called at /home/src/perl/repoperls/installed-perls/perl/v5.15.4-92-g3cd0620/9980/lib/site_perl/5.15.4/Net/HTTP/Spore/Meta.pm line 28
	Net::HTTP::Spore::Meta::init_meta('Net::HTTP::Spore::Meta', 'for_class', 'MooseX::Types::URI', 'metaclass', undef, 'meta_name', 'meta') called at /home/src/perl/repoperls/installed-perls/perl/v5.15.4-92-g3cd0620/9980/lib/site_perl/5.15.4/x86_64-linux-thread-multi/Moose/Exporter.pm line 435
	Moose::Exporter::__ANON__('Net::HTTP::Spore::Meta') called at /home/src/perl/repoperls/installed-perls/perl/v5.15.4-92-g3cd0620/9980/lib/site_perl/5.15.4/Net/HTTP/Spore/Core.pm line 6
	Net::HTTP::Spore::Core::BEGIN() called at /home/src/perl/repoperls/installed-perls/perl/v5.15.4-92-g3cd0620/9980/lib/site_perl/5.15.4/MooseX/Types/URI.pm line 0
	eval {...} called at /home/src/perl/repoperls/installed-perls/perl/v5.15.4-92-g3cd0620/9980/lib/site_perl/5.15.4/MooseX/Types/URI.pm line 0
	require Net/HTTP/Spore/Core.pm called at /home/src/perl/repoperls/installed-perls/perl/v5.15.4-92-g3cd0620/9980/lib/site_perl/5.15.4/Net/HTTP/Spore.pm line 13
	Net::HTTP::Spore::BEGIN() called at /home/src/perl/repoperls/installed-perls/perl/v5.15.4-92-g3cd0620/9980/lib/site_perl/5.15.4/MooseX/Types/URI.pm line 0
	eval {...} called at /home/src/perl/repoperls/installed-perls/perl/v5.15.4-92-g3cd0620/9980/lib/site_perl/5.15.4/MooseX/Types/URI.pm line 0
	require Net/HTTP/Spore.pm called at /tmp/loop_over_bdir-4AfIad/JIRA-Client-REST-0.06-OJLZju/blib/lib/JIRA/Client/REST.pm line 10
	JIRA::Client::REST::BEGIN() called at /home/src/perl/repoperls/installed-perls/perl/v5.15.4-92-g3cd0620/9980/lib/site_perl/5.15.4/MooseX/Types/URI.pm line 0
	eval {...} called at /home/src/perl/repoperls/installed-perls/perl/v5.15.4-92-g3cd0620/9980/lib/site_perl/5.15.4/MooseX/Types/URI.pm line 0
	require JIRA/Client/REST.pm called at t/issue.t line 3
	main::BEGIN() called at /home/src/perl/repoperls/installed-perls/perl/v5.15.4-92-g3cd0620/9980/lib/site_perl/5.15.4/MooseX/Types/URI.pm line 0
	eval {...} called at /home/src/perl/repoperls/installed-perls/perl/v5.15.4-92-g3cd0620/9980/lib/site_perl/5.15.4/MooseX/Types/URI.pm line 0
t/issue.t ............... skipped: Set JIRA_CLIENT_REST_URL
Providing an optimized subroutine ref for type constraints is deprecated. Use the inlining feature (inline_as) instead. at /home/src/perl/repoperls/installed-perls/perl/v5.15.4-92-g3cd0620/9980/lib/site_perl/5.15.4/Net/HTTP/Spore/Meta/Method.pm line 13
	Net::HTTP::Spore::Meta::Method::BEGIN() called at /home/src/perl/repoperls/installed-perls/perl/v5.15.4-92-g3cd0620/9980/lib/site_perl/5.15.4/MooseX/Types/URI.pm line 0
	eval {...} called at /home/src/perl/repoperls/installed-perls/perl/v5.15.4-92-g3cd0620/9980/lib/site_perl/5.15.4/MooseX/Types/URI.pm line 0
	require Net/HTTP/Spore/Meta/Method.pm called at /home/src/perl/repoperls/installed-perls/perl/v5.15.4-92-g3cd0620/9980/lib/site_perl/5.15.4/Net/HTTP/Spore/Meta/Method/Spore.pm line 11
	Net::HTTP::Spore::Meta::Method::Spore::BEGIN() called at /home/src/perl/repoperls/installed-perls/perl/v5.15.4-92-g3cd0620/9980/lib/site_perl/5.15.4/MooseX/Types/URI.pm line 0
	eval {...} called at /home/src/perl/repoperls/installed-perls/perl/v5.15.4-92-g3cd0620/9980/lib/site_perl/5.15.4/MooseX/Types/URI.pm line 0
	require Net/HTTP/Spore/Meta/Method/Spore.pm called at /home/src/perl/repoperls/installed-perls/perl/v5.15.4-92-g3cd0620/9980/lib/site_perl/5.15.4/Module/Runtime.pm line 205
	Module::Runtime::require_module('Net::HTTP::Spore::Meta::Method::Spore') called at /home/src/perl/repoperls/installed-perls/perl/v5.15.4-92-g3cd0620/9980/lib/site_perl/5.15.4/Class/Load.pm line 199
	Class::Load::__ANON__() called at /home/src/perl/repoperls/installed-perls/perl/v5.15.4-92-g3cd0620/9980/lib/site_perl/5.15.4/Try/Tiny.pm line 71
	eval {...} called at /home/src/perl/repoperls/installed-perls/perl/v5.15.4-92-g3cd0620/9980/lib/site_perl/5.15.4/Try/Tiny.pm line 67
	Try::Tiny::try('CODE(0x26f56d0)', 'Try::Tiny::Catch=REF(0x26cf080)') called at /home/src/perl/repoperls/installed-perls/perl/v5.15.4-92-g3cd0620/9980/lib/site_perl/5.15.4/Class/Load.pm line 205
	Class::Load::try_load_class('Net::HTTP::Spore::Meta::Method::Spore', undef) called at /home/src/perl/repoperls/installed-perls/perl/v5.15.4-92-g3cd0620/9980/lib/site_perl/5.15.4/Class/Load.pm line 64
	Class::Load::load_class('Net::HTTP::Spore::Meta::Method::Spore', undef) called at /home/src/perl/repoperls/installed-perls/perl/v5.15.4-92-g3cd0620/9980/lib/site_perl/5.15.4/x86_64-linux-thread-multi/Moose/Util.pm line 132
	Moose::Util::_apply_all_roles('Moose::Meta::Role=HASH(0x26dd998)', undef, 'Net::HTTP::Spore::Meta::Method::Spore') called at /home/src/perl/repoperls/installed-perls/perl/v5.15.4-92-g3cd0620/9980/lib/site_perl/5.15.4/x86_64-linux-thread-multi/Moose/Util.pm line 99
	Moose::Util::apply_all_roles('Moose::Meta::Role=HASH(0x26dd998)', 'Net::HTTP::Spore::Meta::Method::Spore') called at /home/src/perl/repoperls/installed-perls/perl/v5.15.4-92-g3cd0620/9980/lib/site_perl/5.15.4/x86_64-linux-thread-multi/Moose/Role.pm line 29
	Moose::Role::with('Moose::Meta::Role=HASH(0x26dd998)', 'Net::HTTP::Spore::Meta::Method::Spore') called at /home/src/perl/repoperls/installed-perls/perl/v5.15.4-92-g3cd0620/9980/lib/site_perl/5.15.4/x86_64-linux-thread-multi/Moose/Exporter.pm line 370
	Moose::Role::with('Net::HTTP::Spore::Meta::Method::Spore') called at /home/src/perl/repoperls/installed-perls/perl/v5.15.4-92-g3cd0620/9980/lib/site_perl/5.15.4/Net/HTTP/Spore/Meta/Class.pm line 10
	require Net/HTTP/Spore/Meta/Class.pm called at /home/src/perl/repoperls/installed-perls/perl/v5.15.4-92-g3cd0620/9980/lib/site_perl/5.15.4/Module/Runtime.pm line 205
	Module::Runtime::require_module('Net::HTTP::Spore::Meta::Class') called at /home/src/perl/repoperls/installed-perls/perl/v5.15.4-92-g3cd0620/9980/lib/site_perl/5.15.4/Class/Load.pm line 199
	Class::Load::__ANON__() called at /home/src/perl/repoperls/installed-perls/perl/v5.15.4-92-g3cd0620/9980/lib/site_perl/5.15.4/Try/Tiny.pm line 71
	eval {...} called at /home/src/perl/repoperls/installed-perls/perl/v5.15.4-92-g3cd0620/9980/lib/site_perl/5.15.4/Try/Tiny.pm line 67
	Try::Tiny::try('CODE(0x26cb198)', 'Try::Tiny::Catch=REF(0x251b2b0)') called at /home/src/perl/repoperls/installed-perls/perl/v5.15.4-92-g3cd0620/9980/lib/site_perl/5.15.4/Class/Load.pm line 205
	Class::Load::try_load_class('Net::HTTP::Spore::Meta::Class', undef) called at /home/src/perl/repoperls/installed-perls/perl/v5.15.4-92-g3cd0620/9980/lib/site_perl/5.15.4/Class/Load.pm line 64
	Class::Load::load_class('Net::HTTP::Spore::Meta::Class', undef) called at /home/src/perl/repoperls/installed-perls/perl/v5.15.4-92-g3cd0620/9980/lib/site_perl/5.15.4/x86_64-linux-thread-multi/Moose/Util.pm line 132
	Moose::Util::_apply_all_roles('Moose::Meta::Class=HASH(0x26cb6a8)', undef, 'Net::HTTP::Spore::Meta::Class') called at /home/src/perl/repoperls/installed-perls/perl/v5.15.4-92-g3cd0620/9980/lib/site_perl/5.15.4/x86_64-linux-thread-multi/Moose/Util.pm line 99
	Moose::Util::apply_all_roles('Moose::Meta::Class=HASH(0x26cb6a8)', 'Net::HTTP::Spore::Meta::Class') called at /home/src/perl/repoperls/installed-perls/perl/v5.15.4-92-g3cd0620/9980/lib/site_perl/5.15.4/x86_64-linux-thread-multi/Moose/Meta/Class.pm line 104
	Moose::Meta::Class::create('Moose::Meta::Class', 'Moose::Meta::Class::__ANON__::SERIAL::1', 'roles', 'ARRAY(0x262d218)', 'weaken', '', 'superclasses', 'ARRAY(0x26cb1e0)') called at /home/src/perl/repoperls/installed-perls/perl/v5.15.4-92-g3cd0620/9980/lib/site_perl/5.15.4/x86_64-linux-thread-multi/Class/MOP/Package.pm line 120
	Class::MOP::Package::create_anon('Moose::Meta::Class', 'superclasses', 'ARRAY(0x26cb1e0)', 'roles', 'ARRAY(0x262d218)', 'cache', 1) called at /home/src/perl/repoperls/installed-perls/perl/v5.15.4-92-g3cd0620/9980/lib/site_perl/5.15.4/x86_64-linux-thread-multi/Class/MOP/Class.pm line 474
	Class::MOP::Class::create_anon_class('Moose::Meta::Class', 'superclasses', 'ARRAY(0x26cb1e0)', 'roles', 'ARRAY(0x262d218)', 'cache', 1) called at /home/src/perl/repoperls/installed-perls/perl/v5.15.4-92-g3cd0620/9980/lib/site_perl/5.15.4/x86_64-linux-thread-multi/Moose/Util/MetaRole.pm line 134
	Moose::Util::MetaRole::_make_new_class('Moose::Meta::Class', 'ARRAY(0x262d218)') called at /home/src/perl/repoperls/installed-perls/perl/v5.15.4-92-g3cd0620/9980/lib/site_perl/5.15.4/x86_64-linux-thread-multi/Moose/Util/MetaRole.pm line 79
	Moose::Util::MetaRole::_make_new_metaclass('Moose::Meta::Class=HASH(0x26ca8e0)', 'HASH(0x25bce20)', 'class') called at /home/src/perl/repoperls/installed-perls/perl/v5.15.4-92-g3cd0620/9980/lib/site_perl/5.15.4/x86_64-linux-thread-multi/Moose/Util/MetaRole.pm line 28
	Moose::Util::MetaRole::apply_metaroles('for', 'Net::HTTP::Spore::Core', 'class_metaroles', 'HASH(0x25bce20)') called at /home/src/perl/repoperls/installed-perls/perl/v5.15.4-92-g3cd0620/9980/lib/site_perl/5.15.4/Net/HTTP/Spore/Meta.pm line 28
	Net::HTTP::Spore::Meta::init_meta('Net::HTTP::Spore::Meta', 'for_class', 'MooseX::Types::URI', 'metaclass', undef, 'meta_name', 'meta') called at /home/src/perl/repoperls/installed-perls/perl/v5.15.4-92-g3cd0620/9980/lib/site_perl/5.15.4/x86_64-linux-thread-multi/Moose/Exporter.pm line 435
	Moose::Exporter::__ANON__('Net::HTTP::Spore::Meta') called at /home/src/perl/repoperls/installed-perls/perl/v5.15.4-92-g3cd0620/9980/lib/site_perl/5.15.4/Net/HTTP/Spore/Core.pm line 6
	Net::HTTP::Spore::Core::BEGIN() called at /home/src/perl/repoperls/installed-perls/perl/v5.15.4-92-g3cd0620/9980/lib/site_perl/5.15.4/MooseX/Types/URI.pm line 0
	eval {...} called at /home/src/perl/repoperls/installed-perls/perl/v5.15.4-92-g3cd0620/9980/lib/site_perl/5.15.4/MooseX/Types/URI.pm line 0
	require Net/HTTP/Spore/Core.pm called at /home/src/perl/repoperls/installed-perls/perl/v5.15.4-92-g3cd0620/9980/lib/site_perl/5.15.4/Net/HTTP/Spore.pm line 13
	Net::HTTP::Spore::BEGIN() called at /home/src/perl/repoperls/installed-perls/perl/v5.15.4-92-g3cd0620/9980/lib/site_perl/5.15.4/MooseX/Types/URI.pm line 0
	eval {...} called at /home/src/perl/repoperls/installed-perls/perl/v5.15.4-92-g3cd0620/9980/lib/site_perl/5.15.4/MooseX/Types/URI.pm line 0
	require Net/HTTP/Spore.pm called at /tmp/loop_over_bdir-4AfIad/JIRA-Client-REST-0.06-OJLZju/blib/lib/JIRA/Client/REST.pm line 10
	JIRA::Client::REST::BEGIN() called at /home/src/perl/repoperls/installed-perls/perl/v5.15.4-92-g3cd0620/9980/lib/site_perl/5.15.4/MooseX/Types/URI.pm line 0
	eval {...} called at /home/src/perl/repoperls/installed-perls/perl/v5.15.4-92-g3cd0620/9980/lib/site_perl/5.15.4/MooseX/Types/URI.pm line 0
	require JIRA/Client/REST.pm called at t/project.t line 3
	main::BEGIN() called at /home/src/perl/repoperls/installed-perls/perl/v5.15.4-92-g3cd0620/9980/lib/site_perl/5.15.4/MooseX/Types/URI.pm line 0
	eval {...} called at /home/src/perl/repoperls/installed-perls/perl/v5.15.4-92-g3cd0620/9980/lib/site_perl/5.15.4/MooseX/Types/URI.pm line 0
t/project.t ............. skipped: Set JIRA_CLIENT_REST_URL
t/release-pod-syntax.t .. skipped: these tests are for release candidate testing
t/release-synopsis.t .... skipped: these tests are for release candidate testing
Providing an optimized subroutine ref for type constraints is deprecated. Use the inlining feature (inline_as) instead. at /home/src/perl/repoperls/installed-perls/perl/v5.15.4-92-g3cd0620/9980/lib/site_perl/5.15.4/Net/HTTP/Spore/Meta/Method.pm line 13
	Net::HTTP::Spore::Meta::Method::BEGIN() called at /home/src/perl/repoperls/installed-perls/perl/v5.15.4-92-g3cd0620/9980/lib/site_perl/5.15.4/MooseX/Types/URI.pm line 0
	eval {...} called at /home/src/perl/repoperls/installed-perls/perl/v5.15.4-92-g3cd0620/9980/lib/site_perl/5.15.4/MooseX/Types/URI.pm line 0
	require Net/HTTP/Spore/Meta/Method.pm called at /home/src/perl/repoperls/installed-perls/perl/v5.15.4-92-g3cd0620/9980/lib/site_perl/5.15.4/Net/HTTP/Spore/Meta/Method/Spore.pm line 11
	Net::HTTP::Spore::Meta::Method::Spore::BEGIN() called at /home/src/perl/repoperls/installed-perls/perl/v5.15.4-92-g3cd0620/9980/lib/site_perl/5.15.4/MooseX/Types/URI.pm line 0
	eval {...} called at /home/src/perl/repoperls/installed-perls/perl/v5.15.4-92-g3cd0620/9980/lib/site_perl/5.15.4/MooseX/Types/URI.pm line 0
	require Net/HTTP/Spore/Meta/Method/Spore.pm called at /home/src/perl/repoperls/installed-perls/perl/v5.15.4-92-g3cd0620/9980/lib/site_perl/5.15.4/Module/Runtime.pm line 205
	Module::Runtime::require_module('Net::HTTP::Spore::Meta::Method::Spore') called at /home/src/perl/repoperls/installed-perls/perl/v5.15.4-92-g3cd0620/9980/lib/site_perl/5.15.4/Class/Load.pm line 199
	Class::Load::__ANON__() called at /home/src/perl/repoperls/installed-perls/perl/v5.15.4-92-g3cd0620/9980/lib/site_perl/5.15.4/Try/Tiny.pm line 71
	eval {...} called at /home/src/perl/repoperls/installed-perls/perl/v5.15.4-92-g3cd0620/9980/lib/site_perl/5.15.4/Try/Tiny.pm line 67
	Try::Tiny::try('CODE(0x25c8780)', 'Try::Tiny::Catch=REF(0x25a2110)') called at /home/src/perl/repoperls/installed-perls/perl/v5.15.4-92-g3cd0620/9980/lib/site_perl/5.15.4/Class/Load.pm line 205
	Class::Load::try_load_class('Net::HTTP::Spore::Meta::Method::Spore', undef) called at /home/src/perl/repoperls/installed-perls/perl/v5.15.4-92-g3cd0620/9980/lib/site_perl/5.15.4/Class/Load.pm line 64
	Class::Load::load_class('Net::HTTP::Spore::Meta::Method::Spore', undef) called at /home/src/perl/repoperls/installed-perls/perl/v5.15.4-92-g3cd0620/9980/lib/site_perl/5.15.4/x86_64-linux-thread-multi/Moose/Util.pm line 132
	Moose::Util::_apply_all_roles('Moose::Meta::Role=HASH(0x25b0a48)', undef, 'Net::HTTP::Spore::Meta::Method::Spore') called at /home/src/perl/repoperls/installed-perls/perl/v5.15.4-92-g3cd0620/9980/lib/site_perl/5.15.4/x86_64-linux-thread-multi/Moose/Util.pm line 99
	Moose::Util::apply_all_roles('Moose::Meta::Role=HASH(0x25b0a48)', 'Net::HTTP::Spore::Meta::Method::Spore') called at /home/src/perl/repoperls/installed-perls/perl/v5.15.4-92-g3cd0620/9980/lib/site_perl/5.15.4/x86_64-linux-thread-multi/Moose/Role.pm line 29
	Moose::Role::with('Moose::Meta::Role=HASH(0x25b0a48)', 'Net::HTTP::Spore::Meta::Method::Spore') called at /home/src/perl/repoperls/installed-perls/perl/v5.15.4-92-g3cd0620/9980/lib/site_perl/5.15.4/x86_64-linux-thread-multi/Moose/Exporter.pm line 370
	Moose::Role::with('Net::HTTP::Spore::Meta::Method::Spore') called at /home/src/perl/repoperls/installed-perls/perl/v5.15.4-92-g3cd0620/9980/lib/site_perl/5.15.4/Net/HTTP/Spore/Meta/Class.pm line 10
	require Net/HTTP/Spore/Meta/Class.pm called at /home/src/perl/repoperls/installed-perls/perl/v5.15.4-92-g3cd0620/9980/lib/site_perl/5.15.4/Module/Runtime.pm line 205
	Module::Runtime::require_module('Net::HTTP::Spore::Meta::Class') called at /home/src/perl/repoperls/installed-perls/perl/v5.15.4-92-g3cd0620/9980/lib/site_perl/5.15.4/Class/Load.pm line 199
	Class::Load::__ANON__() called at /home/src/perl/repoperls/installed-perls/perl/v5.15.4-92-g3cd0620/9980/lib/site_perl/5.15.4/Try/Tiny.pm line 71
	eval {...} called at /home/src/perl/repoperls/installed-perls/perl/v5.15.4-92-g3cd0620/9980/lib/site_perl/5.15.4/Try/Tiny.pm line 67
	Try::Tiny::try('CODE(0x259e1f8)', 'Try::Tiny::Catch=REF(0x23ee390)') called at /home/src/perl/repoperls/installed-perls/perl/v5.15.4-92-g3cd0620/9980/lib/site_perl/5.15.4/Class/Load.pm line 205
	Class::Load::try_load_class('Net::HTTP::Spore::Meta::Class', undef) called at /home/src/perl/repoperls/installed-perls/perl/v5.15.4-92-g3cd0620/9980/lib/site_perl/5.15.4/Class/Load.pm line 64
	Class::Load::load_class('Net::HTTP::Spore::Meta::Class', undef) called at /home/src/perl/repoperls/installed-perls/perl/v5.15.4-92-g3cd0620/9980/lib/site_perl/5.15.4/x86_64-linux-thread-multi/Moose/Util.pm line 132
	Moose::Util::_apply_all_roles('Moose::Meta::Class=HASH(0x259e708)', undef, 'Net::HTTP::Spore::Meta::Class') called at /home/src/perl/repoperls/installed-perls/perl/v5.15.4-92-g3cd0620/9980/lib/site_perl/5.15.4/x86_64-linux-thread-multi/Moose/Util.pm line 99
	Moose::Util::apply_all_roles('Moose::Meta::Class=HASH(0x259e708)', 'Net::HTTP::Spore::Meta::Class') called at /home/src/perl/repoperls/installed-perls/perl/v5.15.4-92-g3cd0620/9980/lib/site_perl/5.15.4/x86_64-linux-thread-multi/Moose/Meta/Class.pm line 104
	Moose::Meta::Class::create('Moose::Meta::Class', 'Moose::Meta::Class::__ANON__::SERIAL::1', 'roles', 'ARRAY(0x2500248)', 'weaken', '', 'superclasses', 'ARRAY(0x259e240)') called at /home/src/perl/repoperls/installed-perls/perl/v5.15.4-92-g3cd0620/9980/lib/site_perl/5.15.4/x86_64-linux-thread-multi/Class/MOP/Package.pm line 120
	Class::MOP::Package::create_anon('Moose::Meta::Class', 'superclasses', 'ARRAY(0x259e240)', 'roles', 'ARRAY(0x2500248)', 'cache', 1) called at /home/src/perl/repoperls/installed-perls/perl/v5.15.4-92-g3cd0620/9980/lib/site_perl/5.15.4/x86_64-linux-thread-multi/Class/MOP/Class.pm line 474
	Class::MOP::Class::create_anon_class('Moose::Meta::Class', 'superclasses', 'ARRAY(0x259e240)', 'roles', 'ARRAY(0x2500248)', 'cache', 1) called at /home/src/perl/repoperls/installed-perls/perl/v5.15.4-92-g3cd0620/9980/lib/site_perl/5.15.4/x86_64-linux-thread-multi/Moose/Util/MetaRole.pm line 134
	Moose::Util::MetaRole::_make_new_class('Moose::Meta::Class', 'ARRAY(0x2500248)') called at /home/src/perl/repoperls/installed-perls/perl/v5.15.4-92-g3cd0620/9980/lib/site_perl/5.15.4/x86_64-linux-thread-multi/Moose/Util/MetaRole.pm line 79
	Moose::Util::MetaRole::_make_new_metaclass('Moose::Meta::Class=HASH(0x259d940)', 'HASH(0x248fdd0)', 'class') called at /home/src/perl/repoperls/installed-perls/perl/v5.15.4-92-g3cd0620/9980/lib/site_perl/5.15.4/x86_64-linux-thread-multi/Moose/Util/MetaRole.pm line 28
	Moose::Util::MetaRole::apply_metaroles('for', 'Net::HTTP::Spore::Core', 'class_metaroles', 'HASH(0x248fdd0)') called at /home/src/perl/repoperls/installed-perls/perl/v5.15.4-92-g3cd0620/9980/lib/site_perl/5.15.4/Net/HTTP/Spore/Meta.pm line 28
	Net::HTTP::Spore::Meta::init_meta('Net::HTTP::Spore::Meta', 'for_class', 'MooseX::Types::URI', 'metaclass', undef, 'meta_name', 'meta') called at /home/src/perl/repoperls/installed-perls/perl/v5.15.4-92-g3cd0620/9980/lib/site_perl/5.15.4/x86_64-linux-thread-multi/Moose/Exporter.pm line 435
	Moose::Exporter::__ANON__('Net::HTTP::Spore::Meta') called at /home/src/perl/repoperls/installed-perls/perl/v5.15.4-92-g3cd0620/9980/lib/site_perl/5.15.4/Net/HTTP/Spore/Core.pm line 6
	Net::HTTP::Spore::Core::BEGIN() called at /home/src/perl/repoperls/installed-perls/perl/v5.15.4-92-g3cd0620/9980/lib/site_perl/5.15.4/MooseX/Types/URI.pm line 0
	eval {...} called at /home/src/perl/repoperls/installed-perls/perl/v5.15.4-92-g3cd0620/9980/lib/site_perl/5.15.4/MooseX/Types/URI.pm line 0
	require Net/HTTP/Spore/Core.pm called at /home/src/perl/repoperls/installed-perls/perl/v5.15.4-92-g3cd0620/9980/lib/site_perl/5.15.4/Net/HTTP/Spore.pm line 13
	Net::HTTP::Spore::BEGIN() called at /home/src/perl/repoperls/installed-perls/perl/v5.15.4-92-g3cd0620/9980/lib/site_perl/5.15.4/MooseX/Types/URI.pm line 0
	eval {...} called at /home/src/perl/repoperls/installed-perls/perl/v5.15.4-92-g3cd0620/9980/lib/site_perl/5.15.4/MooseX/Types/URI.pm line 0
	require Net/HTTP/Spore.pm called at /tmp/loop_over_bdir-4AfIad/JIRA-Client-REST-0.06-OJLZju/blib/lib/JIRA/Client/REST.pm line 10
	JIRA::Client::REST::BEGIN() called at /home/src/perl/repoperls/installed-perls/perl/v5.15.4-92-g3cd0620/9980/lib/site_perl/5.15.4/MooseX/Types/URI.pm line 0
	eval {...} called at /home/src/perl/repoperls/installed-perls/perl/v5.15.4-92-g3cd0620/9980/lib/site_perl/5.15.4/MooseX/Types/URI.pm line 0
	require JIRA/Client/REST.pm called at t/version.t line 3
	main::BEGIN() called at /home/src/perl/repoperls/installed-perls/perl/v5.15.4-92-g3cd0620/9980/lib/site_perl/5.15.4/MooseX/Types/URI.pm line 0
	eval {...} called at /home/src/perl/repoperls/installed-perls/perl/v5.15.4-92-g3cd0620/9980/lib/site_perl/5.15.4/MooseX/Types/URI.pm line 0
t/version.t ............. skipped: Set JIRA_CLIENT_REST_URL
Files=5, Tests=0,  2 wallclock secs ( 0.03 usr  0.01 sys +  1.69 cusr  0.12 csys =  1.85 CPU)
Result: NOTESTS

------------------------------
PREREQUISITES
------------------------------

Prerequisite modules loaded:

requires:

    Module              Need Have   
    ------------------- ---- -------
    JSON                0    2.53   
    JSON::XS            0    2.32   
    Moose               0    2.0302 
    Net::HTTP::Spore    0    0.03   

build_requires:

    Module              Need Have   
    ------------------- ---- -------
    strict              0    1.04   
    Test::More          0    0.98   

configure_requires:

    Module              Need Have   
    ------------------- ---- -------
    ExtUtils::MakeMaker 6.30 6.63_02


------------------------------
ENVIRONMENT AND OTHER CONTEXT
------------------------------

Environment variables:

    AUTOMATED_TESTING = 1
    LANG = en_US.UTF-8
    LANGUAGE = en_US:en
    PATH = /home/sand/bin:/usr/local/bin:/usr/bin:/bin:/usr/bin/X11:/usr/games:/usr/local/perl/bin:/usr/X11/bin:/sbin:/usr/sbin
    PERL5LIB = 
    PERL5OPT = 
    PERL5_CPANPLUS_IS_RUNNING = 27792
    PERL5_CPAN_IS_RUNNING = 27792
    PERL_MM_USE_DEFAULT = 1
    SHELL = /usr/bin/zsh
    TERM = screen

Perl special variables (and OS-specific diagnostics, for MSWin32):

    $^X = /home/sand/src/perl/repoperls/installed-perls/perl/v5.15.4-92-g3cd0620/9980/bin/perl
    $UID/$EUID = 1005 / 1005
    $GID = 1005 1005
    $EGID = 1005 1005

Perl module toolchain versions installed:

    Module              Have    
    ------------------- --------
    CPAN                1.9800  
    Cwd                 3.37    
    ExtUtils::CBuilder  0.280204
    ExtUtils::Command   1.17    
    ExtUtils::Install   1.57    
    ExtUtils::MakeMaker 6.63_02 
    ExtUtils::Manifest  1.60    
    ExtUtils::ParseXS   3.05    
    File::Spec          3.34    
    Module::Build       0.39_01 
    Module::Signature   0.68    
    Test::Harness       3.23    
    Test::More          0.98    
    YAML                0.77    
    YAML::Syck          1.17_02 
    version             0.93    


--

Summary of my perl5 (revision 5 version 15 subversion 4) configuration:
  Commit id: 3cd06200825191a959443ae5cfa72d9226c23ceb
  Platform:
    osname=linux, osvers=2.6.32-5-amd64, archname=x86_64-linux-thread-multi
    uname='linux k83 2.6.32-5-amd64 #1 smp mon oct 3 03:59:20 utc 2011 x86_64 gnulinux '
    config_args='-Dprefix=/home/src/perl/repoperls/installed-perls/perl/v5.15.4-92-g3cd0620/9980 -Dmyhostname=k83 -Dinstallusrbinperl=n -Uversiononly -Dusedevel -des -Ui_db -Duseithreads -Uuselongdouble -DDEBUGGING=-g'
    hint=recommended, useposix=true, d_sigaction=define
    useithreads=define, usemultiplicity=define
    useperlio=define, d_sfio=undef, uselargefiles=define, usesocks=undef
    use64bitint=define, use64bitall=define, uselongdouble=undef
    usemymalloc=n, bincompat5005=undef
  Compiler:
    cc='cc', ccflags ='-D_REENTRANT -D_GNU_SOURCE -fno-strict-aliasing -pipe -fstack-protector -I/usr/local/include -D_LARGEFILE_SOURCE -D_FILE_OFFSET_BITS=64',
    optimize='-O2 -g',
    cppflags='-D_REENTRANT -D_GNU_SOURCE -fno-strict-aliasing -pipe -fstack-protector -I/usr/local/include'
    ccversion='', gccversion='4.4.5', gccosandvers=''
    intsize=4, longsize=8, ptrsize=8, doublesize=8, byteorder=12345678
    d_longlong=define, longlongsize=8, d_longdbl=define, longdblsize=16
    ivtype='long', ivsize=8, nvtype='double', nvsize=8, Off_t='off_t', lseeksize=8
    alignbytes=8, prototype=define
  Linker and Libraries:
    ld='cc', ldflags =' -fstack-protector -L/usr/local/lib'
    libpth=/usr/local/lib /lib/../lib /usr/lib/../lib /lib /usr/lib /lib64 /usr/lib64
    libs=-lnsl -ldb -ldl -lm -lcrypt -lutil -lpthread -lc
    perllibs=-lnsl -ldl -lm -lcrypt -lutil -lpthread -lc
    libc=/lib/libc-2.11.2.so, so=so, useshrplib=false, libperl=libperl.a
    gnulibc_version='2.11.2'
  Dynamic Linking:
    dlsrc=dl_dlopen.xs, dlext=so, d_dlsymun=undef, ccdlflags='-Wl,-E'
    cccdlflags='-fPIC', lddlflags='-shared -O2 -g -L/usr/local/lib -fstack-protector'


Characteristics of this binary (from libperl): 
  Compile-time options: HAS_TIMES MULTIPLICITY PERLIO_LAYERS
                        PERL_DONT_CREATE_GVSV PERL_IMPLICIT_CONTEXT
                        PERL_MALLOC_WRAP PERL_PRESERVE_IVUV PERL_USE_DEVEL
                        USE_64_BIT_ALL USE_64_BIT_INT USE_ITHREADS
                        USE_LARGE_FILES USE_LOCALE USE_LOCALE_COLLATE
                        USE_LOCALE_CTYPE USE_LOCALE_NUMERIC USE_PERLIO
                        USE_PERL_ATOF USE_REENTRANT_API
  Built under linux
  Compiled at Oct 29 2011 13:03:06
  %ENV:
    PERL5LIB=""
    PERL5OPT=""
    PERL5_CPANPLUS_IS_RUNNING="27792"
    PERL5_CPAN_IS_RUNNING="27792"
    PERL_MM_USE_DEFAULT="1"
  @INC:
    /home/src/perl/repoperls/installed-perls/perl/v5.15.4-92-g3cd0620/9980/lib/site_perl/5.15.4/x86_64-linux-thread-multi
    /home/src/perl/repoperls/installed-perls/perl/v5.15.4-92-g3cd0620/9980/lib/site_perl/5.15.4
    /home/src/perl/repoperls/installed-perls/perl/v5.15.4-92-g3cd0620/9980/lib/5.15.4/x86_64-linux-thread-multi
    /home/src/perl/repoperls/installed-perls/perl/v5.15.4-92-g3cd0620/9980/lib/5.15.4
    .