Report for String-Palindrome-2.000001

Back
From: metabase:user:20a45eae-6c1a-1014-abaf-4bc2b30e56df
Subject: PASS String-Palindrome-2.000001 v5.15.0 Windows (Cygwin)
Date: 2011-07-22T07:04:38Z

This distribution has been tested as part of the CPAN Testers
project, supporting the Perl programming language.  See
http://wiki.cpantesters.org/ for more information or email
questions to cpan-testers-discuss@perl.org


--
Dear Adam Lesperance,

This is a computer-generated report for String-Palindrome-2.000001
on perl 5.15.0, created by CPAN-Reporter-1.1902.

Thank you for uploading your work to CPAN.  Congratulations!
All tests were successful.

Sections of this report:

    * Tester comments
    * Program output
    * Prerequisites
    * Environment and other context

------------------------------
TESTER COMMENTS
------------------------------

Additional comments from tester:

this report is from an automated smoke testing program
and was not reviewed by a human for accuracy

------------------------------
PROGRAM OUTPUT
------------------------------

Output from './Build test':

t/00-compile.t .................. ok
# 
# 
# perl: v5.15.0 (wanted 5.008) on cygwin from /opt/perl/inst/perl-5.15.0-cygwin/bin/perl5.15.0
# 
# Data::Dumper                                  => 2.131      (want any version)
# English                                       => 1.04       (want any version)
# Exporter                                      => 5.64_03    (want any version)
# File::Find                                    => 1.19       (want any version)
# File::Temp                                    => 0.22       (want any version)
# Module::Build                                 => 0.38       (want 0.3601) 
# Test::More                                    => 0.98       (want 0.88)   
# utf8                                          => 1.09       (want any version)
# vars                                          => 1.02       (want any version)
# 
# Thanks for using my code.  I hope it works for you.
# If not, please try and include this output in the bug report.
# That will help me reproduce the issue and solve you problem.
# 
t/000-report-versions-tiny.t .... ok
t/01-func_test.t ................ ok
t/author-critic.t ............... skipped: these tests are for testing by the author
t/release-common_spelling.t ..... skipped: these tests are for release candidate testing
t/release-consistent-version.t .. skipped: these tests are for release candidate testing
t/release-cpan-changes.t ........ skipped: these tests are for release candidate testing
t/release-dist-manifest.t ....... skipped: these tests are for release candidate testing
t/release-distmeta.t ............ skipped: these tests are for release candidate testing
t/release-eol.t ................. skipped: these tests are for release candidate testing
t/release-has-version.t ......... skipped: these tests are for release candidate testing
t/release-kwalitee.t ............ skipped: these tests are for release candidate testing
t/release-minimum-version.t ..... skipped: these tests are for release candidate testing
t/release-no-tabs.t ............. skipped: these tests are for release candidate testing
t/release-pod-coverage.t ........ skipped: these tests are for release candidate testing
t/release-pod-syntax.t .......... skipped: these tests are for release candidate testing
t/release-portability.t ......... skipped: these tests are for release candidate testing
t/release-synopsis.t ............ skipped: these tests are for release candidate testing
t/release-unused-vars.t ......... skipped: these tests are for release candidate testing
All tests successful.
Files=19, Tests=81, 19 wallclock secs ( 1.83 usr  0.20 sys +  3.04 cusr  2.78 csys =  7.85 CPU)
Result: PASS

------------------------------
PREREQUISITES
------------------------------

Prerequisite modules loaded:

requires:

    Module        Need   Have    
    ------------- ------ --------
    Exporter      0      5.64_03 
    perl          5.008  5.015000
    utf8          0      1.09    
    vars          0      1.02    

build_requires:

    Module        Need   Have    
    ------------- ------ --------
    Data::Dumper  0      2.131   
    English       0      1.04    
    File::Find    0      1.19    
    File::Temp    0      0.22    
    Module::Build 0.3601 0.3800  
    Test::More    0.88   0.98    

configure_requires:

    Module        Need   Have    
    ------------- ------ --------
    Module::Build 0.3601 0.3800  


------------------------------
ENVIRONMENT AND OTHER CONTEXT
------------------------------

Environment variables:

    AUTOMATED_TESTING = 1
    COMSPEC = C:\WINDOWS\system32\cmd.exe
    NUMBER_OF_PROCESSORS = 4
    PATH = /opt/perl/inst/perl-5.15.0-cygwin/local/bin:/opt/perl/inst/perl-5.15.0-cygwin/bin:/usr/local/bin:/usr/bin
    PERL5LIB = /opt/perl/inst/perl-5.15.0-cygwin/local/lib/site_perl:/opt/perl/inst/perl-5.15.0-cygwin/local/lib/perl5:/opt/perl/inst/perl-5.15.0-cygwin/local/lib
    PERL5OPT = 
    PERL5_CPANPLUS_IS_RUNNING = 4660
    PERL5_CPAN_IS_RUNNING = 4660
    PERL_EXTUTILS_AUTOINSTALL = 1
    PERL_MM_USE_DEFAULT = 1
    PERL_TEST_CRITIC = 1
    PROCESSOR_IDENTIFIER = x86 Family 6 Model 37 Stepping 5, GenuineIntel
    TEMP = /tmp
    TERM = cygwin

Perl special variables (and OS-specific diagnostics, for MSWin32):

    $^X = /opt/perl/inst/perl-5.15.0-cygwin/bin/perl5.15.0
    $UID/$EUID = 22755 / 22755
    $GID = 10513 544 545 555 1004 10571 43588 44771 44776 47153 45205 10513 51781 18818 43061 18761 56667 12652 12669 12778 42734 20077 51528 11073 51645 61702 17963 51289 43366 55368 57206 20667 20955 49381 50556 23333 65644 65646 51916 51926 51837 45099 30321 49625 31369 67201 45094
    $EGID = 10513 544 545 555 1004 10571 43588 44771 44776 47153 45205 10513 51781 18818 43061 18761 56667 12652 12669 12778 42734 20077 51528 11073 51645 61702 17963 51289 43366 55368 57206 20667 20955 49381 50556 23333 65644 65646 51916 51926 51837 45099 30321 49625 31369 67201 45094

Perl module toolchain versions installed:

    Module              Have    
    ------------------- --------
    CPAN                1.9600  
    Cwd                 3.36    
    ExtUtils::CBuilder  0.280204
    ExtUtils::Command   1.17    
    ExtUtils::Install   1.56    
    ExtUtils::MakeMaker 6.58    
    ExtUtils::Manifest  1.58    
    ExtUtils::ParseXS   2.2210  
    File::Spec          3.33    
    Module::Build       0.3800  
    Module::Signature   0.68    
    Test::Harness       3.23    
    Test::More          0.98    
    YAML                0.73    
    YAML::Syck          n/a     
    version             0.91    


--

Summary of my perl5 (revision 5 version 15 subversion 0) configuration:
   
  Platform:
    osname=cygwin, osvers=1.7.9(0.23753), archname=cygwin
    uname='cygwin_nt-5.1 los116 1.7.9(0.23753) 2011-03-29 10:10 i686 cygwin '
    config_args='-de -Dcc=gcc-4 -Dprefix=/opt/perl/inst/perl-5.15.0-cygwin -Dperladmin=pjacklam@online.no -Dusedevel -Dmksymlinks -Uusethreads -Uusemultiplicity -Uuse64bitint'
    hint=recommended, useposix=true, d_sigaction=define
    useithreads=undef, usemultiplicity=undef
    useperlio=define, d_sfio=undef, uselargefiles=define, usesocks=undef
    use64bitint=undef, use64bitall=undef, uselongdouble=undef
    usemymalloc=y, bincompat5005=undef
  Compiler:
    cc='gcc-4', ccflags ='-DPERL_USE_SAFE_PUTENV -U__STRICT_ANSI__ -fno-strict-aliasing -pipe -fstack-protector',
    optimize='-O3',
    cppflags='-DPERL_USE_SAFE_PUTENV -U__STRICT_ANSI__ -fno-strict-aliasing -pipe -fstack-protector'
    ccversion='', gccversion='4.3.4 20090804 (release) 1', gccosandvers=''
    intsize=4, longsize=4, ptrsize=4, doublesize=8, byteorder=1234
    d_longlong=define, longlongsize=8, d_longdbl=define, longdblsize=12
    ivtype='long', ivsize=4, nvtype='double', nvsize=8, Off_t='off_t', lseeksize=8
    alignbytes=8, prototype=define
  Linker and Libraries:
    ld='g++', ldflags =' -Wl,--enable-auto-import -Wl,--export-all-symbols -Wl,--enable-auto-image-base -fstack-protector -L/usr/local/lib'
    libpth=/usr/local/lib /usr/lib /lib
    libs=-lgdbm -ldb -ldl -lcrypt -lgdbm_compat
    perllibs=-ldl -lcrypt
    libc=/usr/lib/libc.a, so=dll, useshrplib=true, libperl=cygperl5_15_0.dll
    gnulibc_version=''
  Dynamic Linking:
    dlsrc=dl_dlopen.xs, dlext=dll, d_dlsymun=undef, ccdlflags=' '
    cccdlflags=' ', lddlflags=' --shared  -Wl,--enable-auto-import -Wl,--export-all-symbols -Wl,--enable-auto-image-base -L/usr/local/lib -fstack-protector'


Characteristics of this binary (from libperl): 
  Compile-time options: MYMALLOC PERL_DONT_CREATE_GVSV PERL_MALLOC_WRAP
                        PERL_PRESERVE_IVUV PERL_USE_DEVEL
                        PERL_USE_SAFE_PUTENV USE_LARGE_FILES USE_LOCALE
                        USE_LOCALE_COLLATE USE_LOCALE_CTYPE
                        USE_LOCALE_NUMERIC USE_PERLIO USE_PERL_ATOF
  Built under cygwin
  Compiled at Jun 23 2011 05:18:54
  %ENV:
    PERL5LIB="/opt/perl/inst/perl-5.15.0-cygwin/local/lib/site_perl:/opt/perl/inst/perl-5.15.0-cygwin/local/lib/perl5:/opt/perl/inst/perl-5.15.0-cygwin/local/lib"
    PERL5OPT=""
    PERL5_CPANPLUS_IS_RUNNING="4660"
    PERL5_CPAN_IS_RUNNING="4660"
    PERL_EXTUTILS_AUTOINSTALL="1"
    PERL_MM_USE_DEFAULT="1"
    PERL_TEST_CRITIC="1"
    CYGWIN="codepage:utf8 nodosfilewarning"
  @INC:
    /opt/perl/inst/perl-5.15.0-cygwin/local/lib/site_perl/5.15.0/cygwin
    /opt/perl/inst/perl-5.15.0-cygwin/local/lib/site_perl/5.15.0
    /opt/perl/inst/perl-5.15.0-cygwin/local/lib/site_perl
    /opt/perl/inst/perl-5.15.0-cygwin/local/lib/perl5/cygwin
    /opt/perl/inst/perl-5.15.0-cygwin/local/lib/perl5
    /opt/perl/inst/perl-5.15.0-cygwin/local/lib/5.15.0/cygwin
    /opt/perl/inst/perl-5.15.0-cygwin/local/lib/5.15.0
    /opt/perl/inst/perl-5.15.0-cygwin/local/lib
    /opt/perl/inst/perl-5.15.0-cygwin/lib/site_perl/5.15.0/cygwin
    /opt/perl/inst/perl-5.15.0-cygwin/lib/site_perl/5.15.0
    /opt/perl/inst/perl-5.15.0-cygwin/lib/5.15.0/cygwin
    /opt/perl/inst/perl-5.15.0-cygwin/lib/5.15.0
    .