Report for Crypt-SSLeay-0.72

Back
From: metabase:user:6970b1ae-1421-11e4-ab07-c64c76713efd
Subject: PASS Crypt-SSLeay-0.72 v5.18.2 Mac OS X
Date: 2014-12-26T03:49:49Z

This distribution has been tested as part of the CPAN Testers
project, supporting the Perl programming language.  See
http://wiki.cpantesters.org/ for more information or email
questions to cpan-testers-discuss@perl.org


--
Dear NANIS,

This is a computer-generated report for Crypt-SSLeay-0.72
on perl 5.18.2, created by App::cpanminus::reporter 0.11 (1.7014).

Thank you for uploading your work to CPAN.  Congratulations!
All tests were successful.

Sections of this report:

    * Tester comments
    * Program output
    * Prerequisites
    * Environment and other context

------------------------------
TESTER COMMENTS
------------------------------

Additional comments from tester:

none provided

------------------------------
PROGRAM OUTPUT
------------------------------

Output from '':

Building and testing Crypt-SSLeay-0.72
cp SSLeay.pm blib/lib/Crypt/SSLeay.pm
cp lib/Crypt/SSLeay/Version.pm blib/lib/Crypt/SSLeay/Version.pm
cp lib/Crypt/SSLeay/Err.pm blib/lib/Crypt/SSLeay/Err.pm
cp lib/Crypt/SSLeay/CTX.pm blib/lib/Crypt/SSLeay/CTX.pm
cp lib/Net/SSL.pm blib/lib/Net/SSL.pm
cp lib/Crypt/SSLeay/X509.pm blib/lib/Crypt/SSLeay/X509.pm
cp lib/Crypt/SSLeay/Conn.pm blib/lib/Crypt/SSLeay/Conn.pm
cp lib/Crypt/SSLeay/MainContext.pm blib/lib/Crypt/SSLeay/MainContext.pm
Running Mkbootstrap for Crypt::SSLeay ()
chmod 644 "SSLeay.bs"
"/usr/bin/perl" "/Library/Perl/5.18/ExtUtils/xsubpp"  -typemap "/System/Library/Perl/5.18/ExtUtils/typemap" -typemap "typemap"  SSLeay.xs > SSLeay.xsc && mv SSLeay.xsc SSLeay.c
cc -c   -arch x86_64 -arch i386 -g -pipe -fno-common -DPERL_DARWIN -fno-strict-aliasing -fstack-protector -Os   -DVERSION=\"0.72\" -DXS_VERSION=\"0.72\"  "-I/System/Library/Perl/5.18/darwin-thread-multi-2level/CORE"   SSLeay.c
SSLeay.xs:70:37: warning: 'SSL_state_string_long' is deprecated: first deprecated in OS X 10.7 [-Wdeprecated-declarations]
       fprintf(stderr,"%s:%s\n",str,SSL_state_string_long(s));
                                    ^
/usr/include/openssl/ssl.h:1424:13: note: 'SSL_state_string_long' has been explicitly marked deprecated here
const char *SSL_state_string_long(const SSL *s) DEPRECATED_IN_MAC_OS_X_VERSION_10_7_AND_LATER;
            ^
SSLeay.xs:75:12: warning: 'SSL_alert_type_string_long' is deprecated: first deprecated in OS X 10.7 [-Wdeprecated-declarations]
           SSL_alert_type_string_long(ret),
           ^
/usr/include/openssl/ssl.h:1541:13: note: 'SSL_alert_type_string_long' has been explicitly marked deprecated here
const char *SSL_alert_type_string_long(int value) DEPRECATED_IN_MAC_OS_X_VERSION_10_7_AND_LATER;
            ^
SSLeay.xs:76:12: warning: 'SSL_alert_desc_string_long' is deprecated: first deprecated in OS X 10.7 [-Wdeprecated-declarations]
           SSL_alert_desc_string_long(ret));
           ^
/usr/include/openssl/ssl.h:1543:13: note: 'SSL_alert_desc_string_long' has been explicitly marked deprecated here
const char *SSL_alert_desc_string_long(int value) DEPRECATED_IN_MAC_OS_X_VERSION_10_7_AND_LATER;
            ^
SSLeay.xs:80:49: warning: 'SSL_state_string_long' is deprecated: first deprecated in OS X 10.7 [-Wdeprecated-declarations]
         fprintf(stderr,"%s:failed in %s\n",str,SSL_state_string_long(s));
                                                ^
/usr/include/openssl/ssl.h:1424:13: note: 'SSL_state_string_long' has been explicitly marked deprecated here
const char *SSL_state_string_long(const SSL *s) DEPRECATED_IN_MAC_OS_X_VERSION_10_7_AND_LATER;
            ^
SSLeay.xs:82:48: warning: 'SSL_state_string_long' is deprecated: first deprecated in OS X 10.7 [-Wdeprecated-declarations]
         fprintf(stderr,"%s:error in %s\n",str,SSL_state_string_long(s));
                                               ^
/usr/include/openssl/ssl.h:1424:13: note: 'SSL_state_string_long' has been explicitly marked deprecated here
const char *SSL_state_string_long(const SSL *s) DEPRECATED_IN_MAC_OS_X_VERSION_10_7_AND_LATER;
            ^
SSLeay.xs:101:21: warning: 'ERR_get_error' is deprecated: first deprecated in OS X 10.7 [-Wdeprecated-declarations]
        if ((code = ERR_get_error()) == 0) {
                    ^
/usr/include/openssl/err.h:266:15: note: 'ERR_get_error' has been explicitly marked deprecated here
unsigned long ERR_get_error(void) DEPRECATED_IN_MAC_OS_X_VERSION_10_7_AND_LATER;
              ^
SSLeay.xs:106:13: warning: 'ERR_error_string_n' is deprecated: first deprecated in OS X 10.7 [-Wdeprecated-declarations]
            ERR_error_string_n(code, buf, CRYPT_SSLEAY_ERR_BUFSIZE);
            ^
/usr/include/openssl/err.h:280:6: note: 'ERR_error_string_n' has been explicitly marked deprecated here
void ERR_error_string_n(unsigned long e, char *buf, size_t len) DEPRECATED_IN_MAC_OS_X_VERSION_10_7_AND_LATER;
     ^
SSLeay.xs:126:13: warning: 'OPENSSL_add_all_algorithms_noconf' is deprecated: first deprecated in OS X 10.7 [-Wdeprecated-declarations]
            OpenSSL_add_all_algorithms();
            ^
/usr/include/openssl/evp.h:829:3: note: expanded from macro 'OpenSSL_add_all_algorithms'
                OPENSSL_add_all_algorithms_noconf()
                ^
/usr/include/openssl/evp.h:821:6: note: 'OPENSSL_add_all_algorithms_noconf' has been explicitly marked deprecated here
void OPENSSL_add_all_algorithms_noconf(void) DEPRECATED_IN_MAC_OS_X_VERSION_10_7_AND_LATER;
     ^
SSLeay.xs:127:13: warning: 'SSL_load_error_strings' is deprecated: first deprecated in OS X 10.7 [-Wdeprecated-declarations]
            SSL_load_error_strings();
            ^
/usr/include/openssl/ssl.h:1421:6: note: 'SSL_load_error_strings' has been explicitly marked deprecated here
void    SSL_load_error_strings(void ) DEPRECATED_IN_MAC_OS_X_VERSION_10_7_AND_LATER;
        ^
SSLeay.xs:128:13: warning: 'ERR_load_crypto_strings' is deprecated: first deprecated in OS X 10.7 [-Wdeprecated-declarations]
            ERR_load_crypto_strings();
            ^
/usr/include/openssl/err.h:296:6: note: 'ERR_load_crypto_strings' has been explicitly marked deprecated here
void ERR_load_crypto_strings(void) DEPRECATED_IN_MAC_OS_X_VERSION_10_7_AND_LATER;
     ^
SSLeay.xs:129:13: warning: 'SSL_library_init' is deprecated: first deprecated in OS X 10.7 [-Wdeprecated-declarations]
            SSL_library_init();
            ^
/usr/include/openssl/ssl.h:1558:5: note: 'SSL_library_init' has been explicitly marked deprecated here
int SSL_library_init(void ) DEPRECATED_IN_MAC_OS_X_VERSION_10_7_AND_LATER;
    ^
SSLeay.xs:139:12: warning: 'RAND_load_file' is deprecated: first deprecated in OS X 10.7 [-Wdeprecated-declarations]
       if (RAND_load_file("/dev/urandom", CRYPT_SSLEAY_RAND_BUFSIZE)
           ^
/usr/include/openssl/rand.h:108:6: note: 'RAND_load_file' has been explicitly marked deprecated here
int  RAND_load_file(const char *file,long max_bytes) DEPRECATED_IN_MAC_OS_X_VERSION_10_7_AND_LATER;
     ^
SSLeay.xs:145:13: warning: 'RAND_seed' is deprecated: first deprecated in OS X 10.7 [-Wdeprecated-declarations]
            RAND_seed(buf, CRYPT_SSLEAY_RAND_BUFSIZE);
            ^
/usr/include/openssl/rand.h:106:6: note: 'RAND_seed' has been explicitly marked deprecated here
void RAND_seed(const void *buf,int num) DEPRECATED_IN_MAC_OS_X_VERSION_10_7_AND_LATER;
     ^
SSLeay.xs:149:19: warning: 'SSL_CTX_new' is deprecated: first deprecated in OS X 10.7 [-Wdeprecated-declarations]
            ctx = SSL_CTX_new(SSLv23_client_method());
                  ^
/usr/include/openssl/ssl.h:1351:10: note: 'SSL_CTX_new' has been explicitly marked deprecated here
SSL_CTX *SSL_CTX_new(SSL_METHOD *meth) DEPRECATED_IN_MAC_OS_X_VERSION_10_7_AND_LATER;
         ^
SSLeay.xs:149:31: warning: 'SSLv23_client_method' is deprecated: first deprecated in OS X 10.7 [-Wdeprecated-declarations]
            ctx = SSL_CTX_new(SSLv23_client_method());
                              ^
/usr/include/openssl/ssl.h:1522:13: note: 'SSLv23_client_method' has been explicitly marked deprecated here
SSL_METHOD *SSLv23_client_method(void) DEPRECATED_IN_MAC_OS_X_VERSION_10_7_AND_LATER;   /* SSLv3 but can rollback to v2 */
            ^
SSLeay.xs:152:19: warning: 'SSL_CTX_new' is deprecated: first deprecated in OS X 10.7 [-Wdeprecated-declarations]
            ctx = SSL_CTX_new(SSLv3_client_method());
                  ^
/usr/include/openssl/ssl.h:1351:10: note: 'SSL_CTX_new' has been explicitly marked deprecated here
SSL_CTX *SSL_CTX_new(SSL_METHOD *meth) DEPRECATED_IN_MAC_OS_X_VERSION_10_7_AND_LATER;
         ^
SSLeay.xs:152:31: warning: 'SSLv3_client_method' is deprecated: first deprecated in OS X 10.7 [-Wdeprecated-declarations]
            ctx = SSL_CTX_new(SSLv3_client_method());
                              ^
/usr/include/openssl/ssl.h:1518:13: note: 'SSLv3_client_method' has been explicitly marked deprecated here
SSL_METHOD *SSLv3_client_method(void) DEPRECATED_IN_MAC_OS_X_VERSION_10_7_AND_LATER;    /* SSLv3 */
            ^
SSLeay.xs:157:19: warning: 'SSL_CTX_new' is deprecated: first deprecated in OS X 10.7 [-Wdeprecated-declarations]
            ctx = SSL_CTX_new(SSLv2_client_method());
                  ^
/usr/include/openssl/ssl.h:1351:10: note: 'SSL_CTX_new' has been explicitly marked deprecated here
SSL_CTX *SSL_CTX_new(SSL_METHOD *meth) DEPRECATED_IN_MAC_OS_X_VERSION_10_7_AND_LATER;
         ^
SSLeay.xs:157:31: warning: 'SSLv2_client_method' is deprecated: first deprecated in OS X 10.7 [-Wdeprecated-declarations]
            ctx = SSL_CTX_new(SSLv2_client_method());
                              ^
/usr/include/openssl/ssl.h:1514:13: note: 'SSLv2_client_method' has been explicitly marked deprecated here
SSL_METHOD *SSLv2_client_method(void) DEPRECATED_IN_MAC_OS_X_VERSION_10_7_AND_LATER;    /* SSLv2 */
            ^
SSLeay.xs:164:9: warning: 'SSL_CTX_ctrl' is deprecated: first deprecated in OS X 10.7 [-Wdeprecated-declarations]
        SSL_CTX_set_options(ctx,SSL_OP_ALL|0);
        ^
/usr/include/openssl/ssl.h:574:2: note: expanded from macro 'SSL_CTX_set_options'
        SSL_CTX_ctrl((ctx),SSL_CTRL_OPTIONS,(op),NULL)
        ^
/usr/include/openssl/ssl.h:1503:6: note: 'SSL_CTX_ctrl' has been explicitly marked deprecated here
long    SSL_CTX_ctrl(SSL_CTX *ctx,int cmd, long larg, void *parg) DEPRECATED_IN_MAC_OS_X_VERSION_10_7_AND_LATER;
        ^
SSLeay.xs:165:9: warning: 'SSL_CTX_set_default_verify_paths' is deprecated: first deprecated in OS X 10.7 [-Wdeprecated-declarations]
        SSL_CTX_set_default_verify_paths(ctx);
        ^
/usr/include/openssl/ssl.h:1575:5: note: 'SSL_CTX_set_default_verify_paths' has been explicitly marked deprecated here
int SSL_CTX_set_default_verify_paths(SSL_CTX *ctx) DEPRECATED_IN_MAC_OS_X_VERSION_10_7_AND_LATER;
    ^
SSLeay.xs:166:9: warning: 'SSL_CTX_set_verify' is deprecated: first deprecated in OS X 10.7 [-Wdeprecated-declarations]
        SSL_CTX_set_verify(ctx, SSL_VERIFY_NONE, NULL);
        ^
/usr/include/openssl/ssl.h:1463:6: note: 'SSL_CTX_set_verify' has been explicitly marked deprecated here
void SSL_CTX_set_verify(SSL_CTX *ctx,int mode,
     ^
SSLeay.c:356:2: warning: 'SSL_CTX_free' is deprecated: first deprecated in OS X 10.7 [-Wdeprecated-declarations]
        SSL_CTX_free(ctx);
        ^
/usr/include/openssl/ssl.h:1352:6: note: 'SSL_CTX_free' has been explicitly marked deprecated here
void    SSL_CTX_free(SSL_CTX *) DEPRECATED_IN_MAC_OS_X_VERSION_10_7_AND_LATER;
        ^
SSLeay.c:383:11: warning: 'SSL_CTX_set_cipher_list' is deprecated: first deprecated in OS X 10.7 [-Wdeprecated-declarations]
        RETVAL = SSL_CTX_set_cipher_list(ctx, ciphers);
                 ^
/usr/include/openssl/ssl.h:1350:5: note: 'SSL_CTX_set_cipher_list' has been explicitly marked deprecated here
int     SSL_CTX_set_cipher_list(SSL_CTX *,const char *str) DEPRECATED_IN_MAC_OS_X_VERSION_10_7_AND_LATER;
        ^
SSLeay.c:413:11: warning: 'SSL_CTX_use_certificate_file' is deprecated: first deprecated in OS X 10.7 [-Wdeprecated-declarations]
        RETVAL = SSL_CTX_use_certificate_file(ctx, filename, mode);
                 ^
/usr/include/openssl/ssl.h:1407:5: note: 'SSL_CTX_use_certificate_file' has been explicitly marked deprecated here
int     SSL_CTX_use_certificate_file(SSL_CTX *ctx, const char *file, int type) DEPRECATED_IN_MAC_OS_X_VERSION_10_7_AND_LATER;
        ^
SSLeay.c:443:11: warning: 'SSL_CTX_use_PrivateKey_file' is deprecated: first deprecated in OS X 10.7 [-Wdeprecated-declarations]
        RETVAL = SSL_CTX_use_PrivateKey_file(ctx, filename, mode);
                 ^
/usr/include/openssl/ssl.h:1406:5: note: 'SSL_CTX_use_PrivateKey_file' has been explicitly marked deprecated here
int     SSL_CTX_use_PrivateKey_file(SSL_CTX *ctx, const char *file, int type) DEPRECATED_IN_MAC_OS_X_VERSION_10_7_AND_LATER;
        ^
SSLeay.xs:205:19: warning: 'd2i_PKCS12_fp' is deprecated: first deprecated in OS X 10.7 [-Wdeprecated-declarations]
            p12 = d2i_PKCS12_fp(fp, NULL);
                  ^
/usr/include/openssl/pkcs12.h:271:9: note: 'd2i_PKCS12_fp' has been explicitly marked deprecated here
PKCS12 *d2i_PKCS12_fp(FILE *fp, PKCS12 **p12) DEPRECATED_IN_MAC_OS_X_VERSION_10_7_AND_LATER;
        ^
SSLeay.xs:209:20: warning: 'PKCS12_parse' is deprecated: first deprecated in OS X 10.7 [-Wdeprecated-declarations]
                if(PKCS12_parse(p12, password, &pkey, &cert, &ca)) {
                   ^
/usr/include/openssl/pkcs12.h:254:5: note: 'PKCS12_parse' has been explicitly marked deprecated here
int PKCS12_parse(PKCS12 *p12, const char *pass, EVP_PKEY **pkey, X509 **cert,
    ^
SSLeay.xs:211:34: warning: 'SSL_CTX_use_PrivateKey' is deprecated: first deprecated in OS X 10.7 [-Wdeprecated-declarations]
                        RETVAL = SSL_CTX_use_PrivateKey(ctx, pkey);
                                 ^
/usr/include/openssl/ssl.h:1471:5: note: 'SSL_CTX_use_PrivateKey' has been explicitly marked deprecated here
int SSL_CTX_use_PrivateKey(SSL_CTX *ctx, EVP_PKEY *pkey) DEPRECATED_IN_MAC_OS_X_VERSION_10_7_AND_LATER;
    ^
SSLeay.xs:212:25: warning: 'EVP_PKEY_free' is deprecated: first deprecated in OS X 10.7 [-Wdeprecated-declarations]
                        EVP_PKEY_free(pkey);
                        ^
/usr/include/openssl/evp.h:878:7: note: 'EVP_PKEY_free' has been explicitly marked deprecated here
void            EVP_PKEY_free(EVP_PKEY *pkey) DEPRECATED_IN_MAC_OS_X_VERSION_10_7_AND_LATER;
                ^
SSLeay.xs:215:34: warning: 'SSL_CTX_use_certificate' is deprecated: first deprecated in OS X 10.7 [-Wdeprecated-declarations]
                        RETVAL = SSL_CTX_use_certificate(ctx, cert);
                                 ^
/usr/include/openssl/ssl.h:1474:5: note: 'SSL_CTX_use_certificate' has been explicitly marked deprecated here
int SSL_CTX_use_certificate(SSL_CTX *ctx, X509 *x) DEPRECATED_IN_MAC_OS_X_VERSION_10_7_AND_LATER;
    ^
SSLeay.c:524:11: warning: 'SSL_CTX_check_private_key' is deprecated: first deprecated in OS X 10.7 [-Wdeprecated-declarations]
        RETVAL = SSL_CTX_check_private_key(ctx);
                 ^
/usr/include/openssl/ssl.h:1480:5: note: 'SSL_CTX_check_private_key' has been explicitly marked deprecated here
int SSL_CTX_check_private_key(const SSL_CTX *ctx) DEPRECATED_IN_MAC_OS_X_VERSION_10_7_AND_LATER;
    ^
SSLeay.xs:241:13: warning: 'SSL_CTX_set_verify' is deprecated: first deprecated in OS X 10.7 [-Wdeprecated-declarations]
            SSL_CTX_set_verify(ctx, SSL_VERIFY_NONE, NULL);
            ^
/usr/include/openssl/ssl.h:1463:6: note: 'SSL_CTX_set_verify' has been explicitly marked deprecated here
void SSL_CTX_set_verify(SSL_CTX *ctx,int mode,
     ^
SSLeay.xs:245:13: warning: 'SSL_CTX_load_verify_locations' is deprecated: first deprecated in OS X 10.7 [-Wdeprecated-declarations]
            SSL_CTX_load_verify_locations(ctx,CAfile,CAdir);
            ^
/usr/include/openssl/ssl.h:1576:5: note: 'SSL_CTX_load_verify_locations' has been explicitly marked deprecated here
int SSL_CTX_load_verify_locations(SSL_CTX *ctx, const char *CAfile,
    ^
SSLeay.xs:246:13: warning: 'SSL_CTX_set_verify' is deprecated: first deprecated in OS X 10.7 [-Wdeprecated-declarations]
            SSL_CTX_set_verify(ctx, SSL_VERIFY_PEER, NULL);
            ^
/usr/include/openssl/ssl.h:1463:6: note: 'SSL_CTX_set_verify' has been explicitly marked deprecated here
void SSL_CTX_set_verify(SSL_CTX *ctx,int mode,
     ^
SSLeay.xs:262:18: warning: 'SSL_new' is deprecated: first deprecated in OS X 10.7 [-Wdeprecated-declarations]
           ssl = SSL_new(ctx);
                 ^
/usr/include/openssl/ssl.h:1486:7: note: 'SSL_new' has been explicitly marked deprecated here
SSL *   SSL_new(SSL_CTX *ctx) DEPRECATED_IN_MAC_OS_X_VERSION_10_7_AND_LATER;
        ^
SSLeay.xs:263:12: warning: 'SSL_set_connect_state' is deprecated: first deprecated in OS X 10.7 [-Wdeprecated-declarations]
           SSL_set_connect_state(ssl);
           ^
/usr/include/openssl/ssl.h:1553:6: note: 'SSL_set_connect_state' has been explicitly marked deprecated here
void SSL_set_connect_state(SSL *s) DEPRECATED_IN_MAC_OS_X_VERSION_10_7_AND_LATER;
     ^
SSLeay.xs:273:12: warning: 'SSL_ctrl' is deprecated: first deprecated in OS X 10.7 [-Wdeprecated-declarations]
           SSL_set_mode(ssl, SSL_MODE_AUTO_RETRY);
           ^
/usr/include/openssl/ssl.h:595:2: note: expanded from macro 'SSL_set_mode'
        SSL_ctrl((ssl),SSL_CTRL_MODE,(op),NULL)
        ^
/usr/include/openssl/ssl.h:1501:6: note: 'SSL_ctrl' has been explicitly marked deprecated here
long    SSL_ctrl(SSL *ssl,int cmd, long larg, void *parg) DEPRECATED_IN_MAC_OS_X_VERSION_10_7_AND_LATER;
        ^
SSLeay.xs:277:14: warning: 'SSL_set_info_callback' is deprecated: first deprecated in OS X 10.7 [-Wdeprecated-declarations]
             SSL_set_info_callback(RETVAL,InfoCallback);
             ^
/usr/include/openssl/ssl.h:1583:6: note: 'SSL_set_info_callback' has been explicitly marked deprecated here
void SSL_set_info_callback(SSL *ssl,
     ^
SSLeay.xs:284:16: warning: 'SSL_set_fd' is deprecated: first deprecated in OS X 10.7 [-Wdeprecated-declarations]
               SSL_set_fd(RETVAL, PerlIO_fileno(io));
               ^
/usr/include/openssl/ssl.h:1375:5: note: 'SSL_set_fd' has been explicitly marked deprecated here
int     SSL_set_fd(SSL *s, int fd) DEPRECATED_IN_MAC_OS_X_VERSION_10_7_AND_LATER;
        ^
SSLeay.c:648:2: warning: 'SSL_free' is deprecated: first deprecated in OS X 10.7 [-Wdeprecated-declarations]
        SSL_free(ssl);
        ^
/usr/include/openssl/ssl.h:1495:6: note: 'SSL_free' has been explicitly marked deprecated here
void    SSL_free(SSL *ssl) DEPRECATED_IN_MAC_OS_X_VERSION_10_7_AND_LATER;
        ^
SSLeay.c:673:11: warning: 'SSL_pending' is deprecated: first deprecated in OS X 10.7 [-Wdeprecated-declarations]
        RETVAL = SSL_pending(ssl);
                 ^
/usr/include/openssl/ssl.h:1373:5: note: 'SSL_pending' has been explicitly marked deprecated here
int     SSL_pending(const SSL *s) DEPRECATED_IN_MAC_OS_X_VERSION_10_7_AND_LATER;
        ^
SSLeay.c:701:11: warning: 'SSL_set_fd' is deprecated: first deprecated in OS X 10.7 [-Wdeprecated-declarations]
        RETVAL = SSL_set_fd(ssl, fd);
                 ^
/usr/include/openssl/ssl.h:1375:5: note: 'SSL_set_fd' has been explicitly marked deprecated here
int     SSL_set_fd(SSL *s, int fd) DEPRECATED_IN_MAC_OS_X_VERSION_10_7_AND_LATER;
        ^
SSLeay.c:727:11: warning: 'SSL_connect' is deprecated: first deprecated in OS X 10.7 [-Wdeprecated-declarations]
        RETVAL = SSL_connect(ssl);
                 ^
/usr/include/openssl/ssl.h:1497:6: note: 'SSL_connect' has been explicitly marked deprecated here
int     SSL_connect(SSL *ssl) DEPRECATED_IN_MAC_OS_X_VERSION_10_7_AND_LATER;
        ^
SSLeay.c:753:11: warning: 'SSL_accept' is deprecated: first deprecated in OS X 10.7 [-Wdeprecated-declarations]
        RETVAL = SSL_accept(ssl);
                 ^
/usr/include/openssl/ssl.h:1496:6: note: 'SSL_accept' has been explicitly marked deprecated here
int     SSL_accept(SSL *ssl) DEPRECATED_IN_MAC_OS_X_VERSION_10_7_AND_LATER;
        ^
SSLeay.xs:348:25: warning: 'SSL_write' is deprecated: first deprecated in OS X 10.7 [-Wdeprecated-declarations]
                int n = SSL_write(ssl, buf+offset, len);
                        ^
/usr/include/openssl/ssl.h:1500:6: note: 'SSL_write' has been explicitly marked deprecated here
int     SSL_write(SSL *ssl,const void *buf,int num) DEPRECATED_IN_MAC_OS_X_VERSION_10_7_AND_LATER;
        ^
SSLeay.xs:349:25: warning: 'SSL_get_error' is deprecated: first deprecated in OS X 10.7 [-Wdeprecated-declarations]
                int x = SSL_get_error(ssl, n);
                        ^
/usr/include/openssl/ssl.h:1506:5: note: 'SSL_get_error' has been explicitly marked deprecated here
int     SSL_get_error(const SSL *s,int ret_code) DEPRECATED_IN_MAC_OS_X_VERSION_10_7_AND_LATER;
        ^
SSLeay.xs:413:25: warning: 'SSL_read' is deprecated: first deprecated in OS X 10.7 [-Wdeprecated-declarations]
                int n = SSL_read(ssl, buf+offset, len);
                        ^
/usr/include/openssl/ssl.h:1498:6: note: 'SSL_read' has been explicitly marked deprecated here
int     SSL_read(SSL *ssl,void *buf,int num) DEPRECATED_IN_MAC_OS_X_VERSION_10_7_AND_LATER;
        ^
SSLeay.xs:414:25: warning: 'SSL_get_error' is deprecated: first deprecated in OS X 10.7 [-Wdeprecated-declarations]
                int x = SSL_get_error(ssl, n);
                        ^
/usr/include/openssl/ssl.h:1506:5: note: 'SSL_get_error' has been explicitly marked deprecated here
int     SSL_get_error(const SSL *s,int ret_code) DEPRECATED_IN_MAC_OS_X_VERSION_10_7_AND_LATER;
        ^
SSLeay.c:945:11: warning: 'SSL_get_peer_certificate' is deprecated: first deprecated in OS X 10.7 [-Wdeprecated-declarations]
        RETVAL = SSL_get_peer_certificate(ssl);
                 ^
/usr/include/openssl/ssl.h:1455:8: note: 'SSL_get_peer_certificate' has been explicitly marked deprecated here
X509 *  SSL_get_peer_certificate(const SSL *s) DEPRECATED_IN_MAC_OS_X_VERSION_10_7_AND_LATER;
        ^
SSLeay.xs:447:30: warning: 'SSL_get_verify_result' is deprecated: first deprecated in OS X 10.7 [-Wdeprecated-declarations]
           RETVAL = newSViv((SSL_get_verify_result(ssl) == X509_V_OK) ? 1 : 0);
                             ^
/System/Library/Perl/5.18/darwin-thread-multi-2level/CORE/embed.h:377:40: note: expanded from macro 'newSViv'
#define newSViv(a)              Perl_newSViv(aTHX_ a)
                                                   ^
/usr/include/openssl/ssl.h:1589:6: note: 'SSL_get_verify_result' has been explicitly marked deprecated here
long SSL_get_verify_result(const SSL *ssl) DEPRECATED_IN_MAC_OS_X_VERSION_10_7_AND_LATER;
     ^
SSLeay.xs:459:18: warning: 'SSL_get_shared_ciphers' is deprecated: first deprecated in OS X 10.7 [-Wdeprecated-declarations]
        RETVAL = SSL_get_shared_ciphers(
                 ^
/usr/include/openssl/ssl.h:1371:8: note: 'SSL_get_shared_ciphers' has been explicitly marked deprecated here
char *  SSL_get_shared_ciphers(const SSL *s, char *buf, int len) DEPRECATED_IN_MAC_OS_X_VERSION_10_7_AND_LATER;
        ^
SSLeay.xs:469:29: warning: 'SSL_CIPHER_get_name' is deprecated: first deprecated in OS X 10.7 [-Wdeprecated-declarations]
           RETVAL = (char*) SSL_get_cipher(ssl);
                            ^
/usr/include/openssl/ssl.h:1157:3: note: expanded from macro 'SSL_get_cipher'
                SSL_CIPHER_get_name(SSL_get_current_cipher(s))
                ^
/usr/include/openssl/ssl.h:1365:14: note: 'SSL_CIPHER_get_name' has been explicitly marked deprecated here
const char *    SSL_CIPHER_get_name(const SSL_CIPHER *c) DEPRECATED_IN_MAC_OS_X_VERSION_10_7_AND_LATER;
                ^
SSLeay.xs:469:29: warning: 'SSL_get_current_cipher' is deprecated: first deprecated in OS X 10.7 [-Wdeprecated-declarations]
           RETVAL = (char*) SSL_get_cipher(ssl);
                            ^
/usr/include/openssl/ssl.h:1157:23: note: expanded from macro 'SSL_get_cipher'
                SSL_CIPHER_get_name(SSL_get_current_cipher(s))
                                    ^
/usr/include/openssl/ssl.h:1362:13: note: 'SSL_get_current_cipher' has been explicitly marked deprecated here
SSL_CIPHER *SSL_get_current_cipher(const SSL *s) DEPRECATED_IN_MAC_OS_X_VERSION_10_7_AND_LATER;
            ^
SSLeay.c:1062:2: warning: 'SSL_ctrl' is deprecated: first deprecated in OS X 10.7 [-Wdeprecated-declarations]
        SSL_set_tlsext_host_name(ssl, name);
        ^
/usr/include/openssl/tls1.h:149:42: note: expanded from macro 'SSL_set_tlsext_host_name'
#define SSL_set_tlsext_host_name(s,name) \
                                         ^
/usr/include/openssl/ssl.h:1501:6: note: 'SSL_ctrl' has been explicitly marked deprecated here
long    SSL_ctrl(SSL *ssl,int cmd, long larg, void *parg) DEPRECATED_IN_MAC_OS_X_VERSION_10_7_AND_LATER;
        ^
SSLeay.xs:494:18: warning: 'X509_NAME_oneline' is deprecated: first deprecated in OS X 10.7 [-Wdeprecated-declarations]
           str = X509_NAME_oneline(X509_get_subject_name(cert), NULL, 0);
                 ^
/usr/include/openssl/x509.h:984:9: note: 'X509_NAME_oneline' has been explicitly marked deprecated here
char *          X509_NAME_oneline(X509_NAME *a,char *buf,int size) DEPRECATED_IN_MAC_OS_X_VERSION_10_7_AND_LATER;
                ^
SSLeay.xs:494:36: warning: 'X509_get_subject_name' is deprecated: first deprecated in OS X 10.7 [-Wdeprecated-declarations]
           str = X509_NAME_oneline(X509_get_subject_name(cert), NULL, 0);
                                   ^
/usr/include/openssl/x509.h:1013:13: note: 'X509_get_subject_name' has been explicitly marked deprecated here
X509_NAME *     X509_get_subject_name(X509 *a) DEPRECATED_IN_MAC_OS_X_VERSION_10_7_AND_LATER;
                ^
SSLeay.xs:496:12: warning: 'CRYPTO_free' is deprecated: first deprecated in OS X 10.7 [-Wdeprecated-declarations]
           CRYPT_SSLEAY_free(str);
           ^
SSLeay.xs:41:27: note: expanded from macro 'CRYPT_SSLEAY_free'
#define CRYPT_SSLEAY_free OPENSSL_free
                          ^
/usr/include/openssl/crypto.h:375:28: note: expanded from macro 'OPENSSL_free'
#define OPENSSL_free(addr)      CRYPTO_free(addr)
                                ^
/usr/include/openssl/crypto.h:480:6: note: 'CRYPTO_free' has been explicitly marked deprecated here
void CRYPTO_free(void *) DEPRECATED_IN_MAC_OS_X_VERSION_10_7_AND_LATER;
     ^
SSLeay.xs:506:18: warning: 'X509_NAME_oneline' is deprecated: first deprecated in OS X 10.7 [-Wdeprecated-declarations]
           str = X509_NAME_oneline(X509_get_issuer_name(cert), NULL, 0);
                 ^
/usr/include/openssl/x509.h:984:9: note: 'X509_NAME_oneline' has been explicitly marked deprecated here
char *          X509_NAME_oneline(X509_NAME *a,char *buf,int size) DEPRECATED_IN_MAC_OS_X_VERSION_10_7_AND_LATER;
                ^
SSLeay.xs:506:36: warning: 'X509_get_issuer_name' is deprecated: first deprecated in OS X 10.7 [-Wdeprecated-declarations]
           str = X509_NAME_oneline(X509_get_issuer_name(cert), NULL, 0);
                                   ^
/usr/include/openssl/x509.h:1011:13: note: 'X509_get_issuer_name' has been explicitly marked deprecated here
X509_NAME *     X509_get_issuer_name(X509 *a) DEPRECATED_IN_MAC_OS_X_VERSION_10_7_AND_LATER;
                ^
SSLeay.xs:508:12: warning: 'CRYPTO_free' is deprecated: first deprecated in OS X 10.7 [-Wdeprecated-declarations]
           CRYPT_SSLEAY_free(str);
           ^
SSLeay.xs:41:27: note: expanded from macro 'CRYPT_SSLEAY_free'
#define CRYPT_SSLEAY_free OPENSSL_free
                          ^
/usr/include/openssl/crypto.h:375:28: note: expanded from macro 'OPENSSL_free'
#define OPENSSL_free(addr)      CRYPTO_free(addr)
                                ^
/usr/include/openssl/crypto.h:480:6: note: 'CRYPTO_free' has been explicitly marked deprecated here
void CRYPTO_free(void *) DEPRECATED_IN_MAC_OS_X_VERSION_10_7_AND_LATER;
     ^
SSLeay.xs:533:18: warning: 'SSLeay_version' is deprecated: first deprecated in OS X 10.7 [-Wdeprecated-declarations]
        RETVAL = SSLeay_version(SSLEAY_VERSION);
                 ^
/usr/include/openssl/crypto.h:382:13: note: 'SSLeay_version' has been explicitly marked deprecated here
const char *SSLeay_version(int type) DEPRECATED_IN_MAC_OS_X_VERSION_10_7_AND_LATER;
            ^
SSLeay.xs:547:18: warning: 'SSLeay_version' is deprecated: first deprecated in OS X 10.7 [-Wdeprecated-declarations]
        RETVAL = SSLeay_version(SSLEAY_CFLAGS);
                 ^
/usr/include/openssl/crypto.h:382:13: note: 'SSLeay_version' has been explicitly marked deprecated here
const char *SSLeay_version(int type) DEPRECATED_IN_MAC_OS_X_VERSION_10_7_AND_LATER;
            ^
SSLeay.xs:554:18: warning: 'SSLeay_version' is deprecated: first deprecated in OS X 10.7 [-Wdeprecated-declarations]
        RETVAL = SSLeay_version(SSLEAY_PLATFORM);
                 ^
/usr/include/openssl/crypto.h:382:13: note: 'SSLeay_version' has been explicitly marked deprecated here
const char *SSLeay_version(int type) DEPRECATED_IN_MAC_OS_X_VERSION_10_7_AND_LATER;
            ^
SSLeay.xs:561:18: warning: 'SSLeay_version' is deprecated: first deprecated in OS X 10.7 [-Wdeprecated-declarations]
        RETVAL = SSLeay_version(SSLEAY_BUILT_ON);
                 ^
/usr/include/openssl/crypto.h:382:13: note: 'SSLeay_version' has been explicitly marked deprecated here
const char *SSLeay_version(int type) DEPRECATED_IN_MAC_OS_X_VERSION_10_7_AND_LATER;
            ^
SSLeay.xs:568:18: warning: 'SSLeay_version' is deprecated: first deprecated in OS X 10.7 [-Wdeprecated-declarations]
        RETVAL = SSLeay_version(SSLEAY_DIR);
                 ^
/usr/include/openssl/crypto.h:382:13: note: 'SSLeay_version' has been explicitly marked deprecated here
const char *SSLeay_version(int type) DEPRECATED_IN_MAC_OS_X_VERSION_10_7_AND_LATER;
            ^
66 warnings generated.
SSLeay.xs:70:37: warning: 'SSL_state_string_long' is deprecated: first deprecated in OS X 10.7 [-Wdeprecated-declarations]
       fprintf(stderr,"%s:%s\n",str,SSL_state_string_long(s));
                                    ^
/usr/include/openssl/ssl.h:1424:13: note: 'SSL_state_string_long' has been explicitly marked deprecated here
const char *SSL_state_string_long(const SSL *s) DEPRECATED_IN_MAC_OS_X_VERSION_10_7_AND_LATER;
            ^
SSLeay.xs:75:12: warning: 'SSL_alert_type_string_long' is deprecated: first deprecated in OS X 10.7 [-Wdeprecated-declarations]
           SSL_alert_type_string_long(ret),
           ^
/usr/include/openssl/ssl.h:1541:13: note: 'SSL_alert_type_string_long' has been explicitly marked deprecated here
const char *SSL_alert_type_string_long(int value) DEPRECATED_IN_MAC_OS_X_VERSION_10_7_AND_LATER;
            ^
SSLeay.xs:76:12: warning: 'SSL_alert_desc_string_long' is deprecated: first deprecated in OS X 10.7 [-Wdeprecated-declarations]
           SSL_alert_desc_string_long(ret));
           ^
/usr/include/openssl/ssl.h:1543:13: note: 'SSL_alert_desc_string_long' has been explicitly marked deprecated here
const char *SSL_alert_desc_string_long(int value) DEPRECATED_IN_MAC_OS_X_VERSION_10_7_AND_LATER;
            ^
SSLeay.xs:80:49: warning: 'SSL_state_string_long' is deprecated: first deprecated in OS X 10.7 [-Wdeprecated-declarations]
         fprintf(stderr,"%s:failed in %s\n",str,SSL_state_string_long(s));
                                                ^
/usr/include/openssl/ssl.h:1424:13: note: 'SSL_state_string_long' has been explicitly marked deprecated here
const char *SSL_state_string_long(const SSL *s) DEPRECATED_IN_MAC_OS_X_VERSION_10_7_AND_LATER;
            ^
SSLeay.xs:82:48: warning: 'SSL_state_string_long' is deprecated: first deprecated in OS X 10.7 [-Wdeprecated-declarations]
         fprintf(stderr,"%s:error in %s\n",str,SSL_state_string_long(s));
                                               ^
/usr/include/openssl/ssl.h:1424:13: note: 'SSL_state_string_long' has been explicitly marked deprecated here
const char *SSL_state_string_long(const SSL *s) DEPRECATED_IN_MAC_OS_X_VERSION_10_7_AND_LATER;
            ^
SSLeay.xs:101:21: warning: 'ERR_get_error' is deprecated: first deprecated in OS X 10.7 [-Wdeprecated-declarations]
        if ((code = ERR_get_error()) == 0) {
                    ^
/usr/include/openssl/err.h:266:15: note: 'ERR_get_error' has been explicitly marked deprecated here
unsigned long ERR_get_error(void) DEPRECATED_IN_MAC_OS_X_VERSION_10_7_AND_LATER;
              ^
SSLeay.xs:106:13: warning: 'ERR_error_string_n' is deprecated: first deprecated in OS X 10.7 [-Wdeprecated-declarations]
            ERR_error_string_n(code, buf, CRYPT_SSLEAY_ERR_BUFSIZE);
            ^
/usr/include/openssl/err.h:280:6: note: 'ERR_error_string_n' has been explicitly marked deprecated here
void ERR_error_string_n(unsigned long e, char *buf, size_t len) DEPRECATED_IN_MAC_OS_X_VERSION_10_7_AND_LATER;
     ^
SSLeay.xs:126:13: warning: 'OPENSSL_add_all_algorithms_noconf' is deprecated: first deprecated in OS X 10.7 [-Wdeprecated-declarations]
            OpenSSL_add_all_algorithms();
            ^
/usr/include/openssl/evp.h:829:3: note: expanded from macro 'OpenSSL_add_all_algorithms'
                OPENSSL_add_all_algorithms_noconf()
                ^
/usr/include/openssl/evp.h:821:6: note: 'OPENSSL_add_all_algorithms_noconf' has been explicitly marked deprecated here
void OPENSSL_add_all_algorithms_noconf(void) DEPRECATED_IN_MAC_OS_X_VERSION_10_7_AND_LATER;
     ^
SSLeay.xs:127:13: warning: 'SSL_load_error_strings' is deprecated: first deprecated in OS X 10.7 [-Wdeprecated-declarations]
            SSL_load_error_strings();
            ^
/usr/include/openssl/ssl.h:1421:6: note: 'SSL_load_error_strings' has been explicitly marked deprecated here
void    SSL_load_error_strings(void ) DEPRECATED_IN_MAC_OS_X_VERSION_10_7_AND_LATER;
        ^
SSLeay.xs:128:13: warning: 'ERR_load_crypto_strings' is deprecated: first deprecated in OS X 10.7 [-Wdeprecated-declarations]
            ERR_load_crypto_strings();
            ^
/usr/include/openssl/err.h:296:6: note: 'ERR_load_crypto_strings' has been explicitly marked deprecated here
void ERR_load_crypto_strings(void) DEPRECATED_IN_MAC_OS_X_VERSION_10_7_AND_LATER;
     ^
SSLeay.xs:129:13: warning: 'SSL_library_init' is deprecated: first deprecated in OS X 10.7 [-Wdeprecated-declarations]
            SSL_library_init();
            ^
/usr/include/openssl/ssl.h:1558:5: note: 'SSL_library_init' has been explicitly marked deprecated here
int SSL_library_init(void ) DEPRECATED_IN_MAC_OS_X_VERSION_10_7_AND_LATER;
    ^
SSLeay.xs:139:12: warning: 'RAND_load_file' is deprecated: first deprecated in OS X 10.7 [-Wdeprecated-declarations]
       if (RAND_load_file("/dev/urandom", CRYPT_SSLEAY_RAND_BUFSIZE)
           ^
/usr/include/openssl/rand.h:108:6: note: 'RAND_load_file' has been explicitly marked deprecated here
int  RAND_load_file(const char *file,long max_bytes) DEPRECATED_IN_MAC_OS_X_VERSION_10_7_AND_LATER;
     ^
SSLeay.xs:145:13: warning: 'RAND_seed' is deprecated: first deprecated in OS X 10.7 [-Wdeprecated-declarations]
            RAND_seed(buf, CRYPT_SSLEAY_RAND_BUFSIZE);
            ^
/usr/include/openssl/rand.h:106:6: note: 'RAND_seed' has been explicitly marked deprecated here
void RAND_seed(const void *buf,int num) DEPRECATED_IN_MAC_OS_X_VERSION_10_7_AND_LATER;
     ^
SSLeay.xs:149:19: warning: 'SSL_CTX_new' is deprecated: first deprecated in OS X 10.7 [-Wdeprecated-declarations]
            ctx = SSL_CTX_new(SSLv23_client_method());
                  ^
/usr/include/openssl/ssl.h:1351:10: note: 'SSL_CTX_new' has been explicitly marked deprecated here
SSL_CTX *SSL_CTX_new(SSL_METHOD *meth) DEPRECATED_IN_MAC_OS_X_VERSION_10_7_AND_LATER;
         ^
SSLeay.xs:149:31: warning: 'SSLv23_client_method' is deprecated: first deprecated in OS X 10.7 [-Wdeprecated-declarations]
            ctx = SSL_CTX_new(SSLv23_client_method());
                              ^
/usr/include/openssl/ssl.h:1522:13: note: 'SSLv23_client_method' has been explicitly marked deprecated here
SSL_METHOD *SSLv23_client_method(void) DEPRECATED_IN_MAC_OS_X_VERSION_10_7_AND_LATER;   /* SSLv3 but can rollback to v2 */
            ^
SSLeay.xs:152:19: warning: 'SSL_CTX_new' is deprecated: first deprecated in OS X 10.7 [-Wdeprecated-declarations]
            ctx = SSL_CTX_new(SSLv3_client_method());
                  ^
/usr/include/openssl/ssl.h:1351:10: note: 'SSL_CTX_new' has been explicitly marked deprecated here
SSL_CTX *SSL_CTX_new(SSL_METHOD *meth) DEPRECATED_IN_MAC_OS_X_VERSION_10_7_AND_LATER;
         ^
SSLeay.xs:152:31: warning: 'SSLv3_client_method' is deprecated: first deprecated in OS X 10.7 [-Wdeprecated-declarations]
            ctx = SSL_CTX_new(SSLv3_client_method());
                              ^
/usr/include/openssl/ssl.h:1518:13: note: 'SSLv3_client_method' has been explicitly marked deprecated here
SSL_METHOD *SSLv3_client_method(void) DEPRECATED_IN_MAC_OS_X_VERSION_10_7_AND_LATER;    /* SSLv3 */
            ^
SSLeay.xs:157:19: warning: 'SSL_CTX_new' is deprecated: first deprecated in OS X 10.7 [-Wdeprecated-declarations]
            ctx = SSL_CTX_new(SSLv2_client_method());
                  ^
/usr/include/openssl/ssl.h:1351:10: note: 'SSL_CTX_new' has been explicitly marked deprecated here
SSL_CTX *SSL_CTX_new(SSL_METHOD *meth) DEPRECATED_IN_MAC_OS_X_VERSION_10_7_AND_LATER;
         ^
SSLeay.xs:157:31: warning: 'SSLv2_client_method' is deprecated: first deprecated in OS X 10.7 [-Wdeprecated-declarations]
            ctx = SSL_CTX_new(SSLv2_client_method());
                              ^
/usr/include/openssl/ssl.h:1514:13: note: 'SSLv2_client_method' has been explicitly marked deprecated here
SSL_METHOD *SSLv2_client_method(void) DEPRECATED_IN_MAC_OS_X_VERSION_10_7_AND_LATER;    /* SSLv2 */
            ^
SSLeay.xs:164:9: warning: 'SSL_CTX_ctrl' is deprecated: first deprecated in OS X 10.7 [-Wdeprecated-declarations]
        SSL_CTX_set_options(ctx,SSL_OP_ALL|0);
        ^
/usr/include/openssl/ssl.h:574:2: note: expanded from macro 'SSL_CTX_set_options'
        SSL_CTX_ctrl((ctx),SSL_CTRL_OPTIONS,(op),NULL)
        ^
/usr/include/openssl/ssl.h:1503:6: note: 'SSL_CTX_ctrl' has been explicitly marked deprecated here
long    SSL_CTX_ctrl(SSL_CTX *ctx,int cmd, long larg, void *parg) DEPRECATED_IN_MAC_OS_X_VERSION_10_7_AND_LATER;
        ^
SSLeay.xs:165:9: warning: 'SSL_CTX_set_default_verify_paths' is deprecated: first deprecated in OS X 10.7 [-Wdeprecated-declarations]
        SSL_CTX_set_default_verify_paths(ctx);
        ^
/usr/include/openssl/ssl.h:1575:5: note: 'SSL_CTX_set_default_verify_paths' has been explicitly marked deprecated here
int SSL_CTX_set_default_verify_paths(SSL_CTX *ctx) DEPRECATED_IN_MAC_OS_X_VERSION_10_7_AND_LATER;
    ^
SSLeay.xs:166:9: warning: 'SSL_CTX_set_verify' is deprecated: first deprecated in OS X 10.7 [-Wdeprecated-declarations]
        SSL_CTX_set_verify(ctx, SSL_VERIFY_NONE, NULL);
        ^
/usr/include/openssl/ssl.h:1463:6: note: 'SSL_CTX_set_verify' has been explicitly marked deprecated here
void SSL_CTX_set_verify(SSL_CTX *ctx,int mode,
     ^
SSLeay.c:356:2: warning: 'SSL_CTX_free' is deprecated: first deprecated in OS X 10.7 [-Wdeprecated-declarations]
        SSL_CTX_free(ctx);
        ^
/usr/include/openssl/ssl.h:1352:6: note: 'SSL_CTX_free' has been explicitly marked deprecated here
void    SSL_CTX_free(SSL_CTX *) DEPRECATED_IN_MAC_OS_X_VERSION_10_7_AND_LATER;
        ^
SSLeay.c:383:11: warning: 'SSL_CTX_set_cipher_list' is deprecated: first deprecated in OS X 10.7 [-Wdeprecated-declarations]
        RETVAL = SSL_CTX_set_cipher_list(ctx, ciphers);
                 ^
/usr/include/openssl/ssl.h:1350:5: note: 'SSL_CTX_set_cipher_list' has been explicitly marked deprecated here
int     SSL_CTX_set_cipher_list(SSL_CTX *,const char *str) DEPRECATED_IN_MAC_OS_X_VERSION_10_7_AND_LATER;
        ^
SSLeay.c:413:11: warning: 'SSL_CTX_use_certificate_file' is deprecated: first deprecated in OS X 10.7 [-Wdeprecated-declarations]
        RETVAL = SSL_CTX_use_certificate_file(ctx, filename, mode);
                 ^
/usr/include/openssl/ssl.h:1407:5: note: 'SSL_CTX_use_certificate_file' has been explicitly marked deprecated here
int     SSL_CTX_use_certificate_file(SSL_CTX *ctx, const char *file, int type) DEPRECATED_IN_MAC_OS_X_VERSION_10_7_AND_LATER;
        ^
SSLeay.c:443:11: warning: 'SSL_CTX_use_PrivateKey_file' is deprecated: first deprecated in OS X 10.7 [-Wdeprecated-declarations]
        RETVAL = SSL_CTX_use_PrivateKey_file(ctx, filename, mode);
                 ^
/usr/include/openssl/ssl.h:1406:5: note: 'SSL_CTX_use_PrivateKey_file' has been explicitly marked deprecated here
int     SSL_CTX_use_PrivateKey_file(SSL_CTX *ctx, const char *file, int type) DEPRECATED_IN_MAC_OS_X_VERSION_10_7_AND_LATER;
        ^
SSLeay.xs:205:19: warning: 'd2i_PKCS12_fp' is deprecated: first deprecated in OS X 10.7 [-Wdeprecated-declarations]
            p12 = d2i_PKCS12_fp(fp, NULL);
                  ^
/usr/include/openssl/pkcs12.h:271:9: note: 'd2i_PKCS12_fp' has been explicitly marked deprecated here
PKCS12 *d2i_PKCS12_fp(FILE *fp, PKCS12 **p12) DEPRECATED_IN_MAC_OS_X_VERSION_10_7_AND_LATER;
        ^
SSLeay.xs:209:20: warning: 'PKCS12_parse' is deprecated: first deprecated in OS X 10.7 [-Wdeprecated-declarations]
                if(PKCS12_parse(p12, password, &pkey, &cert, &ca)) {
                   ^
/usr/include/openssl/pkcs12.h:254:5: note: 'PKCS12_parse' has been explicitly marked deprecated here
int PKCS12_parse(PKCS12 *p12, const char *pass, EVP_PKEY **pkey, X509 **cert,
    ^
SSLeay.xs:211:34: warning: 'SSL_CTX_use_PrivateKey' is deprecated: first deprecated in OS X 10.7 [-Wdeprecated-declarations]
                        RETVAL = SSL_CTX_use_PrivateKey(ctx, pkey);
                                 ^
/usr/include/openssl/ssl.h:1471:5: note: 'SSL_CTX_use_PrivateKey' has been explicitly marked deprecated here
int SSL_CTX_use_PrivateKey(SSL_CTX *ctx, EVP_PKEY *pkey) DEPRECATED_IN_MAC_OS_X_VERSION_10_7_AND_LATER;
    ^
SSLeay.xs:212:25: warning: 'EVP_PKEY_free' is deprecated: first deprecated in OS X 10.7 [-Wdeprecated-declarations]
                        EVP_PKEY_free(pkey);
                        ^
/usr/include/openssl/evp.h:878:7: note: 'EVP_PKEY_free' has been explicitly marked deprecated here
void            EVP_PKEY_free(EVP_PKEY *pkey) DEPRECATED_IN_MAC_OS_X_VERSION_10_7_AND_LATER;
                ^
SSLeay.xs:215:34: warning: 'SSL_CTX_use_certificate' is deprecated: first deprecated in OS X 10.7 [-Wdeprecated-declarations]
                        RETVAL = SSL_CTX_use_certificate(ctx, cert);
                                 ^
/usr/include/openssl/ssl.h:1474:5: note: 'SSL_CTX_use_certificate' has been explicitly marked deprecated here
int SSL_CTX_use_certificate(SSL_CTX *ctx, X509 *x) DEPRECATED_IN_MAC_OS_X_VERSION_10_7_AND_LATER;
    ^
SSLeay.c:524:11: warning: 'SSL_CTX_check_private_key' is deprecated: first deprecated in OS X 10.7 [-Wdeprecated-declarations]
        RETVAL = SSL_CTX_check_private_key(ctx);
                 ^
/usr/include/openssl/ssl.h:1480:5: note: 'SSL_CTX_check_private_key' has been explicitly marked deprecated here
int SSL_CTX_check_private_key(const SSL_CTX *ctx) DEPRECATED_IN_MAC_OS_X_VERSION_10_7_AND_LATER;
    ^
SSLeay.xs:241:13: warning: 'SSL_CTX_set_verify' is deprecated: first deprecated in OS X 10.7 [-Wdeprecated-declarations]
            SSL_CTX_set_verify(ctx, SSL_VERIFY_NONE, NULL);
            ^
/usr/include/openssl/ssl.h:1463:6: note: 'SSL_CTX_set_verify' has been explicitly marked deprecated here
void SSL_CTX_set_verify(SSL_CTX *ctx,int mode,
     ^
SSLeay.xs:245:13: warning: 'SSL_CTX_load_verify_locations' is deprecated: first deprecated in OS X 10.7 [-Wdeprecated-declarations]
            SSL_CTX_load_verify_locations(ctx,CAfile,CAdir);
            ^
/usr/include/openssl/ssl.h:1576:5: note: 'SSL_CTX_load_verify_locations' has been explicitly marked deprecated here
int SSL_CTX_load_verify_locations(SSL_CTX *ctx, const char *CAfile,
    ^
SSLeay.xs:246:13: warning: 'SSL_CTX_set_verify' is deprecated: first deprecated in OS X 10.7 [-Wdeprecated-declarations]
            SSL_CTX_set_verify(ctx, SSL_VERIFY_PEER, NULL);
            ^
/usr/include/openssl/ssl.h:1463:6: note: 'SSL_CTX_set_verify' has been explicitly marked deprecated here
void SSL_CTX_set_verify(SSL_CTX *ctx,int mode,
     ^
SSLeay.xs:262:18: warning: 'SSL_new' is deprecated: first deprecated in OS X 10.7 [-Wdeprecated-declarations]
           ssl = SSL_new(ctx);
                 ^
/usr/include/openssl/ssl.h:1486:7: note: 'SSL_new' has been explicitly marked deprecated here
SSL *   SSL_new(SSL_CTX *ctx) DEPRECATED_IN_MAC_OS_X_VERSION_10_7_AND_LATER;
        ^
SSLeay.xs:263:12: warning: 'SSL_set_connect_state' is deprecated: first deprecated in OS X 10.7 [-Wdeprecated-declarations]
           SSL_set_connect_state(ssl);
           ^
/usr/include/openssl/ssl.h:1553:6: note: 'SSL_set_connect_state' has been explicitly marked deprecated here
void SSL_set_connect_state(SSL *s) DEPRECATED_IN_MAC_OS_X_VERSION_10_7_AND_LATER;
     ^
SSLeay.xs:273:12: warning: 'SSL_ctrl' is deprecated: first deprecated in OS X 10.7 [-Wdeprecated-declarations]
           SSL_set_mode(ssl, SSL_MODE_AUTO_RETRY);
           ^
/usr/include/openssl/ssl.h:595:2: note: expanded from macro 'SSL_set_mode'
        SSL_ctrl((ssl),SSL_CTRL_MODE,(op),NULL)
        ^
/usr/include/openssl/ssl.h:1501:6: note: 'SSL_ctrl' has been explicitly marked deprecated here
long    SSL_ctrl(SSL *ssl,int cmd, long larg, void *parg) DEPRECATED_IN_MAC_OS_X_VERSION_10_7_AND_LATER;
        ^
SSLeay.xs:277:14: warning: 'SSL_set_info_callback' is deprecated: first deprecated in OS X 10.7 [-Wdeprecated-declarations]
             SSL_set_info_callback(RETVAL,InfoCallback);
             ^
/usr/include/openssl/ssl.h:1583:6: note: 'SSL_set_info_callback' has been explicitly marked deprecated here
void SSL_set_info_callback(SSL *ssl,
     ^
SSLeay.xs:284:16: warning: 'SSL_set_fd' is deprecated: first deprecated in OS X 10.7 [-Wdeprecated-declarations]
               SSL_set_fd(RETVAL, PerlIO_fileno(io));
               ^
/usr/include/openssl/ssl.h:1375:5: note: 'SSL_set_fd' has been explicitly marked deprecated here
int     SSL_set_fd(SSL *s, int fd) DEPRECATED_IN_MAC_OS_X_VERSION_10_7_AND_LATER;
        ^
SSLeay.c:648:2: warning: 'SSL_free' is deprecated: first deprecated in OS X 10.7 [-Wdeprecated-declarations]
        SSL_free(ssl);
        ^
/usr/include/openssl/ssl.h:1495:6: note: 'SSL_free' has been explicitly marked deprecated here
void    SSL_free(SSL *ssl) DEPRECATED_IN_MAC_OS_X_VERSION_10_7_AND_LATER;
        ^
SSLeay.c:673:11: warning: 'SSL_pending' is deprecated: first deprecated in OS X 10.7 [-Wdeprecated-declarations]
        RETVAL = SSL_pending(ssl);
                 ^
/usr/include/openssl/ssl.h:1373:5: note: 'SSL_pending' has been explicitly marked deprecated here
int     SSL_pending(const SSL *s) DEPRECATED_IN_MAC_OS_X_VERSION_10_7_AND_LATER;
        ^
SSLeay.c:701:11: warning: 'SSL_set_fd' is deprecated: first deprecated in OS X 10.7 [-Wdeprecated-declarations]
        RETVAL = SSL_set_fd(ssl, fd);
                 ^
/usr/include/openssl/ssl.h:1375:5: note: 'SSL_set_fd' has been explicitly marked deprecated here
int     SSL_set_fd(SSL *s, int fd) DEPRECATED_IN_MAC_OS_X_VERSION_10_7_AND_LATER;
        ^
SSLeay.c:727:11: warning: 'SSL_connect' is deprecated: first deprecated in OS X 10.7 [-Wdeprecated-declarations]
        RETVAL = SSL_connect(ssl);
                 ^
/usr/include/openssl/ssl.h:1497:6: note: 'SSL_connect' has been explicitly marked deprecated here
int     SSL_connect(SSL *ssl) DEPRECATED_IN_MAC_OS_X_VERSION_10_7_AND_LATER;
        ^
SSLeay.c:753:11: warning: 'SSL_accept' is deprecated: first deprecated in OS X 10.7 [-Wdeprecated-declarations]
        RETVAL = SSL_accept(ssl);
                 ^
/usr/include/openssl/ssl.h:1496:6: note: 'SSL_accept' has been explicitly marked deprecated here
int     SSL_accept(SSL *ssl) DEPRECATED_IN_MAC_OS_X_VERSION_10_7_AND_LATER;
        ^
SSLeay.xs:348:25: warning: 'SSL_write' is deprecated: first deprecated in OS X 10.7 [-Wdeprecated-declarations]
                int n = SSL_write(ssl, buf+offset, len);
                        ^
/usr/include/openssl/ssl.h:1500:6: note: 'SSL_write' has been explicitly marked deprecated here
int     SSL_write(SSL *ssl,const void *buf,int num) DEPRECATED_IN_MAC_OS_X_VERSION_10_7_AND_LATER;
        ^
SSLeay.xs:349:25: warning: 'SSL_get_error' is deprecated: first deprecated in OS X 10.7 [-Wdeprecated-declarations]
                int x = SSL_get_error(ssl, n);
                        ^
/usr/include/openssl/ssl.h:1506:5: note: 'SSL_get_error' has been explicitly marked deprecated here
int     SSL_get_error(const SSL *s,int ret_code) DEPRECATED_IN_MAC_OS_X_VERSION_10_7_AND_LATER;
        ^
SSLeay.xs:413:25: warning: 'SSL_read' is deprecated: first deprecated in OS X 10.7 [-Wdeprecated-declarations]
                int n = SSL_read(ssl, buf+offset, len);
                        ^
/usr/include/openssl/ssl.h:1498:6: note: 'SSL_read' has been explicitly marked deprecated here
int     SSL_read(SSL *ssl,void *buf,int num) DEPRECATED_IN_MAC_OS_X_VERSION_10_7_AND_LATER;
        ^
SSLeay.xs:414:25: warning: 'SSL_get_error' is deprecated: first deprecated in OS X 10.7 [-Wdeprecated-declarations]
                int x = SSL_get_error(ssl, n);
                        ^
/usr/include/openssl/ssl.h:1506:5: note: 'SSL_get_error' has been explicitly marked deprecated here
int     SSL_get_error(const SSL *s,int ret_code) DEPRECATED_IN_MAC_OS_X_VERSION_10_7_AND_LATER;
        ^
SSLeay.c:945:11: warning: 'SSL_get_peer_certificate' is deprecated: first deprecated in OS X 10.7 [-Wdeprecated-declarations]
        RETVAL = SSL_get_peer_certificate(ssl);
                 ^
/usr/include/openssl/ssl.h:1455:8: note: 'SSL_get_peer_certificate' has been explicitly marked deprecated here
X509 *  SSL_get_peer_certificate(const SSL *s) DEPRECATED_IN_MAC_OS_X_VERSION_10_7_AND_LATER;
        ^
SSLeay.xs:447:30: warning: 'SSL_get_verify_result' is deprecated: first deprecated in OS X 10.7 [-Wdeprecated-declarations]
           RETVAL = newSViv((SSL_get_verify_result(ssl) == X509_V_OK) ? 1 : 0);
                             ^
/System/Library/Perl/5.18/darwin-thread-multi-2level/CORE/embed.h:377:40: note: expanded from macro 'newSViv'
#define newSViv(a)              Perl_newSViv(aTHX_ a)
                                                   ^
/usr/include/openssl/ssl.h:1589:6: note: 'SSL_get_verify_result' has been explicitly marked deprecated here
long SSL_get_verify_result(const SSL *ssl) DEPRECATED_IN_MAC_OS_X_VERSION_10_7_AND_LATER;
     ^
SSLeay.xs:459:18: warning: 'SSL_get_shared_ciphers' is deprecated: first deprecated in OS X 10.7 [-Wdeprecated-declarations]
        RETVAL = SSL_get_shared_ciphers(
                 ^
/usr/include/openssl/ssl.h:1371:8: note: 'SSL_get_shared_ciphers' has been explicitly marked deprecated here
char *  SSL_get_shared_ciphers(const SSL *s, char *buf, int len) DEPRECATED_IN_MAC_OS_X_VERSION_10_7_AND_LATER;
        ^
SSLeay.xs:469:29: warning: 'SSL_CIPHER_get_name' is deprecated: first deprecated in OS X 10.7 [-Wdeprecated-declarations]
           RETVAL = (char*) SSL_get_cipher(ssl);
                            ^
/usr/include/openssl/ssl.h:1157:3: note: expanded from macro 'SSL_get_cipher'
                SSL_CIPHER_get_name(SSL_get_current_cipher(s))
                ^
/usr/include/openssl/ssl.h:1365:14: note: 'SSL_CIPHER_get_name' has been explicitly marked deprecated here
const char *    SSL_CIPHER_get_name(const SSL_CIPHER *c) DEPRECATED_IN_MAC_OS_X_VERSION_10_7_AND_LATER;
                ^
SSLeay.xs:469:29: warning: 'SSL_get_current_cipher' is deprecated: first deprecated in OS X 10.7 [-Wdeprecated-declarations]
           RETVAL = (char*) SSL_get_cipher(ssl);
                            ^
/usr/include/openssl/ssl.h:1157:23: note: expanded from macro 'SSL_get_cipher'
                SSL_CIPHER_get_name(SSL_get_current_cipher(s))
                                    ^
/usr/include/openssl/ssl.h:1362:13: note: 'SSL_get_current_cipher' has been explicitly marked deprecated here
SSL_CIPHER *SSL_get_current_cipher(const SSL *s) DEPRECATED_IN_MAC_OS_X_VERSION_10_7_AND_LATER;
            ^
SSLeay.c:1062:2: warning: 'SSL_ctrl' is deprecated: first deprecated in OS X 10.7 [-Wdeprecated-declarations]
        SSL_set_tlsext_host_name(ssl, name);
        ^
/usr/include/openssl/tls1.h:149:42: note: expanded from macro 'SSL_set_tlsext_host_name'
#define SSL_set_tlsext_host_name(s,name) \
                                         ^
/usr/include/openssl/ssl.h:1501:6: note: 'SSL_ctrl' has been explicitly marked deprecated here
long    SSL_ctrl(SSL *ssl,int cmd, long larg, void *parg) DEPRECATED_IN_MAC_OS_X_VERSION_10_7_AND_LATER;
        ^
SSLeay.xs:494:18: warning: 'X509_NAME_oneline' is deprecated: first deprecated in OS X 10.7 [-Wdeprecated-declarations]
           str = X509_NAME_oneline(X509_get_subject_name(cert), NULL, 0);
                 ^
/usr/include/openssl/x509.h:984:9: note: 'X509_NAME_oneline' has been explicitly marked deprecated here
char *          X509_NAME_oneline(X509_NAME *a,char *buf,int size) DEPRECATED_IN_MAC_OS_X_VERSION_10_7_AND_LATER;
                ^
SSLeay.xs:494:36: warning: 'X509_get_subject_name' is deprecated: first deprecated in OS X 10.7 [-Wdeprecated-declarations]
           str = X509_NAME_oneline(X509_get_subject_name(cert), NULL, 0);
                                   ^
/usr/include/openssl/x509.h:1013:13: note: 'X509_get_subject_name' has been explicitly marked deprecated here
X509_NAME *     X509_get_subject_name(X509 *a) DEPRECATED_IN_MAC_OS_X_VERSION_10_7_AND_LATER;
                ^
SSLeay.xs:496:12: warning: 'CRYPTO_free' is deprecated: first deprecated in OS X 10.7 [-Wdeprecated-declarations]
           CRYPT_SSLEAY_free(str);
           ^
SSLeay.xs:41:27: note: expanded from macro 'CRYPT_SSLEAY_free'
#define CRYPT_SSLEAY_free OPENSSL_free
                          ^
/usr/include/openssl/crypto.h:375:28: note: expanded from macro 'OPENSSL_free'
#define OPENSSL_free(addr)      CRYPTO_free(addr)
                                ^
/usr/include/openssl/crypto.h:480:6: note: 'CRYPTO_free' has been explicitly marked deprecated here
void CRYPTO_free(void *) DEPRECATED_IN_MAC_OS_X_VERSION_10_7_AND_LATER;
     ^
SSLeay.xs:506:18: warning: 'X509_NAME_oneline' is deprecated: first deprecated in OS X 10.7 [-Wdeprecated-declarations]
           str = X509_NAME_oneline(X509_get_issuer_name(cert), NULL, 0);
                 ^
/usr/include/openssl/x509.h:984:9: note: 'X509_NAME_oneline' has been explicitly marked deprecated here
char *          X509_NAME_oneline(X509_NAME *a,char *buf,int size) DEPRECATED_IN_MAC_OS_X_VERSION_10_7_AND_LATER;
                ^
SSLeay.xs:506:36: warning: 'X509_get_issuer_name' is deprecated: first deprecated in OS X 10.7 [-Wdeprecated-declarations]
           str = X509_NAME_oneline(X509_get_issuer_name(cert), NULL, 0);
                                   ^
/usr/include/openssl/x509.h:1011:13: note: 'X509_get_issuer_name' has been explicitly marked deprecated here
X509_NAME *     X509_get_issuer_name(X509 *a) DEPRECATED_IN_MAC_OS_X_VERSION_10_7_AND_LATER;
                ^
SSLeay.xs:508:12: warning: 'CRYPTO_free' is deprecated: first deprecated in OS X 10.7 [-Wdeprecated-declarations]
           CRYPT_SSLEAY_free(str);
           ^
SSLeay.xs:41:27: note: expanded from macro 'CRYPT_SSLEAY_free'
#define CRYPT_SSLEAY_free OPENSSL_free
                          ^
/usr/include/openssl/crypto.h:375:28: note: expanded from macro 'OPENSSL_free'
#define OPENSSL_free(addr)      CRYPTO_free(addr)
                                ^
/usr/include/openssl/crypto.h:480:6: note: 'CRYPTO_free' has been explicitly marked deprecated here
void CRYPTO_free(void *) DEPRECATED_IN_MAC_OS_X_VERSION_10_7_AND_LATER;
     ^
SSLeay.xs:533:18: warning: 'SSLeay_version' is deprecated: first deprecated in OS X 10.7 [-Wdeprecated-declarations]
        RETVAL = SSLeay_version(SSLEAY_VERSION);
                 ^
/usr/include/openssl/crypto.h:382:13: note: 'SSLeay_version' has been explicitly marked deprecated here
const char *SSLeay_version(int type) DEPRECATED_IN_MAC_OS_X_VERSION_10_7_AND_LATER;
            ^
SSLeay.xs:547:18: warning: 'SSLeay_version' is deprecated: first deprecated in OS X 10.7 [-Wdeprecated-declarations]
        RETVAL = SSLeay_version(SSLEAY_CFLAGS);
                 ^
/usr/include/openssl/crypto.h:382:13: note: 'SSLeay_version' has been explicitly marked deprecated here
const char *SSLeay_version(int type) DEPRECATED_IN_MAC_OS_X_VERSION_10_7_AND_LATER;
            ^
SSLeay.xs:554:18: warning: 'SSLeay_version' is deprecated: first deprecated in OS X 10.7 [-Wdeprecated-declarations]
        RETVAL = SSLeay_version(SSLEAY_PLATFORM);
                 ^
/usr/include/openssl/crypto.h:382:13: note: 'SSLeay_version' has been explicitly marked deprecated here
const char *SSLeay_version(int type) DEPRECATED_IN_MAC_OS_X_VERSION_10_7_AND_LATER;
            ^
SSLeay.xs:561:18: warning: 'SSLeay_version' is deprecated: first deprecated in OS X 10.7 [-Wdeprecated-declarations]
        RETVAL = SSLeay_version(SSLEAY_BUILT_ON);
                 ^
/usr/include/openssl/crypto.h:382:13: note: 'SSLeay_version' has been explicitly marked deprecated here
const char *SSLeay_version(int type) DEPRECATED_IN_MAC_OS_X_VERSION_10_7_AND_LATER;
            ^
SSLeay.xs:568:18: warning: 'SSLeay_version' is deprecated: first deprecated in OS X 10.7 [-Wdeprecated-declarations]
        RETVAL = SSLeay_version(SSLEAY_DIR);
                 ^
/usr/include/openssl/crypto.h:382:13: note: 'SSLeay_version' has been explicitly marked deprecated here
const char *SSLeay_version(int type) DEPRECATED_IN_MAC_OS_X_VERSION_10_7_AND_LATER;
            ^
66 warnings generated.
rm -f blib/arch/auto/Crypt/SSLeay/SSLeay.bundle
LD_RUN_PATH="/usr/lib" cc -mmacosx-version-min=10.10  -arch x86_64 -arch i386 -bundle -undefined dynamic_lookup -fstack-protector SSLeay.o  -o blib/arch/auto/Crypt/SSLeay/SSLeay.bundle 	\
	   -lssl -lcrypto -lz  	\
	  
chmod 755 blib/arch/auto/Crypt/SSLeay/SSLeay.bundle
"/usr/bin/perl" -MExtUtils::Command::MM -e 'cp_nonempty' -- SSLeay.bs blib/arch/auto/Crypt/SSLeay/SSLeay.bs 644
Manifying 3 pod documents
Running Mkbootstrap for Crypt::SSLeay ()
chmod 644 "SSLeay.bs"
PERL_DL_NONLAZY=1 "/usr/bin/perl" "-MExtUtils::Command::MM" "-MTest::Harness" "-e" "undef *Test::Harness::Switches; test_harness(0, 'blib/lib', 'blib/arch')" t/*.t
t/00-basic.t ..... ok
t/01-connect.t ... ok
# Reading configuration from 'test.config' on darwin
# network_tests : 0
t/02-live.t ...... skipped: Network tests disabled
t/03-version.t ... ok
t/boilerplate.t .. ok
t/manifest.t ..... skipped: Author tests not required for installation
All tests successful.
Files=6, Tests=43,  1 wallclock secs ( 0.04 usr  0.02 sys +  0.33 cusr  0.05 csys =  0.44 CPU)
Result: PASS

------------------------------
PREREQUISITES
------------------------------

Prerequisite modules loaded:

    No requirements found

------------------------------
ENVIRONMENT AND OTHER CONTEXT
------------------------------

Environment variables:

    LANG = en_US.UTF-8
    PATH = /opt/local/bin:/opt/local/sbin:/usr/local/bin:/usr/bin:/bin:/usr/sbin:/sbin:/opt/X11/bin:/Users/dhorner/Downloads/adt-bundle-mac-x86_64-20140321/sdk/tools:/Users/dhorner/Downloads/adt-bundle-mac-x86_64-20140321/sdk/platform-tools
    SHELL = /bin/bash
    TERM = xterm-256color
    VERSIONER_PERL_PREFER_32_BIT = no
    VERSIONER_PERL_VERSION = 5.18

Perl special variables (and OS-specific diagnostics, for MSWin32):

    EGID = 0 0 1 2 3 4 5 8 9 12 20 29 61 80 401 33 98 100 204 398 101
    EUID = 0
    EXECUTABLE_NAME = /usr/bin/perl
    GID = 0 0 1 2 3 4 5 8 9 12 20 29 61 80 401 33 98 100 204 398 101
    UID = 0

Perl module toolchain versions installed:

    Module              Have    
    ------------------- --------
    CPAN                2.05    
    CPAN::Meta          2.143240
    Cwd                 3.47    
    ExtUtils::CBuilder  0.280220
    ExtUtils::Command   1.18    
    ExtUtils::Install   2.04    
    ExtUtils::MakeMaker 7.04    
    ExtUtils::Manifest  1.69    
    ExtUtils::ParseXS   3.24    
    File::Spec          3.47    
    JSON                2.90    
    JSON::PP            2.27300 
    Module::Build       0.4210  
    Module::Signature   n/a     
    Parse::CPAN::Meta   1.4414  
    Test::Harness       3.34    
    Test::More          1.001012
    YAML                1.13    
    YAML::Syck          1.29    
    version             0.9909  


--

Summary of my perl5 (revision 5 version 18 subversion 2) configuration:
   
  Platform:
    osname=darwin, osvers=14.0, archname=darwin-thread-multi-2level
    uname='darwin glow.apple.com 14.0 darwin kernel version 14.0.0: tue aug 19 19:20:45 pdt 2014; root:xnu-2782.1.85~1development_x86_64 x86_64 '
    config_args='-ds -e -Dprefix=/usr -Dccflags=-g  -pipe  -Dldflags= -Dman3ext=3pm -Duseithreads -Duseshrplib -Dinc_version_list=none -Dcc=cc'
    hint=recommended, useposix=true, d_sigaction=define
    useithreads=define, usemultiplicity=define
    useperlio=define, d_sfio=undef, uselargefiles=define, usesocks=undef
    use64bitint=define, use64bitall=define, uselongdouble=undef
    usemymalloc=n, bincompat5005=undef
  Compiler:
    cc='cc', ccflags ='-arch x86_64 -arch i386 -g -pipe -fno-common -DPERL_DARWIN -fno-strict-aliasing -fstack-protector',
    optimize='-Os',
    cppflags='-g -pipe -fno-common -DPERL_DARWIN -fno-strict-aliasing -fstack-protector'
    ccversion='', gccversion='4.2.1 Compatible Apple LLVM 6.0 (clang-600.0.39)', gccosandvers=''
    intsize=4, longsize=8, ptrsize=8, doublesize=8, byteorder=12345678
    d_longlong=define, longlongsize=8, d_longdbl=define, longdblsize=16
    ivtype='long', ivsize=8, nvtype='double', nvsize=8, Off_t='off_t', lseeksize=8
    alignbytes=8, prototype=define
  Linker and Libraries:
    ld='cc -mmacosx-version-min=10.10', ldflags ='-arch x86_64 -arch i386 -fstack-protector'
    libpth=/usr/lib /usr/local/lib
    libs= 
    perllibs=
    libc=, so=dylib, useshrplib=true, libperl=libperl.dylib
    gnulibc_version=''
  Dynamic Linking:
    dlsrc=dl_dlopen.xs, dlext=bundle, d_dlsymun=undef, ccdlflags=' '
    cccdlflags=' ', lddlflags='-arch x86_64 -arch i386 -bundle -undefined dynamic_lookup -fstack-protector'


Characteristics of this binary (from libperl): 
  Compile-time options: HAS_TIMES MULTIPLICITY PERLIO_LAYERS
                        PERL_DONT_CREATE_GVSV
                        PERL_HASH_FUNC_ONE_AT_A_TIME_HARD
                        PERL_IMPLICIT_CONTEXT PERL_MALLOC_WRAP
                        PERL_PRESERVE_IVUV PERL_SAWAMPERSAND USE_64_BIT_ALL
                        USE_64_BIT_INT USE_ITHREADS USE_LARGE_FILES
                        USE_LOCALE USE_LOCALE_COLLATE USE_LOCALE_CTYPE
                        USE_LOCALE_NUMERIC USE_PERLIO USE_PERL_ATOF
                        USE_REENTRANT_API
  Locally applied patches:
	/Library/Perl/Updates/<version> comes before system perl directories
	installprivlib and installarchlib points to the Updates directory
  Built under darwin
  Compiled at Sep  9 2014 18:59:52
  @INC:
    /Library/Perl/5.18/darwin-thread-multi-2level
    /Library/Perl/5.18
    /Network/Library/Perl/5.18/darwin-thread-multi-2level
    /Network/Library/Perl/5.18
    /Library/Perl/Updates/5.18.2/darwin-thread-multi-2level
    /Library/Perl/Updates/5.18.2
    /System/Library/Perl/5.18/darwin-thread-multi-2level
    /System/Library/Perl/5.18
    /System/Library/Perl/Extras/5.18/darwin-thread-multi-2level
    /System/Library/Perl/Extras/5.18
    .