Back
From: metabase:user:30ae4450-2aae-11df-837a-5e0a49663a4f
Subject: PASS XML-Compile-1.55 v5.16.3
Date: 2017-03-09T13:16:53Z
This distribution has been tested as part of the CPAN Testers
project, supporting the Perl programming language. See
http://wiki.cpantesters.org/ for more information or email
questions to cpan-testers-discuss@perl.org
--
Dear Mark Overmeer,
This is a computer-generated report for XML-Compile-1.55
on perl 5.16.3, created by CPAN-Reporter-1.2015.
Thank you for uploading your work to CPAN. Congratulations!
All tests were successful.
Sections of this report:
* Tester comments
* Program output
* Prerequisites
* Environment and other context
------------------------------
TESTER COMMENTS
------------------------------
Additional comments from tester:
this report is from an automated smoke testing program
and was not reviewed by a human for accuracy
------------------------------
PROGRAM OUTPUT
------------------------------
Output from 'C:\strawberry163\c\bin\dmake.exe test':
C:\strawberry163\perl\bin\perl.exe "-MExtUtils::Command::MM" "-e" "test_harness(0, 'blib\lib', 'blib\arch')" t/*.t
Test::More version 1.001002
Test::Deep version 0.11
Log::Report version 1.19
Math::BigInt version 1.998
String::Print version 0.15
XML::LibXML version 2.0128
XML::Compile version 1.55
XML::Compile::SOAP not installed
XML::Compile::Tester version 0.90
XML::Compile::Dumper not installed
XML::Compile::Cache not installed
libxml2 2.9.0
t/01use.t ......... ok
t/02ext.t ......... ok
t/03duration.t .... skipped: POSIX::tzset not implemented on this architecture at t/03duration.t line 16.
t/20spec.t ........ ok
t/21types.t ....... ok
t/22call.t ........ ok
t/30compile.t ..... ok
t/31elem.t ........ ok
t/32attr.t ........ ok
t/33ref.t ......... ok
t/34abstract.t .... ok
t/39ns.t .......... ok
t/40seq.t ......... ok
t/41choice.t ...... ok
t/42all.t ......... ok
t/43group.t ....... ok
t/44stres.t ....... ok
t/45ctcext.t ...... ok
t/45ctcres.t ...... ok
t/46ctsext.t ...... ok
t/47ctsres.t ...... ok
t/48subst.t ....... ok
t/49list.t ........ ok
t/50union.t ....... ok
t/51any.t ......... ok
t/52anytype.t ..... ok
t/54nil.t ......... ok
t/55facet.t ....... ok
t/55facet_date.t .. ok
t/55facet_dura.t .. ok
t/55facet_list.t .. ok
t/56pats.t ........ ok
t/57fixed.t ....... ok
t/58default.t ..... ok
t/59big.t ......... ok
t/60hooks_r.t ..... ok
t/61hooks_w.t ..... ok
t/62recurse.t ..... ok
t/63mixed.t ....... ok
t/64xsi.t ......... ok
t/70templ.t ....... ok
t/72typemap.t ..... ok
t/73rewrite.t ..... ok
t/74qname.t ....... ok
t/75type.t ........ ok
t/76blocked.t ..... ok
t/77form.t ........ ok
t/81-2000.t ....... ok
t/90nons.t ........ ok
t/91noqual.t ...... ok
Subroutine JSON::XS::Boolean::(++ redefined at C:/strawberry163/perl/lib/overload.pm line 49.
Subroutine JSON::XS::Boolean::(0+ redefined at C:/strawberry163/perl/lib/overload.pm line 49.
Subroutine JSON::XS::Boolean::(-- redefined at C:/strawberry163/perl/lib/overload.pm line 49.
# JSON::PP too old, requires 2.91 to work
# JSON::XS too old, requires 3.02 to work
# Cpanel::JSON::XS too old, requires 3.0201 to work
t/92json.t ........ skipped: No module of the following available: JSON::XS Cpanel::JSON::XS JSON::PP
All tests successful.
Files=51, Tests=3162, 42 wallclock secs ( 0.51 usr + 0.14 sys = 0.65 CPU)
Result: PASS
------------------------------
PREREQUISITES
------------------------------
Prerequisite modules loaded:
requires:
Module Need Have
-------------------- ------ --------
bignum 0.1 0.32
Digest::MD5 2.36 2.53
IO 1.22 1.25_06
List::Util 0 1.38
Log::Report 1.03 1.19
Math::BigInt 1.77 1.998
Math::BigRat 0.1 0.2603
MIME::Base64 3.1 3.13
Test::Deep 0.095 0.110
Test::More 0.54 1.001002
Types::Serialiser 0 1.0
XML::Compile::Tester 0.9 0.90
XML::LibXML 2.0107 2.0128
build_requires:
Module Need Have
-------------------- ------ --------
ExtUtils::MakeMaker 0 6.64
configure_requires:
Module Need Have
-------------------- ------ --------
ExtUtils::MakeMaker 0 6.64
------------------------------
ENVIRONMENT AND OTHER CONTEXT
------------------------------
Environment variables:
AUTOMATED_TESTING = 1
COMSPEC = C:\WINDOWS\system32\cmd.exe
NUMBER_OF_PROCESSORS = 1
PATH = C:\WINDOWS\system32;C:\WINDOWS;C:\WINDOWS\System32\Wbem;C:\strawberry163\c\bin;C:\strawberry163\perl\site\bin;C:\strawberry163\perl\bin
PERL5LIB = C:\strawberry163\cpan\build\XML-LibXML-2.0128-E3HRzf/blib/arch;C:\strawberry163\cpan\build\XML-LibXML-2.0128-E3HRzf/blib/lib;C:\strawberry163\cpan\build\XML-Compile-Tester-0.90-UG4_Ni/blib/arch;C:\strawberry163\cpan\build\XML-Compile-Tester-0.90-UG4_Ni/blib/lib;C:\strawberry163\cpan\build\Log-Report-1.19-pbOEmR/blib/arch;C:\strawberry163\cpan\build\Log-Report-1.19-pbOEmR/blib/lib;C:\strawberry163\cpan\build\Log-Report-Optional-1.02-Xhzbav/blib/arch;C:\strawberry163\cpan\build\Log-Report-Optional-1.02-Xhzbav/blib/lib;C:\strawberry163\cpan\build\String-Print-0.15-Bb6M_r/blib/arch;C:\strawberry163\cpan\build\String-Print-0.15-Bb6M_r/blib/lib
PERL5OPT =
PERL5_CPANPLUS_IS_RUNNING = 556
PERL5_CPAN_IS_RUNNING = 556
PERL5_CPAN_IS_RUNNING_IN_RECURSION = 1248,556
PERL_CR_SMOKER_CURRENT = XML-Compile-1.55
PERL_CR_SMOKER_RUNONCE = 1
PERL_EXTUTILS_AUTOINSTALL = --defaultdeps
PERL_MM_USE_DEFAULT = 1
PROCESSOR_IDENTIFIER = x86 Family 18 Model 1 Stepping 0, AuthenticAMD
TEMP = C:\DOCUME~1\c\LOCALS~1\Temp
TERM = dumb
Perl special variables (and OS-specific diagnostics, for MSWin32):
$^X = C:\strawberry163\perl\bin\perl.exe
$UID/$EUID = 0 / 0
$GID = 0
$EGID = 0
Win32::GetOSName = WinXP/.Net
Win32::GetOSVersion = Service Pack 3, 5, 1, 2600, 2, 3, 0, 256, 1
Win32::FsType = NTFS
Win32::IsAdminUser = 1
Perl module toolchain versions installed:
Module Have
------------------- --------
CPAN 2.00
CPAN::Meta 2.140640
Cwd 3.40
ExtUtils::CBuilder 0.280206
ExtUtils::Command 1.17
ExtUtils::Install 1.58
ExtUtils::MakeMaker 6.64
ExtUtils::Manifest 1.61
ExtUtils::ParseXS 3.24
File::Spec 3.40
JSON 2.90
JSON::PP 2.27203
Module::Build 0.4205
Module::Signature 0.70
Parse::CPAN::Meta 1.4414
Test::Harness 3.30
Test::More 1.001002
YAML 0.90
YAML::Syck 1.24
version 0.9902
--
Summary of my perl5 (revision 5 version 16 subversion 3) configuration:
Platform:
osname=MSWin32, osvers=4.0, archname=MSWin32-x86-multi-thread
uname='Win32 strawberry-perl 5.16.3.1 #1 Tue Mar 12 13:55:20 2013 i386'
config_args='undef'
hint=recommended, useposix=true, d_sigaction=undef
useithreads=define, usemultiplicity=define
useperlio=define, d_sfio=undef, uselargefiles=define, usesocks=undef
use64bitint=undef, use64bitall=undef, uselongdouble=undef
usemymalloc=n, bincompat5005=undef
Compiler:
cc='gcc', ccflags =' -s -O2 -DWIN32 -DPERL_TEXTMODE_SCRIPTS -DPERL_IMPLICIT_CONTEXT -DPERL_IMPLICIT_SYS -fno-strict-aliasing -mms-bitfields',
optimize='-s -O2',
cppflags='-DWIN32'
ccversion='', gccversion='4.6.3', gccosandvers=''
intsize=4, longsize=4, ptrsize=4, doublesize=8, byteorder=1234
d_longlong=undef, longlongsize=8, d_longdbl=define, longdblsize=12
ivtype='long', ivsize=4, nvtype='double', nvsize=8, Off_t='long long', lseeksize=8
alignbytes=8, prototype=define
Linker and Libraries:
ld='g++', ldflags ='-s -L"C:\strawberry163\perl\lib\CORE" -L"C:\strawberry163\c\lib"'
libpth=C:\strawberry163\c\lib C:\strawberry163\c\i686-w64-mingw32\lib
libs=-lmoldname -lkernel32 -luser32 -lgdi32 -lwinspool -lcomdlg32 -ladvapi32 -lshell32 -lole32 -loleaut32 -lnetapi32 -luuid -lws2_32 -lmpr -lwinmm -lversion -lodbc32 -lodbccp32 -lcomctl32
perllibs=-lmoldname -lkernel32 -luser32 -lgdi32 -lwinspool -lcomdlg32 -ladvapi32 -lshell32 -lole32 -loleaut32 -lnetapi32 -luuid -lws2_32 -lmpr -lwinmm -lversion -lodbc32 -lodbccp32 -lcomctl32
libc=, so=dll, useshrplib=true, libperl=libperl516.a
gnulibc_version=''
Dynamic Linking:
dlsrc=dl_win32.xs, dlext=dll, d_dlsymun=undef, ccdlflags=' '
cccdlflags=' ', lddlflags='-mdll -s -L"C:\strawberry163\perl\lib\CORE" -L"C:\strawberry163\c\lib"'
Characteristics of this binary (from libperl):
Compile-time options: HAS_TIMES HAVE_INTERP_INTERN MULTIPLICITY
PERLIO_LAYERS PERL_DONT_CREATE_GVSV
PERL_IMPLICIT_CONTEXT PERL_IMPLICIT_SYS
PERL_MALLOC_WRAP PERL_PRESERVE_IVUV PL_OP_SLAB_ALLOC
USE_ITHREADS USE_LARGE_FILES USE_LOCALE
USE_LOCALE_COLLATE USE_LOCALE_CTYPE
USE_LOCALE_NUMERIC USE_PERLIO USE_PERL_ATOF
Built under MSWin32
Compiled at Mar 12 2013 14:01:07
%ENV:
PERL5LIB="C:\strawberry163\cpan\build\XML-LibXML-2.0128-E3HRzf/blib/arch;C:\strawberry163\cpan\build\XML-LibXML-2.0128-E3HRzf/blib/lib;C:\strawberry163\cpan\build\XML-Compile-Tester-0.90-UG4_Ni/blib/arch;C:\strawberry163\cpan\build\XML-Compile-Tester-0.90-UG4_Ni/blib/lib;C:\strawberry163\cpan\build\Log-Report-1.19-pbOEmR/blib/arch;C:\strawberry163\cpan\build\Log-Report-1.19-pbOEmR/blib/lib;C:\strawberry163\cpan\build\Log-Report-Optional-1.02-Xhzbav/blib/arch;C:\strawberry163\cpan\build\Log-Report-Optional-1.02-Xhzbav/blib/lib;C:\strawberry163\cpan\build\String-Print-0.15-Bb6M_r/blib/arch;C:\strawberry163\cpan\build\String-Print-0.15-Bb6M_r/blib/lib"
PERL5_CPANPLUS_IS_RUNNING="556"
PERL5_CPAN_IS_RUNNING="556"
PERL5_CPAN_IS_RUNNING_IN_RECURSION="1248,556"
PERL_CR_SMOKER_CURRENT="XML-Compile-1.55"
PERL_CR_SMOKER_RUNONCE="1"
PERL_EXTUTILS_AUTOINSTALL="--defaultdeps"
PERL_MM_USE_DEFAULT="1"
@INC:
C:\strawberry163\cpan\build\XML-LibXML-2.0128-E3HRzf/blib/arch
C:\strawberry163\cpan\build\XML-LibXML-2.0128-E3HRzf/blib/lib
C:\strawberry163\cpan\build\XML-Compile-Tester-0.90-UG4_Ni/blib/arch
C:\strawberry163\cpan\build\XML-Compile-Tester-0.90-UG4_Ni/blib/lib
C:\strawberry163\cpan\build\Log-Report-1.19-pbOEmR/blib/arch
C:\strawberry163\cpan\build\Log-Report-1.19-pbOEmR/blib/lib
C:\strawberry163\cpan\build\Log-Report-Optional-1.02-Xhzbav/blib/arch
C:\strawberry163\cpan\build\Log-Report-Optional-1.02-Xhzbav/blib/lib
C:\strawberry163\cpan\build\String-Print-0.15-Bb6M_r/blib/arch
C:\strawberry163\cpan\build\String-Print-0.15-Bb6M_r/blib/lib
C:/strawberry163/perl/site/lib
C:/strawberry163/perl/vendor/lib
C:/strawberry163/perl/lib
.