Report for HTML-Acid-v0.0.3

Back
From: metabase:user:320bfe00-2aae-11df-837a-5e0a49663a4f
Subject: PASS HTML-Acid-v0.0.3 v5.19.1 GNU/Linux
Date: 2013-05-21T12:01:59Z

This distribution has been tested as part of the CPAN Testers
project, supporting the Perl programming language.  See
http://wiki.cpantesters.org/ for more information or email
questions to cpan-testers-discuss@perl.org


--
Dear Nicholas Bamber,

This is a computer-generated report for HTML-Acid-v0.0.3
on perl 5.19.1, created by CPAN-Reporter-1.2010.

Thank you for uploading your work to CPAN.  Congratulations!
All tests were successful.

Sections of this report:

    * Tester comments
    * Program output
    * Prerequisites
    * Environment and other context

------------------------------
TESTER COMMENTS
------------------------------

Additional comments from tester:

this report is from an automated smoke testing program
and was not reviewed by a human for accuracy

------------------------------
PROGRAM OUTPUT
------------------------------

Output from './Build test':

# Testing HTML::Acid 0.0.3
t/00.load.t ......... ok
t/01.progression.t .. ok
t/02.buffer.t ....... ok
t/03_variant.t ...... ok
Smartmatch is experimental at (eval 17) line 7.
Smartmatch is experimental at (eval 17) line 14.
Smartmatch is experimental at (eval 19) line 7.
Smartmatch is experimental at (eval 19) line 14.
Smartmatch is experimental at (eval 21) line 7.
Smartmatch is experimental at (eval 21) line 14.
Smartmatch is experimental at (eval 23) line 10.
Smartmatch is experimental at (eval 23) line 20.
t/04.dfv.t .......... ok
Smartmatch is experimental at (eval 17) line 7.
Smartmatch is experimental at (eval 17) line 14.
Smartmatch is experimental at (eval 19) line 7.
Smartmatch is experimental at (eval 19) line 14.
Smartmatch is experimental at (eval 21) line 7.
Smartmatch is experimental at (eval 21) line 14.
Smartmatch is experimental at (eval 23) line 10.
Smartmatch is experimental at (eval 23) line 20.
t/05.dfv-variant.t .. ok
t/06.lists.t ........ ok
Smartmatch is experimental at (eval 17) line 7.
Smartmatch is experimental at (eval 17) line 14.
Smartmatch is experimental at (eval 19) line 7.
Smartmatch is experimental at (eval 19) line 14.
Smartmatch is experimental at (eval 21) line 7.
Smartmatch is experimental at (eval 21) line 14.
Smartmatch is experimental at (eval 23) line 10.
Smartmatch is experimental at (eval 23) line 20.
t/07.dfv-lists.t .... ok
t/08.div.t .......... ok
t/manifest.t ........ skipped: Author test.  Set $ENV{TEST_AUTHOR} to a true value to run.
t/perlcritic.t ...... skipped: Author test.  Set $ENV{TEST_AUTHOR} to a true value to run.
t/pod-coverage.t .... skipped: Author test.  Set $ENV{TEST_AUTHOR} to a true value to run.
t/pod.t ............. skipped: Author test.  Set $ENV{TEST_AUTHOR} to a true value to run.
t/podspell.t ........ skipped: Author test.  Set $ENV{TEST_AUTHOR} to a true value to run.
t/prereq.t .......... skipped: Author test.  Set $ENV{TEST_PREREQ} to a true value to run.
t/version.t ......... skipped: Author test. Set $ENV{TEST_AUTHOR} to a true value to run.
All tests successful.
Files=16, Tests=287,  1 wallclock secs ( 0.11 usr  0.02 sys +  0.82 cusr  0.09 csys =  1.04 CPU)
Result: PASS

------------------------------
PREREQUISITES
------------------------------

Prerequisite modules loaded:

requires:

    Module            Need Have    
    ----------------- ---- --------
    HTML::Parser      3    3.71    
    Readonly          0    1.03    
    String::Dirify    0    1.02    
    version           0    0.9902  

build_requires:

    Module            Need Have    
    ----------------- ---- --------
    Benchmark         0    1.15    
    Perl6::Slurp      0    0.051003
    Test::Differences 0    0.61    
    Test::More        0.94 0.98    
    Test::NoWarnings  0    1.04    

configure_requires:

    Module            Need Have    
    ----------------- ---- --------
    Module::Build     0.38 0.4005  


------------------------------
ENVIRONMENT AND OTHER CONTEXT
------------------------------

Environment variables:

    AUTOMATED_TESTING = 1
    LANG = en_US.UTF-8
    LANGUAGE = en_US:en
    PATH = /usr/lib/ccache:/home/sand/bin:/usr/local/bin:/usr/bin:/bin:/usr/bin/X11:/usr/games:/usr/local/perl/bin:/usr/X11/bin:/sbin:/usr/sbin
    PERL5LIB = 
    PERL5OPT = 
    PERL5_CPANPLUS_IS_RUNNING = 19114
    PERL5_CPAN_IS_RUNNING = 19114
    PERL_MM_USE_DEFAULT = 1
    SHELL = /usr/bin/zsh
    TERM = screen

Perl special variables (and OS-specific diagnostics, for MSWin32):

    $^X = /tmp/basesmoker-reloperl-r5af/bin/perl
    $UID/$EUID = 1005 / 1005
    $GID = 1005 1005
    $EGID = 1005 1005

Perl module toolchain versions installed:

    Module              Have    
    ------------------- --------
    CPAN                2.00    
    CPAN::Meta          2.130880
    Cwd                 3.40    
    ExtUtils::CBuilder  0.280210
    ExtUtils::Command   1.17    
    ExtUtils::Install   1.59    
    ExtUtils::MakeMaker 6.66    
    ExtUtils::Manifest  1.63    
    ExtUtils::ParseXS   3.18    
    File::Spec          3.40    
    JSON                2.57    
    JSON::PP            2.27202 
    Module::Build       0.4005  
    Module::Signature   0.70    
    Parse::CPAN::Meta   1.4404  
    Test::Harness       3.28    
    Test::More          0.98    
    YAML                0.84    
    YAML::Syck          1.27    
    version             0.9902  


--

Summary of my perl5 (revision 5 version 19 subversion 1) configuration:
  Commit id: 4572fa3eeef0e6fc24d4f16823ed87d5a8e4778b
  Platform:
    osname=linux, osvers=3.8-2-amd64, archname=x86_64-linux-ld
    uname='linux k83 3.8-2-amd64 #1 smp debian 3.8.13-1 x86_64 gnulinux '
    config_args='-Dprefix=/home/src/perl/repoperls/installed-perls/perl/v5.19.0-27-g4572fa3/127e -Dmyhostname=k83 -Dinstallusrbinperl=n -Uversiononly -Dusedevel -des -Ui_db -Uuseithreads -Duselongdouble -DDEBUGGING=-g'
    hint=recommended, useposix=true, d_sigaction=define
    useithreads=undef, usemultiplicity=undef
    useperlio=define, d_sfio=undef, uselargefiles=define, usesocks=undef
    use64bitint=define, use64bitall=define, uselongdouble=define
    usemymalloc=n, bincompat5005=undef
  Compiler:
    cc='cc', ccflags ='-fno-strict-aliasing -pipe -fstack-protector -I/usr/local/include -D_LARGEFILE_SOURCE -D_FILE_OFFSET_BITS=64',
    optimize='-O2 -g',
    cppflags='-fno-strict-aliasing -pipe -fstack-protector -I/usr/local/include'
    ccversion='', gccversion='4.7.3', gccosandvers=''
    intsize=4, longsize=8, ptrsize=8, doublesize=8, byteorder=12345678
    d_longlong=define, longlongsize=8, d_longdbl=define, longdblsize=16
    ivtype='long', ivsize=8, nvtype='long double', nvsize=16, Off_t='off_t', lseeksize=8
    alignbytes=16, prototype=define
  Linker and Libraries:
    ld='cc', ldflags =' -fstack-protector -L/usr/local/lib'
    libpth=/usr/local/lib /lib/x86_64-linux-gnu /lib/../lib /usr/lib/x86_64-linux-gnu /usr/lib/../lib /lib /usr/lib
    libs=-lnsl -lgdbm -ldb -ldl -lm -lcrypt -lutil -lc -lgdbm_compat
    perllibs=-lnsl -ldl -lm -lcrypt -lutil -lc
    libc=, so=so, useshrplib=false, libperl=libperl.a
    gnulibc_version='2.17'
  Dynamic Linking:
    dlsrc=dl_dlopen.xs, dlext=so, d_dlsymun=undef, ccdlflags='-Wl,-E'
    cccdlflags='-fPIC', lddlflags='-shared -O2 -g -L/usr/local/lib -fstack-protector'


Characteristics of this binary (from libperl): 
  Compile-time options: HAS_TIMES PERLIO_LAYERS PERL_DONT_CREATE_GVSV
                        PERL_HASH_FUNC_ONE_AT_A_TIME_HARD PERL_MALLOC_WRAP
                        PERL_PRESERVE_IVUV PERL_SAWAMPERSAND PERL_USE_DEVEL
                        USE_64_BIT_ALL USE_64_BIT_INT USE_LARGE_FILES
                        USE_LOCALE USE_LOCALE_COLLATE USE_LOCALE_CTYPE
                        USE_LOCALE_NUMERIC USE_LONG_DOUBLE USE_PERLIO
                        USE_PERL_ATOF
  Built under linux
  Compiled at May 20 2013 17:47:36
  %ENV:
    PERL5LIB=""
    PERL5OPT=""
    PERL5_CPANPLUS_IS_RUNNING="19114"
    PERL5_CPAN_IS_RUNNING="19114"
    PERL_MM_USE_DEFAULT="1"
  @INC:
    /home/src/perl/repoperls/installed-perls/perl/v5.19.0-27-g4572fa3/127e/lib/site_perl/5.19.1/x86_64-linux-ld
    /home/src/perl/repoperls/installed-perls/perl/v5.19.0-27-g4572fa3/127e/lib/site_perl/5.19.1
    /home/src/perl/repoperls/installed-perls/perl/v5.19.0-27-g4572fa3/127e/lib/5.19.1/x86_64-linux-ld
    /home/src/perl/repoperls/installed-perls/perl/v5.19.0-27-g4572fa3/127e/lib/5.19.1
    .