Report for Template-Benchmark-1.09_01

Back
From: metabase:user:314402c4-2aae-11df-837a-5e0a49663a4f
Subject: PASS Template-Benchmark-1.09_01 v5.25.10 FreeBSD
Date: 2017-04-15T13:12:56Z

This distribution has been tested as part of the CPAN Testers
project, supporting the Perl programming language.  See
http://wiki.cpantesters.org/ for more information or email
questions to cpan-testers-discuss@perl.org


--
Dear Sam Graham,

This is a computer-generated report for Template-Benchmark-1.09_01
on perl 5.25.10, created by CPAN-Reporter-1.2018.

Thank you for uploading your work to CPAN.  Congratulations!
All tests were successful.

Sections of this report:

    * Tester comments
    * Program output
    * Prerequisites
    * Environment and other context

------------------------------
TESTER COMMENTS
------------------------------

Additional comments from tester:

none provided

------------------------------
PROGRAM OUTPUT
------------------------------

Output from './Build test':

# Testing Template::Benchmark 1.09_01, Perl 5.025010, /usr/perl5.25.10p/bin/perl5.25.10
t/00-load.t ................. ok
t/10-class-methods.t ........ ok
t/15-constructor.t .......... ok
t/16-only-plugin.t .......... ok
t/17-features-from.t ........ ok
t/18-cache-types-from.t ..... ok
# Using plugin HTMLTemplate (2.95) for instance tests
t/20-instance-methods.t ..... ok
# Using plugin TextXslate (3.4.0) for dataset tests
t/30-custom-dataset.t ....... ok
# Using plugin HTMLTemplate (2.95) for feature repeats tests
t/40-per-feature-repeats.t .. ok
t/50-script-run.t ........... ok
All tests successful.
Files=10, Tests=58,  4 wallclock secs ( 0.00 usr  0.04 sys +  0.23 cusr  1.13 csys =  1.40 CPU)
Result: PASS

------------------------------
PREREQUISITES
------------------------------

Prerequisite modules loaded:

requires:

    Module            Need   Have      
    ----------------- ------ ----------
    Benchmark         0      1.22      
    File::Path        0      2.12_01   
    File::Spec        0      3.66      
    File::Temp        0.18   0.2304    
    FindBin           0      1.51      
    Getopt::Long      0      2.49      
    IO::File          0      1.16      
    Module::Pluggable 0      5.2       
    perl              v5.6.1 5.025010  
    Pod::Usage        0      1.69      
    Scalar::Util      0      1.47      
    Text::Matrix      0      1.00      
    Text::Wrap        0      2013.0523 

build_requires:

    Module            Need   Have      
    ----------------- ------ ----------
    Config            0      5.025010  
    Cwd               0      3.66      
    File::Spec        0      3.66      
    FindBin           0      1.51      
    Test::Command     0.08   0.11      
    Test::Exception   0      0.43      
    Test::MockObject  0      1.20161202
    Test::More        0      1.302078  

configure_requires:

    Module            Need   Have      
    ----------------- ------ ----------
    Module::Build     0.23   0.4220    


------------------------------
ENVIRONMENT AND OTHER CONTEXT
------------------------------

Environment variables:

    LC_ALL = de_DE.ISO8859-1
    PATH = /usr/local/bin:/usr/bin:/bin:/usr/local/sbin:/usr/sbin:/sbin:/home/cpansand/bin/freebsd10.3:/home/cpansand/bin/sh:/home/cpansand/bin:/usr/games:/home/cpansand/devel:/home/eserte/src/srezic-misc/scripts
    PERL5LIB = /home/cpansand/.cpan/build/2017041515/Text-Matrix-1.00-6/blib/arch:/home/cpansand/.cpan/build/2017041515/Text-Matrix-1.00-6/blib/lib
    PERL5OPT = 
    PERL5_CPANPLUS_IS_RUNNING = 14008
    PERL5_CPAN_IS_RUNNING = 14008
    PERL5_CPAN_IS_RUNNING_IN_RECURSION = 10152,14008
    PERLDOC = -MPod::Perldoc::ToTextOverstrike
    PERL_BATCH = yes
    PERL_CANARY_STABILITY_NOPROMPT = 1
    PERL_CPAN_REPORTER_CONFIG = /var/tmp/cpansmoker-1023/2017041512/cpanreporter_001_config.ini
    PERL_EXTUTILS_AUTOINSTALL = --defaultdeps
    PERL_USE_UNSAFE_INC = 1
    SHELL = /usr/local/bin/zsh
    TERM = screen
    TMPDIR = /var/tmp/cpansmoker-1023/2017041512

Perl special variables (and OS-specific diagnostics, for MSWin32):

    $^X = /usr/perl5.25.10p/bin/perl5.25.10
    $UID/$EUID = 1023 / 1023
    $GID = 1023 1023
    $EGID = 1023 1023

Perl module toolchain versions installed:

    Module              Have      
    ------------------- ----------
    CPAN                2.17      
    CPAN::Meta          2.150010  
    Cwd                 3.66      
    ExtUtils::CBuilder  0.280225  
    ExtUtils::Command   7.24      
    ExtUtils::Install   2.04      
    ExtUtils::MakeMaker 7.24      
    ExtUtils::Manifest  1.70      
    ExtUtils::ParseXS   3.33      
    File::Spec          3.66      
    JSON                2.90      
    JSON::PP            2.27400_02
    Module::Build       0.4220    
    Module::Signature   0.81      
    Parse::CPAN::Meta   2.150010  
    Test::Harness       3.38      
    Test::More          1.302078  
    YAML                1.23      
    YAML::Syck          1.29      
    version             0.9917    


--

Summary of my perl5 (revision 5 version 25 subversion 10) configuration:
   
  Platform:
    osname=freebsd
    osvers=10.3-release-p11
    archname=amd64-freebsd
    uname='freebsd cvrsnica-freebsd-101.herceg.de 10.3-release-p11 freebsd 10.3-release-p11 #0: mon oct 24 18:49:24 utc 2016 root@amd64-builder.daemonology.net:usrobjusrsrcsysgeneric amd64 '
    config_args='-ds -e -Dprefix=/usr/perl5.25.10p -Dusedevel -Dusemallocwrap=no -Dcf_email=srezic@cpan.org -Doptimize=-O2 -pipe'
    hint=recommended
    useposix=true
    d_sigaction=define
    useithreads=undef
    usemultiplicity=undef
    use64bitint=define
    use64bitall=define
    uselongdouble=undef
    usemymalloc=n
    bincompat5005=undef
  Compiler:
    cc='cc'
    ccflags ='-DHAS_FPSETMASK -DHAS_FLOATINGPOINT_H -fno-strict-aliasing -pipe -fstack-protector -I/usr/local/include -D_FORTIFY_SOURCE=2'
    optimize='-O2 -pipe'
    cppflags='-DHAS_FPSETMASK -DHAS_FLOATINGPOINT_H -fno-strict-aliasing -pipe -fstack-protector -I/usr/local/include'
    ccversion=''
    gccversion='4.2.1 Compatible FreeBSD Clang 3.4.1 (tags/RELEASE_34/dot1-final 208032)'
    gccosandvers=''
    intsize=4
    longsize=8
    ptrsize=8
    doublesize=8
    byteorder=12345678
    doublekind=3
    d_longlong=define
    longlongsize=8
    d_longdbl=define
    longdblsize=16
    longdblkind=3
    ivtype='long'
    ivsize=8
    nvtype='double'
    nvsize=8
    Off_t='off_t'
    lseeksize=8
    alignbytes=8
    prototype=define
  Linker and Libraries:
    ld='cc'
    ldflags ='-pthread -Wl,-E  -fstack-protector -L/usr/local/lib'
    libpth=/usr/lib /usr/local/lib /usr/include/clang/3.4.1 /usr/lib
    libs=-lpthread -lgdbm -lm -lcrypt -lutil -lc -lelf
    perllibs=-lpthread -lm -lcrypt -lutil -lc -lelf
    libc=
    so=so
    useshrplib=false
    libperl=libperl.a
    gnulibc_version=''
  Dynamic Linking:
    dlsrc=dl_dlopen.xs
    dlext=so
    d_dlsymun=undef
    ccdlflags=' '
    cccdlflags='-DPIC -fPIC'
    lddlflags='-shared  -L/usr/local/lib -fstack-protector'


Characteristics of this binary (from libperl): 
  Compile-time options:
    HAS_TIMES
    PERLIO_LAYERS
    PERL_COPY_ON_WRITE
    PERL_DONT_CREATE_GVSV
    PERL_OP_PARENT
    PERL_PRESERVE_IVUV
    PERL_USE_DEVEL
    USE_64_BIT_ALL
    USE_64_BIT_INT
    USE_LARGE_FILES
    USE_LOCALE
    USE_LOCALE_COLLATE
    USE_LOCALE_CTYPE
    USE_LOCALE_NUMERIC
    USE_LOCALE_TIME
    USE_PERLIO
    USE_PERL_ATOF
  Built under freebsd
  Compiled at Feb 24 2017 09:17:11
  %ENV:
    PERL5LIB="/home/cpansand/.cpan/build/2017041515/Text-Matrix-1.00-6/blib/arch:/home/cpansand/.cpan/build/2017041515/Text-Matrix-1.00-6/blib/lib"
    PERL5OPT=""
    PERL5_CPANPLUS_IS_RUNNING="14008"
    PERL5_CPAN_IS_RUNNING="14008"
    PERL5_CPAN_IS_RUNNING_IN_RECURSION="10152,14008"
    PERLDOC="-MPod::Perldoc::ToTextOverstrike"
    PERL_BATCH="yes"
    PERL_CANARY_STABILITY_NOPROMPT="1"
    PERL_CPAN_REPORTER_CONFIG="/var/tmp/cpansmoker-1023/2017041512/cpanreporter_001_config.ini"
    PERL_EXTUTILS_AUTOINSTALL="--defaultdeps"
    PERL_USE_UNSAFE_INC="1"
  @INC:
    /home/cpansand/.cpan/build/2017041515/Text-Matrix-1.00-6/blib/arch
    /home/cpansand/.cpan/build/2017041515/Text-Matrix-1.00-6/blib/lib
    /usr/perl5.25.10p/lib/site_perl/5.25.10/amd64-freebsd
    /usr/perl5.25.10p/lib/site_perl/5.25.10
    /usr/perl5.25.10p/lib/5.25.10/amd64-freebsd
    /usr/perl5.25.10p/lib/5.25.10
    .