Text-Amuse-Preprocessor v0.67 Perl 5 v5.36.0 i386-freebsd-64int
- Status
- Pass
- From
- Chris Williams (BINGOS)
- Dist
-
Text-Amuse-Preprocessor v0.67
- Platform
- Perl 5 v5.36.0 i386-freebsd-64int
- Date
- 2023-07-14 01:17:46
- ID
- 3d85a11e-21e4-11ee-98b0-b3c3213a625c
This distribution has been tested as part of the CPAN Testers
project, supporting the Perl programming language. See
http://wiki.cpantesters.org/ for more information or email
questions to cpan-testers-discuss@perl.org
--
Dear MELMOTHX,
This is a computer-generated error report created automatically by
CPANPLUS, version 0.9914. Testers personal comments may appear
at the end of this report.
Thank you for uploading your work to CPAN. Congratulations!
All tests were successful.
TEST RESULTS:
Below is the error stack from stage 'make test':
PERL_DL_NONLAZY=1 "/usr/home/cpan/pit/64bit/perl-5.36.0/bin/perl" "-MExtUtils::Command::MM" "-MTest::Harness" "-e" "undef *Test::Harness::Switches; test_harness(0, 'blib/lib', 'blib/arch')" t/*.t
# Testing Text::Amuse::Preprocessor 0.67, Perl 5.036000, /usr/home/cpan/pit/64bit/perl-5.36.0/bin/perl
t/00-load.t ........... ok
t/changes.t ........... skipped: Changes testing not required (or Test::CPAN::Changes not found)
t/chars.t ............. ok
t/chinese.t ........... ok
# Using /tmp/3GvxClGXIx for ligatures
# Using /tmp/po60JpsIcc for missing_nl
# Using /tmp/iPA9mKJ1f9 for garbage
# Using /tmp/g8299OJcdB for ellipsis_no_fix
# Using /tmp/R_jHdSl5nJ for ellipsis
# Using /tmp/BS91x2vrfJ for links
# Using /tmp/IQekDx6Ej_ for en
# Using /tmp/V__fJnZEq7 for fi
# Using /tmp/6IhX5IENa1 for es
# Using /tmp/Rs1f4bVulS for sr
# Using /tmp/VpA2HIwCFZ for hr
# Using /tmp/ehd2jo3HiL for ru
# Using /tmp/W2n3RKtnP6 for it
# Using /tmp/H6FfXLl79l for mk
# Using /tmp/_hSGEqsZtk for sv
# Using /tmp/aCBNVSMpgy for de
# Using /tmp/Zf3PcSaxHK for pl
# Using /tmp/QqKh4FZDFJ for bg
# Using /tmp/ERTcl78gsX for eo
# Using /tmp/ns6ODQVJrR for fr
# Using /tmp/9P19O26_aZ for pt
# Using /tmp/hOX45YR3Al for sq
# Using /tmp/430kPeKytT for da
# Using /tmp/09LIsDHya8 for nl
# Using /tmp/BDlcbmbeTW for id
# Using /tmp/rZJYKYc9IW for Full example
# Using /tmp/FfpoREAwad for Quote
# Using /tmp/HIyv0cDEiv for Quote
# Using /tmp/Q3rYc1bWbQ for Nl quotation
t/common.t ............ ok
t/crash-on-verb.t ..... ok
# $VAR1 = "#title Test
# #lang en
#
# 0
#
# \x{201c}0\x{201d}
#
# 0
# ";
# $VAR1 = "#title Test
# #lang en
#
# 0
#
# \x{201c}0\x{201d}
#
# 0
# ";
t/crash_on_loop.t ..... ok
# /tmp/PQVENCdb5S/verbatim-in.muse
# /tmp/PQVENCdb5S
t/exclude-verbatim.t .. ok
tagpile mismatch: meta, head
tagpile mismatch: head, html
tagpile mismatch: link, head
tagpile mismatch: hr, div
tagpile mismatch: br, body
tagpile mismatch: div, html
#
#
# <right>
# óÃÂçÃÂ
ÃÂ
àÃÂÃÂÃÂéóàÃÂÃÂóêÃÂ
.[1]
# </right>
#
# <br>
#
# [1] https://amusewiki.org
#
tagpile mismatch: link, head
tagpile mismatch: hr, div
tagpile mismatch: br, body
tagpile mismatch: div, html
#
#
# óÃÂçÃÂ
ÃÂ
àÃÂÃÂÃÂéóàÃÂÃÂóêÃÂ
.[1]
#
# <br>
#
# [1] https://amusewiki.org
#
t/farsi.t ............. ok
# Testing t/footnotes/good.in => t/footnotes/good.out
# Testing t/footnotes/good2.in => t/footnotes/good2.out
# Testing t/footnotes/good3.in => t/footnotes/good3.out
# Testing t/footnotes/mixed.in => t/footnotes/mixed.out
# Testing t/footnotes/indentation.in => t/footnotes/indentation.out
# Testing t/footnotes/sec-good.in => t/footnotes/sec-good.out
# Testing t/footnotes/sec-good2.in => t/footnotes/sec-good2.out
# Testing t/footnotes/sec-good3.in => t/footnotes/sec-good3.out
# Testing t/footnotes/sec-bad.in => t/footnotes/sec-bad.out
# @@ -1 +1,2 @@
# -{4}
# +{3}
# +{3}
# Testing t/footnotes/sec-bad2.in => t/footnotes/sec-bad2.out
# @@ -1,3 +1,2 @@
# -{4}
# +{3}
# -{5}
# +{3}
# -{6}
# Testing t/footnotes/bad.in => t/footnotes/bad.out
# @@ -1,2 +1,3 @@
# [1]
# -[1]
# +[2]
# +[4]
# Testing t/footnotes/bad2.in => t/footnotes/bad2.out
# @@ -1,4 +1,3 @@
# [1]
# -[1]
# +[2]
# [4]
# -[5]
t/footnotes.t ......... ok
tagpile mismatch: root, p
t/html-2.t ............ ok
# Using /tmp/X9M7pTgp9r.html
# Using /tmp/MMDkit2ADR.html
# Using /tmp/gZgPJucMpt.html
# Using /tmp/C6m8acU_Ag.html
# Using /tmp/0lA6R33Z8w.html
# Using /tmp/YZXJsgIozw.html
# Using /tmp/upNRsfFXJQ.html
# Using /tmp/RDw6Eu95FQ.html
# Using /tmp/d4M62cnSeg.html
# Using /tmp/JyZxFxL1Q9.html
# Using /tmp/XNsofVbdJq.html
# Using /tmp/6wk_YY_Df_.html
# Using /tmp/gz469CY0Tn.html
# Using /tmp/DX5uLShot2.html
# Using /tmp/jOERQ7yDI3.html
# Using /tmp/58qsuQWaQg.html
# Using /tmp/CERgZ3iipD.html
t/html.t .............. ok
# Retrieved on February 2, 2011 from http://j12.org/spunk/library/writers/meltzer/sp001500.html
# Retrieved on February 2, 2011 from [[http://j12.org/spunk/library/writers/meltzer/sp001500.html][j12.org]]
# Retrieved on December 22, 2011 from http://libertarian-labyrinth.org/archive/The_Great_Debacle
# Retrieved on December 22, 2011 from [[http://libertarian-labyrinth.org/archive/The_Great_Debacle][libertarian-labyrinth.org]]
# <br>http://www.nancho.net/advisors/anaes.html<br>
# <br>[[http://www.nancho.net/advisors/anaes.html][www.nancho.net]]<br>
# http://www.nancho.net/advisors/anaes.html<br>http://www.nancho.net/advisors/anaes.html<br>
# [[http://www.nancho.net/advisors/anaes.html][www.nancho.net]]<br>[[http://www.nancho.net/advisors/anaes.html][www.nancho.net]]<br>
# https://web.archive.org/web/20220504202253/https://amusewiki.org/special/index
# [[https://web.archive.org/web/20220504202253/https://amusewiki.org/special/index][web.archive.org]]
# [[https://web.archive.org/web/20220504202253/https://amusewiki.org/special/index][web.archive.org]]
# [[https://web.archive.org/web/20220504202253/https://amusewiki.org/special/index][web.archive.org]]
# http://test.org/xx and http://test.org/xx
# [[http://test.org/xx][test.org]] and [[http://test.org/xx][test.org]]
# [[http://test.org/xx][test.org]] and [[http://test.org/xx][test.org]]
# [[http://test.org/xx][test.org]] and [[http://test.org/xx][test.org]]
# http://test.org/xx and [[http://test.org/xx][test.org]]
# [[http://test.org/xx][test.org]] and [[http://test.org/xx][test.org]]
# http://test.org/xx and http://test.org/xx][test.org]]
# [[http://test.org/xx][test.org]] and http://test.org/xx][test.org]]
# <http://test.org/xx> and >http://test.org/xx<
# <[[http://test.org/xx][test.org]]> and >[[http://test.org/xx][test.org]]<
# <http://test.org/xx> and https://test.org:80/>http://test.org/xx< and https://test.org/ and [[https://test.org/][test.org]]
# <[[http://test.org/xx][test.org]]> and [[https://test.org:80/][test.org]]>[[http://test.org/xx][test.org]]< and [[https://test.org/][test.org]] and [[https://test.org/][test.org]]
# https://example.com/@test and https://example.com/@test
# [[https://example.com/@test][example.com]] and [[https://example.com/@test][example.com]]
# (http://en.wikipedia.org/wiki/Pi_%28instrument%29)
# ([[http://en.wikipedia.org/wiki/Pi_%28instrument%29][en.wikipedia.org]])
# (http://en.wikipedia.org?test=1)
# ([[http://en.wikipedia.org?test=1][en.wikipedia.org]])
# (http://en.wikipedia.org?test=1&test=2) (http://en.wikipedia.org/test?test=1)
# ([[http://en.wikipedia.org?test=1&test=2][en.wikipedia.org]]) ([[http://en.wikipedia.org/test?test=1][en.wikipedia.org]])
t/links.t ............. ok
t/manifest.t .......... skipped: Author tests not required for installation
t/memory-cycles.t ..... skipped: Test::Memory::Cycle required for testing memory cycles
t/nbsp.t .............. ok
# Infile is /tmp/pLKftYR4gR/input.txt
# Using /tmp/9HHVFgA7ns as temporary dir
t/object.t ............ ok
t/pod-coverage.t ...... skipped: Pod coverage not required for installation
t/pod.t ............... skipped: Pod test not required for installation
t/russian.t ........... ok
t/subs.t .............. ok
t/typography.t ........ ok
All tests successful.
Files=22, Tests=480, 8 wallclock secs ( 0.12 usr 0.15 sys + 4.72 cusr 2.48 csys = 7.48 CPU)
Result: PASS
PREREQUISITES:
Here is a list of prerequisites you specified and versions we
managed to load:
Module Name Have Want
HTML::PullParser 3.81 0
IO::HTML 1.004 1
Pod::Simple::Wiki 0.20 0.19
Test::More 1.302195 0
Text::Amuse 1.83 0.95
Text::Diff 1.45 0
Perl module toolchain versions installed:
Module Name Have
CPANPLUS 0.9914
CPANPLUS::Dist::Build 0.90
Cwd 3.84
ExtUtils::CBuilder 0.280236
ExtUtils::Command 7.70
ExtUtils::Install 2.22
ExtUtils::MakeMaker 7.70
ExtUtils::Manifest 1.75
ExtUtils::ParseXS 3.45
File::Spec 3.84
Module::Build 0.4234
Pod::Parser 0
Pod::Simple 3.43
Test2 1.302195
Test::Harness 3.44
Test::More 1.302195
version 0.9929
******************************** NOTE ********************************
The comments above are created mechanically, possibly without manual
checking by the sender. As there are many people performing automatic
tests on each upload to CPAN, it is likely that you will receive
identical messages about the same problem.
If you believe that the message is mistaken, please reply to the first
one with correction and/or additional informations, and do not take
it personally. We appreciate your patience. :)
**********************************************************************
Additional comments:
This report was machine-generated by CPANPLUS::Dist::YACSmoke 1.08.
Powered by minismokebox version 0.68
CPANPLUS is prefering Build.PL
------------------------------
ENVIRONMENT AND OTHER CONTEXT
------------------------------
Environment variables:
AUTOMATED_TESTING = 1
NONINTERACTIVE_TESTING = 1
PATH = /usr/home/cpan/pit/64bit/conf/perl-5.36.0/.cpanplus/5.36.0/build/tCerB7GADo/Text-Amuse-Preprocessor-0.67/blib/script:/sbin:/bin:/usr/sbin:/usr/bin:/usr/local/sbin:/usr/local/bin:/home/cpan/bin
PERL5LIB = /usr/home/cpan/pit/jail/mICAGedJb9/lib/perl5:/usr/home/cpan/pit/64bit/conf/perl-5.36.0/.cpanplus/5.36.0/build/tCerB7GADo/Text-Amuse-Preprocessor-0.67/blib/lib:/usr/home/cpan/pit/64bit/conf/perl-5.36.0/.cpanplus/5.36.0/build/tCerB7GADo/Text-Amuse-Preprocessor-0.67/blib/arch
PERL5_CPANPLUS_IS_RUNNING = 49449
PERL5_CPANPLUS_IS_VERSION = 0.9914
PERL5_MINISMOKEBOX = 0.68
PERL5_YACSMOKE_BASE = /usr/home/cpan/pit/64bit/conf/perl-5.36.0
PERL_EXTUTILS_AUTOINSTALL = --defaultdeps
PERL_LOCAL_LIB_ROOT = /usr/home/cpan/pit/jail/mICAGedJb9
PERL_MB_OPT = --install_base "/usr/home/cpan/pit/jail/mICAGedJb9"
PERL_MM_OPT = INSTALL_BASE=/usr/home/cpan/pit/jail/mICAGedJb9
PERL_MM_USE_DEFAULT = 1
SHELL = /usr/local/bin/bash
TERM = screen
Perl special variables (and OS-specific diagnostics, for MSWin32):
Perl: $^X = /usr/home/cpan/pit/64bit/perl-5.36.0/bin/perl
UID: $< = 1002
EUID: $> = 1002
GID: $( = 1002 1002
EGID: $) = 1002 1002
-------------------------------
--
Summary of my perl5 (revision 5 version 36 subversion 0) configuration:
Platform:
osname=freebsd
osvers=12.4-release
archname=i386-freebsd-64int
uname='freebsd ffyrc 12.4-release freebsd 12.4-release r372781 generic i386 '
config_args='-des -Dprefix=/usr/home/cpan/pit/64bit/perl-5.36.0 -Duse64bitint'
hint=recommended
useposix=true
d_sigaction=define
useithreads=undef
usemultiplicity=undef
use64bitint=define
use64bitall=undef
uselongdouble=undef
usemymalloc=n
default_inc_excludes_dot=define
Compiler:
cc='cc'
ccflags ='-DHAS_FPSETMASK -DHAS_FLOATINGPOINT_H -fno-strict-aliasing -pipe -fstack-protector-strong -I/usr/local/include'
optimize='-O2'
cppflags='-DHAS_FPSETMASK -DHAS_FLOATINGPOINT_H -fno-strict-aliasing -pipe -fstack-protector-strong -I/usr/local/include'
ccversion=''
gccversion='FreeBSD Clang 13.0.0 (git@github.com:llvm/llvm-project.git llvmorg-13.0.0-0-gd7b669b3a303)'
gccosandvers=''
intsize=4
longsize=4
ptrsize=4
doublesize=8
byteorder=12345678
doublekind=3
d_longlong=define
longlongsize=8
d_longdbl=define
longdblsize=12
longdblkind=3
ivtype='long long'
ivsize=8
nvtype='double'
nvsize=8
Off_t='off_t'
lseeksize=8
alignbytes=4
prototype=define
Linker and Libraries:
ld='cc'
ldflags ='-Wl,-E -fstack-protector-strong -L/usr/local/lib'
libpth=/usr/lib /usr/local/lib /usr/lib/clang/13.0.0/lib
libs=-lpthread -lgdbm -ldl -lm -lcrypt -lutil -lc
perllibs=-lpthread -ldl -lm -lcrypt -lutil -lc
libc=
so=so
useshrplib=false
libperl=libperl.a
gnulibc_version=''
Dynamic Linking:
dlsrc=dl_dlopen.xs
dlext=so
d_dlsymun=undef
ccdlflags=' '
cccdlflags='-DPIC -fPIC'
lddlflags='-shared -L/usr/local/lib -fstack-protector-strong'
Characteristics of this binary (from libperl):
Compile-time options:
HAS_TIMES
PERLIO_LAYERS
PERL_COPY_ON_WRITE
PERL_DONT_CREATE_GVSV
PERL_MALLOC_WRAP
PERL_OP_PARENT
PERL_PRESERVE_IVUV
USE_64_BIT_INT
USE_LARGE_FILES
USE_LOCALE
USE_LOCALE_COLLATE
USE_LOCALE_CTYPE
USE_LOCALE_NUMERIC
USE_LOCALE_TIME
USE_PERLIO
USE_PERL_ATOF
Built under freebsd
Compiled at Apr 7 2023 10:45:59
%ENV:
PERL5LIB="/usr/home/cpan/pit/jail/mICAGedJb9/lib/perl5:/usr/home/cpan/pit/64bit/conf/perl-5.36.0/.cpanplus/5.36.0/build/tCerB7GADo/Text-Amuse-Preprocessor-0.67/blib/lib:/usr/home/cpan/pit/64bit/conf/perl-5.36.0/.cpanplus/5.36.0/build/tCerB7GADo/Text-Amuse-Preprocessor-0.67/blib/arch"
PERL5_CPANPLUS_IS_RUNNING="49449"
PERL5_CPANPLUS_IS_VERSION="0.9914"
PERL5_MINISMOKEBOX="0.68"
PERL5_YACSMOKE_BASE="/usr/home/cpan/pit/64bit/conf/perl-5.36.0"
PERL_EXTUTILS_AUTOINSTALL="--defaultdeps"
PERL_LOCAL_LIB_ROOT="/usr/home/cpan/pit/jail/mICAGedJb9"
PERL_MB_OPT="--install_base "/usr/home/cpan/pit/jail/mICAGedJb9""
PERL_MM_OPT="INSTALL_BASE=/usr/home/cpan/pit/jail/mICAGedJb9"
PERL_MM_USE_DEFAULT="1"
@INC:
/usr/home/cpan/pit/jail/mICAGedJb9/lib/perl5/5.36.0/i386-freebsd-64int
/usr/home/cpan/pit/jail/mICAGedJb9/lib/perl5/5.36.0
/usr/home/cpan/pit/jail/mICAGedJb9/lib/perl5/i386-freebsd-64int
/usr/home/cpan/pit/jail/mICAGedJb9/lib/perl5
/usr/home/cpan/pit/64bit/conf/perl-5.36.0/.cpanplus/5.36.0/build/tCerB7GADo/Text-Amuse-Preprocessor-0.67/blib/lib
/usr/home/cpan/pit/64bit/conf/perl-5.36.0/.cpanplus/5.36.0/build/tCerB7GADo/Text-Amuse-Preprocessor-0.67/blib/arch
/usr/home/cpan/pit/64bit/perl-5.36.0/lib/site_perl/5.36.0/i386-freebsd-64int
/usr/home/cpan/pit/64bit/perl-5.36.0/lib/site_perl/5.36.0
/usr/home/cpan/pit/64bit/perl-5.36.0/lib/5.36.0/i386-freebsd-64int
/usr/home/cpan/pit/64bit/perl-5.36.0/lib/5.36.0