Report for Perl-Critic-More-1.003

Back
From: metabase:user:30f4dfbe-2aae-11df-837a-5e0a49663a4f
Subject: PASS Perl-Critic-More-1.003 v5.14.2 
Date: 2015-04-10T22:59:27Z

This distribution has been tested as part of the CPAN Testers
project, supporting the Perl programming language.  See
http://wiki.cpantesters.org/ for more information or email
questions to cpan-testers-discuss@perl.org


--
Dear Jeffrey Ryan Thalhammer,

This is a computer-generated report for Perl-Critic-More-1.003
on perl 5.14.2, created by CPAN-Reporter-1.2011.

Thank you for uploading your work to CPAN.  Congratulations!
All tests were successful.

Sections of this report:

    * Tester comments
    * Program output
    * Prerequisites
    * Environment and other context

------------------------------
TESTER COMMENTS
------------------------------

Additional comments from tester:

none provided

------------------------------
PROGRAM OUTPUT
------------------------------

Output from 'C:\Perl5.14.2\bin\perl.exe ./Build test':

File 'MANIFEST.SKIP' does not exist: Creating a temporary 'MANIFEST.SKIP'
Added to MANIFEST: Build.PL
Added to MANIFEST: Changes
Added to MANIFEST: inc/Perl/Critic/Module/Build.pm
Added to MANIFEST: lib/Perl/Critic/More.pm
Added to MANIFEST: lib/Perl/Critic/Policy/CodeLayout/RequireASCII.pm
Added to MANIFEST: lib/Perl/Critic/Policy/Editor/RequireEmacsFileVariables.pm
Added to MANIFEST: lib/Perl/Critic/Policy/ErrorHandling/RequireUseOfExceptions.pm
Added to MANIFEST: lib/Perl/Critic/Policy/Modules/PerlMinimumVersion.pm
Added to MANIFEST: lib/Perl/Critic/Policy/Modules/RequirePerlVersion.pm
Added to MANIFEST: lib/Perl/Critic/Policy/ValuesAndExpressions/RequireConstantOnLeftSideOfEquality.pm
Added to MANIFEST: lib/Perl/Critic/Policy/ValuesAndExpressions/RestrictLongStrings.pm
Added to MANIFEST: LICENSE
Added to MANIFEST: Makefile.PL
Added to MANIFEST: MANIFEST
Added to MANIFEST: META.json
Added to MANIFEST: META.yml
Added to MANIFEST: README
Added to MANIFEST: t/00_compile.t
Added to MANIFEST: t/20_policies.t
Added to MANIFEST: t/20_policies_codelayout.t
Added to MANIFEST: t/20_policies_editor.t
Added to MANIFEST: t/20_policies_modules.t
Added to MANIFEST: t/20_policies_valuesandexpressions.t
Added to MANIFEST: t/98_pod_syntax.t
Added to MANIFEST: t/99_pod_coverage.t
Added to MANIFEST: t/ErrorHandling/RequireUseOfExceptions.run
Added to MANIFEST: t/ValuesAndExpressions/RequireConstantOnLeftSideOfEquality.run
Added to MANIFEST: TODO.pod
Added to MANIFEST: xt/author/40_criticize.t
Added to MANIFEST: xt/author/40_perlcriticrc
Added to MANIFEST: xt/author/92_changelog.t
Added to MANIFEST: xt/author/93_version.t
Added to MANIFEST: xt/author/94_includes.t
Added to MANIFEST: xt/author/95_kwalitee.t
Added to MANIFEST: xt/author/96_filenames.t
Added to MANIFEST: xt/author/perltidyrc
Creating Makefile.PL
Creating README using Pod::Text
Created META.yml and META.json
t\00_compile.t ........................ ok
t\20_policies.t ....................... ok
t\20_policies_codelayout.t ............ ok
t\20_policies_editor.t ................ ok
t\20_policies_modules.t ............... ok
t\20_policies_valuesandexpressions.t .. ok
t\98_pod_syntax.t ..................... ok
t\99_pod_coverage.t ................... ok
All tests successful.
Files=8, Tests=63,  8 wallclock secs ( 0.08 usr +  0.00 sys =  0.08 CPU)
Result: PASS

------------------------------
PREREQUISITES
------------------------------

Prerequisite modules loaded:

requires:

    Module        Need  Have    
    ------------- ----- --------
    Perl::Critic  1.098 1.121   
    Readonly      1.03  2.00    

build_requires:

    Module        Need  Have    
    ------------- ----- --------
    Test::More    0     1.001014

configure_requires:

    Module        Need  Have    
    ------------- ----- --------
    Module::Build 0.4   0.4211  


------------------------------
ENVIRONMENT AND OTHER CONTEXT
------------------------------

Environment variables:

    COMSPEC = C:\Windows\system32\cmd.exe
    INCLUDE = C:\Program Files (x86)\Microsoft Visual Studio 12.0\VC\INCLUDE;C:\Program Files (x86)\Windows Kits\8.1\include\shared;C:\Program Files (x86)\Windows Kits\8.1\include\um;C:\Program Files (x86)\Windows Kits\8.1\include\winrt;
    LIB = C:\Program Files (x86)\Microsoft Visual Studio 12.0\VC\LIB;C:\Program Files (x86)\Windows Kits\8.1\lib\winv6.3\um\x86;
    NUMBER_OF_PROCESSORS = 12
    PATH = C:\Perl5.14.2\site\bin;C:\Perl5.14.2\bin;C:\Program Files (x86)\Microsoft Visual Studio 12.0\Common7\IDE\CommonExtensions\Microsoft\TestWindow;C:\Program Files (x86)\MSBuild\12.0\bin;C:\Program Files (x86)\Microsoft Visual Studio 12.0\Common7\IDE\;C:\Program Files (x86)\Microsoft Visual Studio 12.0\VC\BIN;C:\Program Files (x86)\Microsoft Visual Studio 12.0\Common7\Tools;C:\Windows\Microsoft.NET\Framework\v4.0.30319;C:\Program Files (x86)\Microsoft Visual Studio 12.0\VC\VCPackages;C:\Program Files (x86)\Microsoft Visual Studio 12.0\Team Tools\Performance Tools;C:\Program Files (x86)\Windows Kits\8.1\bin\x86;C:\Program Files (x86)\Microsoft SDKs\Windows\v8.1A\bin\NETFX 4.5.1 Tools\;C:\Program Files (x86)\NVIDIA Corporation\PhysX\Common;C:\Program Files (x86)\Intel\iCLS Client\;C:\Program Files\Intel\iCLS Client\;C:\Windows\system32;C:\Windows;C:\Windows\System32\Wbem;C:\Windows\System32\WindowsPowerShell\v1.0\;C:\Program Files\Intel\Intel(R) Management Engine Components\DAL;C:\Program Files\Intel\Intel(R) Management Engine Components\IPT;C:\Program Files (x86)\Intel\Intel(R) Management Engine Components\DAL;C:\Program Files (x86)\Intel\Intel(R) Management Engine Components\IPT;C:\Program Files (x86)\Windows Kits\8.1\Windows Performance Toolkit\;C:\Program Files (x86)\Windows Live\Shared;C:\Program Files (x86)\Windows Kits\8.0\Windows Performance Toolkit\;C:\Program Files (x86)\QuickTime\QTSystem\
    PERL5LIB = 
    PERL5OPT = 
    PERL5_CPANPLUS_IS_RUNNING = 3556
    PERL5_CPAN_IS_RUNNING = 3556
    PROCESSOR_IDENTIFIER = Intel64 Family 6 Model 62 Stepping 4, GenuineIntel
    TEMP = I:\TEMP

Perl special variables (and OS-specific diagnostics, for MSWin32):

    $^X = C:\Perl5.14.2\bin\perl.exe
    $UID/$EUID = 0 / 0
    $GID = 0
    $EGID = 0
    Win32::GetOSName = Win8
    Win32::GetOSVersion = , 6, 2, 9200, 2, 0, 0, 768, 1
    Win32::FsType = NTFS
    Win32::IsAdminUser = 0

Perl module toolchain versions installed:

    Module              Have    
    ------------------- --------
    CPAN                2.05    
    CPAN::Meta          2.150001
    Cwd                 3.47    
    ExtUtils::CBuilder  0.280220
    ExtUtils::Command   1.20    
    ExtUtils::Install   2.04    
    ExtUtils::MakeMaker 7.04    
    ExtUtils::Manifest  1.70    
    ExtUtils::ParseXS   3.24    
    File::Spec          3.47    
    JSON                2.90    
    JSON::PP            2.27300 
    Module::Build       0.4211  
    Module::Signature   n/a     
    Parse::CPAN::Meta   1.4414  
    Test::Harness       3.35    
    Test::More          1.001014
    YAML                1.14    
    YAML::Syck          1.29    
    version             0.9909  


--

Summary of my perl5 (revision 5 version 14 subversion 2) configuration:
   
  Platform:
    osname=MSWin32, osvers=5.2, archname=MSWin32-x86-multi-thread
    uname=''
    config_args='undef'
    hint=recommended, useposix=true, d_sigaction=undef
    useithreads=define, usemultiplicity=define
    useperlio=define, d_sfio=undef, uselargefiles=define, usesocks=undef
    use64bitint=undef, use64bitall=undef, uselongdouble=undef
    usemymalloc=n, bincompat5005=undef
  Compiler:
    cc='cl', ccflags ='-nologo -GF -W3 -MD -Zi -DNDEBUG -O1 -DWIN32 -D_CONSOLE -DNO_STRICT -DPERL_TEXTMODE_SCRIPTS -DUSE_SITECUSTOMIZE -DPERL_IMPLICIT_CONTEXT -DPERL_IMPLICIT_SYS -DUSE_PERLIO -D_USE_32BIT_TIME_T',
    optimize='-MD -Zi -DNDEBUG -O1',
    cppflags='-DWIN32'
    ccversion='18.0.21005', gccversion='', gccosandvers=''
    intsize=4, longsize=4, ptrsize=4, doublesize=8, byteorder=1234
    d_longlong=undef, longlongsize=8, d_longdbl=define, longdblsize=8
    ivtype='long', ivsize=4, nvtype='double', nvsize=8, Off_t='__int64', lseeksize=8
    alignbytes=8, prototype=define
  Linker and Libraries:
    ld='link', ldflags ='-nologo -nodefaultlib -debug -opt:ref,icf  -libpath:"C:\Perl5.14.2\lib\CORE"  -machine:x86'
    libpth=\lib
    libs=oldnames.lib kernel32.lib user32.lib gdi32.lib winspool.lib  comdlg32.lib advapi32.lib shell32.lib ole32.lib oleaut32.lib  netapi32.lib uuid.lib ws2_32.lib mpr.lib winmm.lib  version.lib odbc32.lib odbccp32.lib comctl32.lib msvcrt.lib
    perllibs=oldnames.lib kernel32.lib user32.lib gdi32.lib winspool.lib  comdlg32.lib advapi32.lib shell32.lib ole32.lib oleaut32.lib  netapi32.lib uuid.lib ws2_32.lib mpr.lib winmm.lib  version.lib odbc32.lib odbccp32.lib comctl32.lib msvcrt.lib
    libc=msvcrt.lib, so=dll, useshrplib=true, libperl=perl514.lib
    gnulibc_version=''
  Dynamic Linking:
    dlsrc=dl_win32.xs, dlext=dll, d_dlsymun=undef, ccdlflags=' '
    cccdlflags=' ', lddlflags='-dll -nologo -nodefaultlib -debug -opt:ref,icf  -libpath:"C:\Perl5.14.2\lib\CORE"  -machine:x86'


Characteristics of this binary (from libperl): 
  Compile-time options: MULTIPLICITY PERL_DONT_CREATE_GVSV
                        PERL_IMPLICIT_CONTEXT PERL_IMPLICIT_SYS
                        PERL_MALLOC_WRAP PERL_PRESERVE_IVUV PL_OP_SLAB_ALLOC
                        USE_ITHREADS USE_LARGE_FILES USE_PERLIO USE_PERL_ATOF
                        USE_SITECUSTOMIZE
  Locally applied patches:
	ActivePerl Build 1402 [295342]
  Built under MSWin32
  Compiled at Oct  7 2011 15:49:44
  %ENV:
    PERL5_CPANPLUS_IS_RUNNING="3556"
    PERL5_CPAN_IS_RUNNING="3556"
  @INC:
    C:/Perl5.14.2/site/lib
    C:/Perl5.14.2/lib
    .