Back
From: metabase:user:320bfe00-2aae-11df-837a-5e0a49663a4f
Subject: PASS Test-NewVersion-0.003 v5.21.9 GNU/Linux
Date: 2015-03-13T08:52:12Z
This distribution has been tested as part of the CPAN Testers
project, supporting the Perl programming language. See
http://wiki.cpantesters.org/ for more information or email
questions to cpan-testers-discuss@perl.org
--
Dear Karen Etheridge,
This is a computer-generated report for Test-NewVersion-0.003
on perl 5.21.9, created by CPAN-Reporter-1.2011.
Thank you for uploading your work to CPAN. Congratulations!
All tests were successful.
Sections of this report:
* Tester comments
* Program output
* Prerequisites
* Environment and other context
------------------------------
TESTER COMMENTS
------------------------------
Additional comments from tester:
this report is from an automated smoke testing program
and was not reviewed by a human for accuracy
------------------------------
PROGRAM OUTPUT
------------------------------
Output from './Build test':
# Versions for all modules listed in MYMETA.json (including optional ones):
#
# === Configure Requires ===
#
# Module Want Have
# ------------------- ----- -----
# Module::Build::Tiny 0.039 0.039
#
# === Test Requires ===
#
# Module Want Have
# ------------------- ----- ------------
# Data::Dumper any 2.157
# ExtUtils::MakeMaker any 7.04
# File::Spec any 3.53
# File::pushd any 1.009
# Path::Tiny any 0.065
# Test::Deep any 0.115
# Test::More any 1.301001_099
# Test::Tester 0.108 1.301001_099
# Test::Warnings any 0.020
# if any 0.0603
# lib any 0.63
#
# === Test Recommends ===
#
# Module Want Have
# ---------- -------- --------
# CPAN::Meta 2.120900 2.143240
#
# === Runtime Requires ===
#
# Module Want Have
# ---------------- -------- ------------
# CPAN::Meta 2.120920 2.143240
# Encode any 2.70
# Exporter any 5.72
# File::Find any 1.29
# File::Spec any 3.53
# HTTP::Headers any 6.05
# HTTP::Tiny any 0.054
# JSON::MaybeXS any 1.003003
# List::Util any 1.41
# Module::Metadata any 1.000026
# Test::Builder 0.88 1.301001_099
# parent any 0.231
# strict any 1.09
# version any 0.9909
# warnings any 1.31
#
t/00-report-prereqs.t .. ok
t/01-basic.t ........... ok
t/03-pod.t ............. ok
t/04-blib.t ............ ok
All tests successful.
Files=4, Tests=7, 1 wallclock secs ( 0.04 usr 0.00 sys + 0.67 cusr 0.07 csys = 0.78 CPU)
Result: PASS
------------------------------
PREREQUISITES
------------------------------
Prerequisite modules loaded:
requires:
Module Need Have
------------------- -------- ------------
CPAN::Meta 2.120920 2.143240
Encode 0 2.70
Exporter 0 5.72
File::Find 0 1.29
File::Spec 0 3.53
HTTP::Headers 0 6.05
HTTP::Tiny 0 0.054
JSON::MaybeXS 0 1.003003
List::Util 0 1.41
Module::Metadata 0 1.000026
parent 0 0.231
perl 5.006 5.021009
strict 0 1.09
Test::Builder 0.88 1.301001_099
version 0 0.9909
warnings 0 1.31
build_requires:
Module Need Have
------------------- -------- ------------
Data::Dumper 0 2.157
ExtUtils::MakeMaker 0 7.04
File::pushd 0 1.009
File::Spec 0 3.53
if 0 0.0603
lib 0 0.63
Path::Tiny 0 0.065
perl 5.006 5.021009
Test::Deep 0 0.115
Test::More 0 1.301001_099
Test::Tester 0.108 1.301001_099
Test::Warnings 0 0.020
configure_requires:
Module Need Have
------------------- -------- ------------
Module::Build::Tiny 0.039 0.039
perl 5.006 5.021009
------------------------------
ENVIRONMENT AND OTHER CONTEXT
------------------------------
Environment variables:
AUTOMATED_TESTING = 1
LANG = en_US.UTF-8
LANGUAGE = en_US:en
PATH = /usr/lib/ccache:/home/sand/bin:/usr/local/bin:/usr/bin:/bin:/usr/games:/usr/local/perl/bin:/usr/X11/bin:/sbin:/usr/sbin
PERL5LIB =
PERL5OPT =
PERL5_CPANPLUS_IS_RUNNING = 12596
PERL5_CPAN_IS_RUNNING = 12596
PERL_MM_USE_DEFAULT = 1
SHELL = /usr/bin/zsh
TERM = screen
Perl special variables (and OS-specific diagnostics, for MSWin32):
$^X = /home/sand/src/perl/repoperls/installed-perls/perl/v5.21.9/165a/bin/perl
$UID/$EUID = 1005 / 1005
$GID = 1005 1005
$EGID = 1005 1005
Perl module toolchain versions installed:
Module Have
------------------- ------------
CPAN 2.05
CPAN::Meta 2.143240
Cwd 3.54
ExtUtils::CBuilder 0.280221
ExtUtils::Command 1.20
ExtUtils::Install 2.04
ExtUtils::MakeMaker 7.04
ExtUtils::Manifest 1.70
ExtUtils::ParseXS 3.27
File::Spec 3.53
JSON 2.90
JSON::PP 2.27300
Module::Build 0.4211
Module::Signature 0.73
Parse::CPAN::Meta 1.4414
Test::Harness 3.35
Test::More 1.301001_099
YAML 1.14
YAML::Syck 1.29
version 0.9909
--
Summary of my perl5 (revision 5 version 21 subversion 9) configuration:
Commit id: 9200eb3463082f416cc7f441ae6ec39829d1e46a
Platform:
osname=linux, osvers=3.16.0-4-amd64, archname=x86_64-linux
uname='linux k83 3.16.0-4-amd64 #1 smp debian 3.16.7-ckt7-1 (2015-03-01) x86_64 gnulinux '
config_args='-Dprefix=/home/sand/src/perl/repoperls/installed-perls/perl/v5.21.9/165a -Dmyhostname=k83 -Dinstallusrbinperl=n -Uversiononly -Dusedevel -des -Ui_db -Uuseithreads -Uuselongdouble -DDEBUGGING=-g'
hint=recommended, useposix=true, d_sigaction=define
useithreads=undef, usemultiplicity=undef
use64bitint=define, use64bitall=define, uselongdouble=undef
usemymalloc=n, bincompat5005=undef
Compiler:
cc='cc', ccflags ='-fwrapv -fno-strict-aliasing -pipe -fstack-protector-strong -I/usr/local/include -D_LARGEFILE_SOURCE -D_FILE_OFFSET_BITS=64 -D_FORTIFY_SOURCE=2',
optimize='-O2 -g',
cppflags='-fwrapv -fno-strict-aliasing -pipe -fstack-protector-strong -I/usr/local/include'
ccversion='', gccversion='4.9.2', gccosandvers=''
intsize=4, longsize=8, ptrsize=8, doublesize=8, byteorder=12345678, doublekind=3
d_longlong=define, longlongsize=8, d_longdbl=define, longdblsize=16, longdblkind=3
ivtype='long', ivsize=8, nvtype='double', nvsize=8, Off_t='off_t', lseeksize=8
alignbytes=8, prototype=define
Linker and Libraries:
ld='cc', ldflags =' -fstack-protector-strong -L/usr/local/lib'
libpth=/usr/local/lib /usr/lib/gcc/x86_64-linux-gnu/4.9/include-fixed /usr/include/x86_64-linux-gnu /usr/lib /lib/x86_64-linux-gnu /lib/../lib /usr/lib/x86_64-linux-gnu /usr/lib/../lib /lib
libs=-lpthread -lnsl -lgdbm -ldb -ldl -lm -lcrypt -lutil -lc -lgdbm_compat
perllibs=-lpthread -lnsl -ldl -lm -lcrypt -lutil -lc
libc=libc-2.19.so, so=so, useshrplib=false, libperl=libperl.a
gnulibc_version='2.19'
Dynamic Linking:
dlsrc=dl_dlopen.xs, dlext=so, d_dlsymun=undef, ccdlflags='-Wl,-E'
cccdlflags='-fPIC', lddlflags='-shared -O2 -g -L/usr/local/lib -fstack-protector-strong'
Characteristics of this binary (from libperl):
Compile-time options: HAS_TIMES PERLIO_LAYERS PERL_DONT_CREATE_GVSV
PERL_HASH_FUNC_ONE_AT_A_TIME_HARD PERL_MALLOC_WRAP
PERL_NEW_COPY_ON_WRITE PERL_PRESERVE_IVUV
PERL_USE_DEVEL USE_64_BIT_ALL USE_64_BIT_INT
USE_LARGE_FILES USE_LOCALE USE_LOCALE_COLLATE
USE_LOCALE_CTYPE USE_LOCALE_NUMERIC USE_LOCALE_TIME
USE_PERLIO USE_PERL_ATOF
Built under linux
Compiled at Mar 7 2015 08:59:26
%ENV:
PERL5LIB=""
PERL5OPT=""
PERL5_CPANPLUS_IS_RUNNING="12596"
PERL5_CPAN_IS_RUNNING="12596"
PERL_MM_USE_DEFAULT="1"
@INC:
/home/sand/src/perl/repoperls/installed-perls/perl/v5.21.9/165a/lib/site_perl/5.21.9/x86_64-linux
/home/sand/src/perl/repoperls/installed-perls/perl/v5.21.9/165a/lib/site_perl/5.21.9
/home/sand/src/perl/repoperls/installed-perls/perl/v5.21.9/165a/lib/5.21.9/x86_64-linux
/home/sand/src/perl/repoperls/installed-perls/perl/v5.21.9/165a/lib/5.21.9
.