Report for Class-DBI-Sweet-0.11

Back
From: metabase:user:0b91ce32-3676-11e1-a1bc-bfed0df65b4f
Subject: PASS Class-DBI-Sweet-0.11 v5.14.2 GNU/Linux
Date: 2012-07-01T17:57:35Z

This distribution has been tested as part of the CPAN Testers
project, supporting the Perl programming language.  See
http://wiki.cpantesters.org/ for more information or email
questions to cpan-testers-discuss@perl.org


--
Dear Fred Moyer,

This is a computer-generated report for Class-DBI-Sweet-0.11
on perl 5.14.2, created by CPAN-Reporter-1.2006.

Thank you for uploading your work to CPAN.  Congratulations!
All tests were successful.

Sections of this report:

    * Tester comments
    * Program output
    * Prerequisites
    * Environment and other context

------------------------------
TESTER COMMENTS
------------------------------

Additional comments from tester:

this report is from an automated smoke testing program
and was not reviewed by a human for accuracy

------------------------------
PROGRAM OUTPUT
------------------------------

Output from '/usr/bin/make test':

/opt/perl32-5.14.2/bin/perl Build --makefile_env_macros 1 test
[10:54:46] t/01use.t ................................ ok     5350 ms
[10:54:48] t/02pod.t ................................ skipped: set TEST_POD to enable this test
[10:54:50] t/03podcoverage.t ........................ skipped: set TEST_POD to enable this test
[10:55:26] t/04join.t ............................... ok    35502 ms
[10:55:30] t/05count.t .............................. ok     4212 ms
[10:55:50] t/06object_cache.t ....................... ok    19741 ms
Use of uninitialized value $got in numeric eq (==) at (eval in cmp_ok) t/07prefetch.t line 48.
[10:56:07] t/07prefetch.t ........................... ok    16627 ms
[10:56:20] t/08pager.t .............................. ok    12942 ms
[10:56:22] t/09sequence.t ........................... ok     1629 ms
[10:56:22] t/cdbi-t-ocache/01-columns.t ............. ok      625 ms
[10:56:25] t/cdbi-t-ocache/03-subclassing.t ......... ok     2414 ms
[10:56:26] t/cdbi-t-ocache/05-Query.t ............... ok     1454 ms
[10:56:27] t/cdbi-t-ocache/06-hasa.t ................ ok      853 ms
[10:56:28] t/cdbi-t-ocache/08-inheritcols.t ......... ok      364 ms
[10:56:30] t/cdbi-t-ocache/09-has_many.t ............ ok     2287 ms
[10:56:31] t/cdbi-t-ocache/10-mysql.t ............... skipped: Need Date::Simple for this test
[10:56:32] t/cdbi-t-ocache/11-triggers.t ............ ok     1177 ms
[10:56:35] t/cdbi-t-ocache/12-filter.t .............. ok     2741 ms
[10:56:37] t/cdbi-t-ocache/13-constraint.t .......... ok     2113 ms
[10:56:40] t/cdbi-t-ocache/14-might_have.t .......... ok     2606 ms
[10:56:41] t/cdbi-t-ocache/16-reserved.t ............ ok      832 ms
# Pg connection failed (DBI connect('dbname=template1','postgres',...) failed: could not connect to server: No such file or directory
# 	Is the server running locally and accepting
# 	connections on Unix domain socket "/tmp/.s.PGSQL.5432"? at /opt/perl32-5.14.2/lib/site_perl/5.14.2/Ima/DBI.pm line 328.
# ). Set env variables DBD_PG_DBNAME,  DBD_PG_USER,
# DBD_PG_PASSWD to enable testing.
[10:56:42] t/cdbi-t-ocache/17-data_type.t ........... skipped: Pg connection failed.
[10:56:43] t/cdbi-t-ocache/18-has_a.t ............... ok     1646 ms
[10:56:44] t/cdbi-t-ocache/19-set_sql.t ............. ok      768 ms
[10:56:45] t/cdbi-t-ocache/21-iterator.t ............ ok      641 ms
[10:56:45] t/cdbi-t-ocache/22-deflate_order.t ....... skipped: Need Time::Piece::MySQL for this test
[10:56:46] t/cdbi-t-ocache/23-cascade.t ............. ok      724 ms
[10:56:47] t/cdbi-t-ocache/24-meta_info.t ........... ok      581 ms
DBI connect('test','',...) failed: Can't connect to local MySQL server through socket '/tmp/mysql.sock' (2) at t/cdbi-t/testlib/MyBase.pm line 10.
[10:56:48] t/cdbi-t-ocache/25-closures_in_meta.t .... skipped: Need MySQL for this test
[10:56:49] t/cdbi-t-ocache/97-pod.t ................. ok     1207 ms
[10:56:50] t/cdbi-t-ocache/98-failure.t ............. ok      532 ms
[10:56:51] t/cdbi-t-ocache/99-misc.t ................ ok      515 ms
[10:56:51] t/cdbi-t-rescache/01-columns.t ........... ok      373 ms
[10:56:52] t/cdbi-t-rescache/03-subclassing.t ....... ok      613 ms
[10:56:52] t/cdbi-t-rescache/05-Query.t ............. ok      682 ms
[10:56:53] t/cdbi-t-rescache/06-hasa.t .............. ok      805 ms
[10:56:54] t/cdbi-t-rescache/08-inheritcols.t ....... ok      325 ms
[10:56:54] t/cdbi-t-rescache/09-has_many.t .......... ok      834 ms
[10:56:55] t/cdbi-t-rescache/10-mysql.t ............. skipped: Need Date::Simple for this test
[10:56:55] t/cdbi-t-rescache/11-triggers.t .......... ok      559 ms
[10:56:56] t/cdbi-t-rescache/12-filter.t ............ ok      832 ms
[10:56:57] t/cdbi-t-rescache/13-constraint.t ........ ok      664 ms
[10:56:58] t/cdbi-t-rescache/14-might_have.t ........ ok      619 ms
[10:56:59] t/cdbi-t-rescache/16-reserved.t .......... ok     1768 ms
# Pg connection failed (DBI connect('dbname=template1','postgres',...) failed: could not connect to server: No such file or directory
# 	Is the server running locally and accepting
# 	connections on Unix domain socket "/tmp/.s.PGSQL.5432"? at /opt/perl32-5.14.2/lib/site_perl/5.14.2/Ima/DBI.pm line 328.
# ). Set env variables DBD_PG_DBNAME,  DBD_PG_USER,
# DBD_PG_PASSWD to enable testing.
[10:57:00] t/cdbi-t-rescache/17-data_type.t ......... skipped: Pg connection failed.
[10:57:01] t/cdbi-t-rescache/18-has_a.t ............. ok      782 ms
[10:57:02] t/cdbi-t-rescache/19-set_sql.t ........... ok      897 ms
[10:57:02] t/cdbi-t-rescache/21-iterator.t .......... ok      781 ms
[10:57:03] t/cdbi-t-rescache/22-deflate_order.t ..... skipped: Need Time::Piece::MySQL for this test
[10:57:04] t/cdbi-t-rescache/23-cascade.t ........... ok      752 ms
[10:57:04] t/cdbi-t-rescache/24-meta_info.t ......... ok      336 ms
DBI connect('test','',...) failed: Can't connect to local MySQL server through socket '/tmp/mysql.sock' (2) at t/cdbi-t/testlib/MyBase.pm line 10.
[10:57:05] t/cdbi-t-rescache/25-closures_in_meta.t .. skipped: Need MySQL for this test
[10:57:05] t/cdbi-t-rescache/97-pod.t ............... ok      656 ms
[10:57:06] t/cdbi-t-rescache/98-failure.t ........... ok      580 ms
[10:57:06] t/cdbi-t-rescache/99-misc.t .............. ok      479 ms
[10:57:07] t/cdbi-t/01-columns.t .................... ok      613 ms
[10:57:08] t/cdbi-t/02-Film.t ....................... ok     1360 ms
[10:57:09] t/cdbi-t/03-subclassing.t ................ ok      462 ms
[10:57:09] t/cdbi-t/04-lazy.t ....................... ok      507 ms
[10:57:11] t/cdbi-t/05-Query.t ...................... ok     1135 ms
[10:57:11] t/cdbi-t/06-hasa.t ....................... ok      736 ms
[10:57:12] t/cdbi-t/08-inheritcols.t ................ ok      305 ms
[10:57:13] t/cdbi-t/09-has_many.t ................... ok      809 ms
[10:57:13] t/cdbi-t/10-mysql.t ...................... skipped: Need Date::Simple for this test
[10:57:13] t/cdbi-t/11-triggers.t ................... ok      575 ms
[10:57:14] t/cdbi-t/12-filter.t ..................... ok      667 ms
[10:57:15] t/cdbi-t/13-constraint.t ................. ok      594 ms
[10:57:15] t/cdbi-t/14-might_have.t ................. ok      679 ms
# Pg connection failed (DBI connect('dbname=template1','postgres',...) failed: could not connect to server: No such file or directory
# 	Is the server running locally and accepting
# 	connections on Unix domain socket "/tmp/.s.PGSQL.5432"? at /opt/perl32-5.14.2/lib/site_perl/5.14.2/Ima/DBI.pm line 328.
# ). Set env variables DBD_PG_DBNAME,  DBD_PG_USER,
# DBD_PG_PASSWD to enable testing.
[10:57:16] t/cdbi-t/17-data_type.t .................. skipped: Pg connection failed.
[10:57:17] t/cdbi-t/18-has_a.t ...................... ok      706 ms
[10:57:17] t/cdbi-t/19-set_sql.t .................... ok      496 ms
[10:57:18] t/cdbi-t/21-iterator.t ................... ok      561 ms
[10:57:18] t/cdbi-t/22-deflate_order.t .............. skipped: Need Time::Piece::MySQL for this test
[10:57:18] t/cdbi-t/23-cascade.t .................... ok      610 ms
[10:57:19] t/cdbi-t/24-meta_info.t .................. ok      317 ms
DBI connect('test','',...) failed: Can't connect to local MySQL server through socket '/tmp/mysql.sock' (2) at t/cdbi-t/testlib/MyBase.pm line 10.
[10:57:19] t/cdbi-t/25-closures_in_meta.t ........... skipped: Need MySQL for this test
[10:57:20] t/cdbi-t/97-pod.t ........................ ok      368 ms
[10:57:20] t/cdbi-t/98-failure.t .................... ok      404 ms
[10:57:21] t/cdbi-t/99-misc.t ....................... ok      482 ms
[10:57:21]
All tests successful.
Files=79, Tests=1280, 162 wallclock secs ( 1.11 usr  0.17 sys + 32.58 cusr  3.50 csys = 37.36 CPU)
Result: PASS

------------------------------
PREREQUISITES
------------------------------

Prerequisite modules loaded:

requires:

    Module        Need    Have  
    ------------- ------- ------
    Class::DBI    v3.0.12 3.0.17
    Data::Page    0       2.02  
    DBD::SQLite   1.08    1.37  
    DBI           0       1.620 
    List::Util    0       1.25  
    SQL::Abstract 1.55    1.72  

configure_requires:

    Module        Need    Have  
    ------------- ------- ------
    Module::Build 0.38    0.40  


------------------------------
ENVIRONMENT AND OTHER CONTEXT
------------------------------

Environment variables:

    AUTHOR_TESTING = 1
    AUTOMATED_TESTING = 1
    LANG = en_US.UTF-8
    PATH = /usr/kerberos/sbin:/usr/kerberos/bin:/usr/local/sbin:/usr/local/bin:/sbin:/bin:/usr/sbin:/usr/bin:/opt/real/RealPlayer:/root/bin:/opt/real/RealPlayer
    PERL5LIB = 
    PERL5OPT = 
    PERL5_CPANPLUS_IS_RUNNING = 30852
    PERL5_CPAN_IS_RUNNING = 30852
    PERL_AUTOINSTALL_PREFER_CPAN = 1
    PERL_EXTUTILS_AUTOINSTALL = -defaultdeps
    PERL_MM_USE_DEFAULT = 1
    PERL_TEST_HARNESS_DUMP_TAP = 1
    SHELL = /bin/bash
    TERM = xterm

Perl special variables (and OS-specific diagnostics, for MSWin32):

    $^X = /opt/perl32-5.14.2/bin/perl
    $UID/$EUID = 0 / 0
    $GID = 0 0 1 2 3 4 6 10
    $EGID = 0 0 1 2 3 4 6 10

Perl module toolchain versions installed:

    Module              Have    
    ------------------- --------
    CPAN                1.9800  
    CPAN::Meta          2.120921
    Cwd                 3.33    
    ExtUtils::CBuilder  0.280205
    ExtUtils::Command   1.17    
    ExtUtils::Install   1.54    
    ExtUtils::MakeMaker 6.62    
    ExtUtils::Manifest  1.60    
    ExtUtils::ParseXS   3.15    
    File::Spec          3.33    
    JSON                2.53    
    JSON::PP            2.27200 
    Module::Build       0.40    
    Module::Signature   0.68    
    Parse::CPAN::Meta   1.4404  
    Test::Harness       3.25    
    Test::More          0.98    
    YAML                0.81    
    YAML::Syck          1.20    
    version             0.99    


--

Summary of my perl5 (revision 5 version 14 subversion 2) configuration:
   
  Platform:
    osname=linux, osvers=2.6.18-1.2798.fc6, archname=i686-linux-thread-multi
    uname='linux localhost.localdomain 2.6.18-1.2798.fc6 #1 smp mon oct 16 14:37:32 edt 2006 i686 i686 i386 gnulinux '
    config_args='-Dcc=gcc -Dprefix=/opt/perl32-5.14.2 -DDEBUGGING'
    hint=recommended, useposix=true, d_sigaction=define
    useithreads=define, usemultiplicity=define
    useperlio=define, d_sfio=undef, uselargefiles=undef, usesocks=undef
    use64bitint=undef, use64bitall=undef, uselongdouble=undef
    usemymalloc=n, bincompat5005=undef
  Compiler:
    cc='gcc', ccflags ='-D_REENTRANT -D_GNU_SOURCE -DDEBUGGING -fno-strict-aliasing -pipe -fstack-protector -I/usr/local/include',
    optimize='-O2 -g',
    cppflags='-D_REENTRANT -D_GNU_SOURCE -DDEBUGGING -fno-strict-aliasing -pipe -fstack-protector -I/usr/local/include'
    ccversion='', gccversion='4.1.1 20061011 (Red Hat 4.1.1-30)', gccosandvers=''
    intsize=4, longsize=4, ptrsize=4, doublesize=8, byteorder=1234
    d_longlong=define, longlongsize=8, d_longdbl=define, longdblsize=12
    ivtype='long', ivsize=4, nvtype='double', nvsize=8, Off_t='off_t', lseeksize=4
    alignbytes=4, prototype=define
  Linker and Libraries:
    ld='gcc', ldflags =' -fstack-protector -L/usr/local/lib'
    libpth=/usr/local/lib /lib /usr/lib
    libs=-lnsl -lgdbm -ldb -ldl -lm -lcrypt -lutil -lpthread -lc
    perllibs=-lnsl -ldl -lm -lcrypt -lutil -lpthread -lc
    libc=/lib/libc-2.5.so, so=so, useshrplib=true, libperl=libperl.so
    gnulibc_version='2.5'
  Dynamic Linking:
    dlsrc=dl_dlopen.xs, dlext=so, d_dlsymun=undef, ccdlflags='-Wl,-E -Wl,-rpath,/opt/perl32-5.14.2/lib/5.14.2/i686-linux-thread-multi/CORE'
    cccdlflags='-fPIC', lddlflags='-shared -O2 -g -L/usr/local/lib -fstack-protector'


Characteristics of this binary (from libperl): 
  Compile-time options: DEBUGGING MULTIPLICITY PERL_DONT_CREATE_GVSV
                        PERL_IMPLICIT_CONTEXT PERL_MALLOC_WRAP
                        PERL_PRESERVE_IVUV PERL_TRACK_MEMPOOL USE_ITHREADS
                        USE_PERLIO USE_PERL_ATOF USE_REENTRANT_API
  Built under linux
  Compiled at Apr 21 2012 22:37:13
  %ENV:
    PERL5LIB=""
    PERL5OPT=""
    PERL5_CPANPLUS_IS_RUNNING="30852"
    PERL5_CPAN_IS_RUNNING="30852"
    PERL_AUTOINSTALL_PREFER_CPAN="1"
    PERL_EXTUTILS_AUTOINSTALL="-defaultdeps"
    PERL_MM_USE_DEFAULT="1"
    PERL_TEST_HARNESS_DUMP_TAP="1"
  @INC:
    /opt/perl32-5.14.2/lib/site_perl/5.14.2/i686-linux-thread-multi
    /opt/perl32-5.14.2/lib/site_perl/5.14.2
    /opt/perl32-5.14.2/lib/5.14.2/i686-linux-thread-multi
    /opt/perl32-5.14.2/lib/5.14.2
    .