Complete-Module v0.263 Perl 5 v5.41.12 x86_64-linux-ld
- Status
- Pass
- From
- Slaven Rezić
- Dist
-
Complete-Module v0.263
- Platform
- Perl 5 v5.41.12 x86_64-linux-ld
- Date
- 2025-05-11 00:24:01
- ID
- 3d1ee6c2-2dfe-11f0-afb0-1bf96d8775ea
This distribution has been tested as part of the CPAN Testers
project, supporting the Perl programming language. See
http://wiki.cpantesters.org/ for more information or email
questions to cpan-testers-discuss@perl.org
--
Dear perlancar,
This is a computer-generated report for Complete-Module-0.263
on perl 5.41.12, created by CPAN-Reporter-1.2020.
Thank you for uploading your work to CPAN. Congratulations!
All tests were successful.
Sections of this report:
* Tester comments
* Program output
* Prerequisites
* Environment and other context
------------------------------
TESTER COMMENTS
------------------------------
Additional comments from tester:
none provided
------------------------------
PROGRAM OUTPUT
------------------------------
Output from '/usr/bin/make test':
PERL_DL_NONLAZY=1 "/opt/perl-5.41.12D/bin/perl5.41.12" "-MExtUtils::Command::MM" "-MTest::Harness" "-e" "undef *Test::Harness::Switches; test_harness(0, 'blib/lib', 'blib/arch')" t/*.t
t/00-compile.t .................. ok
t/01-basics.t ................... ok
t/author-critic.t ............... skipped: these tests are for testing by the author
t/author-pod-coverage.t ......... skipped: these tests are for testing by the author
t/author-pod-syntax.t ........... skipped: these tests are for testing by the author
t/opts-ns_prefix-ns_prefixes.t .. ok
t/release-rinci.t ............... skipped: these tests are for release candidate testing
All tests successful.
Files=7, Tests=14, 0 wallclock secs ( 0.02 usr 0.00 sys + 0.18 cusr 0.05 csys = 0.25 CPU)
Result: PASS
------------------------------
PREREQUISITES
------------------------------
Prerequisite modules loaded:
requires:
Module Need Have
------------------- -------- --------
Complete::Common 0.22 0.22
Complete::Path 0.251 0.251
Exporter 5.57 5.79
List::Util 1.54 1.68_01
Log::ger 0.038 0.042
perl 5.010001 5.041012
strict 0 1.13
warnings 0 1.74
build_requires:
Module Need Have
------------------- -------- --------
Complete::Util 0.616 0.620
ExtUtils::MakeMaker 0 7.74
File::chdir 0 0.1011
File::Slurper 0 0.014
File::Spec 0 3.94
File::Temp 0.2307 0.2311
Filesys::Cap 0 0.02
FindBin 0 1.54
IO::Handle 0 1.55
IPC::Open3 0 1.24
lib 0 0.65
Test::More 0.98 1.302210
configure_requires:
Module Need Have
------------------- -------- --------
ExtUtils::MakeMaker 0 7.74
------------------------------
ENVIRONMENT AND OTHER CONTEXT
------------------------------
Environment variables:
LANG = en_US.UTF-8
PATH = /usr/local/bin:/usr/bin:/bin:/usr/local/sbin:/usr/sbin:/sbin:/home/cpansand/bin/linux-gnu:/home/cpansand/bin/sh:/home/cpansand/bin:/usr/games:/home/cpansand/devel:/home/eserte/src/srezic-misc/scripts
PERL5LIB = /home/cpansand/.local/share/.cpan/build/2025051100/Filesys-Cap-0.02-1/blib/arch:/home/cpansand/.local/share/.cpan/build/2025051100/Filesys-Cap-0.02-1/blib/lib:/home/cpansand/.local/share/.cpan/build/2025051100/UUID-Random-0.04-1/blib/arch:/home/cpansand/.local/share/.cpan/build/2025051100/UUID-Random-0.04-1/blib/lib:/home/cpansand/.local/share/.cpan/build/2025051100/Complete-Path-0.251-1/blib/arch:/home/cpansand/.local/share/.cpan/build/2025051100/Complete-Path-0.251-1/blib/lib
PERL5OPT =
PERL5_CPANPLUS_IS_RUNNING = 2385154
PERL5_CPAN_IS_RUNNING = 2385154
PERL5_CPAN_IS_RUNNING_IN_RECURSION = 2385093,2385154
PERLDOC = -MPod::Perldoc::ToTextOverstrike
PERL_BATCH = yes
PERL_CANARY_STABILITY_NOPROMPT = 1
PERL_CPAN_REPORTER_CONFIG = /var/tmp/cpansmoker-1023/2025051100/cpanreporter_000_config.ini
PERL_EXTUTILS_AUTOINSTALL = --defaultdeps
PERL_USE_UNSAFE_INC = 1
SHELL = /usr/bin/zsh
TERM = screen
TMPDIR = /var/tmp/cpansmoker-1023/2025051100
Perl special variables (and OS-specific diagnostics, for MSWin32):
$^X = /opt/perl-5.41.12D/bin/perl5.41.12
$UID/$EUID = 1023 / 1023
$GID = 1023 1023
$EGID = 1023 1023
Perl module toolchain versions installed:
Module Have
------------------- --------
CPAN 2.38
CPAN::Meta 2.150010
Cwd 3.94
ExtUtils::CBuilder 0.280240
ExtUtils::Command 7.74
ExtUtils::Install 2.22
ExtUtils::MakeMaker 7.74
ExtUtils::Manifest 1.75
ExtUtils::ParseXS 3.57
File::Spec 3.94
JSON 4.10
JSON::PP 4.16
Module::Build 0.4234
Module::Signature n/a
Parse::CPAN::Meta 2.150010
Test2 1.302210
Test::Harness 3.50
Test::More 1.302210
YAML 1.31
YAML::Syck 1.34
version 0.9933
--
Summary of my perl5 (revision 5 version 41 subversion 12) configuration:
Platform:
osname=linux
osvers=5.10.0-34-amd64
archname=x86_64-linux-ld
uname='linux cloud7.bbbike.org 5.10.0-34-amd64 #1 smp debian 5.10.234-1 (2025-02-24) x86_64 gnulinux '
config_args='-ds -e -Dprefix=/opt/perl-5.41.12D -Uinstallusrbinperl -Dusedevel -Dusemallocwrap=no -Duselongdouble -Dcf_email=srezic@cpan.org'
hint=recommended
useposix=true
d_sigaction=define
useithreads=undef
usemultiplicity=undef
use64bitint=define
use64bitall=define
uselongdouble=define
usemymalloc=n
default_inc_excludes_dot=define
Compiler:
cc='cc'
ccflags ='-fwrapv -fno-strict-aliasing -pipe -fstack-protector-strong -I/usr/local/include -D_LARGEFILE_SOURCE -D_FILE_OFFSET_BITS=64 -D_FORTIFY_SOURCE=2'
optimize='-O2'
cppflags='-fwrapv -fno-strict-aliasing -pipe -fstack-protector-strong -I/usr/local/include'
ccversion=''
gccversion='10.2.1 20210110'
gccosandvers=''
intsize=4
longsize=8
ptrsize=8
doublesize=8
byteorder=12345678
doublekind=3
d_longlong=define
longlongsize=8
d_longdbl=define
longdblsize=16
longdblkind=3
ivtype='long'
ivsize=8
nvtype='long double'
nvsize=16
Off_t='off_t'
lseeksize=8
alignbytes=16
prototype=define
Linker and Libraries:
ld='cc'
ldflags =' -fstack-protector-strong -L/usr/local/lib'
libpth=/usr/local/lib /usr/lib/x86_64-linux-gnu /usr/lib /usr/lib64
libs=-lpthread -lgdbm -ldb -ldl -lm -lcrypt -lutil -lc
perllibs=-lpthread -ldl -lm -lcrypt -lutil -lc
libc=libc-2.31.so
so=so
useshrplib=false
libperl=libperl.a
gnulibc_version='2.31'
Dynamic Linking:
dlsrc=dl_dlopen.xs
dlext=so
d_dlsymun=undef
ccdlflags='-Wl,-E'
cccdlflags='-fPIC'
lddlflags='-shared -O2 -L/usr/local/lib -fstack-protector-strong'
Characteristics of this binary (from libperl):
Compile-time options:
HAS_LONG_DOUBLE
HAS_STRTOLD
HAS_TIMES
PERLIO_LAYERS
PERL_COPY_ON_WRITE
PERL_DONT_CREATE_GVSV
PERL_HASH_FUNC_SIPHASH13
PERL_HASH_USE_SBOX32
PERL_OP_PARENT
PERL_PRESERVE_IVUV
PERL_USE_DEVEL
PERL_USE_SAFE_PUTENV
USE_64_BIT_ALL
USE_64_BIT_INT
USE_LARGE_FILES
USE_LOCALE
USE_LOCALE_COLLATE
USE_LOCALE_CTYPE
USE_LOCALE_NUMERIC
USE_LOCALE_TIME
USE_LONG_DOUBLE
USE_PERLIO
USE_PERL_ATOF
Built under linux
Compiled at Apr 23 2025 15:15:06
%ENV:
PERL5LIB="/home/cpansand/.local/share/.cpan/build/2025051100/Filesys-Cap-0.02-1/blib/arch:/home/cpansand/.local/share/.cpan/build/2025051100/Filesys-Cap-0.02-1/blib/lib:/home/cpansand/.local/share/.cpan/build/2025051100/UUID-Random-0.04-1/blib/arch:/home/cpansand/.local/share/.cpan/build/2025051100/UUID-Random-0.04-1/blib/lib:/home/cpansand/.local/share/.cpan/build/2025051100/Complete-Path-0.251-1/blib/arch:/home/cpansand/.local/share/.cpan/build/2025051100/Complete-Path-0.251-1/blib/lib"
PERL5OPT=""
PERL5_CPANPLUS_IS_RUNNING="2385154"
PERL5_CPAN_IS_RUNNING="2385154"
PERL5_CPAN_IS_RUNNING_IN_RECURSION="2385093,2385154"
PERLDOC="-MPod::Perldoc::ToTextOverstrike"
PERL_BATCH="yes"
PERL_CANARY_STABILITY_NOPROMPT="1"
PERL_CPAN_REPORTER_CONFIG="/var/tmp/cpansmoker-1023/2025051100/cpanreporter_000_config.ini"
PERL_EXTUTILS_AUTOINSTALL="--defaultdeps"
PERL_USE_UNSAFE_INC="1"
@INC:
/home/cpansand/.local/share/.cpan/build/2025051100/Filesys-Cap-0.02-1/blib/arch
/home/cpansand/.local/share/.cpan/build/2025051100/Filesys-Cap-0.02-1/blib/lib
/home/cpansand/.local/share/.cpan/build/2025051100/UUID-Random-0.04-1/blib/arch
/home/cpansand/.local/share/.cpan/build/2025051100/UUID-Random-0.04-1/blib/lib
/home/cpansand/.local/share/.cpan/build/2025051100/Complete-Path-0.251-1/blib/arch
/home/cpansand/.local/share/.cpan/build/2025051100/Complete-Path-0.251-1/blib/lib
/opt/perl-5.41.12D/lib/site_perl/5.41.12/x86_64-linux-ld
/opt/perl-5.41.12D/lib/site_perl/5.41.12
/opt/perl-5.41.12D/lib/5.41.12/x86_64-linux-ld
/opt/perl-5.41.12D/lib/5.41.12
.