Java-Javap v0.05 Perl 5 v5.13.1 x86_64-linux-thread-multi-ld

Status
Pass
From
Andreas J. K├Ânig (ANDK)
Dist
Java-Javap v0.05
Platform
Perl 5 v5.13.1 x86_64-linux-thread-multi-ld
Date
2010-07-03T11:50:55
ID
3ce36290-8699-11df-8eb9-024c01ce9048
This distribution has been tested as part of the CPAN Testers
project, supporting the Perl programming language.  See
http://wiki.cpantesters.org/ for more information or email
questions to cpan-testers-discuss@perl.org


--
Dear Tim Bunce,

This is a computer-generated report for Java-Javap-0.05
on perl 5.13.1, created by CPAN-Reporter-1.1711.

Thank you for uploading your work to CPAN.  Congratulations!
All tests were successful.

Sections of this report:

    * Tester comments
    * Program output
    * Prerequisites
    * Environment and other context

------------------------------
TESTER COMMENTS
------------------------------

Additional comments from tester:

this report is from an automated smoke testing program
and was not reviewed by a human for accuracy

------------------------------
PROGRAM OUTPUT
------------------------------

Output from '/usr/bin/make test':

PERL_DL_NONLAZY=1 /home/src/perl/repoperls/installed-perls/perl/v5.13.1-4-ge77da3b/bin/perl "-MExtUtils::Command::MM" "-e" "test_harness(0, 'blib/lib', 'blib/arch')" t/*.t
t/01_use.t .............. ok
Can't exec "javap": No such file or directory at lib/Java/Javap.pm line 63.
t/02_interface.t ........ skipped: javap from Java SDK required: No such file or directory
Can't exec "javap": No such file or directory at lib/Java/Javap.pm line 63.
t/02_invoke_javap.t ..... skipped: javap from Java SDK required: 'javap  java.lang.String' failed: No such file or directory at t/02_invoke_javap.t line 9
Can't exec "javap": No such file or directory at lib/Java/Javap.pm line 63.
t/03_class.t ............ skipped: javap from Java SDK required: No such file or directory
Can't exec "javap": No such file or directory at lib/Java/Javap.pm line 63.
t/04_java2perl6.t ....... skipped: javap from Java SDK required: No such file or directory
Can't exec "javap": No such file or directory at lib/Java/Javap.pm line 63.
t/05_final.t ............ skipped: javap from Java SDK required: No such file or directory
t/release-pod-syntax.t .. skipped: these tests are for release candidate testing
All tests successful.
Files=7, Tests=1,  1 wallclock secs ( 0.04 usr  0.00 sys +  0.47 cusr  0.07 csys =  0.58 CPU)
Result: PASS

------------------------------
PREREQUISITES
------------------------------

Prerequisite modules loaded:

requires:

    Module            Need Have    
    ----------------- ---- --------
    Parse::RecDescent 1.0  1.965001
    Template          2.0  2.22    
    Test::Differences 0    0.500   
    Test::More        0.82 0.94    
    Test::Most        0    0.21    


------------------------------
ENVIRONMENT AND OTHER CONTEXT
------------------------------

Environment variables:

    AUTOMATED_TESTING = 1
    LANG = en_US.UTF-8
    PATH = /home/sand/bin:/usr/local/bin:/usr/bin:/bin:/usr/bin/X11:/usr/games:/usr/local/perl/bin:/usr/X11/bin:/sbin:/usr/sbin
    PERL5LIB = 
    PERL5OPT = 
    PERL5_CPANPLUS_IS_RUNNING = 21776
    PERL5_CPAN_IS_RUNNING = 21776
    PERL_MM_USE_DEFAULT = 1
    SHELL = /usr/bin/zsh
    TERM = screen

Perl special variables (and OS-specific diagnostics, for MSWin32):

    $^X = /home/src/perl/repoperls/installed-perls/perl/v5.13.1-4-ge77da3b/bin/perl
    $UID/$EUID = 1001 / 1001
    $GID = 1001 1001
    $EGID = 1001 1001

Perl module toolchain versions installed:

    Module              Have   
    ------------------- -------
    CPAN                1.94_57
    Cwd                 3.31   
    ExtUtils::CBuilder  0.2703 
    ExtUtils::Command   1.16   
    ExtUtils::Install   1.55   
    ExtUtils::MakeMaker 6.5601 
    ExtUtils::Manifest  1.57   
    ExtUtils::ParseXS   2.2205 
    File::Spec          3.31   
    Module::Build       0.36_11
    Module::Signature   0.64   
    Test::Harness       3.21   
    Test::More          0.94   
    YAML                0.71   
    YAML::Syck          1.09   
    version             0.82   


--

Summary of my perl5 (revision 5 version 13 subversion 1) configuration:
  Commit id: e77da3b2183d0f9c5ea81dc5780d9a480fc4fa88
  Platform:
    osname=linux, osvers=2.6.32-2-amd64, archname=x86_64-linux-thread-multi-ld
    uname='linux k81 2.6.32-2-amd64 #1 smp fri feb 12 00:01:47 utc 2010 x86_64 gnulinux '
    config_args='-Dprefix=/home/src/perl/repoperls/installed-perls/perl/v5.13.1-4-ge77da3b -Dinstallusrbinperl=n -Uversiononly -Dusedevel -Duseithreads -Duselongdouble -des -Ui_db'
    hint=recommended, useposix=true, d_sigaction=define
    useithreads=define, usemultiplicity=define
    useperlio=define, d_sfio=undef, uselargefiles=define, usesocks=undef
    use64bitint=define, use64bitall=define, uselongdouble=define
    usemymalloc=n, bincompat5005=undef
  Compiler:
    cc='cc', ccflags ='-D_REENTRANT -D_GNU_SOURCE -fno-strict-aliasing -pipe -fstack-protector -I/usr/local/include -D_LARGEFILE_SOURCE -D_FILE_OFFSET_BITS=64',
    optimize='-O2',
    cppflags='-D_REENTRANT -D_GNU_SOURCE -fno-strict-aliasing -pipe -fstack-protector -I/usr/local/include'
    ccversion='', gccversion='4.4.3', gccosandvers=''
    intsize=4, longsize=8, ptrsize=8, doublesize=8, byteorder=12345678
    d_longlong=define, longlongsize=8, d_longdbl=define, longdblsize=16
    ivtype='long', ivsize=8, nvtype='long double', nvsize=16, Off_t='off_t', lseeksize=8
    alignbytes=16, prototype=define
  Linker and Libraries:
    ld='cc', ldflags =' -fstack-protector -L/usr/local/lib'
    libpth=/usr/local/lib /lib /usr/lib /lib64 /usr/lib64
    libs=-lnsl -lgdbm -ldb -ldl -lm -lcrypt -lutil -lpthread -lc -lgdbm_compat
    perllibs=-lnsl -ldl -lm -lcrypt -lutil -lpthread -lc
    libc=/lib/libc-2.10.2.so, so=so, useshrplib=false, libperl=libperl.a
    gnulibc_version='2.10.2'
  Dynamic Linking:
    dlsrc=dl_dlopen.xs, dlext=so, d_dlsymun=undef, ccdlflags='-Wl,-E'
    cccdlflags='-fPIC', lddlflags='-shared -O2 -L/usr/local/lib -fstack-protector'


Characteristics of this binary (from libperl): 
  Compile-time options: MULTIPLICITY PERL_DONT_CREATE_GVSV
                        PERL_IMPLICIT_CONTEXT PERL_MALLOC_WRAP PERL_USE_DEVEL
                        USE_64_BIT_ALL USE_64_BIT_INT USE_ITHREADS
                        USE_LARGE_FILES USE_LONG_DOUBLE USE_PERLIO
                        USE_PERL_ATOF USE_REENTRANT_API
  Built under linux
  Compiled at May 20 2010 21:59:16
  %ENV:
    PERL5LIB=""
    PERL5OPT=""
    PERL5_CPANPLUS_IS_RUNNING="21776"
    PERL5_CPAN_IS_RUNNING="21776"
    PERL_MM_USE_DEFAULT="1"
  @INC:
    /home/src/perl/repoperls/installed-perls/perl/v5.13.1-4-ge77da3b/lib/site_perl/5.13.1/x86_64-linux-thread-multi-ld
    /home/src/perl/repoperls/installed-perls/perl/v5.13.1-4-ge77da3b/lib/site_perl/5.13.1
    /home/src/perl/repoperls/installed-perls/perl/v5.13.1-4-ge77da3b/lib/5.13.1/x86_64-linux-thread-multi-ld
    /home/src/perl/repoperls/installed-perls/perl/v5.13.1-4-ge77da3b/lib/5.13.1
    .