Report for Devel-SizeMe-0.19

Back
From: metabase:user:314402c4-2aae-11df-837a-5e0a49663a4f
Subject: PASS Devel-SizeMe-0.19 v5.12.5 GNU/Linux
Date: 2016-11-29T13:53:42Z

This distribution has been tested as part of the CPAN Testers
project, supporting the Perl programming language.  See
http://wiki.cpantesters.org/ for more information or email
questions to cpan-testers-discuss@perl.org


--
Dear Tim Bunce,

This is a computer-generated report for Devel-SizeMe-0.19
on perl 5.12.5, created by CPAN-Reporter-1.2014.

Thank you for uploading your work to CPAN.  Congratulations!
All tests were successful.

Sections of this report:

    * Tester comments
    * Program output
    * Prerequisites
    * Environment and other context

------------------------------
TESTER COMMENTS
------------------------------

Additional comments from tester:

none provided

------------------------------
PROGRAM OUTPUT
------------------------------

Output from '/usr/bin/make test':

Running Mkbootstrap for Devel::SizeMe ()
chmod 644 "SizeMe.bs"
PERL_DL_NONLAZY=1 "/mnt/part3/perl-5.12.5d/bin/perl" "-MExtUtils::Command::MM" "-MTest::Harness" "-e" "undef *Test::Harness::Switches; test_harness(0, 'blib/lib', 'blib/arch')" t/*.t
bin/sizeme_store.pl syntax OK
t/00-load.t ....... ok
t/10-sizeme.t ..... ok
t/20-smt-basic.t .. ok
t/basic.t ......... ok
t/code.t .......... ok
t/globs.t ......... ok
t/magic.t ......... ok
t/pod.t ........... ok
t/pod_cov.t ....... skipped: Test::Pod::Coverage 1.08 required for testing POD coverage
t/pvbm.t .......... ok
t/recurse.t ....... ok
t/warnings.t ...... skipped: no Test::PerlRun found
All tests successful.
Files=12, Tests=174,  0 wallclock secs ( 0.02 usr  0.01 sys +  0.29 cusr  0.06 csys =  0.38 CPU)
Result: PASS

------------------------------
PREREQUISITES
------------------------------

Prerequisite modules loaded:

requires:

    Module              Need     Have    
    ------------------- -------- --------
    autodie             2.12     2.29    
    DBD::SQLite         1.37     1.52    
    DBI                 0        1.636   
    Devel::Dwarn        0        0       
    HTML::Entities      0        3.69    
    JSON::XS            0        3.03    
    Moo                 1.000007 2.000001
    perl                5.008    5.012005
    Test::More          0.98     1.001014
    XSLoader            0        0.10    

build_requires:

    Module              Need     Have    
    ------------------- -------- --------
    ExtUtils::MakeMaker 0        7.04    

configure_requires:

    Module              Need     Have    
    ------------------- -------- --------
    ExtUtils::MakeMaker 0        7.04    


------------------------------
ENVIRONMENT AND OTHER CONTEXT
------------------------------

Environment variables:

    LANG = de_DE.UTF-8
    PATH = /usr/local/bin:/usr/bin:/bin:/usr/local/sbin:/usr/sbin:/sbin:/home/slaven.rezic/bin/linux-gnu:/home/slaven.rezic/bin/sh:/home/slaven.rezic/bin:/home/slaven.rezic/bin/pistachio-perl/bin:/usr/games:/home/slaven.rezic/devel:/home/slaven.rezic/work/drafts-slaven.rezic/misc:/home/slaven.rezic/src/srezic-misc/scripts
    PERL5LIB = /home/slaven.rezic/.cpan/build/2016112912/autodie-2.29-hUL6IG/blib/arch:/home/slaven.rezic/.cpan/build/2016112912/autodie-2.29-hUL6IG/blib/lib:/home/slaven.rezic/.cpan/build/2016112912/JSON-XS-3.03-LUE_PF/blib/arch:/home/slaven.rezic/.cpan/build/2016112912/JSON-XS-3.03-LUE_PF/blib/lib:/home/slaven.rezic/.cpan/build/2016112912/Types-Serialiser-1.0-d9OZLF/blib/arch:/home/slaven.rezic/.cpan/build/2016112912/Types-Serialiser-1.0-d9OZLF/blib/lib:/home/slaven.rezic/.cpan/build/2016112912/Canary-Stability-2012-TqAA_Z/blib/arch:/home/slaven.rezic/.cpan/build/2016112912/Canary-Stability-2012-TqAA_Z/blib/lib:/home/slaven.rezic/.cpan/build/2016112912/DBD-SQLite-1.52-88wxEI/blib/arch:/home/slaven.rezic/.cpan/build/2016112912/DBD-SQLite-1.52-88wxEI/blib/lib:/home/slaven.rezic/.cpan/build/2016112912/DBI-1.636-FbTuvT/blib/arch:/home/slaven.rezic/.cpan/build/2016112912/DBI-1.636-FbTuvT/blib/lib:/home/slaven.rezic/.cpan/build/2016112912/Data-Dumper-Concise-2.022-R9ENyX/blib/arch:/home/slaven.rezic/.cpan/build/2016112912/Data-Dumper-Concise-2.022-R9ENyX/blib/lib
    PERL5OPT = 
    PERL5_CPANPLUS_IS_RUNNING = 16374
    PERL5_CPAN_IS_RUNNING = 16374
    PERL5_CPAN_IS_RUNNING_IN_RECURSION = 32335,16374
    PERLDOC = -MPod::Perldoc::ToTextOverstrike
    PERL_BATCH = yes
    PERL_CANARY_STABILITY_NOPROMPT = 1
    PERL_CPAN_REPORTER_CONFIG = /var/tmp/cpansmoker-11577/2016112912/cpanreporter_000_config.ini
    PERL_EXTUTILS_AUTOINSTALL = --defaultdeps
    SHELL = /usr/bin/zsh
    STDPERL = /home/slaven.rezic/bin/pistachio-perl/bin/perl
    TERM = xterm
    TMPDIR = /var/tmp/cpansmoker-11577/2016112912

Perl special variables (and OS-specific diagnostics, for MSWin32):

    $^X = /mnt/part3/perl-5.12.5d/bin/perl
    $UID/$EUID = 11577 / 11577
    $GID = 520 520 20007 20012 20019 20081 20147 20173 20192 20232 20263 20286 20287 20288 20293 20400
    $EGID = 520 520 20007 20012 20019 20081 20147 20173 20192 20232 20263 20286 20287 20288 20293 20400

Perl module toolchain versions installed:

    Module              Have    
    ------------------- --------
    CPAN                1.94_56 
    CPAN::Meta          2.150001
    Cwd                 3.47    
    ExtUtils::CBuilder  0.27    
    ExtUtils::Command   1.16    
    ExtUtils::Install   1.55    
    ExtUtils::MakeMaker 7.04    
    ExtUtils::Manifest  1.65    
    ExtUtils::ParseXS   2.21    
    File::Spec          3.47    
    JSON                2.90    
    JSON::PP            2.27203 
    Module::Build       0.4212  
    Module::Signature   n/a     
    Parse::CPAN::Meta   1.4414  
    Test::Harness       3.35    
    Test::More          1.001014
    YAML                1.15    
    YAML::Syck          1.29    
    version             0.9912  


--

Summary of my perl5 (revision 5 version 12 subversion 5) configuration:
   
  Platform:
    osname=linux, osvers=3.2.0-57-generic, archname=x86_64-linux
    uname='linux ws40601 3.2.0-57-generic #87-ubuntu smp tue nov 12 21:35:10 utc 2013 x86_64 x86_64 x86_64 gnulinux '
    config_args='-ds -e -Dprefix=/opt/perl-5.12.5d -DDEBUGGING -Dcf_email=srezic@cpan.org'
    hint=recommended, useposix=true, d_sigaction=define
    useithreads=undef, usemultiplicity=undef
    useperlio=define, d_sfio=undef, uselargefiles=define, usesocks=undef
    use64bitint=define, use64bitall=define, uselongdouble=undef
    usemymalloc=n, bincompat5005=undef
  Compiler:
    cc='cc', ccflags ='-DDEBUGGING -fno-strict-aliasing -pipe -fstack-protector -I/usr/local/include -D_LARGEFILE_SOURCE -D_FILE_OFFSET_BITS=64',
    optimize='-O2 -g',
    cppflags='-DDEBUGGING -fno-strict-aliasing -pipe -fstack-protector -I/usr/local/include'
    ccversion='', gccversion='4.6.3', gccosandvers=''
    intsize=4, longsize=8, ptrsize=8, doublesize=8, byteorder=12345678
    d_longlong=define, longlongsize=8, d_longdbl=define, longdblsize=16
    ivtype='long', ivsize=8, nvtype='double', nvsize=8, Off_t='off_t', lseeksize=8
    alignbytes=8, prototype=define
  Linker and Libraries:
    ld='cc', ldflags =' -fstack-protector -L/usr/local/lib'
    libpth=/usr/local/lib /lib/x86_64-linux-gnu /lib/../lib /usr/lib/x86_64-linux-gnu /usr/lib/../lib /lib /usr/lib
    libs=-lnsl -ldb -ldl -lm -lcrypt -lutil -lc
    perllibs=-lnsl -ldl -lm -lcrypt -lutil -lc
    libc=libc-2.15.so, so=so, useshrplib=false, libperl=libperl.a
    gnulibc_version='2.15'
  Dynamic Linking:
    dlsrc=dl_dlopen.xs, dlext=so, d_dlsymun=undef, ccdlflags='-Wl,-E'
    cccdlflags='-fPIC', lddlflags='-shared -O2 -g -L/usr/local/lib -fstack-protector'


Characteristics of this binary (from libperl): 
  Compile-time options: DEBUGGING PERL_DONT_CREATE_GVSV PERL_MALLOC_WRAP
                        USE_64_BIT_ALL USE_64_BIT_INT USE_LARGE_FILES
                        USE_PERLIO USE_PERL_ATOF
  Locally applied patches:
	Devel::PatchPerl 1.34
  Built under linux
  Compiled at May 19 2015 11:24:28
  %ENV:
    PERL5LIB="/home/slaven.rezic/.cpan/build/2016112912/autodie-2.29-hUL6IG/blib/arch:/home/slaven.rezic/.cpan/build/2016112912/autodie-2.29-hUL6IG/blib/lib:/home/slaven.rezic/.cpan/build/2016112912/JSON-XS-3.03-LUE_PF/blib/arch:/home/slaven.rezic/.cpan/build/2016112912/JSON-XS-3.03-LUE_PF/blib/lib:/home/slaven.rezic/.cpan/build/2016112912/Types-Serialiser-1.0-d9OZLF/blib/arch:/home/slaven.rezic/.cpan/build/2016112912/Types-Serialiser-1.0-d9OZLF/blib/lib:/home/slaven.rezic/.cpan/build/2016112912/Canary-Stability-2012-TqAA_Z/blib/arch:/home/slaven.rezic/.cpan/build/2016112912/Canary-Stability-2012-TqAA_Z/blib/lib:/home/slaven.rezic/.cpan/build/2016112912/DBD-SQLite-1.52-88wxEI/blib/arch:/home/slaven.rezic/.cpan/build/2016112912/DBD-SQLite-1.52-88wxEI/blib/lib:/home/slaven.rezic/.cpan/build/2016112912/DBI-1.636-FbTuvT/blib/arch:/home/slaven.rezic/.cpan/build/2016112912/DBI-1.636-FbTuvT/blib/lib:/home/slaven.rezic/.cpan/build/2016112912/Data-Dumper-Concise-2.022-R9ENyX/blib/arch:/home/slaven.rezic/.cpan/build/2016112912/Data-Dumper-Concise-2.022-R9ENyX/blib/lib"
    PERL5OPT=""
    PERL5_CPANPLUS_IS_RUNNING="16374"
    PERL5_CPAN_IS_RUNNING="16374"
    PERL5_CPAN_IS_RUNNING_IN_RECURSION="32335,16374"
    PERLDOC="-MPod::Perldoc::ToTextOverstrike"
    PERL_BATCH="yes"
    PERL_CANARY_STABILITY_NOPROMPT="1"
    PERL_CPAN_REPORTER_CONFIG="/var/tmp/cpansmoker-11577/2016112912/cpanreporter_000_config.ini"
    PERL_EXTUTILS_AUTOINSTALL="--defaultdeps"
  @INC:
    /home/slaven.rezic/.cpan/build/2016112912/autodie-2.29-hUL6IG/blib/arch
    /home/slaven.rezic/.cpan/build/2016112912/autodie-2.29-hUL6IG/blib/lib
    /home/slaven.rezic/.cpan/build/2016112912/JSON-XS-3.03-LUE_PF/blib/arch
    /home/slaven.rezic/.cpan/build/2016112912/JSON-XS-3.03-LUE_PF/blib/lib
    /home/slaven.rezic/.cpan/build/2016112912/Types-Serialiser-1.0-d9OZLF/blib/arch
    /home/slaven.rezic/.cpan/build/2016112912/Types-Serialiser-1.0-d9OZLF/blib/lib
    /home/slaven.rezic/.cpan/build/2016112912/Canary-Stability-2012-TqAA_Z/blib/arch
    /home/slaven.rezic/.cpan/build/2016112912/Canary-Stability-2012-TqAA_Z/blib/lib
    /home/slaven.rezic/.cpan/build/2016112912/DBD-SQLite-1.52-88wxEI/blib/arch
    /home/slaven.rezic/.cpan/build/2016112912/DBD-SQLite-1.52-88wxEI/blib/lib
    /home/slaven.rezic/.cpan/build/2016112912/DBI-1.636-FbTuvT/blib/arch
    /home/slaven.rezic/.cpan/build/2016112912/DBI-1.636-FbTuvT/blib/lib
    /home/slaven.rezic/.cpan/build/2016112912/Data-Dumper-Concise-2.022-R9ENyX/blib/arch
    /home/slaven.rezic/.cpan/build/2016112912/Data-Dumper-Concise-2.022-R9ENyX/blib/lib
    /opt/perl-5.12.5d/lib/site_perl/5.12.5/x86_64-linux
    /opt/perl-5.12.5d/lib/site_perl/5.12.5
    /opt/perl-5.12.5d/lib/5.12.5/x86_64-linux
    /opt/perl-5.12.5d/lib/5.12.5
    .