Parallel-ForkManager v1.19 Perl 5 v5.24.3 RC1 x86_64-linux

Status
Pass
From
Slaven Rezić (SREZIC)
Dist
Parallel-ForkManager v1.19
Platform
Perl 5 v5.24.3 RC1 x86_64-linux
Date
2017-09-10 17:34:02
ID
3cc1ff0c-964e-11e7-9ff1-bcef99e7021d
This distribution has been tested as part of the CPAN Testers
project, supporting the Perl programming language.  See
http://wiki.cpantesters.org/ for more information or email
questions to cpan-testers-discuss@perl.org


--
Dear Yanick Champoux,

This is a computer-generated report for Parallel-ForkManager-1.19
on perl 5.24.3, created by CPAN-Reporter-1.2018.

Thank you for uploading your work to CPAN.  Congratulations!
All tests were successful.

Sections of this report:

    * Tester comments
    * Program output
    * Prerequisites
    * Environment and other context

------------------------------
TESTER COMMENTS
------------------------------

Additional comments from tester:

none provided

------------------------------
PROGRAM OUTPUT
------------------------------

Output from 'make test':

PERL_DL_NONLAZY=1 "/opt/perl-5.24.3-RC1/bin/perl" "-MExtUtils::Command::MM" "-MTest::Harness" "-e" "undef *Test::Harness::Switches; test_harness(0, 'blib/lib', 'blib/arch')" t/*.t
t/00-compile.t ............ ok
# time: 0 seconds
# time: 21 seconds
# time: 0 seconds
# time: 1 seconds
t/00-load.t ............... ok
# 
# Versions for all modules listed in MYMETA.json (including optional ones):
# 
# === Configure Requires ===
# 
#     Module              Want    Have
#     ------------------- ---- -------
#     ExtUtils::MakeMaker  any 7.10_02
# 
# === Build Requires ===
# 
#     Module              Want    Have
#     ------------------- ---- -------
#     ExtUtils::MakeMaker  any 7.10_02
# 
# === Test Requires ===
# 
#     Module              Want     Have
#     ------------------- ---- --------
#     ExtUtils::MakeMaker  any  7.10_02
#     File::Spec           any  3.63_01
#     IO::Handle           any     1.36
#     IPC::Open3           any     1.20
#     Test::More          0.94 1.001014
#     Test::Warn           any     0.32
#     warnings             any     1.36
# 
# === Test Recommends ===
# 
#     Module         Want     Have
#     ---------- -------- --------
#     CPAN::Meta 2.120900 2.150005
# 
# === Runtime Requires ===
# 
#     Module     Want    Have
#     ---------- ---- -------
#     Carp        any    1.40
#     File::Path  any 2.12_01
#     File::Spec  any 3.63_01
#     File::Temp  any  0.2304
#     POSIX       any 1.65_01
#     Storable    any 2.56_01
#     strict      any    1.11
# 
t/00-report-prereqs.t ..... ok
t/01-utf8-all.t ........... skipped: Need utf8::all for this test crashing on Windows
# This test can take 10-20 seconds, please wait. Started at Sun Sep 10 16:37:37 2017
t/02-callback.t ........... ok
# This test can take 2-6 seconds, please wait. Started at Sun Sep 10 16:37:53 2017
t/03-callback-data.t ...... ok
t/basic-methods.t ......... ok
t/changing-pids.t ......... ok
t/start_child.t ........... ok
# code outside of P::FM stole 15662
child process '15662' disappeared. A call to `waitpid` outside of Parallel::ForkManager might have reaped it.
t/waitpid-conflict.t ...... ok
# code outside of P::FM stole 15709
t/waitpid-waitonechild.t .. ok
t/waitpid_blocking.t ...... ok
All tests successful.

Test Summary Report
-------------------
t/waitpid-conflict.t    (Wstat: 0 Tests: 2 Failed: 0)
  TODO passed:   1-2
t/waitpid-waitonechild.t (Wstat: 0 Tests: 3 Failed: 0)
  TODO passed:   1-3
Files=12, Tests=27, 60 wallclock secs ( 0.03 usr  0.05 sys +  0.60 cusr  0.54 csys =  1.22 CPU)
Result: PASS

------------------------------
PREREQUISITES
------------------------------

Prerequisite modules loaded:

requires:

    Module              Need  Have    
    ------------------- ----- --------
    Carp                0     1.40    
    File::Path          0     2.12_01 
    File::Spec          0     3.63_01 
    File::Temp          0     0.2304  
    perl                5.006 5.024003
    POSIX               0     1.65_01 
    Storable            0     2.56_01 
    strict              0     1.11    

build_requires:

    Module              Need  Have    
    ------------------- ----- --------
    ExtUtils::MakeMaker 0     7.10_02 
    File::Spec          0     3.63_01 
    IO::Handle          0     1.36    
    IPC::Open3          0     1.20    
    Test::More          0.94  1.001014
    Test::Warn          0     0.32    
    warnings            0     1.36    

configure_requires:

    Module              Need  Have    
    ------------------- ----- --------
    ExtUtils::MakeMaker 0     7.10_02 


------------------------------
ENVIRONMENT AND OTHER CONTEXT
------------------------------

Environment variables:

    LANG = en_US.UTF-8
    PATH = /usr/local/bin:/usr/bin:/bin:/usr/local/sbin:/usr/sbin:/sbin:/home/cpansand/bin/linux-gnu:/home/cpansand/bin/sh:/home/cpansand/bin:/usr/games:/home/cpansand/devel:/home/eserte/src/srezic-misc/scripts
    PERL5LIB = 
    PERL5OPT = 
    PERL5_CPANPLUS_IS_RUNNING = 16251
    PERL5_CPAN_IS_RUNNING = 16251
    PERL5_CPAN_IS_RUNNING_IN_RECURSION = 16165,16251
    PERLDOC = -MPod::Perldoc::ToTextOverstrike
    PERL_BATCH = yes
    PERL_CANARY_STABILITY_NOPROMPT = 1
    PERL_CPAN_REPORTER_CONFIG = /var/tmp/cpansmoker-1023/2017091015/cpanreporter_002_config.ini
    PERL_EXTUTILS_AUTOINSTALL = --defaultdeps
    PISTACHIO_PERL_MANAGER = 1
    SHELL = /bin/zsh
    TERM = screen
    TMPDIR = /var/tmp/cpansmoker-1023/2017091015

Perl special variables (and OS-specific diagnostics, for MSWin32):

    $^X = /opt/perl-5.24.3-RC1/bin/perl
    $UID/$EUID = 1023 / 1023
    $GID = 1023 1023
    $EGID = 1023 1023

Perl module toolchain versions installed:

    Module              Have      
    ------------------- ----------
    CPAN                2.11_01   
    CPAN::Meta          2.150005  
    Cwd                 3.63_01   
    ExtUtils::CBuilder  0.280225  
    ExtUtils::Command   7.10_02   
    ExtUtils::Install   2.04      
    ExtUtils::MakeMaker 7.10_02   
    ExtUtils::Manifest  1.70      
    ExtUtils::ParseXS   3.31      
    File::Spec          3.63_01   
    JSON                n/a       
    JSON::PP            2.27300_01
    Module::Build       0.4224    
    Module::Signature   n/a       
    Parse::CPAN::Meta   1.4417_001
    Test::Harness       3.36_01   
    Test::More          1.001014  
    YAML                1.23      
    YAML::Syck          1.30      
    version             0.9916    


--

Summary of my perl5 (revision 5 version 24 subversion 3) configuration:
   
  Platform:
    osname=linux, osvers=2.6.32-696.3.1.el6.x86_64, archname=x86_64-linux
    uname='linux centos6 2.6.32-696.3.1.el6.x86_64 #1 smp tue may 30 19:52:55 utc 2017 x86_64 x86_64 x86_64 gnulinux '
    config_args='-ds -e -Dprefix=/opt/perl-5.24.3-RC1 -Dcf_email=srezic@cpan.org'
    hint=recommended, useposix=true, d_sigaction=define
    useithreads=undef, usemultiplicity=undef
    use64bitint=define, use64bitall=define, uselongdouble=undef
    usemymalloc=n, bincompat5005=undef
  Compiler:
    cc='cc', ccflags ='-fwrapv -fno-strict-aliasing -pipe -fstack-protector -I/usr/local/include -D_LARGEFILE_SOURCE -D_FILE_OFFSET_BITS=64 -D_FORTIFY_SOURCE=2',
    optimize='-O2',
    cppflags='-fwrapv -fno-strict-aliasing -pipe -fstack-protector -I/usr/local/include'
    ccversion='', gccversion='4.4.7 20120313 (Red Hat 4.4.7-18)', gccosandvers=''
    intsize=4, longsize=8, ptrsize=8, doublesize=8, byteorder=12345678, doublekind=3
    d_longlong=define, longlongsize=8, d_longdbl=define, longdblsize=16, longdblkind=3
    ivtype='long', ivsize=8, nvtype='double', nvsize=8, Off_t='off_t', lseeksize=8
    alignbytes=8, prototype=define
  Linker and Libraries:
    ld='cc', ldflags =' -fstack-protector -L/usr/local/lib'
    libpth=/usr/local/lib /usr/lib /lib/../lib64 /usr/lib/../lib64 /lib /lib64 /usr/lib64 /usr/local/lib64
    libs=-lpthread -lnsl -lgdbm -ldb -ldl -lm -lcrypt -lutil -lc
    perllibs=-lpthread -lnsl -ldl -lm -lcrypt -lutil -lc
    libc=libc-2.12.so, so=so, useshrplib=false, libperl=libperl.a
    gnulibc_version='2.12'
  Dynamic Linking:
    dlsrc=dl_dlopen.xs, dlext=so, d_dlsymun=undef, ccdlflags='-Wl,-E'
    cccdlflags='-fPIC', lddlflags='-shared -O2 -L/usr/local/lib -fstack-protector'


Characteristics of this binary (from libperl): 
  Compile-time options: HAS_TIMES PERLIO_LAYERS PERL_COPY_ON_WRITE
                        PERL_DONT_CREATE_GVSV
                        PERL_HASH_FUNC_ONE_AT_A_TIME_HARD PERL_MALLOC_WRAP
                        PERL_PRESERVE_IVUV USE_64_BIT_ALL USE_64_BIT_INT
                        USE_LARGE_FILES USE_LOCALE USE_LOCALE_COLLATE
                        USE_LOCALE_CTYPE USE_LOCALE_NUMERIC USE_LOCALE_TIME
                        USE_PERLIO USE_PERL_ATOF
  Locally applied patches:
	RC1
  Built under linux
  Compiled at Sep 10 2017 16:03:46
  %ENV:
    PERL5LIB=""
    PERL5OPT=""
    PERL5_CPANPLUS_IS_RUNNING="16251"
    PERL5_CPAN_IS_RUNNING="16251"
    PERL5_CPAN_IS_RUNNING_IN_RECURSION="16165,16251"
    PERLDOC="-MPod::Perldoc::ToTextOverstrike"
    PERL_BATCH="yes"
    PERL_CANARY_STABILITY_NOPROMPT="1"
    PERL_CPAN_REPORTER_CONFIG="/var/tmp/cpansmoker-1023/2017091015/cpanreporter_002_config.ini"
    PERL_EXTUTILS_AUTOINSTALL="--defaultdeps"
  @INC:
    /opt/perl-5.24.3-RC1/lib/site_perl/5.24.3/x86_64-linux
    /opt/perl-5.24.3-RC1/lib/site_perl/5.24.3
    /opt/perl-5.24.3-RC1/lib/5.24.3/x86_64-linux
    /opt/perl-5.24.3-RC1/lib/5.24.3
    .