Back
From: metabase:user:30f4dfbe-2aae-11df-837a-5e0a49663a4f
Subject: PASS HTML-FillInForm-Lite-1.15 v5.12.5 Mac OS X
Date: 2016-10-26T01:55:14Z
This distribution has been tested as part of the CPAN Testers
project, supporting the Perl programming language. See
http://wiki.cpantesters.org/ for more information or email
questions to cpan-testers-discuss@perl.org
--
Dear Goro Fuji,
This is a computer-generated report for HTML-FillInForm-Lite-1.15
on perl 5.12.5, created by CPAN-Reporter-1.2018.
Thank you for uploading your work to CPAN. Congratulations!
All tests were successful.
Sections of this report:
* Tester comments
* Program output
* Prerequisites
* Environment and other context
------------------------------
TESTER COMMENTS
------------------------------
Additional comments from tester:
this report is from an automated smoke testing program
and was not reviewed by a human for accuracy
------------------------------
PROGRAM OUTPUT
------------------------------
Output from './Build test':
t/00basic.t .......... ok
CGI::param called in list context from /Users/hornenj/.cpan/build/HTML-FillInForm-Lite-1.15-1/blib/lib/HTML/FillInForm/Lite.pm line 372, this can lead to vulnerabilities. See the warning in "Fetching the value or values of a single named parameter" at /Users/hornenj/perl5/perlbrew/perls/perl-5.12.5/lib/site_perl/5.12.5/CGI.pm line 404.
CGI::param called in list context from /Users/hornenj/.cpan/build/HTML-FillInForm-Lite-1.15-1/blib/lib/HTML/FillInForm/Lite.pm line 372, this can lead to vulnerabilities. See the warning in "Fetching the value or values of a single named parameter" at /Users/hornenj/perl5/perlbrew/perls/perl-5.12.5/lib/site_perl/5.12.5/CGI.pm line 404.
CGI::param called in list context from /Users/hornenj/.cpan/build/HTML-FillInForm-Lite-1.15-1/blib/lib/HTML/FillInForm/Lite.pm line 372, this can lead to vulnerabilities. See the warning in "Fetching the value or values of a single named parameter" at /Users/hornenj/perl5/perlbrew/perls/perl-5.12.5/lib/site_perl/5.12.5/CGI.pm line 404.
CGI::param called in list context from /Users/hornenj/.cpan/build/HTML-FillInForm-Lite-1.15-1/blib/lib/HTML/FillInForm/Lite.pm line 372, this can lead to vulnerabilities. See the warning in "Fetching the value or values of a single named parameter" at /Users/hornenj/perl5/perlbrew/perls/perl-5.12.5/lib/site_perl/5.12.5/CGI.pm line 404, <$in> line 1.
CGI::param called in list context from /Users/hornenj/.cpan/build/HTML-FillInForm-Lite-1.15-1/blib/lib/HTML/FillInForm/Lite.pm line 372, this can lead to vulnerabilities. See the warning in "Fetching the value or values of a single named parameter" at /Users/hornenj/perl5/perlbrew/perls/perl-5.12.5/lib/site_perl/5.12.5/CGI.pm line 404, <$_[...]> line 1.
CGI::param called in list context from /Users/hornenj/.cpan/build/HTML-FillInForm-Lite-1.15-1/blib/lib/HTML/FillInForm/Lite.pm line 372, this can lead to vulnerabilities. See the warning in "Fetching the value or values of a single named parameter" at /Users/hornenj/perl5/perlbrew/perls/perl-5.12.5/lib/site_perl/5.12.5/CGI.pm line 404, <$_[...]> line 1.
CGI::param called in list context from /Users/hornenj/.cpan/build/HTML-FillInForm-Lite-1.15-1/blib/lib/HTML/FillInForm/Lite.pm line 372, this can lead to vulnerabilities. See the warning in "Fetching the value or values of a single named parameter" at /Users/hornenj/perl5/perlbrew/perls/perl-5.12.5/lib/site_perl/5.12.5/CGI.pm line 404.
CGI::param called in list context from /Users/hornenj/.cpan/build/HTML-FillInForm-Lite-1.15-1/blib/lib/HTML/FillInForm/Lite.pm line 372, this can lead to vulnerabilities. See the warning in "Fetching the value or values of a single named parameter" at /Users/hornenj/perl5/perlbrew/perls/perl-5.12.5/lib/site_perl/5.12.5/CGI.pm line 404, <HANDLE> line 1.
CGI::param called in list context from /Users/hornenj/.cpan/build/HTML-FillInForm-Lite-1.15-1/blib/lib/HTML/FillInForm/Lite.pm line 372, this can lead to vulnerabilities. See the warning in "Fetching the value or values of a single named parameter" at /Users/hornenj/perl5/perlbrew/perls/perl-5.12.5/lib/site_perl/5.12.5/CGI.pm line 404, <HANDLE> line 1.
CGI::param called in list context from /Users/hornenj/.cpan/build/HTML-FillInForm-Lite-1.15-1/blib/lib/HTML/FillInForm/Lite.pm line 372, this can lead to vulnerabilities. See the warning in "Fetching the value or values of a single named parameter" at /Users/hornenj/perl5/perlbrew/perls/perl-5.12.5/lib/site_perl/5.12.5/CGI.pm line 404.
CGI::param called in list context from /Users/hornenj/.cpan/build/HTML-FillInForm-Lite-1.15-1/blib/lib/HTML/FillInForm/Lite.pm line 372, this can lead to vulnerabilities. See the warning in "Fetching the value or values of a single named parameter" at /Users/hornenj/perl5/perlbrew/perls/perl-5.12.5/lib/site_perl/5.12.5/CGI.pm line 404.
CGI::param called in list context from /Users/hornenj/.cpan/build/HTML-FillInForm-Lite-1.15-1/blib/lib/HTML/FillInForm/Lite.pm line 372, this can lead to vulnerabilities. See the warning in "Fetching the value or values of a single named parameter" at /Users/hornenj/perl5/perlbrew/perls/perl-5.12.5/lib/site_perl/5.12.5/CGI.pm line 404.
CGI::param called in list context from /Users/hornenj/.cpan/build/HTML-FillInForm-Lite-1.15-1/blib/lib/HTML/FillInForm/Lite.pm line 372, this can lead to vulnerabilities. See the warning in "Fetching the value or values of a single named parameter" at /Users/hornenj/perl5/perlbrew/perls/perl-5.12.5/lib/site_perl/5.12.5/CGI.pm line 404.
CGI::param called in list context from /Users/hornenj/.cpan/build/HTML-FillInForm-Lite-1.15-1/blib/lib/HTML/FillInForm/Lite.pm line 372, this can lead to vulnerabilities. See the warning in "Fetching the value or values of a single named parameter" at /Users/hornenj/perl5/perlbrew/perls/perl-5.12.5/lib/site_perl/5.12.5/CGI.pm line 404.
CGI::param called in list context from /Users/hornenj/.cpan/build/HTML-FillInForm-Lite-1.15-1/blib/lib/HTML/FillInForm/Lite.pm line 372, this can lead to vulnerabilities. See the warning in "Fetching the value or values of a single named parameter" at /Users/hornenj/perl5/perlbrew/perls/perl-5.12.5/lib/site_perl/5.12.5/CGI.pm line 404.
CGI::param called in list context from /Users/hornenj/.cpan/build/HTML-FillInForm-Lite-1.15-1/blib/lib/HTML/FillInForm/Lite.pm line 372, this can lead to vulnerabilities. See the warning in "Fetching the value or values of a single named parameter" at /Users/hornenj/perl5/perlbrew/perls/perl-5.12.5/lib/site_perl/5.12.5/CGI.pm line 404.
CGI::param called in list context from /Users/hornenj/.cpan/build/HTML-FillInForm-Lite-1.15-1/blib/lib/HTML/FillInForm/Lite.pm line 372, this can lead to vulnerabilities. See the warning in "Fetching the value or values of a single named parameter" at /Users/hornenj/perl5/perlbrew/perls/perl-5.12.5/lib/site_perl/5.12.5/CGI.pm line 404.
CGI::param called in list context from /Users/hornenj/.cpan/build/HTML-FillInForm-Lite-1.15-1/blib/lib/HTML/FillInForm/Lite.pm line 372, this can lead to vulnerabilities. See the warning in "Fetching the value or values of a single named parameter" at /Users/hornenj/perl5/perlbrew/perls/perl-5.12.5/lib/site_perl/5.12.5/CGI.pm line 404.
CGI::param called in list context from /Users/hornenj/.cpan/build/HTML-FillInForm-Lite-1.15-1/blib/lib/HTML/FillInForm/Lite.pm line 372, this can lead to vulnerabilities. See the warning in "Fetching the value or values of a single named parameter" at /Users/hornenj/perl5/perlbrew/perls/perl-5.12.5/lib/site_perl/5.12.5/CGI.pm line 404.
CGI::param called in list context from /Users/hornenj/.cpan/build/HTML-FillInForm-Lite-1.15-1/blib/lib/HTML/FillInForm/Lite.pm line 372, this can lead to vulnerabilities. See the warning in "Fetching the value or values of a single named parameter" at /Users/hornenj/perl5/perlbrew/perls/perl-5.12.5/lib/site_perl/5.12.5/CGI.pm line 404.
CGI::param called in list context from /Users/hornenj/.cpan/build/HTML-FillInForm-Lite-1.15-1/blib/lib/HTML/FillInForm/Lite.pm line 372, this can lead to vulnerabilities. See the warning in "Fetching the value or values of a single named parameter" at /Users/hornenj/perl5/perlbrew/perls/perl-5.12.5/lib/site_perl/5.12.5/CGI.pm line 404.
CGI::param called in list context from /Users/hornenj/.cpan/build/HTML-FillInForm-Lite-1.15-1/blib/lib/HTML/FillInForm/Lite.pm line 372, this can lead to vulnerabilities. See the warning in "Fetching the value or values of a single named parameter" at /Users/hornenj/perl5/perlbrew/perls/perl-5.12.5/lib/site_perl/5.12.5/CGI.pm line 404.
CGI::param called in list context from /Users/hornenj/.cpan/build/HTML-FillInForm-Lite-1.15-1/blib/lib/HTML/FillInForm/Lite.pm line 372, this can lead to vulnerabilities. See the warning in "Fetching the value or values of a single named parameter" at /Users/hornenj/perl5/perlbrew/perls/perl-5.12.5/lib/site_perl/5.12.5/CGI.pm line 404.
CGI::param called in list context from /Users/hornenj/.cpan/build/HTML-FillInForm-Lite-1.15-1/blib/lib/HTML/FillInForm/Lite.pm line 372, this can lead to vulnerabilities. See the warning in "Fetching the value or values of a single named parameter" at /Users/hornenj/perl5/perlbrew/perls/perl-5.12.5/lib/site_perl/5.12.5/CGI.pm line 404.
CGI::param called in list context from /Users/hornenj/.cpan/build/HTML-FillInForm-Lite-1.15-1/blib/lib/HTML/FillInForm/Lite.pm line 372, this can lead to vulnerabilities. See the warning in "Fetching the value or values of a single named parameter" at /Users/hornenj/perl5/perlbrew/perls/perl-5.12.5/lib/site_perl/5.12.5/CGI.pm line 404.
CGI::param called in list context from /Users/hornenj/.cpan/build/HTML-FillInForm-Lite-1.15-1/blib/lib/HTML/FillInForm/Lite.pm line 372, this can lead to vulnerabilities. See the warning in "Fetching the value or values of a single named parameter" at /Users/hornenj/perl5/perlbrew/perls/perl-5.12.5/lib/site_perl/5.12.5/CGI.pm line 404.
CGI::param called in list context from /Users/hornenj/.cpan/build/HTML-FillInForm-Lite-1.15-1/blib/lib/HTML/FillInForm/Lite.pm line 372, this can lead to vulnerabilities. See the warning in "Fetching the value or values of a single named parameter" at /Users/hornenj/perl5/perlbrew/perls/perl-5.12.5/lib/site_perl/5.12.5/CGI.pm line 404.
CGI::param called in list context from /Users/hornenj/.cpan/build/HTML-FillInForm-Lite-1.15-1/blib/lib/HTML/FillInForm/Lite.pm line 372, this can lead to vulnerabilities. See the warning in "Fetching the value or values of a single named parameter" at /Users/hornenj/perl5/perlbrew/perls/perl-5.12.5/lib/site_perl/5.12.5/CGI.pm line 404.
CGI::param called in list context from /Users/hornenj/.cpan/build/HTML-FillInForm-Lite-1.15-1/blib/lib/HTML/FillInForm/Lite.pm line 372, this can lead to vulnerabilities. See the warning in "Fetching the value or values of a single named parameter" at /Users/hornenj/perl5/perlbrew/perls/perl-5.12.5/lib/site_perl/5.12.5/CGI.pm line 404.
CGI::param called in list context from /Users/hornenj/.cpan/build/HTML-FillInForm-Lite-1.15-1/blib/lib/HTML/FillInForm/Lite.pm line 372, this can lead to vulnerabilities. See the warning in "Fetching the value or values of a single named parameter" at /Users/hornenj/perl5/perlbrew/perls/perl-5.12.5/lib/site_perl/5.12.5/CGI.pm line 404.
CGI::param called in list context from /Users/hornenj/.cpan/build/HTML-FillInForm-Lite-1.15-1/blib/lib/HTML/FillInForm/Lite.pm line 372, this can lead to vulnerabilities. See the warning in "Fetching the value or values of a single named parameter" at /Users/hornenj/perl5/perlbrew/perls/perl-5.12.5/lib/site_perl/5.12.5/CGI.pm line 404.
CGI::param called in list context from /Users/hornenj/.cpan/build/HTML-FillInForm-Lite-1.15-1/blib/lib/HTML/FillInForm/Lite.pm line 372, this can lead to vulnerabilities. See the warning in "Fetching the value or values of a single named parameter" at /Users/hornenj/perl5/perlbrew/perls/perl-5.12.5/lib/site_perl/5.12.5/CGI.pm line 404.
CGI::param called in list context from /Users/hornenj/.cpan/build/HTML-FillInForm-Lite-1.15-1/blib/lib/HTML/FillInForm/Lite.pm line 372, this can lead to vulnerabilities. See the warning in "Fetching the value or values of a single named parameter" at /Users/hornenj/perl5/perlbrew/perls/perl-5.12.5/lib/site_perl/5.12.5/CGI.pm line 404.
CGI::param called in list context from /Users/hornenj/.cpan/build/HTML-FillInForm-Lite-1.15-1/blib/lib/HTML/FillInForm/Lite.pm line 372, this can lead to vulnerabilities. See the warning in "Fetching the value or values of a single named parameter" at /Users/hornenj/perl5/perlbrew/perls/perl-5.12.5/lib/site_perl/5.12.5/CGI.pm line 404.
CGI::param called in list context from /Users/hornenj/.cpan/build/HTML-FillInForm-Lite-1.15-1/blib/lib/HTML/FillInForm/Lite.pm line 372, this can lead to vulnerabilities. See the warning in "Fetching the value or values of a single named parameter" at /Users/hornenj/perl5/perlbrew/perls/perl-5.12.5/lib/site_perl/5.12.5/CGI.pm line 404.
CGI::param called in list context from /Users/hornenj/.cpan/build/HTML-FillInForm-Lite-1.15-1/blib/lib/HTML/FillInForm/Lite.pm line 372, this can lead to vulnerabilities. See the warning in "Fetching the value or values of a single named parameter" at /Users/hornenj/perl5/perlbrew/perls/perl-5.12.5/lib/site_perl/5.12.5/CGI.pm line 404.
CGI::param called in list context from /Users/hornenj/.cpan/build/HTML-FillInForm-Lite-1.15-1/blib/lib/HTML/FillInForm/Lite.pm line 372, this can lead to vulnerabilities. See the warning in "Fetching the value or values of a single named parameter" at /Users/hornenj/perl5/perlbrew/perls/perl-5.12.5/lib/site_perl/5.12.5/CGI.pm line 404.
CGI::param called in list context from /Users/hornenj/.cpan/build/HTML-FillInForm-Lite-1.15-1/blib/lib/HTML/FillInForm/Lite.pm line 372, this can lead to vulnerabilities. See the warning in "Fetching the value or values of a single named parameter" at /Users/hornenj/perl5/perlbrew/perls/perl-5.12.5/lib/site_perl/5.12.5/CGI.pm line 404.
CGI::param called in list context from /Users/hornenj/.cpan/build/HTML-FillInForm-Lite-1.15-1/blib/lib/HTML/FillInForm/Lite.pm line 372, this can lead to vulnerabilities. See the warning in "Fetching the value or values of a single named parameter" at /Users/hornenj/perl5/perlbrew/perls/perl-5.12.5/lib/site_perl/5.12.5/CGI.pm line 404.
CGI::param called in list context from /Users/hornenj/.cpan/build/HTML-FillInForm-Lite-1.15-1/blib/lib/HTML/FillInForm/Lite.pm line 372, this can lead to vulnerabilities. See the warning in "Fetching the value or values of a single named parameter" at /Users/hornenj/perl5/perlbrew/perls/perl-5.12.5/lib/site_perl/5.12.5/CGI.pm line 404.
CGI::param called in list context from /Users/hornenj/.cpan/build/HTML-FillInForm-Lite-1.15-1/blib/lib/HTML/FillInForm/Lite.pm line 372, this can lead to vulnerabilities. See the warning in "Fetching the value or values of a single named parameter" at /Users/hornenj/perl5/perlbrew/perls/perl-5.12.5/lib/site_perl/5.12.5/CGI.pm line 404.
CGI::param called in list context from /Users/hornenj/.cpan/build/HTML-FillInForm-Lite-1.15-1/blib/lib/HTML/FillInForm/Lite.pm line 372, this can lead to vulnerabilities. See the warning in "Fetching the value or values of a single named parameter" at /Users/hornenj/perl5/perlbrew/perls/perl-5.12.5/lib/site_perl/5.12.5/CGI.pm line 404.
CGI::param called in list context from /Users/hornenj/.cpan/build/HTML-FillInForm-Lite-1.15-1/blib/lib/HTML/FillInForm/Lite.pm line 372, this can lead to vulnerabilities. See the warning in "Fetching the value or values of a single named parameter" at /Users/hornenj/perl5/perlbrew/perls/perl-5.12.5/lib/site_perl/5.12.5/CGI.pm line 404.
CGI::param called in list context from /Users/hornenj/.cpan/build/HTML-FillInForm-Lite-1.15-1/blib/lib/HTML/FillInForm/Lite.pm line 372, this can lead to vulnerabilities. See the warning in "Fetching the value or values of a single named parameter" at /Users/hornenj/perl5/perlbrew/perls/perl-5.12.5/lib/site_perl/5.12.5/CGI.pm line 404.
CGI::param called in list context from /Users/hornenj/.cpan/build/HTML-FillInForm-Lite-1.15-1/blib/lib/HTML/FillInForm/Lite.pm line 372, this can lead to vulnerabilities. See the warning in "Fetching the value or values of a single named parameter" at /Users/hornenj/perl5/perlbrew/perls/perl-5.12.5/lib/site_perl/5.12.5/CGI.pm line 404.
CGI::param called in list context from /Users/hornenj/.cpan/build/HTML-FillInForm-Lite-1.15-1/blib/lib/HTML/FillInForm/Lite.pm line 372, this can lead to vulnerabilities. See the warning in "Fetching the value or values of a single named parameter" at /Users/hornenj/perl5/perlbrew/perls/perl-5.12.5/lib/site_perl/5.12.5/CGI.pm line 404.
CGI::param called in list context from /Users/hornenj/.cpan/build/HTML-FillInForm-Lite-1.15-1/blib/lib/HTML/FillInForm/Lite.pm line 372, this can lead to vulnerabilities. See the warning in "Fetching the value or values of a single named parameter" at /Users/hornenj/perl5/perlbrew/perls/perl-5.12.5/lib/site_perl/5.12.5/CGI.pm line 404.
CGI::param called in list context from /Users/hornenj/.cpan/build/HTML-FillInForm-Lite-1.15-1/blib/lib/HTML/FillInForm/Lite.pm line 372, this can lead to vulnerabilities. See the warning in "Fetching the value or values of a single named parameter" at /Users/hornenj/perl5/perlbrew/perls/perl-5.12.5/lib/site_perl/5.12.5/CGI.pm line 404.
CGI::param called in list context from /Users/hornenj/.cpan/build/HTML-FillInForm-Lite-1.15-1/blib/lib/HTML/FillInForm/Lite.pm line 372, this can lead to vulnerabilities. See the warning in "Fetching the value or values of a single named parameter" at /Users/hornenj/perl5/perlbrew/perls/perl-5.12.5/lib/site_perl/5.12.5/CGI.pm line 404.
CGI::param called in list context from /Users/hornenj/.cpan/build/HTML-FillInForm-Lite-1.15-1/blib/lib/HTML/FillInForm/Lite.pm line 372, this can lead to vulnerabilities. See the warning in "Fetching the value or values of a single named parameter" at /Users/hornenj/perl5/perlbrew/perls/perl-5.12.5/lib/site_perl/5.12.5/CGI.pm line 404.
CGI::param called in list context from /Users/hornenj/.cpan/build/HTML-FillInForm-Lite-1.15-1/blib/lib/HTML/FillInForm/Lite.pm line 372, this can lead to vulnerabilities. See the warning in "Fetching the value or values of a single named parameter" at /Users/hornenj/perl5/perlbrew/perls/perl-5.12.5/lib/site_perl/5.12.5/CGI.pm line 404.
CGI::param called in list context from /Users/hornenj/.cpan/build/HTML-FillInForm-Lite-1.15-1/blib/lib/HTML/FillInForm/Lite.pm line 372, this can lead to vulnerabilities. See the warning in "Fetching the value or values of a single named parameter" at /Users/hornenj/perl5/perlbrew/perls/perl-5.12.5/lib/site_perl/5.12.5/CGI.pm line 404.
CGI::param called in list context from /Users/hornenj/.cpan/build/HTML-FillInForm-Lite-1.15-1/blib/lib/HTML/FillInForm/Lite.pm line 372, this can lead to vulnerabilities. See the warning in "Fetching the value or values of a single named parameter" at /Users/hornenj/perl5/perlbrew/perls/perl-5.12.5/lib/site_perl/5.12.5/CGI.pm line 404.
CGI::param called in list context from /Users/hornenj/.cpan/build/HTML-FillInForm-Lite-1.15-1/blib/lib/HTML/FillInForm/Lite.pm line 372, this can lead to vulnerabilities. See the warning in "Fetching the value or values of a single named parameter" at /Users/hornenj/perl5/perlbrew/perls/perl-5.12.5/lib/site_perl/5.12.5/CGI.pm line 404.
t/01input.t .......... ok
t/02select.t ......... ok
t/03textarea.t ....... ok
t/04target.t ......... ok
t/05encoding.t ....... ok
t/07fobj.t ........... ok
t/08select-extra.t ... ok
t/09decode_entity.t .. ok
CGI::param called in list context from /Users/hornenj/.cpan/build/HTML-FillInForm-Lite-1.15-1/blib/lib/HTML/FillInForm/Lite.pm line 372, this can lead to vulnerabilities. See the warning in "Fetching the value or values of a single named parameter" at /Users/hornenj/perl5/perlbrew/perls/perl-5.12.5/lib/site_perl/5.12.5/CGI.pm line 404.
CGI::param called in list context from /Users/hornenj/.cpan/build/HTML-FillInForm-Lite-1.15-1/blib/lib/HTML/FillInForm/Lite.pm line 482, this can lead to vulnerabilities. See the warning in "Fetching the value or values of a single named parameter" at /Users/hornenj/perl5/perlbrew/perls/perl-5.12.5/lib/site_perl/5.12.5/CGI.pm line 404, <$in> line 1.
CGI::param called in list context from /Users/hornenj/.cpan/build/HTML-FillInForm-Lite-1.15-1/blib/lib/HTML/FillInForm/Lite.pm line 372, this can lead to vulnerabilities. See the warning in "Fetching the value or values of a single named parameter" at /Users/hornenj/perl5/perlbrew/perls/perl-5.12.5/lib/site_perl/5.12.5/CGI.pm line 404.
CGI::param called in list context from /Users/hornenj/.cpan/build/HTML-FillInForm-Lite-1.15-1/blib/lib/HTML/FillInForm/Lite.pm line 372, this can lead to vulnerabilities. See the warning in "Fetching the value or values of a single named parameter" at /Users/hornenj/perl5/perlbrew/perls/perl-5.12.5/lib/site_perl/5.12.5/CGI.pm line 404.
CGI::param called in list context from /Users/hornenj/.cpan/build/HTML-FillInForm-Lite-1.15-1/blib/lib/HTML/FillInForm/Lite.pm line 372, this can lead to vulnerabilities. See the warning in "Fetching the value or values of a single named parameter" at /Users/hornenj/perl5/perlbrew/perls/perl-5.12.5/lib/site_perl/5.12.5/CGI.pm line 404.
CGI::param called in list context from /Users/hornenj/.cpan/build/HTML-FillInForm-Lite-1.15-1/blib/lib/HTML/FillInForm/Lite.pm line 372, this can lead to vulnerabilities. See the warning in "Fetching the value or values of a single named parameter" at /Users/hornenj/perl5/perlbrew/perls/perl-5.12.5/lib/site_perl/5.12.5/CGI.pm line 404.
CGI::param called in list context from /Users/hornenj/.cpan/build/HTML-FillInForm-Lite-1.15-1/blib/lib/HTML/FillInForm/Lite.pm line 372, this can lead to vulnerabilities. See the warning in "Fetching the value or values of a single named parameter" at /Users/hornenj/perl5/perlbrew/perls/perl-5.12.5/lib/site_perl/5.12.5/CGI.pm line 404.
CGI::param called in list context from /Users/hornenj/.cpan/build/HTML-FillInForm-Lite-1.15-1/blib/lib/HTML/FillInForm/Lite.pm line 372, this can lead to vulnerabilities. See the warning in "Fetching the value or values of a single named parameter" at /Users/hornenj/perl5/perlbrew/perls/perl-5.12.5/lib/site_perl/5.12.5/CGI.pm line 404.
CGI::param called in list context from /Users/hornenj/.cpan/build/HTML-FillInForm-Lite-1.15-1/blib/lib/HTML/FillInForm/Lite.pm line 372, this can lead to vulnerabilities. See the warning in "Fetching the value or values of a single named parameter" at /Users/hornenj/perl5/perlbrew/perls/perl-5.12.5/lib/site_perl/5.12.5/CGI.pm line 404.
CGI::param called in list context from /Users/hornenj/.cpan/build/HTML-FillInForm-Lite-1.15-1/blib/lib/HTML/FillInForm/Lite.pm line 372, this can lead to vulnerabilities. See the warning in "Fetching the value or values of a single named parameter" at /Users/hornenj/perl5/perlbrew/perls/perl-5.12.5/lib/site_perl/5.12.5/CGI.pm line 404.
CGI::param called in list context from /Users/hornenj/.cpan/build/HTML-FillInForm-Lite-1.15-1/blib/lib/HTML/FillInForm/Lite.pm line 372, this can lead to vulnerabilities. See the warning in "Fetching the value or values of a single named parameter" at /Users/hornenj/perl5/perlbrew/perls/perl-5.12.5/lib/site_perl/5.12.5/CGI.pm line 404.
CGI::param called in list context from /Users/hornenj/.cpan/build/HTML-FillInForm-Lite-1.15-1/blib/lib/HTML/FillInForm/Lite.pm line 372, this can lead to vulnerabilities. See the warning in "Fetching the value or values of a single named parameter" at /Users/hornenj/perl5/perlbrew/perls/perl-5.12.5/lib/site_perl/5.12.5/CGI.pm line 404.
CGI::param called in list context from /Users/hornenj/.cpan/build/HTML-FillInForm-Lite-1.15-1/blib/lib/HTML/FillInForm/Lite.pm line 372, this can lead to vulnerabilities. See the warning in "Fetching the value or values of a single named parameter" at /Users/hornenj/perl5/perlbrew/perls/perl-5.12.5/lib/site_perl/5.12.5/CGI.pm line 404.
CGI::param called in list context from /Users/hornenj/.cpan/build/HTML-FillInForm-Lite-1.15-1/blib/lib/HTML/FillInForm/Lite.pm line 372, this can lead to vulnerabilities. See the warning in "Fetching the value or values of a single named parameter" at /Users/hornenj/perl5/perlbrew/perls/perl-5.12.5/lib/site_perl/5.12.5/CGI.pm line 404.
CGI::param called in list context from /Users/hornenj/.cpan/build/HTML-FillInForm-Lite-1.15-1/blib/lib/HTML/FillInForm/Lite.pm line 372, this can lead to vulnerabilities. See the warning in "Fetching the value or values of a single named parameter" at /Users/hornenj/perl5/perlbrew/perls/perl-5.12.5/lib/site_perl/5.12.5/CGI.pm line 404.
t/10compat.t ......... ok
t/11html4compat.t .... ok
t/12empty_elem.t ..... ok
t/13simple.t ......... ok
t/14stringobj.t ...... ok
t/15data-attr.t ...... ok
t/16html5.t .......... ok
t/17suffix.t ......... ok
t/99pod.t ............ ok
t/99podcoverage.t .... ok
All tests successful.
Files=19, Tests=300, 1 wallclock secs ( 0.05 usr 0.04 sys + 0.57 cusr 0.18 csys = 0.84 CPU)
Result: PASS
------------------------------
PREREQUISITES
------------------------------
Prerequisite modules loaded:
requires:
Module Need Have
------------------- -------- --------
perl 5.008001 5.012005
build_requires:
Module Need Have
------------------- -------- --------
CGI 0 4.22
ExtUtils::MakeMaker 6.59 7.22
Test::More 0.62 1.302059
Test::Requires 0 0.10
configure_requires:
Module Need Have
------------------- -------- --------
Module::Build::Tiny 0.035 0.039
------------------------------
ENVIRONMENT AND OTHER CONTEXT
------------------------------
Environment variables:
AUTOMATED_TESTING = 1
LANG = en_US.UTF-8
LC_ALL = POSIX
LDFLAGS =
PATH = /Users/hornenj/perl5/perlbrew/bin:/Users/hornenj/perl5/perlbrew/perls/perl-5.12.5/bin:/Users/hornenj/perl5/perlbrew/bin:/Users/hornenj/bin:/sw/lib/perl5/ExtUtils:/sw/bin:/am/ncbiapdata/bin:/usr/bin:/bin:/usr/X11R6/bin:/netopt/ncbi_tools/bin:/usr/local/ncbi/blast/bin:/net/traces01.be-md.ncbi.nlm.nih.gov/trace_software/vdb/mac/release/x86_64/bin
PERL5LIB = /Users/hornenj/.cpan/build/FormValidator-Lite-0.39-1/blib/arch:/Users/hornenj/.cpan/build/FormValidator-Lite-0.39-1/blib/lib:/Users/hornenj/.cpan/build/Text-TestBase-0.13-1/blib/arch:/Users/hornenj/.cpan/build/Text-TestBase-0.13-1/blib/lib:/Users/hornenj/.cpan/build/Email-Valid-Loose-0.05-1/blib/arch:/Users/hornenj/.cpan/build/Email-Valid-Loose-0.05-1/blib/lib:/Users/hornenj/.cpan/build/Class-Accessor-Lite-0.08-6/blib/arch:/Users/hornenj/.cpan/build/Class-Accessor-Lite-0.08-6/blib/lib:/Users/hornenj/.cpan/build/Email-MIME-1.937-4/blib/arch:/Users/hornenj/.cpan/build/Email-MIME-1.937-4/blib/lib:/Users/hornenj/.cpan/build/Email-MessageID-1.406-4/blib/arch:/Users/hornenj/.cpan/build/Email-MessageID-1.406-4/blib/lib:/Users/hornenj/.cpan/build/Email-MIME-Encodings-1.315-4/blib/arch:/Users/hornenj/.cpan/build/Email-MIME-Encodings-1.315-4/blib/lib:/Users/hornenj/.cpan/build/Email-MIME-ContentType-1.018-4/blib/arch:/Users/hornenj/.cpan/build/Email-MIME-ContentType-1.018-4/blib/lib:/Users/hornenj/.cpan/build/DateTime-Format-Pg-0.16012-2/blib/arch:/Users/hornenj/.cpan/build/DateTime-Format-Pg-0.16012-2/blib/lib:/Users/hornenj/.cpan/build/DateTime-Format-Builder-0.81-16/blib/arch:/Users/hornenj/.cpan/build/DateTime-Format-Builder-0.81-16/blib/lib:/Users/hornenj/.cpan/build/Class-Factory-Util-1.7-16/blib/arch:/Users/hornenj/.cpan/build/Class-Factory-Util-1.7-16/blib/lib:/Users/hornenj/.cpan/build/DateTime-Format-HTTP-0.42-2/blib/arch:/Users/hornenj/.cpan/build/DateTime-Format-HTTP-0.42-2/blib/lib:/Users/hornenj/.cpan/build/Data-Validator-1.07-2/blib/arch:/Users/hornenj/.cpan/build/Data-Validator-1.07-2/blib/lib:/Users/hornenj/.cpan/build/Mouse-v2.4.5-8/blib/arch:/Users/hornenj/.cpan/build/Mouse-v2.4.5-8/blib/lib:/Users/hornenj/.cpan/build/Module-Build-XSUtil-0.16-8/blib/arch:/Users/hornenj/.cpan/build/Module-Build-XSUtil-0.16-8/blib/lib:/Users/hornenj/.cpan/build/Devel-CheckCompiler-0.06-8/blib/arch:/Users/hornenj/.cpan/build/Devel-CheckCompiler-0.06-8/blib/lib:/Users/hornenj/.cpan/build/Cwd-Guard-0.05-8/blib/arch:/Users/hornenj/.cpan/build/Cwd-Guard-0.05-8/blib/lib:/Users/hornenj/.cpan/build/Data-DPath-0.55-8/blib/arch:/Users/hornenj/.cpan/build/Data-DPath-0.55-8/blib/lib:/Users/hornenj/.cpan/build/Iterator-Util-0.02-8/blib/arch:/Users/hornenj/.cpan/build/Iterator-Util-0.02-8/blib/lib:/Users/hornenj/.cpan/build/Iterator-0.03-10/blib/arch:/Users/hornenj/.cpan/build/Iterator-0.03-10/blib/lib:/Users/hornenj/.cpan/build/AnyEvent-HTTP-2.23-20/blib/arch:/Users/hornenj/.cpan/build/AnyEvent-HTTP-2.23-20/blib/lib
PERL5OPT =
PERL5_CPANPLUS_IS_RUNNING = 57469
PERL5_CPAN_IS_RUNNING = 57469
PERL5_MINISMOKEBOX = 0.58
PERLBREW_BASHRC_VERSION = 0.76
PERLBREW_HOME = /Users/hornenj/.perlbrew
PERLBREW_LIB =
PERLBREW_MANPATH = /Users/hornenj/perl5/perlbrew/perls/perl-5.12.5/man
PERLBREW_PATH = /Users/hornenj/perl5/perlbrew/bin:/Users/hornenj/perl5/perlbrew/perls/perl-5.12.5/bin
PERLBREW_PERL = perl-5.12.5
PERLBREW_ROOT = /Users/hornenj/perl5/perlbrew
PERLBREW_VERSION = 0.76
PERL_EXTUTILS_AUTOINSTALL = --defaultdeps
PERL_LOCAL_LIB_ROOT =
PERL_MM_USE_DEFAULT = 1
SHELL = /bin/bash
TERM = xterm-256color
TMPDIR = /var/folders/pz/pd7y1qjs6s3cbk170cw50fjc000c61/T/
ac_cv_path_INTLTOOL_PERL = /usr/bin/perl
Perl special variables (and OS-specific diagnostics, for MSWin32):
$^X = /Users/hornenj/perl5/perlbrew/perls/perl-5.12.5/bin/perl
$UID/$EUID = 12481 / 12481
$GID = 14 14 5344 37191 527 37223 241
$EGID = 14 14 5344 37191 527 37223 241
Perl module toolchain versions installed:
Module Have
------------------- --------
CPAN 2.14
CPAN::Meta 2.150005
Cwd 3.47
ExtUtils::CBuilder 0.280224
ExtUtils::Command 7.22
ExtUtils::Install 2.04
ExtUtils::MakeMaker 7.22
ExtUtils::Manifest 1.70
ExtUtils::ParseXS 3.30
File::Spec 3.47
JSON 2.90
JSON::PP 2.27400
Module::Build 0.4214
Module::Signature n/a
Parse::CPAN::Meta 1.4422
Test::Harness 3.36
Test::More 1.302059
YAML 1.18
YAML::Syck 1.29
version 0.9912
--
Summary of my perl5 (revision 5 version 12 subversion 5) configuration:
Platform:
osname=darwin, osvers=12.2.1, archname=darwin-2level
uname='darwin ncbimac2008.ncbi.nlm.nih.gov 12.2.1 darwin kernel version 12.2.1: thu oct 18 12:13:47 pdt 2012; root:xnu-2050.20.9~1release_x86_64 x86_64 '
config_args='-de -Dprefix=/Users/hornenj/perl5/perlbrew/perls/perl-5.12.5'
hint=recommended, useposix=true, d_sigaction=define
useithreads=undef, usemultiplicity=undef
useperlio=define, d_sfio=undef, uselargefiles=define, usesocks=undef
use64bitint=define, use64bitall=define, uselongdouble=undef
usemymalloc=n, bincompat5005=undef
Compiler:
cc='cc', ccflags ='-fno-common -DPERL_DARWIN -no-cpp-precomp -fno-strict-aliasing -pipe -fstack-protector',
optimize='-O3',
cppflags='-no-cpp-precomp -fno-common -DPERL_DARWIN -no-cpp-precomp -fno-strict-aliasing -pipe -fstack-protector'
ccversion='', gccversion='4.2.1 Compatible Apple LLVM 4.2 (clang-425.0.24)', gccosandvers=''
intsize=4, longsize=8, ptrsize=8, doublesize=8, byteorder=12345678
d_longlong=define, longlongsize=8, d_longdbl=define, longdblsize=16
ivtype='long', ivsize=8, nvtype='double', nvsize=8, Off_t='off_t', lseeksize=8
alignbytes=8, prototype=define
Linker and Libraries:
ld='env MACOSX_DEPLOYMENT_TARGET=10.3 cc', ldflags =' -fstack-protector'
libpth=/usr/lib
libs=-ldbm -ldl -lm -lutil -lc
perllibs=-ldl -lm -lutil -lc
libc=, so=dylib, useshrplib=false, libperl=libperl.a
gnulibc_version=''
Dynamic Linking:
dlsrc=dl_dlopen.xs, dlext=bundle, d_dlsymun=undef, ccdlflags=' '
cccdlflags=' ', lddlflags=' -bundle -undefined dynamic_lookup -fstack-protector'
Characteristics of this binary (from libperl):
Compile-time options: PERL_DONT_CREATE_GVSV PERL_MALLOC_WRAP USE_64_BIT_ALL
USE_64_BIT_INT USE_LARGE_FILES USE_PERLIO
USE_PERL_ATOF
Built under darwin
Compiled at Mar 5 2013 11:08:14
%ENV:
PERL5LIB="/Users/hornenj/.cpan/build/FormValidator-Lite-0.39-1/blib/arch:/Users/hornenj/.cpan/build/FormValidator-Lite-0.39-1/blib/lib:/Users/hornenj/.cpan/build/Text-TestBase-0.13-1/blib/arch:/Users/hornenj/.cpan/build/Text-TestBase-0.13-1/blib/lib:/Users/hornenj/.cpan/build/Email-Valid-Loose-0.05-1/blib/arch:/Users/hornenj/.cpan/build/Email-Valid-Loose-0.05-1/blib/lib:/Users/hornenj/.cpan/build/Class-Accessor-Lite-0.08-6/blib/arch:/Users/hornenj/.cpan/build/Class-Accessor-Lite-0.08-6/blib/lib:/Users/hornenj/.cpan/build/Email-MIME-1.937-4/blib/arch:/Users/hornenj/.cpan/build/Email-MIME-1.937-4/blib/lib:/Users/hornenj/.cpan/build/Email-MessageID-1.406-4/blib/arch:/Users/hornenj/.cpan/build/Email-MessageID-1.406-4/blib/lib:/Users/hornenj/.cpan/build/Email-MIME-Encodings-1.315-4/blib/arch:/Users/hornenj/.cpan/build/Email-MIME-Encodings-1.315-4/blib/lib:/Users/hornenj/.cpan/build/Email-MIME-ContentType-1.018-4/blib/arch:/Users/hornenj/.cpan/build/Email-MIME-ContentType-1.018-4/blib/lib:/Users/hornenj/.cpan/build/DateTime-Format-Pg-0.16012-2/blib/arch:/Users/hornenj/.cpan/build/DateTime-Format-Pg-0.16012-2/blib/lib:/Users/hornenj/.cpan/build/DateTime-Format-Builder-0.81-16/blib/arch:/Users/hornenj/.cpan/build/DateTime-Format-Builder-0.81-16/blib/lib:/Users/hornenj/.cpan/build/Class-Factory-Util-1.7-16/blib/arch:/Users/hornenj/.cpan/build/Class-Factory-Util-1.7-16/blib/lib:/Users/hornenj/.cpan/build/DateTime-Format-HTTP-0.42-2/blib/arch:/Users/hornenj/.cpan/build/DateTime-Format-HTTP-0.42-2/blib/lib:/Users/hornenj/.cpan/build/Data-Validator-1.07-2/blib/arch:/Users/hornenj/.cpan/build/Data-Validator-1.07-2/blib/lib:/Users/hornenj/.cpan/build/Mouse-v2.4.5-8/blib/arch:/Users/hornenj/.cpan/build/Mouse-v2.4.5-8/blib/lib:/Users/hornenj/.cpan/build/Module-Build-XSUtil-0.16-8/blib/arch:/Users/hornenj/.cpan/build/Module-Build-XSUtil-0.16-8/blib/lib:/Users/hornenj/.cpan/build/Devel-CheckCompiler-0.06-8/blib/arch:/Users/hornenj/.cpan/build/Devel-CheckCompiler-0.06-8/blib/lib:/Users/hornenj/.cpan/build/Cwd-Guard-0.05-8/blib/arch:/Users/hornenj/.cpan/build/Cwd-Guard-0.05-8/blib/lib:/Users/hornenj/.cpan/build/Data-DPath-0.55-8/blib/arch:/Users/hornenj/.cpan/build/Data-DPath-0.55-8/blib/lib:/Users/hornenj/.cpan/build/Iterator-Util-0.02-8/blib/arch:/Users/hornenj/.cpan/build/Iterator-Util-0.02-8/blib/lib:/Users/hornenj/.cpan/build/Iterator-0.03-10/blib/arch:/Users/hornenj/.cpan/build/Iterator-0.03-10/blib/lib:/Users/hornenj/.cpan/build/AnyEvent-HTTP-2.23-20/blib/arch:/Users/hornenj/.cpan/build/AnyEvent-HTTP-2.23-20/blib/lib"
PERL5OPT=""
PERL5_CPANPLUS_IS_RUNNING="57469"
PERL5_CPAN_IS_RUNNING="57469"
PERL5_MINISMOKEBOX="0.58"
PERLBREW_BASHRC_VERSION="0.76"
PERLBREW_HOME="/Users/hornenj/.perlbrew"
PERLBREW_LIB=""
PERLBREW_MANPATH="/Users/hornenj/perl5/perlbrew/perls/perl-5.12.5/man"
PERLBREW_PATH="/Users/hornenj/perl5/perlbrew/bin:/Users/hornenj/perl5/perlbrew/perls/perl-5.12.5/bin"
PERLBREW_PERL="perl-5.12.5"
PERLBREW_ROOT="/Users/hornenj/perl5/perlbrew"
PERLBREW_VERSION="0.76"
PERL_EXTUTILS_AUTOINSTALL="--defaultdeps"
PERL_LOCAL_LIB_ROOT=""
PERL_MM_USE_DEFAULT="1"
@INC:
/Users/hornenj/.cpan/build/FormValidator-Lite-0.39-1/blib/arch
/Users/hornenj/.cpan/build/FormValidator-Lite-0.39-1/blib/lib
/Users/hornenj/.cpan/build/Text-TestBase-0.13-1/blib/arch
/Users/hornenj/.cpan/build/Text-TestBase-0.13-1/blib/lib
/Users/hornenj/.cpan/build/Email-Valid-Loose-0.05-1/blib/arch
/Users/hornenj/.cpan/build/Email-Valid-Loose-0.05-1/blib/lib
/Users/hornenj/.cpan/build/Class-Accessor-Lite-0.08-6/blib/arch
/Users/hornenj/.cpan/build/Class-Accessor-Lite-0.08-6/blib/lib
/Users/hornenj/.cpan/build/Email-MIME-1.937-4/blib/arch
/Users/hornenj/.cpan/build/Email-MIME-1.937-4/blib/lib
/Users/hornenj/.cpan/build/Email-MessageID-1.406-4/blib/arch
/Users/hornenj/.cpan/build/Email-MessageID-1.406-4/blib/lib
/Users/hornenj/.cpan/build/Email-MIME-Encodings-1.315-4/blib/arch
/Users/hornenj/.cpan/build/Email-MIME-Encodings-1.315-4/blib/lib
/Users/hornenj/.cpan/build/Email-MIME-ContentType-1.018-4/blib/arch
/Users/hornenj/.cpan/build/Email-MIME-ContentType-1.018-4/blib/lib
/Users/hornenj/.cpan/build/DateTime-Format-Pg-0.16012-2/blib/arch
/Users/hornenj/.cpan/build/DateTime-Format-Pg-0.16012-2/blib/lib
/Users/hornenj/.cpan/build/DateTime-Format-Builder-0.81-16/blib/arch
/Users/hornenj/.cpan/build/DateTime-Format-Builder-0.81-16/blib/lib
/Users/hornenj/.cpan/build/Class-Factory-Util-1.7-16/blib/arch
/Users/hornenj/.cpan/build/Class-Factory-Util-1.7-16/blib/lib
/Users/hornenj/.cpan/build/DateTime-Format-HTTP-0.42-2/blib/arch
/Users/hornenj/.cpan/build/DateTime-Format-HTTP-0.42-2/blib/lib
/Users/hornenj/.cpan/build/Data-Validator-1.07-2/blib/arch
/Users/hornenj/.cpan/build/Data-Validator-1.07-2/blib/lib
/Users/hornenj/.cpan/build/Mouse-v2.4.5-8/blib/arch
/Users/hornenj/.cpan/build/Mouse-v2.4.5-8/blib/lib
/Users/hornenj/.cpan/build/Module-Build-XSUtil-0.16-8/blib/arch
/Users/hornenj/.cpan/build/Module-Build-XSUtil-0.16-8/blib/lib
/Users/hornenj/.cpan/build/Devel-CheckCompiler-0.06-8/blib/arch
/Users/hornenj/.cpan/build/Devel-CheckCompiler-0.06-8/blib/lib
/Users/hornenj/.cpan/build/Cwd-Guard-0.05-8/blib/arch
/Users/hornenj/.cpan/build/Cwd-Guard-0.05-8/blib/lib
/Users/hornenj/.cpan/build/Data-DPath-0.55-8/blib/arch
/Users/hornenj/.cpan/build/Data-DPath-0.55-8/blib/lib
/Users/hornenj/.cpan/build/Iterator-Util-0.02-8/blib/arch
/Users/hornenj/.cpan/build/Iterator-Util-0.02-8/blib/lib
/Users/hornenj/.cpan/build/Iterator-0.03-10/blib/arch
/Users/hornenj/.cpan/build/Iterator-0.03-10/blib/lib
/Users/hornenj/.cpan/build/AnyEvent-HTTP-2.23-20/blib/arch
/Users/hornenj/.cpan/build/AnyEvent-HTTP-2.23-20/blib/lib
/Users/hornenj/perl5/perlbrew/perls/perl-5.12.5/lib/site_perl/5.12.5/darwin-2level
/Users/hornenj/perl5/perlbrew/perls/perl-5.12.5/lib/site_perl/5.12.5
/Users/hornenj/perl5/perlbrew/perls/perl-5.12.5/lib/5.12.5/darwin-2level
/Users/hornenj/perl5/perlbrew/perls/perl-5.12.5/lib/5.12.5
.