MooseX-RelClassTypes v0.03 Perl 5 v5.35.6 x86_64-linux-ld

Status
Pass
From
Andreas J. König (ANDK)
Dist
MooseX-RelClassTypes v0.03
Platform
Perl 5 v5.35.6 x86_64-linux-ld
Date
2021-12-12 02:35:57
ID
3ca96108-5af4-11ec-89e0-d545331eeeb8
This distribution has been tested as part of the CPAN Testers
project, supporting the Perl programming language.  See
http://wiki.cpantesters.org/ for more information or email
questions to cpan-testers-discuss@perl.org


--
Dear Tom Gracey,

This is a computer-generated report for MooseX-RelClassTypes-0.03
on perl 5.35.6, created by CPAN-Reporter-1.2018.

Thank you for uploading your work to CPAN.  Congratulations!
All tests were successful.

Sections of this report:

    * Tester comments
    * Program output
    * Prerequisites
    * Environment and other context

------------------------------
TESTER COMMENTS
------------------------------

Additional comments from tester:

this report is from an automated smoke testing program
and was not reviewed by a human for accuracy

------------------------------
PROGRAM OUTPUT
------------------------------

Output from '/usr/bin/make test':

PERL_DL_NONLAZY=1 "/tmp/basesmoker-reloperl-JjB0/bin/perl" "-MExtUtils::Command::MM" "-MTest::Harness" "-e" "undef *Test::Harness::Switches; test_harness(0, 'blib/lib', 'blib/arch')" t/*.t
You are overwriting a accessor (parent_rel_pack) for the parent_rel_pack attribute (defined at t/00_set_isa.t line 23) with a new accessor method for the parent_rel_pack attribute (defined at t/00_set_isa.t line 23) at /home/sand/src/perl/repoperls/installed-perls/host/k93bionic/v5.35.6/ca05/lib/site_perl/5.35.6/x86_64-linux-ld/Moose/Meta/Attribute.pm line 1094.
	Moose::Meta::Attribute::_process_accessors(Moose::Meta::Attribute=HASH(0x562645b6b708), "accessor", "parent_rel_pack", undef) called at /home/sand/src/perl/repoperls/installed-perls/host/k93bionic/v5.35.6/ca05/lib/site_perl/5.35.6/x86_64-linux-ld/Class/MOP/Attribute.pm line 446
	Class::MOP::Attribute::install_accessors(Moose::Meta::Attribute=HASH(0x562645b6b708)) called at /home/sand/src/perl/repoperls/installed-perls/host/k93bionic/v5.35.6/ca05/lib/site_perl/5.35.6/x86_64-linux-ld/Moose/Meta/Attribute.pm line 1014
	Moose::Meta::Attribute::install_accessors(Moose::Meta::Attribute=HASH(0x562645b6b708)) called at /tmp/loop_over_bdir-5417-nPa2mi/MooseX-RelClassTypes-0.03-0/blib/lib/MooseX/RelClassTypes.pm line 76
	Class::MOP::Class:::before("Child") called at /home/sand/src/perl/repoperls/installed-perls/host/k93bionic/v5.35.6/ca05/lib/site_perl/5.35.6/x86_64-linux-ld/Class/MOP/Method/Wrapped.pm line 43
	Child::_wrapped_BUILDARGS("Child") called at /home/sand/src/perl/repoperls/installed-perls/host/k93bionic/v5.35.6/ca05/lib/site_perl/5.35.6/x86_64-linux-ld/Class/MOP/Method/Wrapped.pm line 97
	Child::BUILDARGS("Child") called at /home/sand/src/perl/repoperls/installed-perls/host/k93bionic/v5.35.6/ca05/lib/site_perl/5.35.6/x86_64-linux-ld/Moose/Object.pm line 22
	Moose::Object::new("Child") called at t/00_set_isa.t line 99
You are overwriting a accessor (child_rel_pack) for the child_rel_pack attribute (defined at t/00_set_isa.t line 45) with a new accessor method for the child_rel_pack attribute (defined at t/00_set_isa.t line 45) at /home/sand/src/perl/repoperls/installed-perls/host/k93bionic/v5.35.6/ca05/lib/site_perl/5.35.6/x86_64-linux-ld/Moose/Meta/Attribute.pm line 1094.
	Moose::Meta::Attribute::_process_accessors(Moose::Meta::Attribute=HASH(0x562645b77fd0), "accessor", "child_rel_pack", undef) called at /home/sand/src/perl/repoperls/installed-perls/host/k93bionic/v5.35.6/ca05/lib/site_perl/5.35.6/x86_64-linux-ld/Class/MOP/Attribute.pm line 446
	Class::MOP::Attribute::install_accessors(Moose::Meta::Attribute=HASH(0x562645b77fd0)) called at /home/sand/src/perl/repoperls/installed-perls/host/k93bionic/v5.35.6/ca05/lib/site_perl/5.35.6/x86_64-linux-ld/Moose/Meta/Attribute.pm line 1014
	Moose::Meta::Attribute::install_accessors(Moose::Meta::Attribute=HASH(0x562645b77fd0)) called at /tmp/loop_over_bdir-5417-nPa2mi/MooseX-RelClassTypes-0.03-0/blib/lib/MooseX/RelClassTypes.pm line 76
	Class::MOP::Class:::before("Child") called at /home/sand/src/perl/repoperls/installed-perls/host/k93bionic/v5.35.6/ca05/lib/site_perl/5.35.6/x86_64-linux-ld/Class/MOP/Method/Wrapped.pm line 43
	Child::_wrapped_BUILDARGS("Child") called at /home/sand/src/perl/repoperls/installed-perls/host/k93bionic/v5.35.6/ca05/lib/site_perl/5.35.6/x86_64-linux-ld/Class/MOP/Method/Wrapped.pm line 97
	Child::BUILDARGS("Child") called at /home/sand/src/perl/repoperls/installed-perls/host/k93bionic/v5.35.6/ca05/lib/site_perl/5.35.6/x86_64-linux-ld/Moose/Object.pm line 22
	Moose::Object::new("Child") called at t/00_set_isa.t line 99
You are overwriting a accessor (parent_rel_pack) for the parent_rel_pack attribute (defined at t/00_set_isa.t line 23) with a new accessor method for the parent_rel_pack attribute (defined at t/00_set_isa.t line 23) at /home/sand/src/perl/repoperls/installed-perls/host/k93bionic/v5.35.6/ca05/lib/site_perl/5.35.6/x86_64-linux-ld/Moose/Meta/Attribute.pm line 1094.
	Moose::Meta::Attribute::_process_accessors(Moose::Meta::Attribute=HASH(0x562645b6b708), "accessor", "parent_rel_pack", undef) called at /home/sand/src/perl/repoperls/installed-perls/host/k93bionic/v5.35.6/ca05/lib/site_perl/5.35.6/x86_64-linux-ld/Class/MOP/Attribute.pm line 446
	Class::MOP::Attribute::install_accessors(Moose::Meta::Attribute=HASH(0x562645b6b708)) called at /home/sand/src/perl/repoperls/installed-perls/host/k93bionic/v5.35.6/ca05/lib/site_perl/5.35.6/x86_64-linux-ld/Moose/Meta/Attribute.pm line 1014
	Moose::Meta::Attribute::install_accessors(Moose::Meta::Attribute=HASH(0x562645b6b708)) called at /tmp/loop_over_bdir-5417-nPa2mi/MooseX-RelClassTypes-0.03-0/blib/lib/MooseX/RelClassTypes.pm line 76
	Class::MOP::Class:::before("Child") called at /home/sand/src/perl/repoperls/installed-perls/host/k93bionic/v5.35.6/ca05/lib/site_perl/5.35.6/x86_64-linux-ld/Class/MOP/Method/Wrapped.pm line 43
	Parent::_wrapped_BUILDARGS("Child") called at /home/sand/src/perl/repoperls/installed-perls/host/k93bionic/v5.35.6/ca05/lib/site_perl/5.35.6/x86_64-linux-ld/Class/MOP/Method/Wrapped.pm line 97
	Parent::BUILDARGS("Child") called at /home/sand/src/perl/repoperls/installed-perls/host/k93bionic/v5.35.6/ca05/lib/site_perl/5.35.6/x86_64-linux-ld/Class/MOP/Method/Wrapped.pm line 44
	Child::_wrapped_BUILDARGS("Child") called at /home/sand/src/perl/repoperls/installed-perls/host/k93bionic/v5.35.6/ca05/lib/site_perl/5.35.6/x86_64-linux-ld/Class/MOP/Method/Wrapped.pm line 97
	Child::BUILDARGS("Child") called at /home/sand/src/perl/repoperls/installed-perls/host/k93bionic/v5.35.6/ca05/lib/site_perl/5.35.6/x86_64-linux-ld/Moose/Object.pm line 22
	Moose::Object::new("Child") called at t/00_set_isa.t line 99
You are overwriting a accessor (child_rel_pack) for the child_rel_pack attribute (defined at t/00_set_isa.t line 45) with a new accessor method for the child_rel_pack attribute (defined at t/00_set_isa.t line 45) at /home/sand/src/perl/repoperls/installed-perls/host/k93bionic/v5.35.6/ca05/lib/site_perl/5.35.6/x86_64-linux-ld/Moose/Meta/Attribute.pm line 1094.
	Moose::Meta::Attribute::_process_accessors(Moose::Meta::Attribute=HASH(0x562645b77fd0), "accessor", "child_rel_pack", undef) called at /home/sand/src/perl/repoperls/installed-perls/host/k93bionic/v5.35.6/ca05/lib/site_perl/5.35.6/x86_64-linux-ld/Class/MOP/Attribute.pm line 446
	Class::MOP::Attribute::install_accessors(Moose::Meta::Attribute=HASH(0x562645b77fd0)) called at /home/sand/src/perl/repoperls/installed-perls/host/k93bionic/v5.35.6/ca05/lib/site_perl/5.35.6/x86_64-linux-ld/Moose/Meta/Attribute.pm line 1014
	Moose::Meta::Attribute::install_accessors(Moose::Meta::Attribute=HASH(0x562645b77fd0)) called at /tmp/loop_over_bdir-5417-nPa2mi/MooseX-RelClassTypes-0.03-0/blib/lib/MooseX/RelClassTypes.pm line 76
	Class::MOP::Class:::before("Child") called at /home/sand/src/perl/repoperls/installed-perls/host/k93bionic/v5.35.6/ca05/lib/site_perl/5.35.6/x86_64-linux-ld/Class/MOP/Method/Wrapped.pm line 43
	Parent::_wrapped_BUILDARGS("Child") called at /home/sand/src/perl/repoperls/installed-perls/host/k93bionic/v5.35.6/ca05/lib/site_perl/5.35.6/x86_64-linux-ld/Class/MOP/Method/Wrapped.pm line 97
	Parent::BUILDARGS("Child") called at /home/sand/src/perl/repoperls/installed-perls/host/k93bionic/v5.35.6/ca05/lib/site_perl/5.35.6/x86_64-linux-ld/Class/MOP/Method/Wrapped.pm line 44
	Child::_wrapped_BUILDARGS("Child") called at /home/sand/src/perl/repoperls/installed-perls/host/k93bionic/v5.35.6/ca05/lib/site_perl/5.35.6/x86_64-linux-ld/Class/MOP/Method/Wrapped.pm line 97
	Child::BUILDARGS("Child") called at /home/sand/src/perl/repoperls/installed-perls/host/k93bionic/v5.35.6/ca05/lib/site_perl/5.35.6/x86_64-linux-ld/Moose/Object.pm line 22
	Moose::Object::new("Child") called at t/00_set_isa.t line 99
t/00_set_isa.t ....... ok
You are overwriting a reader (rel_pack) for the rel_pack attribute (defined at t/01_auto_default.t line 20) with a new reader method for the rel_pack attribute (defined at t/01_auto_default.t line 20) at /home/sand/src/perl/repoperls/installed-perls/host/k93bionic/v5.35.6/ca05/lib/site_perl/5.35.6/x86_64-linux-ld/Moose/Meta/Attribute.pm line 1094.
	Moose::Meta::Attribute::_process_accessors(Moose::Meta::Attribute=HASH(0x55f9d2c12df0), "reader", "rel_pack", undef) called at /home/sand/src/perl/repoperls/installed-perls/host/k93bionic/v5.35.6/ca05/lib/site_perl/5.35.6/x86_64-linux-ld/Class/MOP/Attribute.pm line 450
	Class::MOP::Attribute::install_accessors(Moose::Meta::Attribute=HASH(0x55f9d2c12df0)) called at /home/sand/src/perl/repoperls/installed-perls/host/k93bionic/v5.35.6/ca05/lib/site_perl/5.35.6/x86_64-linux-ld/Moose/Meta/Attribute.pm line 1014
	Moose::Meta::Attribute::install_accessors(Moose::Meta::Attribute=HASH(0x55f9d2c12df0)) called at /tmp/loop_over_bdir-5417-nPa2mi/MooseX-RelClassTypes-0.03-0/blib/lib/MooseX/RelClassTypes.pm line 76
	Class::MOP::Class:::before("TestAD::NoAuto_NoDefault_WithBuilder") called at /home/sand/src/perl/repoperls/installed-perls/host/k93bionic/v5.35.6/ca05/lib/site_perl/5.35.6/x86_64-linux-ld/Class/MOP/Method/Wrapped.pm line 43
	TestAD::NoAuto_NoDefault_WithBuilder::_wrapped_BUILDARGS("TestAD::NoAuto_NoDefault_WithBuilder") called at /home/sand/src/perl/repoperls/installed-perls/host/k93bionic/v5.35.6/ca05/lib/site_perl/5.35.6/x86_64-linux-ld/Class/MOP/Method/Wrapped.pm line 97
	TestAD::NoAuto_NoDefault_WithBuilder::BUILDARGS("TestAD::NoAuto_NoDefault_WithBuilder") called at /home/sand/src/perl/repoperls/installed-perls/host/k93bionic/v5.35.6/ca05/lib/site_perl/5.35.6/x86_64-linux-ld/Moose/Object.pm line 22
	Moose::Object::new("TestAD::NoAuto_NoDefault_WithBuilder") called at t/01_auto_default.t line 143
You are overwriting a reader (rel_pack) for the rel_pack attribute (defined at t/01_auto_default.t line 45) with a new reader method for the rel_pack attribute (defined at t/01_auto_default.t line 45) at /home/sand/src/perl/repoperls/installed-perls/host/k93bionic/v5.35.6/ca05/lib/site_perl/5.35.6/x86_64-linux-ld/Moose/Meta/Attribute.pm line 1094.
	Moose::Meta::Attribute::_process_accessors(Moose::Meta::Attribute=HASH(0x55f9d2c243d8), "reader", "rel_pack", undef) called at /home/sand/src/perl/repoperls/installed-perls/host/k93bionic/v5.35.6/ca05/lib/site_perl/5.35.6/x86_64-linux-ld/Class/MOP/Attribute.pm line 450
	Class::MOP::Attribute::install_accessors(Moose::Meta::Attribute=HASH(0x55f9d2c243d8)) called at /home/sand/src/perl/repoperls/installed-perls/host/k93bionic/v5.35.6/ca05/lib/site_perl/5.35.6/x86_64-linux-ld/Moose/Meta/Attribute.pm line 1014
	Moose::Meta::Attribute::install_accessors(Moose::Meta::Attribute=HASH(0x55f9d2c243d8)) called at /tmp/loop_over_bdir-5417-nPa2mi/MooseX-RelClassTypes-0.03-0/blib/lib/MooseX/RelClassTypes.pm line 76
	Class::MOP::Class:::before("TestAD::WithAuto_NoDefault_NoBuilder") called at /home/sand/src/perl/repoperls/installed-perls/host/k93bionic/v5.35.6/ca05/lib/site_perl/5.35.6/x86_64-linux-ld/Class/MOP/Method/Wrapped.pm line 43
	TestAD::WithAuto_NoDefault_NoBuilder::_wrapped_BUILDARGS("TestAD::WithAuto_NoDefault_NoBuilder") called at /home/sand/src/perl/repoperls/installed-perls/host/k93bionic/v5.35.6/ca05/lib/site_perl/5.35.6/x86_64-linux-ld/Class/MOP/Method/Wrapped.pm line 97
	TestAD::WithAuto_NoDefault_NoBuilder::BUILDARGS("TestAD::WithAuto_NoDefault_NoBuilder") called at /home/sand/src/perl/repoperls/installed-perls/host/k93bionic/v5.35.6/ca05/lib/site_perl/5.35.6/x86_64-linux-ld/Moose/Object.pm line 22
	Moose::Object::new("TestAD::WithAuto_NoDefault_NoBuilder") called at t/01_auto_default.t line 143
You are overwriting a reader (rel_pack) for the rel_pack attribute (defined at t/01_auto_default.t line 54) with a new reader method for the rel_pack attribute (defined at t/01_auto_default.t line 54) at /home/sand/src/perl/repoperls/installed-perls/host/k93bionic/v5.35.6/ca05/lib/site_perl/5.35.6/x86_64-linux-ld/Moose/Meta/Attribute.pm line 1094.
	Moose::Meta::Attribute::_process_accessors(Moose::Meta::Attribute=HASH(0x55f9d2c2da00), "reader", "rel_pack", undef) called at /home/sand/src/perl/repoperls/installed-perls/host/k93bionic/v5.35.6/ca05/lib/site_perl/5.35.6/x86_64-linux-ld/Class/MOP/Attribute.pm line 450
	Class::MOP::Attribute::install_accessors(Moose::Meta::Attribute=HASH(0x55f9d2c2da00)) called at /home/sand/src/perl/repoperls/installed-perls/host/k93bionic/v5.35.6/ca05/lib/site_perl/5.35.6/x86_64-linux-ld/Moose/Meta/Attribute.pm line 1014
	Moose::Meta::Attribute::install_accessors(Moose::Meta::Attribute=HASH(0x55f9d2c2da00)) called at /tmp/loop_over_bdir-5417-nPa2mi/MooseX-RelClassTypes-0.03-0/blib/lib/MooseX/RelClassTypes.pm line 76
	Class::MOP::Class:::before("TestAD::WithAuto_NoDefault_WithBuilder") called at /home/sand/src/perl/repoperls/installed-perls/host/k93bionic/v5.35.6/ca05/lib/site_perl/5.35.6/x86_64-linux-ld/Class/MOP/Method/Wrapped.pm line 43
	TestAD::WithAuto_NoDefault_WithBuilder::_wrapped_BUILDARGS("TestAD::WithAuto_NoDefault_WithBuilder") called at /home/sand/src/perl/repoperls/installed-perls/host/k93bionic/v5.35.6/ca05/lib/site_perl/5.35.6/x86_64-linux-ld/Class/MOP/Method/Wrapped.pm line 97
	TestAD::WithAuto_NoDefault_WithBuilder::BUILDARGS("TestAD::WithAuto_NoDefault_WithBuilder") called at /home/sand/src/perl/repoperls/installed-perls/host/k93bionic/v5.35.6/ca05/lib/site_perl/5.35.6/x86_64-linux-ld/Moose/Object.pm line 22
	Moose::Object::new("TestAD::WithAuto_NoDefault_WithBuilder") called at t/01_auto_default.t line 143
You are overwriting a reader (rel_pack) for the rel_pack attribute (defined at t/01_auto_default.t line 71) with a new reader method for the rel_pack attribute (defined at t/01_auto_default.t line 71) at /home/sand/src/perl/repoperls/installed-perls/host/k93bionic/v5.35.6/ca05/lib/site_perl/5.35.6/x86_64-linux-ld/Moose/Meta/Attribute.pm line 1094.
	Moose::Meta::Attribute::_process_accessors(Moose::Meta::Attribute=HASH(0x55f9d2c34e20), "reader", "rel_pack", undef) called at /home/sand/src/perl/repoperls/installed-perls/host/k93bionic/v5.35.6/ca05/lib/site_perl/5.35.6/x86_64-linux-ld/Class/MOP/Attribute.pm line 450
	Class::MOP::Attribute::install_accessors(Moose::Meta::Attribute=HASH(0x55f9d2c34e20)) called at /home/sand/src/perl/repoperls/installed-perls/host/k93bionic/v5.35.6/ca05/lib/site_perl/5.35.6/x86_64-linux-ld/Moose/Meta/Attribute.pm line 1014
	Moose::Meta::Attribute::install_accessors(Moose::Meta::Attribute=HASH(0x55f9d2c34e20)) called at /tmp/loop_over_bdir-5417-nPa2mi/MooseX-RelClassTypes-0.03-0/blib/lib/MooseX/RelClassTypes.pm line 76
	Class::MOP::Class:::before("TestAD::WithAuto_WithDefault_NoBuilder") called at /home/sand/src/perl/repoperls/installed-perls/host/k93bionic/v5.35.6/ca05/lib/site_perl/5.35.6/x86_64-linux-ld/Class/MOP/Method/Wrapped.pm line 43
	TestAD::WithAuto_WithDefault_NoBuilder::_wrapped_BUILDARGS("TestAD::WithAuto_WithDefault_NoBuilder") called at /home/sand/src/perl/repoperls/installed-perls/host/k93bionic/v5.35.6/ca05/lib/site_perl/5.35.6/x86_64-linux-ld/Class/MOP/Method/Wrapped.pm line 97
	TestAD::WithAuto_WithDefault_NoBuilder::BUILDARGS("TestAD::WithAuto_WithDefault_NoBuilder") called at /home/sand/src/perl/repoperls/installed-perls/host/k93bionic/v5.35.6/ca05/lib/site_perl/5.35.6/x86_64-linux-ld/Moose/Object.pm line 22
	Moose::Object::new("TestAD::WithAuto_WithDefault_NoBuilder") called at t/01_auto_default.t line 143
You are overwriting a reader (rel_pack) for the rel_pack attribute (defined at t/01_auto_default.t line 37) with a new reader method for the rel_pack attribute (defined at t/01_auto_default.t line 37) at /home/sand/src/perl/repoperls/installed-perls/host/k93bionic/v5.35.6/ca05/lib/site_perl/5.35.6/x86_64-linux-ld/Moose/Meta/Attribute.pm line 1094.
	Moose::Meta::Attribute::_process_accessors(Moose::Meta::Attribute=HASH(0x55f9d2c1c0b0), "reader", "rel_pack", undef) called at /home/sand/src/perl/repoperls/installed-perls/host/k93bionic/v5.35.6/ca05/lib/site_perl/5.35.6/x86_64-linux-ld/Class/MOP/Attribute.pm line 450
	Class::MOP::Attribute::install_accessors(Moose::Meta::Attribute=HASH(0x55f9d2c1c0b0)) called at /home/sand/src/perl/repoperls/installed-perls/host/k93bionic/v5.35.6/ca05/lib/site_perl/5.35.6/x86_64-linux-ld/Moose/Meta/Attribute.pm line 1014
	Moose::Meta::Attribute::install_accessors(Moose::Meta::Attribute=HASH(0x55f9d2c1c0b0)) called at /tmp/loop_over_bdir-5417-nPa2mi/MooseX-RelClassTypes-0.03-0/blib/lib/MooseX/RelClassTypes.pm line 76
	Class::MOP::Class:::before("TestAD::NoAuto_WithDefault_NoBuilder") called at /home/sand/src/perl/repoperls/installed-perls/host/k93bionic/v5.35.6/ca05/lib/site_perl/5.35.6/x86_64-linux-ld/Class/MOP/Method/Wrapped.pm line 43
	TestAD::NoAuto_WithDefault_NoBuilder::_wrapped_BUILDARGS("TestAD::NoAuto_WithDefault_NoBuilder") called at /home/sand/src/perl/repoperls/installed-perls/host/k93bionic/v5.35.6/ca05/lib/site_perl/5.35.6/x86_64-linux-ld/Class/MOP/Method/Wrapped.pm line 97
	TestAD::NoAuto_WithDefault_NoBuilder::BUILDARGS("TestAD::NoAuto_WithDefault_NoBuilder") called at /home/sand/src/perl/repoperls/installed-perls/host/k93bionic/v5.35.6/ca05/lib/site_perl/5.35.6/x86_64-linux-ld/Moose/Object.pm line 22
	Moose::Object::new("TestAD::NoAuto_WithDefault_NoBuilder") called at t/01_auto_default.t line 143
You are overwriting a reader (rel_pack) for the rel_pack attribute (defined at t/01_auto_default.t line 11) with a new reader method for the rel_pack attribute (defined at t/01_auto_default.t line 11) at /home/sand/src/perl/repoperls/installed-perls/host/k93bionic/v5.35.6/ca05/lib/site_perl/5.35.6/x86_64-linux-ld/Moose/Meta/Attribute.pm line 1094.
	Moose::Meta::Attribute::_process_accessors(Moose::Meta::Attribute=HASH(0x55f9d2c077f8), "reader", "rel_pack", undef) called at /home/sand/src/perl/repoperls/installed-perls/host/k93bionic/v5.35.6/ca05/lib/site_perl/5.35.6/x86_64-linux-ld/Class/MOP/Attribute.pm line 450
	Class::MOP::Attribute::install_accessors(Moose::Meta::Attribute=HASH(0x55f9d2c077f8)) called at /home/sand/src/perl/repoperls/installed-perls/host/k93bionic/v5.35.6/ca05/lib/site_perl/5.35.6/x86_64-linux-ld/Moose/Meta/Attribute.pm line 1014
	Moose::Meta::Attribute::install_accessors(Moose::Meta::Attribute=HASH(0x55f9d2c077f8)) called at /tmp/loop_over_bdir-5417-nPa2mi/MooseX-RelClassTypes-0.03-0/blib/lib/MooseX/RelClassTypes.pm line 76
	Class::MOP::Class:::before("TestAD::NoAuto_NoDefault_NoBuilder") called at /home/sand/src/perl/repoperls/installed-perls/host/k93bionic/v5.35.6/ca05/lib/site_perl/5.35.6/x86_64-linux-ld/Class/MOP/Method/Wrapped.pm line 43
	TestAD::NoAuto_NoDefault_NoBuilder::_wrapped_BUILDARGS("TestAD::NoAuto_NoDefault_NoBuilder") called at /home/sand/src/perl/repoperls/installed-perls/host/k93bionic/v5.35.6/ca05/lib/site_perl/5.35.6/x86_64-linux-ld/Class/MOP/Method/Wrapped.pm line 97
	TestAD::NoAuto_NoDefault_NoBuilder::BUILDARGS("TestAD::NoAuto_NoDefault_NoBuilder") called at /home/sand/src/perl/repoperls/installed-perls/host/k93bionic/v5.35.6/ca05/lib/site_perl/5.35.6/x86_64-linux-ld/Moose/Object.pm line 22
	Moose::Object::new("TestAD::NoAuto_NoDefault_NoBuilder") called at t/01_auto_default.t line 143
t/01_auto_default.t .. ok
You are overwriting a reader (alt_pack) for the alt_pack attribute (defined at t/02_parser.t line 24) with a new reader method for the alt_pack attribute (defined at t/02_parser.t line 24) at /home/sand/src/perl/repoperls/installed-perls/host/k93bionic/v5.35.6/ca05/lib/site_perl/5.35.6/x86_64-linux-ld/Moose/Meta/Attribute.pm line 1094.
	Moose::Meta::Attribute::_process_accessors(Moose::Meta::Attribute=HASH(0x5652b3ad97e0), "reader", "alt_pack", undef) called at /home/sand/src/perl/repoperls/installed-perls/host/k93bionic/v5.35.6/ca05/lib/site_perl/5.35.6/x86_64-linux-ld/Class/MOP/Attribute.pm line 450
	Class::MOP::Attribute::install_accessors(Moose::Meta::Attribute=HASH(0x5652b3ad97e0)) called at /home/sand/src/perl/repoperls/installed-perls/host/k93bionic/v5.35.6/ca05/lib/site_perl/5.35.6/x86_64-linux-ld/Moose/Meta/Attribute.pm line 1014
	Moose::Meta::Attribute::install_accessors(Moose::Meta::Attribute=HASH(0x5652b3ad97e0)) called at /tmp/loop_over_bdir-5417-nPa2mi/MooseX-RelClassTypes-0.03-0/blib/lib/MooseX/RelClassTypes.pm line 76
	Class::MOP::Class:::before("TestParser::AngleBK") called at /home/sand/src/perl/repoperls/installed-perls/host/k93bionic/v5.35.6/ca05/lib/site_perl/5.35.6/x86_64-linux-ld/Class/MOP/Method/Wrapped.pm line 43
	TestParser::AngleBK::_wrapped_BUILDARGS("TestParser::AngleBK") called at /home/sand/src/perl/repoperls/installed-perls/host/k93bionic/v5.35.6/ca05/lib/site_perl/5.35.6/x86_64-linux-ld/Class/MOP/Method/Wrapped.pm line 97
	TestParser::AngleBK::BUILDARGS("TestParser::AngleBK") called at /home/sand/src/perl/repoperls/installed-perls/host/k93bionic/v5.35.6/ca05/lib/site_perl/5.35.6/x86_64-linux-ld/Moose/Object.pm line 22
	Moose::Object::new("TestParser::AngleBK") called at t/02_parser.t line 87
You are overwriting a reader (rel_pack) for the rel_pack attribute (defined at t/02_parser.t line 19) with a new reader method for the rel_pack attribute (defined at t/02_parser.t line 19) at /home/sand/src/perl/repoperls/installed-perls/host/k93bionic/v5.35.6/ca05/lib/site_perl/5.35.6/x86_64-linux-ld/Moose/Meta/Attribute.pm line 1094.
	Moose::Meta::Attribute::_process_accessors(Moose::Meta::Attribute=HASH(0x5652b3ad6cf8), "reader", "rel_pack", undef) called at /home/sand/src/perl/repoperls/installed-perls/host/k93bionic/v5.35.6/ca05/lib/site_perl/5.35.6/x86_64-linux-ld/Class/MOP/Attribute.pm line 450
	Class::MOP::Attribute::install_accessors(Moose::Meta::Attribute=HASH(0x5652b3ad6cf8)) called at /home/sand/src/perl/repoperls/installed-perls/host/k93bionic/v5.35.6/ca05/lib/site_perl/5.35.6/x86_64-linux-ld/Moose/Meta/Attribute.pm line 1014
	Moose::Meta::Attribute::install_accessors(Moose::Meta::Attribute=HASH(0x5652b3ad6cf8)) called at /tmp/loop_over_bdir-5417-nPa2mi/MooseX-RelClassTypes-0.03-0/blib/lib/MooseX/RelClassTypes.pm line 76
	Class::MOP::Class:::before("TestParser::AngleBK") called at /home/sand/src/perl/repoperls/installed-perls/host/k93bionic/v5.35.6/ca05/lib/site_perl/5.35.6/x86_64-linux-ld/Class/MOP/Method/Wrapped.pm line 43
	TestParser::AngleBK::_wrapped_BUILDARGS("TestParser::AngleBK") called at /home/sand/src/perl/repoperls/installed-perls/host/k93bionic/v5.35.6/ca05/lib/site_perl/5.35.6/x86_64-linux-ld/Class/MOP/Method/Wrapped.pm line 97
	TestParser::AngleBK::BUILDARGS("TestParser::AngleBK") called at /home/sand/src/perl/repoperls/installed-perls/host/k93bionic/v5.35.6/ca05/lib/site_perl/5.35.6/x86_64-linux-ld/Moose/Object.pm line 22
	Moose::Object::new("TestParser::AngleBK") called at t/02_parser.t line 87
You are overwriting a reader (alt_pack) for the alt_pack attribute (defined at t/02_parser.t line 47) with a new reader method for the alt_pack attribute (defined at t/02_parser.t line 47) at /home/sand/src/perl/repoperls/installed-perls/host/k93bionic/v5.35.6/ca05/lib/site_perl/5.35.6/x86_64-linux-ld/Moose/Meta/Attribute.pm line 1094.
	Moose::Meta::Attribute::_process_accessors(Moose::Meta::Attribute=HASH(0x5652b3ae8838), "reader", "alt_pack", undef) called at /home/sand/src/perl/repoperls/installed-perls/host/k93bionic/v5.35.6/ca05/lib/site_perl/5.35.6/x86_64-linux-ld/Class/MOP/Attribute.pm line 450
	Class::MOP::Attribute::install_accessors(Moose::Meta::Attribute=HASH(0x5652b3ae8838)) called at /home/sand/src/perl/repoperls/installed-perls/host/k93bionic/v5.35.6/ca05/lib/site_perl/5.35.6/x86_64-linux-ld/Moose/Meta/Attribute.pm line 1014
	Moose::Meta::Attribute::install_accessors(Moose::Meta::Attribute=HASH(0x5652b3ae8838)) called at /tmp/loop_over_bdir-5417-nPa2mi/MooseX-RelClassTypes-0.03-0/blib/lib/MooseX/RelClassTypes.pm line 76
	Class::MOP::Class:::before("TestParser::RoundBK") called at /home/sand/src/perl/repoperls/installed-perls/host/k93bionic/v5.35.6/ca05/lib/site_perl/5.35.6/x86_64-linux-ld/Class/MOP/Method/Wrapped.pm line 43
	TestParser::RoundBK::_wrapped_BUILDARGS("TestParser::RoundBK") called at /home/sand/src/perl/repoperls/installed-perls/host/k93bionic/v5.35.6/ca05/lib/site_perl/5.35.6/x86_64-linux-ld/Class/MOP/Method/Wrapped.pm line 97
	TestParser::RoundBK::BUILDARGS("TestParser::RoundBK") called at /home/sand/src/perl/repoperls/installed-perls/host/k93bionic/v5.35.6/ca05/lib/site_perl/5.35.6/x86_64-linux-ld/Moose/Object.pm line 22
	Moose::Object::new("TestParser::RoundBK") called at t/02_parser.t line 87
You are overwriting a reader (rel_pack) for the rel_pack attribute (defined at t/02_parser.t line 42) with a new reader method for the rel_pack attribute (defined at t/02_parser.t line 42) at /home/sand/src/perl/repoperls/installed-perls/host/k93bionic/v5.35.6/ca05/lib/site_perl/5.35.6/x86_64-linux-ld/Moose/Meta/Attribute.pm line 1094.
	Moose::Meta::Attribute::_process_accessors(Moose::Meta::Attribute=HASH(0x5652b3ae85c8), "reader", "rel_pack", undef) called at /home/sand/src/perl/repoperls/installed-perls/host/k93bionic/v5.35.6/ca05/lib/site_perl/5.35.6/x86_64-linux-ld/Class/MOP/Attribute.pm line 450
	Class::MOP::Attribute::install_accessors(Moose::Meta::Attribute=HASH(0x5652b3ae85c8)) called at /home/sand/src/perl/repoperls/installed-perls/host/k93bionic/v5.35.6/ca05/lib/site_perl/5.35.6/x86_64-linux-ld/Moose/Meta/Attribute.pm line 1014
	Moose::Meta::Attribute::install_accessors(Moose::Meta::Attribute=HASH(0x5652b3ae85c8)) called at /tmp/loop_over_bdir-5417-nPa2mi/MooseX-RelClassTypes-0.03-0/blib/lib/MooseX/RelClassTypes.pm line 76
	Class::MOP::Class:::before("TestParser::RoundBK") called at /home/sand/src/perl/repoperls/installed-perls/host/k93bionic/v5.35.6/ca05/lib/site_perl/5.35.6/x86_64-linux-ld/Class/MOP/Method/Wrapped.pm line 43
	TestParser::RoundBK::_wrapped_BUILDARGS("TestParser::RoundBK") called at /home/sand/src/perl/repoperls/installed-perls/host/k93bionic/v5.35.6/ca05/lib/site_perl/5.35.6/x86_64-linux-ld/Class/MOP/Method/Wrapped.pm line 97
	TestParser::RoundBK::BUILDARGS("TestParser::RoundBK") called at /home/sand/src/perl/repoperls/installed-perls/host/k93bionic/v5.35.6/ca05/lib/site_perl/5.35.6/x86_64-linux-ld/Moose/Object.pm line 22
	Moose::Object::new("TestParser::RoundBK") called at t/02_parser.t line 87
t/02_parser.t ........ ok
You are overwriting a accessor (parent_rel_pack) for the parent_rel_pack attribute (defined at t/03_lazy.t line 22) with a new accessor method for the parent_rel_pack attribute (defined at t/03_lazy.t line 22) at /home/sand/src/perl/repoperls/installed-perls/host/k93bionic/v5.35.6/ca05/lib/site_perl/5.35.6/x86_64-linux-ld/Moose/Meta/Attribute.pm line 1094.
	Moose::Meta::Attribute::_process_accessors(Moose::Meta::Attribute=HASH(0x55eddc0ed698), "accessor", "parent_rel_pack", undef) called at /home/sand/src/perl/repoperls/installed-perls/host/k93bionic/v5.35.6/ca05/lib/site_perl/5.35.6/x86_64-linux-ld/Class/MOP/Attribute.pm line 446
	Class::MOP::Attribute::install_accessors(Moose::Meta::Attribute=HASH(0x55eddc0ed698)) called at /home/sand/src/perl/repoperls/installed-perls/host/k93bionic/v5.35.6/ca05/lib/site_perl/5.35.6/x86_64-linux-ld/Moose/Meta/Attribute.pm line 1014
	Moose::Meta::Attribute::install_accessors(Moose::Meta::Attribute=HASH(0x55eddc0ed698)) called at /tmp/loop_over_bdir-5417-nPa2mi/MooseX-RelClassTypes-0.03-0/blib/lib/MooseX/RelClassTypes.pm line 76
	Class::MOP::Class:::before("LazyParent::Child") called at /home/sand/src/perl/repoperls/installed-perls/host/k93bionic/v5.35.6/ca05/lib/site_perl/5.35.6/x86_64-linux-ld/Class/MOP/Method/Wrapped.pm line 43
	LazyParent::Child::_wrapped_BUILDARGS("LazyParent::Child") called at /home/sand/src/perl/repoperls/installed-perls/host/k93bionic/v5.35.6/ca05/lib/site_perl/5.35.6/x86_64-linux-ld/Class/MOP/Method/Wrapped.pm line 97
	LazyParent::Child::BUILDARGS("LazyParent::Child") called at /home/sand/src/perl/repoperls/installed-perls/host/k93bionic/v5.35.6/ca05/lib/site_perl/5.35.6/x86_64-linux-ld/Moose/Object.pm line 22
	Moose::Object::new("LazyParent::Child") called at t/03_lazy.t line 248
You are overwriting a accessor (child_rel_pack) for the child_rel_pack attribute (defined at t/03_lazy.t line 32) with a new accessor method for the child_rel_pack attribute (defined at t/03_lazy.t line 32) at /home/sand/src/perl/repoperls/installed-perls/host/k93bionic/v5.35.6/ca05/lib/site_perl/5.35.6/x86_64-linux-ld/Moose/Meta/Attribute.pm line 1094.
	Moose::Meta::Attribute::_process_accessors(Moose::Meta::Attribute=HASH(0x55eddc0fd3c8), "accessor", "child_rel_pack", undef) called at /home/sand/src/perl/repoperls/installed-perls/host/k93bionic/v5.35.6/ca05/lib/site_perl/5.35.6/x86_64-linux-ld/Class/MOP/Attribute.pm line 446
	Class::MOP::Attribute::install_accessors(Moose::Meta::Attribute=HASH(0x55eddc0fd3c8)) called at /home/sand/src/perl/repoperls/installed-perls/host/k93bionic/v5.35.6/ca05/lib/site_perl/5.35.6/x86_64-linux-ld/Moose/Meta/Attribute.pm line 1014
	Moose::Meta::Attribute::install_accessors(Moose::Meta::Attribute=HASH(0x55eddc0fd3c8)) called at /tmp/loop_over_bdir-5417-nPa2mi/MooseX-RelClassTypes-0.03-0/blib/lib/MooseX/RelClassTypes.pm line 76
	Class::MOP::Class:::before("LazyParent::Child") called at /home/sand/src/perl/repoperls/installed-perls/host/k93bionic/v5.35.6/ca05/lib/site_perl/5.35.6/x86_64-linux-ld/Class/MOP/Method/Wrapped.pm line 43
	LazyParent::Child::_wrapped_BUILDARGS("LazyParent::Child") called at /home/sand/src/perl/repoperls/installed-perls/host/k93bionic/v5.35.6/ca05/lib/site_perl/5.35.6/x86_64-linux-ld/Class/MOP/Method/Wrapped.pm line 97
	LazyParent::Child::BUILDARGS("LazyParent::Child") called at /home/sand/src/perl/repoperls/installed-perls/host/k93bionic/v5.35.6/ca05/lib/site_perl/5.35.6/x86_64-linux-ld/Moose/Object.pm line 22
	Moose::Object::new("LazyParent::Child") called at t/03_lazy.t line 248
You are overwriting a accessor (parent_rel_pack) for the parent_rel_pack attribute (defined at t/03_lazy.t line 22) with a new accessor method for the parent_rel_pack attribute (defined at t/03_lazy.t line 22) at /home/sand/src/perl/repoperls/installed-perls/host/k93bionic/v5.35.6/ca05/lib/site_perl/5.35.6/x86_64-linux-ld/Moose/Meta/Attribute.pm line 1094.
	Moose::Meta::Attribute::_process_accessors(Moose::Meta::Attribute=HASH(0x55eddc0ed698), "accessor", "parent_rel_pack", undef) called at /home/sand/src/perl/repoperls/installed-perls/host/k93bionic/v5.35.6/ca05/lib/site_perl/5.35.6/x86_64-linux-ld/Class/MOP/Attribute.pm line 446
	Class::MOP::Attribute::install_accessors(Moose::Meta::Attribute=HASH(0x55eddc0ed698)) called at /home/sand/src/perl/repoperls/installed-perls/host/k93bionic/v5.35.6/ca05/lib/site_perl/5.35.6/x86_64-linux-ld/Moose/Meta/Attribute.pm line 1014
	Moose::Meta::Attribute::install_accessors(Moose::Meta::Attribute=HASH(0x55eddc0ed698)) called at /tmp/loop_over_bdir-5417-nPa2mi/MooseX-RelClassTypes-0.03-0/blib/lib/MooseX/RelClassTypes.pm line 76
	Class::MOP::Class:::before("LazyParent::Child") called at /home/sand/src/perl/repoperls/installed-perls/host/k93bionic/v5.35.6/ca05/lib/site_perl/5.35.6/x86_64-linux-ld/Class/MOP/Method/Wrapped.pm line 43
	LazyParent::Parent::_wrapped_BUILDARGS("LazyParent::Child") called at /home/sand/src/perl/repoperls/installed-perls/host/k93bionic/v5.35.6/ca05/lib/site_perl/5.35.6/x86_64-linux-ld/Class/MOP/Method/Wrapped.pm line 97
	LazyParent::Parent::BUILDARGS("LazyParent::Child") called at /home/sand/src/perl/repoperls/installed-perls/host/k93bionic/v5.35.6/ca05/lib/site_perl/5.35.6/x86_64-linux-ld/Class/MOP/Method/Wrapped.pm line 44
	LazyParent::Child::_wrapped_BUILDARGS("LazyParent::Child") called at /home/sand/src/perl/repoperls/installed-perls/host/k93bionic/v5.35.6/ca05/lib/site_perl/5.35.6/x86_64-linux-ld/Class/MOP/Method/Wrapped.pm line 97
	LazyParent::Child::BUILDARGS("LazyParent::Child") called at /home/sand/src/perl/repoperls/installed-perls/host/k93bionic/v5.35.6/ca05/lib/site_perl/5.35.6/x86_64-linux-ld/Moose/Object.pm line 22
	Moose::Object::new("LazyParent::Child") called at t/03_lazy.t line 248
You are overwriting a accessor (child_rel_pack) for the child_rel_pack attribute (defined at t/03_lazy.t line 32) with a new accessor method for the child_rel_pack attribute (defined at t/03_lazy.t line 32) at /home/sand/src/perl/repoperls/installed-perls/host/k93bionic/v5.35.6/ca05/lib/site_perl/5.35.6/x86_64-linux-ld/Moose/Meta/Attribute.pm line 1094.
	Moose::Meta::Attribute::_process_accessors(Moose::Meta::Attribute=HASH(0x55eddc0fd3c8), "accessor", "child_rel_pack", undef) called at /home/sand/src/perl/repoperls/installed-perls/host/k93bionic/v5.35.6/ca05/lib/site_perl/5.35.6/x86_64-linux-ld/Class/MOP/Attribute.pm line 446
	Class::MOP::Attribute::install_accessors(Moose::Meta::Attribute=HASH(0x55eddc0fd3c8)) called at /home/sand/src/perl/repoperls/installed-perls/host/k93bionic/v5.35.6/ca05/lib/site_perl/5.35.6/x86_64-linux-ld/Moose/Meta/Attribute.pm line 1014
	Moose::Meta::Attribute::install_accessors(Moose::Meta::Attribute=HASH(0x55eddc0fd3c8)) called at /tmp/loop_over_bdir-5417-nPa2mi/MooseX-RelClassTypes-0.03-0/blib/lib/MooseX/RelClassTypes.pm line 76
	Class::MOP::Class:::before("LazyParent::Child") called at /home/sand/src/perl/repoperls/installed-perls/host/k93bionic/v5.35.6/ca05/lib/site_perl/5.35.6/x86_64-linux-ld/Class/MOP/Method/Wrapped.pm line 43
	LazyParent::Parent::_wrapped_BUILDARGS("LazyParent::Child") called at /home/sand/src/perl/repoperls/installed-perls/host/k93bionic/v5.35.6/ca05/lib/site_perl/5.35.6/x86_64-linux-ld/Class/MOP/Method/Wrapped.pm line 97
	LazyParent::Parent::BUILDARGS("LazyParent::Child") called at /home/sand/src/perl/repoperls/installed-perls/host/k93bionic/v5.35.6/ca05/lib/site_perl/5.35.6/x86_64-linux-ld/Class/MOP/Method/Wrapped.pm line 44
	LazyParent::Child::_wrapped_BUILDARGS("LazyParent::Child") called at /home/sand/src/perl/repoperls/installed-perls/host/k93bionic/v5.35.6/ca05/lib/site_perl/5.35.6/x86_64-linux-ld/Class/MOP/Method/Wrapped.pm line 97
	LazyParent::Child::BUILDARGS("LazyParent::Child") called at /home/sand/src/perl/repoperls/installed-perls/host/k93bionic/v5.35.6/ca05/lib/site_perl/5.35.6/x86_64-linux-ld/Moose/Object.pm line 22
	Moose::Object::new("LazyParent::Child") called at t/03_lazy.t line 248
You are overwriting a accessor (child_rel_pack) for the child_rel_pack attribute (defined at t/03_lazy.t line 86) with a new accessor method for the child_rel_pack attribute (defined at t/03_lazy.t line 86) at /home/sand/src/perl/repoperls/installed-perls/host/k93bionic/v5.35.6/ca05/lib/site_perl/5.35.6/x86_64-linux-ld/Moose/Meta/Attribute.pm line 1094.
	Moose::Meta::Attribute::_process_accessors(Moose::Meta::Attribute=HASH(0x55eddc1115b0), "accessor", "child_rel_pack", undef) called at /home/sand/src/perl/repoperls/installed-perls/host/k93bionic/v5.35.6/ca05/lib/site_perl/5.35.6/x86_64-linux-ld/Class/MOP/Attribute.pm line 446
	Class::MOP::Attribute::install_accessors(Moose::Meta::Attribute=HASH(0x55eddc1115b0)) called at /home/sand/src/perl/repoperls/installed-perls/host/k93bionic/v5.35.6/ca05/lib/site_perl/5.35.6/x86_64-linux-ld/Moose/Meta/Attribute.pm line 1014
	Moose::Meta::Attribute::install_accessors(Moose::Meta::Attribute=HASH(0x55eddc1115b0)) called at /tmp/loop_over_bdir-5417-nPa2mi/MooseX-RelClassTypes-0.03-0/blib/lib/MooseX/RelClassTypes.pm line 76
	Class::MOP::Class:::before("LazyChild::Child") called at /home/sand/src/perl/repoperls/installed-perls/host/k93bionic/v5.35.6/ca05/lib/site_perl/5.35.6/x86_64-linux-ld/Class/MOP/Method/Wrapped.pm line 43
	LazyChild::Child::_wrapped_BUILDARGS("LazyChild::Child") called at /home/sand/src/perl/repoperls/installed-perls/host/k93bionic/v5.35.6/ca05/lib/site_perl/5.35.6/x86_64-linux-ld/Class/MOP/Method/Wrapped.pm line 97
	LazyChild::Child::BUILDARGS("LazyChild::Child") called at /home/sand/src/perl/repoperls/installed-perls/host/k93bionic/v5.35.6/ca05/lib/site_perl/5.35.6/x86_64-linux-ld/Moose/Object.pm line 22
	Moose::Object::new("LazyChild::Child") called at t/03_lazy.t line 248
You are overwriting a accessor (parent_rel_pack) for the parent_rel_pack attribute (defined at t/03_lazy.t line 66) with a new accessor method for the parent_rel_pack attribute (defined at t/03_lazy.t line 66) at /home/sand/src/perl/repoperls/installed-perls/host/k93bionic/v5.35.6/ca05/lib/site_perl/5.35.6/x86_64-linux-ld/Moose/Meta/Attribute.pm line 1094.
	Moose::Meta::Attribute::_process_accessors(Moose::Meta::Attribute=HASH(0x55eddc10d898), "accessor", "parent_rel_pack", undef) called at /home/sand/src/perl/repoperls/installed-perls/host/k93bionic/v5.35.6/ca05/lib/site_perl/5.35.6/x86_64-linux-ld/Class/MOP/Attribute.pm line 446
	Class::MOP::Attribute::install_accessors(Moose::Meta::Attribute=HASH(0x55eddc10d898)) called at /home/sand/src/perl/repoperls/installed-perls/host/k93bionic/v5.35.6/ca05/lib/site_perl/5.35.6/x86_64-linux-ld/Moose/Meta/Attribute.pm line 1014
	Moose::Meta::Attribute::install_accessors(Moose::Meta::Attribute=HASH(0x55eddc10d898)) called at /tmp/loop_over_bdir-5417-nPa2mi/MooseX-RelClassTypes-0.03-0/blib/lib/MooseX/RelClassTypes.pm line 76
	Class::MOP::Class:::before("LazyChild::Child") called at /home/sand/src/perl/repoperls/installed-perls/host/k93bionic/v5.35.6/ca05/lib/site_perl/5.35.6/x86_64-linux-ld/Class/MOP/Method/Wrapped.pm line 43
	LazyChild::Child::_wrapped_BUILDARGS("LazyChild::Child") called at /home/sand/src/perl/repoperls/installed-perls/host/k93bionic/v5.35.6/ca05/lib/site_perl/5.35.6/x86_64-linux-ld/Class/MOP/Method/Wrapped.pm line 97
	LazyChild::Child::BUILDARGS("LazyChild::Child") called at /home/sand/src/perl/repoperls/installed-perls/host/k93bionic/v5.35.6/ca05/lib/site_perl/5.35.6/x86_64-linux-ld/Moose/Object.pm line 22
	Moose::Object::new("LazyChild::Child") called at t/03_lazy.t line 248
You are overwriting a accessor (parent_rel_pack) for the parent_rel_pack attribute (defined at t/03_lazy.t line 66) with a new accessor method for the parent_rel_pack attribute (defined at t/03_lazy.t line 66) at /home/sand/src/perl/repoperls/installed-perls/host/k93bionic/v5.35.6/ca05/lib/site_perl/5.35.6/x86_64-linux-ld/Moose/Meta/Attribute.pm line 1094.
	Moose::Meta::Attribute::_process_accessors(Moose::Meta::Attribute=HASH(0x55eddc10d898), "accessor", "parent_rel_pack", undef) called at /home/sand/src/perl/repoperls/installed-perls/host/k93bionic/v5.35.6/ca05/lib/site_perl/5.35.6/x86_64-linux-ld/Class/MOP/Attribute.pm line 446
	Class::MOP::Attribute::install_accessors(Moose::Meta::Attribute=HASH(0x55eddc10d898)) called at /home/sand/src/perl/repoperls/installed-perls/host/k93bionic/v5.35.6/ca05/lib/site_perl/5.35.6/x86_64-linux-ld/Moose/Meta/Attribute.pm line 1014
	Moose::Meta::Attribute::install_accessors(Moose::Meta::Attribute=HASH(0x55eddc10d898)) called at /tmp/loop_over_bdir-5417-nPa2mi/MooseX-RelClassTypes-0.03-0/blib/lib/MooseX/RelClassTypes.pm line 76
	Class::MOP::Class:::before("LazyChild::Child") called at /home/sand/src/perl/repoperls/installed-perls/host/k93bionic/v5.35.6/ca05/lib/site_perl/5.35.6/x86_64-linux-ld/Class/MOP/Method/Wrapped.pm line 43
	LazyChild::Parent::_wrapped_BUILDARGS("LazyChild::Child") called at /home/sand/src/perl/repoperls/installed-perls/host/k93bionic/v5.35.6/ca05/lib/site_perl/5.35.6/x86_64-linux-ld/Class/MOP/Method/Wrapped.pm line 97
	LazyChild::Parent::BUILDARGS("LazyChild::Child") called at /home/sand/src/perl/repoperls/installed-perls/host/k93bionic/v5.35.6/ca05/lib/site_perl/5.35.6/x86_64-linux-ld/Class/MOP/Method/Wrapped.pm line 44
	LazyChild::Child::_wrapped_BUILDARGS("LazyChild::Child") called at /home/sand/src/perl/repoperls/installed-perls/host/k93bionic/v5.35.6/ca05/lib/site_perl/5.35.6/x86_64-linux-ld/Class/MOP/Method/Wrapped.pm line 97
	LazyChild::Child::BUILDARGS("LazyChild::Child") called at /home/sand/src/perl/repoperls/installed-perls/host/k93bionic/v5.35.6/ca05/lib/site_perl/5.35.6/x86_64-linux-ld/Moose/Object.pm line 22
	Moose::Object::new("LazyChild::Child") called at t/03_lazy.t line 248
You are overwriting a accessor (child_rel_pack) for the child_rel_pack attribute (defined at t/03_lazy.t line 86) with a new accessor method for the child_rel_pack attribute (defined at t/03_lazy.t line 86) at /home/sand/src/perl/repoperls/installed-perls/host/k93bionic/v5.35.6/ca05/lib/site_perl/5.35.6/x86_64-linux-ld/Moose/Meta/Attribute.pm line 1094.
	Moose::Meta::Attribute::_process_accessors(Moose::Meta::Attribute=HASH(0x55eddc1115b0), "accessor", "child_rel_pack", undef) called at /home/sand/src/perl/repoperls/installed-perls/host/k93bionic/v5.35.6/ca05/lib/site_perl/5.35.6/x86_64-linux-ld/Class/MOP/Attribute.pm line 446
	Class::MOP::Attribute::install_accessors(Moose::Meta::Attribute=HASH(0x55eddc1115b0)) called at /home/sand/src/perl/repoperls/installed-perls/host/k93bionic/v5.35.6/ca05/lib/site_perl/5.35.6/x86_64-linux-ld/Moose/Meta/Attribute.pm line 1014
	Moose::Meta::Attribute::install_accessors(Moose::Meta::Attribute=HASH(0x55eddc1115b0)) called at /tmp/loop_over_bdir-5417-nPa2mi/MooseX-RelClassTypes-0.03-0/blib/lib/MooseX/RelClassTypes.pm line 76
	Class::MOP::Class:::before("LazyChild::Child") called at /home/sand/src/perl/repoperls/installed-perls/host/k93bionic/v5.35.6/ca05/lib/site_perl/5.35.6/x86_64-linux-ld/Class/MOP/Method/Wrapped.pm line 43
	LazyChild::Parent::_wrapped_BUILDARGS("LazyChild::Child") called at /home/sand/src/perl/repoperls/installed-perls/host/k93bionic/v5.35.6/ca05/lib/site_perl/5.35.6/x86_64-linux-ld/Class/MOP/Method/Wrapped.pm line 97
	LazyChild::Parent::BUILDARGS("LazyChild::Child") called at /home/sand/src/perl/repoperls/installed-perls/host/k93bionic/v5.35.6/ca05/lib/site_perl/5.35.6/x86_64-linux-ld/Class/MOP/Method/Wrapped.pm line 44
	LazyChild::Child::_wrapped_BUILDARGS("LazyChild::Child") called at /home/sand/src/perl/repoperls/installed-perls/host/k93bionic/v5.35.6/ca05/lib/site_perl/5.35.6/x86_64-linux-ld/Class/MOP/Method/Wrapped.pm line 97
	LazyChild::Child::BUILDARGS("LazyChild::Child") called at /home/sand/src/perl/repoperls/installed-perls/host/k93bionic/v5.35.6/ca05/lib/site_perl/5.35.6/x86_64-linux-ld/Moose/Object.pm line 22
	Moose::Object::new("LazyChild::Child") called at t/03_lazy.t line 248
You are overwriting a accessor (parent_rel_pack) for the parent_rel_pack attribute (defined at t/03_lazy.t line 117) with a new accessor method for the parent_rel_pack attribute (defined at t/03_lazy.t line 117) at /home/sand/src/perl/repoperls/installed-perls/host/k93bionic/v5.35.6/ca05/lib/site_perl/5.35.6/x86_64-linux-ld/Moose/Meta/Attribute.pm line 1094.
	Moose::Meta::Attribute::_process_accessors(Moose::Meta::Attribute=HASH(0x55eddc129508), "accessor", "parent_rel_pack", undef) called at /home/sand/src/perl/repoperls/installed-perls/host/k93bionic/v5.35.6/ca05/lib/site_perl/5.35.6/x86_64-linux-ld/Class/MOP/Attribute.pm line 446
	Class::MOP::Attribute::install_accessors(Moose::Meta::Attribute=HASH(0x55eddc129508)) called at /home/sand/src/perl/repoperls/installed-perls/host/k93bionic/v5.35.6/ca05/lib/site_perl/5.35.6/x86_64-linux-ld/Moose/Meta/Attribute.pm line 1014
	Moose::Meta::Attribute::install_accessors(Moose::Meta::Attribute=HASH(0x55eddc129508)) called at /tmp/loop_over_bdir-5417-nPa2mi/MooseX-RelClassTypes-0.03-0/blib/lib/MooseX/RelClassTypes.pm line 76
	Class::MOP::Class:::before("LazyParam::Child") called at /home/sand/src/perl/repoperls/installed-perls/host/k93bionic/v5.35.6/ca05/lib/site_perl/5.35.6/x86_64-linux-ld/Class/MOP/Method/Wrapped.pm line 43
	LazyParam::Child::_wrapped_BUILDARGS("LazyParam::Child") called at /home/sand/src/perl/repoperls/installed-perls/host/k93bionic/v5.35.6/ca05/lib/site_perl/5.35.6/x86_64-linux-ld/Class/MOP/Method/Wrapped.pm line 97
	LazyParam::Child::BUILDARGS("LazyParam::Child") called at /home/sand/src/perl/repoperls/installed-perls/host/k93bionic/v5.35.6/ca05/lib/site_perl/5.35.6/x86_64-linux-ld/Moose/Object.pm line 22
	Moose::Object::new("LazyParam::Child") called at t/03_lazy.t line 248
You are overwriting a accessor (child_rel_pack) for the child_rel_pack attribute (defined at t/03_lazy.t line 129) with a new accessor method for the child_rel_pack attribute (defined at t/03_lazy.t line 129) at /home/sand/src/perl/repoperls/installed-perls/host/k93bionic/v5.35.6/ca05/lib/site_perl/5.35.6/x86_64-linux-ld/Moose/Meta/Attribute.pm line 1094.
	Moose::Meta::Attribute::_process_accessors(Moose::Meta::Attribute=HASH(0x55eddc132030), "accessor", "child_rel_pack", undef) called at /home/sand/src/perl/repoperls/installed-perls/host/k93bionic/v5.35.6/ca05/lib/site_perl/5.35.6/x86_64-linux-ld/Class/MOP/Attribute.pm line 446
	Class::MOP::Attribute::install_accessors(Moose::Meta::Attribute=HASH(0x55eddc132030)) called at /home/sand/src/perl/repoperls/installed-perls/host/k93bionic/v5.35.6/ca05/lib/site_perl/5.35.6/x86_64-linux-ld/Moose/Meta/Attribute.pm line 1014
	Moose::Meta::Attribute::install_accessors(Moose::Meta::Attribute=HASH(0x55eddc132030)) called at /tmp/loop_over_bdir-5417-nPa2mi/MooseX-RelClassTypes-0.03-0/blib/lib/MooseX/RelClassTypes.pm line 76
	Class::MOP::Class:::before("LazyParam::Child") called at /home/sand/src/perl/repoperls/installed-perls/host/k93bionic/v5.35.6/ca05/lib/site_perl/5.35.6/x86_64-linux-ld/Class/MOP/Method/Wrapped.pm line 43
	LazyParam::Child::_wrapped_BUILDARGS("LazyParam::Child") called at /home/sand/src/perl/repoperls/installed-perls/host/k93bionic/v5.35.6/ca05/lib/site_perl/5.35.6/x86_64-linux-ld/Class/MOP/Method/Wrapped.pm line 97
	LazyParam::Child::BUILDARGS("LazyParam::Child") called at /home/sand/src/perl/repoperls/installed-perls/host/k93bionic/v5.35.6/ca05/lib/site_perl/5.35.6/x86_64-linux-ld/Moose/Object.pm line 22
	Moose::Object::new("LazyParam::Child") called at t/03_lazy.t line 248
You are overwriting a accessor (child_rel_pack) for the child_rel_pack attribute (defined at t/03_lazy.t line 129) with a new accessor method for the child_rel_pack attribute (defined at t/03_lazy.t line 129) at /home/sand/src/perl/repoperls/installed-perls/host/k93bionic/v5.35.6/ca05/lib/site_perl/5.35.6/x86_64-linux-ld/Moose/Meta/Attribute.pm line 1094.
	Moose::Meta::Attribute::_process_accessors(Moose::Meta::Attribute=HASH(0x55eddc132030), "accessor", "child_rel_pack", undef) called at /home/sand/src/perl/repoperls/installed-perls/host/k93bionic/v5.35.6/ca05/lib/site_perl/5.35.6/x86_64-linux-ld/Class/MOP/Attribute.pm line 446
	Class::MOP::Attribute::install_accessors(Moose::Meta::Attribute=HASH(0x55eddc132030)) called at /home/sand/src/perl/repoperls/installed-perls/host/k93bionic/v5.35.6/ca05/lib/site_perl/5.35.6/x86_64-linux-ld/Moose/Meta/Attribute.pm line 1014
	Moose::Meta::Attribute::install_accessors(Moose::Meta::Attribute=HASH(0x55eddc132030)) called at /tmp/loop_over_bdir-5417-nPa2mi/MooseX-RelClassTypes-0.03-0/blib/lib/MooseX/RelClassTypes.pm line 76
	Class::MOP::Class:::before("LazyParam::Child") called at /home/sand/src/perl/repoperls/installed-perls/host/k93bionic/v5.35.6/ca05/lib/site_perl/5.35.6/x86_64-linux-ld/Class/MOP/Method/Wrapped.pm line 43
	LazyParam::Parent::_wrapped_BUILDARGS("LazyParam::Child") called at /home/sand/src/perl/repoperls/installed-perls/host/k93bionic/v5.35.6/ca05/lib/site_perl/5.35.6/x86_64-linux-ld/Class/MOP/Method/Wrapped.pm line 97
	LazyParam::Parent::BUILDARGS("LazyParam::Child") called at /home/sand/src/perl/repoperls/installed-perls/host/k93bionic/v5.35.6/ca05/lib/site_perl/5.35.6/x86_64-linux-ld/Class/MOP/Method/Wrapped.pm line 44
	LazyParam::Child::_wrapped_BUILDARGS("LazyParam::Child") called at /home/sand/src/perl/repoperls/installed-perls/host/k93bionic/v5.35.6/ca05/lib/site_perl/5.35.6/x86_64-linux-ld/Class/MOP/Method/Wrapped.pm line 97
	LazyParam::Child::BUILDARGS("LazyParam::Child") called at /home/sand/src/perl/repoperls/installed-perls/host/k93bionic/v5.35.6/ca05/lib/site_perl/5.35.6/x86_64-linux-ld/Moose/Object.pm line 22
	Moose::Object::new("LazyParam::Child") called at t/03_lazy.t line 248
You are overwriting a accessor (parent_rel_pack) for the parent_rel_pack attribute (defined at t/03_lazy.t line 117) with a new accessor method for the parent_rel_pack attribute (defined at t/03_lazy.t line 117) at /home/sand/src/perl/repoperls/installed-perls/host/k93bionic/v5.35.6/ca05/lib/site_perl/5.35.6/x86_64-linux-ld/Moose/Meta/Attribute.pm line 1094.
	Moose::Meta::Attribute::_process_accessors(Moose::Meta::Attribute=HASH(0x55eddc129508), "accessor", "parent_rel_pack", undef) called at /home/sand/src/perl/repoperls/installed-perls/host/k93bionic/v5.35.6/ca05/lib/site_perl/5.35.6/x86_64-linux-ld/Class/MOP/Attribute.pm line 446
	Class::MOP::Attribute::install_accessors(Moose::Meta::Attribute=HASH(0x55eddc129508)) called at /home/sand/src/perl/repoperls/installed-perls/host/k93bionic/v5.35.6/ca05/lib/site_perl/5.35.6/x86_64-linux-ld/Moose/Meta/Attribute.pm line 1014
	Moose::Meta::Attribute::install_accessors(Moose::Meta::Attribute=HASH(0x55eddc129508)) called at /tmp/loop_over_bdir-5417-nPa2mi/MooseX-RelClassTypes-0.03-0/blib/lib/MooseX/RelClassTypes.pm line 76
	Class::MOP::Class:::before("LazyParam::Child") called at /home/sand/src/perl/repoperls/installed-perls/host/k93bionic/v5.35.6/ca05/lib/site_perl/5.35.6/x86_64-linux-ld/Class/MOP/Method/Wrapped.pm line 43
	LazyParam::Parent::_wrapped_BUILDARGS("LazyParam::Child") called at /home/sand/src/perl/repoperls/installed-perls/host/k93bionic/v5.35.6/ca05/lib/site_perl/5.35.6/x86_64-linux-ld/Class/MOP/Method/Wrapped.pm line 97
	LazyParam::Parent::BUILDARGS("LazyParam::Child") called at /home/sand/src/perl/repoperls/installed-perls/host/k93bionic/v5.35.6/ca05/lib/site_perl/5.35.6/x86_64-linux-ld/Class/MOP/Method/Wrapped.pm line 44
	LazyParam::Child::_wrapped_BUILDARGS("LazyParam::Child") called at /home/sand/src/perl/repoperls/installed-perls/host/k93bionic/v5.35.6/ca05/lib/site_perl/5.35.6/x86_64-linux-ld/Class/MOP/Method/Wrapped.pm line 97
	LazyParam::Child::BUILDARGS("LazyParam::Child") called at /home/sand/src/perl/repoperls/installed-perls/host/k93bionic/v5.35.6/ca05/lib/site_perl/5.35.6/x86_64-linux-ld/Moose/Object.pm line 22
	Moose::Object::new("LazyParam::Child") called at t/03_lazy.t line 248
You are overwriting a accessor (parent_rel_pack) for the parent_rel_pack attribute (defined at t/03_lazy.t line 177) with a new accessor method for the parent_rel_pack attribute (defined at t/03_lazy.t line 177) at /home/sand/src/perl/repoperls/installed-perls/host/k93bionic/v5.35.6/ca05/lib/site_perl/5.35.6/x86_64-linux-ld/Moose/Meta/Attribute.pm line 1094.
	Moose::Meta::Attribute::_process_accessors(Moose::Meta::Attribute=HASH(0x55eddc14bef8), "accessor", "parent_rel_pack", undef) called at /home/sand/src/perl/repoperls/installed-perls/host/k93bionic/v5.35.6/ca05/lib/site_perl/5.35.6/x86_64-linux-ld/Class/MOP/Attribute.pm line 446
	Class::MOP::Attribute::install_accessors(Moose::Meta::Attribute=HASH(0x55eddc14bef8)) called at /home/sand/src/perl/repoperls/installed-perls/host/k93bionic/v5.35.6/ca05/lib/site_perl/5.35.6/x86_64-linux-ld/Moose/Meta/Attribute.pm line 1014
	Moose::Meta::Attribute::install_accessors(Moose::Meta::Attribute=HASH(0x55eddc14bef8)) called at /tmp/loop_over_bdir-5417-nPa2mi/MooseX-RelClassTypes-0.03-0/blib/lib/MooseX/RelClassTypes.pm line 76
	Class::MOP::Class:::before("LazyAll::Child") called at /home/sand/src/perl/repoperls/installed-perls/host/k93bionic/v5.35.6/ca05/lib/site_perl/5.35.6/x86_64-linux-ld/Class/MOP/Method/Wrapped.pm line 43
	LazyAll::Child::_wrapped_BUILDARGS("LazyAll::Child") called at /home/sand/src/perl/repoperls/installed-perls/host/k93bionic/v5.35.6/ca05/lib/site_perl/5.35.6/x86_64-linux-ld/Class/MOP/Method/Wrapped.pm line 97
	LazyAll::Child::BUILDARGS("LazyAll::Child") called at /home/sand/src/perl/repoperls/installed-perls/host/k93bionic/v5.35.6/ca05/lib/site_perl/5.35.6/x86_64-linux-ld/Moose/Object.pm line 22
	Moose::Object::new("LazyAll::Child") called at t/03_lazy.t line 248
You are overwriting a accessor (child_rel_pack) for the child_rel_pack attribute (defined at t/03_lazy.t line 194) with a new accessor method for the child_rel_pack attribute (defined at t/03_lazy.t line 194) at /home/sand/src/perl/repoperls/installed-perls/host/k93bionic/v5.35.6/ca05/lib/site_perl/5.35.6/x86_64-linux-ld/Moose/Meta/Attribute.pm line 1094.
	Moose::Meta::Attribute::_process_accessors(Moose::Meta::Attribute=HASH(0x55eddc151da8), "accessor", "child_rel_pack", undef) called at /home/sand/src/perl/repoperls/installed-perls/host/k93bionic/v5.35.6/ca05/lib/site_perl/5.35.6/x86_64-linux-ld/Class/MOP/Attribute.pm line 446
	Class::MOP::Attribute::install_accessors(Moose::Meta::Attribute=HASH(0x55eddc151da8)) called at /home/sand/src/perl/repoperls/installed-perls/host/k93bionic/v5.35.6/ca05/lib/site_perl/5.35.6/x86_64-linux-ld/Moose/Meta/Attribute.pm line 1014
	Moose::Meta::Attribute::install_accessors(Moose::Meta::Attribute=HASH(0x55eddc151da8)) called at /tmp/loop_over_bdir-5417-nPa2mi/MooseX-RelClassTypes-0.03-0/blib/lib/MooseX/RelClassTypes.pm line 76
	Class::MOP::Class:::before("LazyAll::Child") called at /home/sand/src/perl/repoperls/installed-perls/host/k93bionic/v5.35.6/ca05/lib/site_perl/5.35.6/x86_64-linux-ld/Class/MOP/Method/Wrapped.pm line 43
	LazyAll::Child::_wrapped_BUILDARGS("LazyAll::Child") called at /home/sand/src/perl/repoperls/installed-perls/host/k93bionic/v5.35.6/ca05/lib/site_perl/5.35.6/x86_64-linux-ld/Class/MOP/Method/Wrapped.pm line 97
	LazyAll::Child::BUILDARGS("LazyAll::Child") called at /home/sand/src/perl/repoperls/installed-perls/host/k93bionic/v5.35.6/ca05/lib/site_perl/5.35.6/x86_64-linux-ld/Moose/Object.pm line 22
	Moose::Object::new("LazyAll::Child") called at t/03_lazy.t line 248
You are overwriting a accessor (child_rel_pack) for the child_rel_pack attribute (defined at t/03_lazy.t line 194) with a new accessor method for the child_rel_pack attribute (defined at t/03_lazy.t line 194) at /home/sand/src/perl/repoperls/installed-perls/host/k93bionic/v5.35.6/ca05/lib/site_perl/5.35.6/x86_64-linux-ld/Moose/Meta/Attribute.pm line 1094.
	Moose::Meta::Attribute::_process_accessors(Moose::Meta::Attribute=HASH(0x55eddc151da8), "accessor", "child_rel_pack", undef) called at /home/sand/src/perl/repoperls/installed-perls/host/k93bionic/v5.35.6/ca05/lib/site_perl/5.35.6/x86_64-linux-ld/Class/MOP/Attribute.pm line 446
	Class::MOP::Attribute::install_accessors(Moose::Meta::Attribute=HASH(0x55eddc151da8)) called at /home/sand/src/perl/repoperls/installed-perls/host/k93bionic/v5.35.6/ca05/lib/site_perl/5.35.6/x86_64-linux-ld/Moose/Meta/Attribute.pm line 1014
	Moose::Meta::Attribute::install_accessors(Moose::Meta::Attribute=HASH(0x55eddc151da8)) called at /tmp/loop_over_bdir-5417-nPa2mi/MooseX-RelClassTypes-0.03-0/blib/lib/MooseX/RelClassTypes.pm line 76
	Class::MOP::Class:::before("LazyAll::Child") called at /home/sand/src/perl/repoperls/installed-perls/host/k93bionic/v5.35.6/ca05/lib/site_perl/5.35.6/x86_64-linux-ld/Class/MOP/Method/Wrapped.pm line 43
	LazyAll::Parent::_wrapped_BUILDARGS("LazyAll::Child") called at /home/sand/src/perl/repoperls/installed-perls/host/k93bionic/v5.35.6/ca05/lib/site_perl/5.35.6/x86_64-linux-ld/Class/MOP/Method/Wrapped.pm line 97
	LazyAll::Parent::BUILDARGS("LazyAll::Child") called at /home/sand/src/perl/repoperls/installed-perls/host/k93bionic/v5.35.6/ca05/lib/site_perl/5.35.6/x86_64-linux-ld/Class/MOP/Method/Wrapped.pm line 44
	LazyAll::Child::_wrapped_BUILDARGS("LazyAll::Child") called at /home/sand/src/perl/repoperls/installed-perls/host/k93bionic/v5.35.6/ca05/lib/site_perl/5.35.6/x86_64-linux-ld/Class/MOP/Method/Wrapped.pm line 97
	LazyAll::Child::BUILDARGS("LazyAll::Child") called at /home/sand/src/perl/repoperls/installed-perls/host/k93bionic/v5.35.6/ca05/lib/site_perl/5.35.6/x86_64-linux-ld/Moose/Object.pm line 22
	Moose::Object::new("LazyAll::Child") called at t/03_lazy.t line 248
You are overwriting a accessor (parent_rel_pack) for the parent_rel_pack attribute (defined at t/03_lazy.t line 177) with a new accessor method for the parent_rel_pack attribute (defined at t/03_lazy.t line 177) at /home/sand/src/perl/repoperls/installed-perls/host/k93bionic/v5.35.6/ca05/lib/site_perl/5.35.6/x86_64-linux-ld/Moose/Meta/Attribute.pm line 1094.
	Moose::Meta::Attribute::_process_accessors(Moose::Meta::Attribute=HASH(0x55eddc14bef8), "accessor", "parent_rel_pack", undef) called at /home/sand/src/perl/repoperls/installed-perls/host/k93bionic/v5.35.6/ca05/lib/site_perl/5.35.6/x86_64-linux-ld/Class/MOP/Attribute.pm line 446
	Class::MOP::Attribute::install_accessors(Moose::Meta::Attribute=HASH(0x55eddc14bef8)) called at /home/sand/src/perl/repoperls/installed-perls/host/k93bionic/v5.35.6/ca05/lib/site_perl/5.35.6/x86_64-linux-ld/Moose/Meta/Attribute.pm line 1014
	Moose::Meta::Attribute::install_accessors(Moose::Meta::Attribute=HASH(0x55eddc14bef8)) called at /tmp/loop_over_bdir-5417-nPa2mi/MooseX-RelClassTypes-0.03-0/blib/lib/MooseX/RelClassTypes.pm line 76
	Class::MOP::Class:::before("LazyAll::Child") called at /home/sand/src/perl/repoperls/installed-perls/host/k93bionic/v5.35.6/ca05/lib/site_perl/5.35.6/x86_64-linux-ld/Class/MOP/Method/Wrapped.pm line 43
	LazyAll::Parent::_wrapped_BUILDARGS("LazyAll::Child") called at /home/sand/src/perl/repoperls/installed-perls/host/k93bionic/v5.35.6/ca05/lib/site_perl/5.35.6/x86_64-linux-ld/Class/MOP/Method/Wrapped.pm line 97
	LazyAll::Parent::BUILDARGS("LazyAll::Child") called at /home/sand/src/perl/repoperls/installed-perls/host/k93bionic/v5.35.6/ca05/lib/site_perl/5.35.6/x86_64-linux-ld/Class/MOP/Method/Wrapped.pm line 44
	LazyAll::Child::_wrapped_BUILDARGS("LazyAll::Child") called at /home/sand/src/perl/repoperls/installed-perls/host/k93bionic/v5.35.6/ca05/lib/site_perl/5.35.6/x86_64-linux-ld/Class/MOP/Method/Wrapped.pm line 97
	LazyAll::Child::BUILDARGS("LazyAll::Child") called at /home/sand/src/perl/repoperls/installed-perls/host/k93bionic/v5.35.6/ca05/lib/site_perl/5.35.6/x86_64-linux-ld/Moose/Object.pm line 22
	Moose::Object::new("LazyAll::Child") called at t/03_lazy.t line 248
t/03_lazy.t .......... ok
All tests successful.
Files=4, Tests=56,  0 wallclock secs ( 0.03 usr  0.01 sys +  0.74 cusr  0.09 csys =  0.87 CPU)
Result: PASS

------------------------------
PREREQUISITES
------------------------------

Prerequisite modules loaded:

requires:

    Module                      Need Have    
    --------------------------- ---- --------
    Carp                        0    1.52    
    Clone                       0    0.45    
    Module::Runtime             0    0.016   
    Moose                       0    2.2201  
    MooseX::Role::Parameterized 0    1.11    

build_requires:

    Module                      Need Have    
    --------------------------- ---- --------
    ExtUtils::MakeMaker         0    7.62    
    Test::More                  0    1.302188

configure_requires:

    Module                      Need Have    
    --------------------------- ---- --------
    ExtUtils::MakeMaker         0    7.62    


------------------------------
ENVIRONMENT AND OTHER CONTEXT
------------------------------

Environment variables:

    AUTOMATED_TESTING = 1
    LANG = en_US.utf8
    PATH = /home/sand/bin:/usr/local/bin:/usr/local/sbin:/usr/sbin:/usr/bin:/sbin:/bin:/usr/games:/usr/local/games:/snap/bin:/usr/local/perl/bin:/usr/X11/bin
    PERL = /tmp/basesmoker-reloperl-JjB0/bin/perl
    PERL5LIB = /tmp/loop_over_bdir-5417-nPa2mi/Lemonldap-NG-Cli-0.2-0/blib/arch:/tmp/loop_over_bdir-5417-nPa2mi/Lemonldap-NG-Cli-0.2-0/blib/lib
    PERL5OPT = 
    PERL5_CPANPLUS_IS_RUNNING = 5425
    PERL5_CPAN_IS_RUNNING = 5425
    PERL_CANARY_STABILITY_NOPROMPT = 1
    PERL_MM_USE_DEFAULT = 1
    PERL_USE_UNSAFE_INC = 1
    SHELL = /usr/bin/zsh
    TERM = screen

Perl special variables (and OS-specific diagnostics, for MSWin32):

    $^X = /tmp/basesmoker-reloperl-JjB0/bin/perl
    $UID/$EUID = 1005 / 1005
    $GID = 1005 1005
    $EGID = 1005 1005

Perl module toolchain versions installed:

    Module              Have    
    ------------------- --------
    CPAN                2.29    
    CPAN::Meta          2.150010
    Cwd                 3.82    
    ExtUtils::CBuilder  0.280236
    ExtUtils::Command   7.62    
    ExtUtils::Install   2.20    
    ExtUtils::MakeMaker 7.62    
    ExtUtils::Manifest  1.73    
    ExtUtils::ParseXS   3.44    
    File::Spec          3.81    
    JSON                4.03    
    JSON::PP            4.06    
    Module::Build       0.4231  
    Module::Signature   0.87    
    Parse::CPAN::Meta   2.150010
    Test::Harness       3.43    
    Test::More          1.302188
    YAML                1.30    
    YAML::Syck          1.34    
    version             0.9929  


--

Summary of my perl5 (revision 5 version 35 subversion 6) configuration:
  Commit id: 7badc7c896a8f12c680283f7fbf93fb1e22a24da
  Platform:
    osname=linux
    osvers=4.15.0-162-generic
    archname=x86_64-linux-ld
    uname='linux k93bionic 4.15.0-162-generic #170-ubuntu smp mon oct 18 11:38:05 utc 2021 x86_64 x86_64 x86_64 gnulinux '
    config_args='-Dprefix=/home/sand/src/perl/repoperls/installed-perls/host/k93bionic/v5.35.6/ca05 -Dmyhostname=k93bionic -Dinstallusrbinperl=n -Uversiononly -Dusedevel -des -Ui_db -Dlibswanted=cl pthread socket inet nsl gdbm dbm malloc dl ld sun m crypt sec util c cposix posix ucb BSD gdbm_compat -Uuseithreads -Duselongdouble -DEBUGGING=-g'
    hint=recommended
    useposix=true
    d_sigaction=define
    useithreads=undef
    usemultiplicity=undef
    use64bitint=define
    use64bitall=define
    uselongdouble=define
    usemymalloc=n
    default_inc_excludes_dot=define
  Compiler:
    cc='cc'
    ccflags ='-fwrapv -fno-strict-aliasing -pipe -fstack-protector-strong -I/usr/local/include -D_LARGEFILE_SOURCE -D_FILE_OFFSET_BITS=64'
    optimize='-O2 -g'
    cppflags='-fwrapv -fno-strict-aliasing -pipe -fstack-protector-strong -I/usr/local/include'
    ccversion=''
    gccversion='7.5.0'
    gccosandvers=''
    intsize=4
    longsize=8
    ptrsize=8
    doublesize=8
    byteorder=12345678
    doublekind=3
    d_longlong=define
    longlongsize=8
    d_longdbl=define
    longdblsize=16
    longdblkind=3
    ivtype='long'
    ivsize=8
    nvtype='long double'
    nvsize=16
    Off_t='off_t'
    lseeksize=8
    alignbytes=16
    prototype=define
  Linker and Libraries:
    ld='cc'
    ldflags =' -fstack-protector-strong -L/usr/local/lib'
    libpth=/usr/local/lib /usr/lib/x86_64-linux-gnu /usr/lib /lib/x86_64-linux-gnu /lib
    libs=-lpthread -lnsl -ldl -lm -lcrypt -lutil -lc
    perllibs=-lpthread -lnsl -ldl -lm -lcrypt -lutil -lc
    libc=libc-2.27.so
    so=so
    useshrplib=false
    libperl=libperl.a
    gnulibc_version='2.27'
  Dynamic Linking:
    dlsrc=dl_dlopen.xs
    dlext=so
    d_dlsymun=undef
    ccdlflags='-Wl,-E'
    cccdlflags='-fPIC'
    lddlflags='-shared -O2 -g -L/usr/local/lib -fstack-protector-strong'


Characteristics of this binary (from libperl): 
  Compile-time options:
    HAS_TIMES
    PERLIO_LAYERS
    PERL_COPY_ON_WRITE
    PERL_DONT_CREATE_GVSV
    PERL_MALLOC_WRAP
    PERL_OP_PARENT
    PERL_PRESERVE_IVUV
    PERL_USE_DEVEL
    USE_64_BIT_ALL
    USE_64_BIT_INT
    USE_LARGE_FILES
    USE_LOCALE
    USE_LOCALE_COLLATE
    USE_LOCALE_CTYPE
    USE_LOCALE_NUMERIC
    USE_LOCALE_TIME
    USE_LONG_DOUBLE
    USE_PERLIO
    USE_PERL_ATOF
  Built under linux
  Compiled at Nov 30 2021 13:30:03
  %ENV:
    PERL="/tmp/basesmoker-reloperl-JjB0/bin/perl"
    PERL5LIB="/tmp/loop_over_bdir-5417-nPa2mi/Lemonldap-NG-Cli-0.2-0/blib/arch:/tmp/loop_over_bdir-5417-nPa2mi/Lemonldap-NG-Cli-0.2-0/blib/lib"
    PERL5OPT=""
    PERL5_CPANPLUS_IS_RUNNING="5425"
    PERL5_CPAN_IS_RUNNING="5425"
    PERL_CANARY_STABILITY_NOPROMPT="1"
    PERL_MM_USE_DEFAULT="1"
    PERL_USE_UNSAFE_INC="1"
  @INC:
    /tmp/loop_over_bdir-5417-nPa2mi/Lemonldap-NG-Cli-0.2-0/blib/arch
    /tmp/loop_over_bdir-5417-nPa2mi/Lemonldap-NG-Cli-0.2-0/blib/lib
    /home/sand/src/perl/repoperls/installed-perls/host/k93bionic/v5.35.6/ca05/lib/site_perl/5.35.6/x86_64-linux-ld
    /home/sand/src/perl/repoperls/installed-perls/host/k93bionic/v5.35.6/ca05/lib/site_perl/5.35.6
    /home/sand/src/perl/repoperls/installed-perls/host/k93bionic/v5.35.6/ca05/lib/5.35.6/x86_64-linux-ld
    /home/sand/src/perl/repoperls/installed-perls/host/k93bionic/v5.35.6/ca05/lib/5.35.6
    .