Report for Test-Pod-LinkCheck-0.007

Back
From: metabase:user:30f4dfbe-2aae-11df-837a-5e0a49663a4f
Subject: PASS Test-Pod-LinkCheck-0.007 v5.10.1 GNU/Linux
Date: 2013-08-14T16:04:45Z

This distribution has been tested as part of the CPAN Testers
project, supporting the Perl programming language.  See
http://wiki.cpantesters.org/ for more information or email
questions to cpan-testers-discuss@perl.org


--
Dear Apocalypse,

This is a computer-generated report for Test-Pod-LinkCheck-0.007
on perl 5.10.1, created by CPAN-Reporter-1.2010.

Thank you for uploading your work to CPAN.  Congratulations!
All tests were successful.

Sections of this report:

    * Tester comments
    * Program output
    * Prerequisites
    * Environment and other context

------------------------------
TESTER COMMENTS
------------------------------

Additional comments from tester:

this report is from an automated smoke testing program
and was not reviewed by a human for accuracy

------------------------------
PROGRAM OUTPUT
------------------------------

Output from './Build test':

t/00-compile.t ................ ok
# 
You should load Test::Tester before Test::Builder (or anything that loads Test::Builder) at /home/njh/perl5/perlbrew/perls/perl-5.10.1/lib/5.10.1/Test/Tester.pm line 9.
# 
# Generated by Dist::Zilla::Plugin::ReportVersions::Tiny v1.03
# perl: v5.10.1 (wanted 5.006) on linux from /home/njh/perl5/perlbrew/perls/perl-5.10.1/bin/perl
# 
# App::PodLinkCheck::ParseLinks                 => 12         (want 4)      
# App::PodLinkCheck::ParseSections              => 12         (want any version)
# Capture::Tiny                                 => 0.22       (want any version)
# Config                                        => <undef>    (want any version)
# Exporter                                      => 5.68       (want any version)
# File::Find                                    => 1.14       (want any version)
# File::Spec                                    => 3.40       (want any version)
# File::Temp                                    => 0.2301     (want any version)
# Module::Build                                 => 0.4007     (want 0.3601) 
# Moose                                         => 2.0802     (want 1.01)   
# Moose::Util::TypeConstraints                  => 2.0802     (want 1.01)   
# Pod::Find                                     => 1.61       (want any version)
# Test::Builder                                 => 0.98       (want 0.94)   
# Test::More                                    => 0.98       (want 0.88)   
# Test::Pod                                     => 1.48       (want 1.44)   
# Test::Tester                                  => 0.109      (want any version)
# parent                                        => 0.225      (want any version)
# 
# Thanks for using my code.  I hope it works for you.
# If not, please try and include this output in the bug report.
# That will help me reproduce the issue and solve your problem.
# 
t/000-report-versions-tiny.t .. ok
t/apocalypse.t ................ skipped: Test::Apocalypse required for validating the distribution
t/cpan_backend.t .............. ok
t/functions.t ................. ok
t/simple.t .................... ok
All tests successful.

Test Summary Report
-------------------
t/cpan_backend.t            (Wstat: 0 Tests: 12 Failed: 0)
  TODO passed:   1-8
Files=6, Tests=118, 35 wallclock secs ( 0.05 usr  0.01 sys +  4.52 cusr  0.42 csys =  5.00 CPU)
Result: PASS

------------------------------
PREREQUISITES
------------------------------

Prerequisite modules loaded:

requires:

    Module                           Need   Have    
    -------------------------------- ------ --------
    App::PodLinkCheck::ParseLinks    4      12      
    App::PodLinkCheck::ParseSections 0      12      
    Capture::Tiny                    0      0.22    
    Config                           0      0       
    Exporter                         0      5.68    
    File::Spec                       0      3.40    
    Moose                            1.01   2.0802  
    Moose::Util::TypeConstraints     1.01   2.0802  
    parent                           0      0.225   
    perl                             5.006  5.010001
    Pod::Find                        0      1.61    
    Test::Builder                    0.94   0.98    
    Test::Pod                        1.44   1.48    

build_requires:

    Module                           Need   Have    
    -------------------------------- ------ --------
    File::Find                       0      1.14    
    File::Temp                       0      0.2301  
    Module::Build                    0.3601 0.4007  
    Test::More                       0.88   0.98    
    Test::Tester                     0      0.109   

configure_requires:

    Module                           Need   Have    
    -------------------------------- ------ --------
    Module::Build                    0.3601 0.4007  


------------------------------
ENVIRONMENT AND OTHER CONTEXT
------------------------------

Environment variables:

    AUTOMATED_TESTING = 1
    LANG = en_GB.UTF-8
    LANGUAGE = en_GB:en
    LD_LIBRARY_PATH = /usr/local/lib::
    PATH = /home/njh/perl5/perlbrew/bin:/home/njh/perl5/perlbrew/perls/perl-5.10.1/bin:/home/njh/perl5/perlbrew/bin:/usr/local/bin:/usr/bin:/bin:/usr/local/games:/usr/games:/home/njh/bin:/sbin
    PERL5LIB = /home/njh/.cpan/build/podlinkcheck-12-UKSTYz/blib/arch:/home/njh/.cpan/build/podlinkcheck-12-UKSTYz/blib/lib:/home/njh/.cpan/build/libintl-perl-1.23-AcxeT6/blib/arch:/home/njh/.cpan/build/libintl-perl-1.23-AcxeT6/blib/lib:/home/njh/.cpan/build/constant-defer-5-MZ2rxo/blib/arch:/home/njh/.cpan/build/constant-defer-5-MZ2rxo/blib/lib:/home/njh/.cpan/build/File-Find-Iterator-0.4-RCqCgR/blib/arch:/home/njh/.cpan/build/File-Find-Iterator-0.4-RCqCgR/blib/lib:/home/njh/.cpan/build/Class-Iterator-0.3-apyezd/blib/arch:/home/njh/.cpan/build/Class-Iterator-0.3-apyezd/blib/lib:/home/njh/.cpan/build/Test-EOL-1.5-7XmXo8/blib/arch:/home/njh/.cpan/build/Test-EOL-1.5-7XmXo8/blib/lib:/home/njh/.cpan/build/CPAN-Changes-0.22-23DrIu/blib/arch:/home/njh/.cpan/build/CPAN-Changes-0.22-23DrIu/blib/lib:/home/njh/.cpan/build/Test-Synopsis-0.06-N03QD1/blib/arch:/home/njh/.cpan/build/Test-Synopsis-0.06-N03QD1/blib/lib:/home/njh/.cpan/build/Test-CPAN-Meta-0.23-Nup8ED/blib/arch:/home/njh/.cpan/build/Test-CPAN-Meta-0.23-Nup8ED/blib/lib:/home/njh/.cpan/build/Test-NoTabs-1.3-3iEDfr/blib/arch:/home/njh/.cpan/build/Test-NoTabs-1.3-3iEDfr/blib/lib:/home/njh/.cpan/build/namespace-autoclean-0.13-plmglp/blib/arch:/home/njh/.cpan/build/namespace-autoclean-0.13-plmglp/blib/lib:/home/njh/.cpan/build/Test-Version-1.002001-wmAL0m/blib/arch:/home/njh/.cpan/build/Test-Version-1.002001-wmAL0m/blib/lib
    PERL5OPT = 
    PERL5_CPANPLUS_IS_RUNNING = 18084
    PERL5_CPAN_IS_RUNNING = 18084
    PERL5_MINISMOKEBOX = 0.56
    PERLBREW_BASHRC_VERSION = 0.58
    PERLBREW_HOME = /home/njh/.perlbrew
    PERLBREW_MANPATH = /home/njh/perl5/perlbrew/perls/perl-5.10.1/man
    PERLBREW_PATH = /home/njh/perl5/perlbrew/bin:/home/njh/perl5/perlbrew/perls/perl-5.10.1/bin
    PERLBREW_PERL = perl-5.10.1
    PERLBREW_ROOT = /home/njh/perl5/perlbrew
    PERLBREW_VERSION = 0.66
    PERL_EXTUTILS_AUTOINSTALL = --defaultdeps
    PERL_MM_USE_DEFAULT = 1
    SHELL = /bin/bash
    TERM = linux

Perl special variables (and OS-specific diagnostics, for MSWin32):

    $^X = /home/njh/perl5/perlbrew/perls/perl-5.10.1/bin/perl
    $UID/$EUID = 1000 / 1000
    $GID = 1000 24 25 29 30 44 46 108 112 1000
    $EGID = 1000 24 25 29 30 44 46 108 112 1000

Perl module toolchain versions installed:

    Module              Have    
    ------------------- --------
    CPAN                2.00    
    CPAN::Meta          2.132140
    Cwd                 3.40    
    ExtUtils::CBuilder  0.280205
    ExtUtils::Command   1.17    
    ExtUtils::Install   1.54    
    ExtUtils::MakeMaker 6.72    
    ExtUtils::Manifest  1.61    
    ExtUtils::ParseXS   3.18    
    File::Spec          3.40    
    JSON                2.59    
    JSON::PP            2.27202 
    Module::Build       0.4007  
    Module::Signature   0.73    
    Parse::CPAN::Meta   1.4405  
    Test::Harness       3.28    
    Test::More          0.98    
    YAML                0.84    
    YAML::Syck          1.27    
    version             0.9902  


--

Summary of my perl5 (revision 5 version 10 subversion 1) configuration:
   
  Platform:
    osname=linux, osvers=3.2.0-4-amd64, archname=x86_64-linux-thread-multi
    uname='linux nigelhorne.force9.co.uk 3.2.0-4-amd64 #1 smp debian 3.2.32-1 x86_64 gnulinux '
    config_args='-de -Dprefix=/home/njh/perl5/perlbrew/perls/perl-5.10.1 -Duseithreads -Dusemultiplicity -Accflags=-O2 -W -Wformat=2 -Wswitch -Wshadow -Wwrite-strings -Wuninitialized -Wall -pipe -mtune=native -march=native -fomit-frame-pointer -mfpmath=sse -pedantic -D_FORTIFY_SOURCE=2 -Wpointer-arith -Wstrict-prototypes -fstack-protector -Wstack-protector -Wextra -Wbad-function-cast -Wcast-align -Wcast-qual -Wdisabled-optimization -Wendif-labels -Wfloat-equal -Wformat-nonliteral -Winline -Wmissing-declarations -Wmissing-prototypes -Wnested-externs -Wpointer-arith -Wundef -Wformat-security -Aeval:scriptdir=/home/njh/perl5/perlbrew/perls/perl-5.10.1/bin'
    hint=recommended, useposix=true, d_sigaction=define
    useithreads=define, usemultiplicity=define
    useperlio=define, d_sfio=undef, uselargefiles=define, usesocks=undef
    use64bitint=define, use64bitall=define, uselongdouble=undef
    usemymalloc=n, bincompat5005=undef
  Compiler:
    cc='cc', ccflags ='-D_REENTRANT -D_GNU_SOURCE -O2 -W -Wformat=2 -Wswitch -Wshadow -Wwrite-strings -Wuninitialized -Wall -pipe -mtune=native -march=native -fomit-frame-pointer -mfpmath=sse -pedantic -D_FORTIFY_SOURCE=2 -Wpointer-arith -Wstrict-prototypes -fstack-protector -Wstack-protector -Wextra -Wbad-function-cast -Wcast-align -Wcast-qual -Wdisabled-optimization -Wendif-labels -Wfloat-equal -Wformat-nonliteral -Winline -Wmissing-declarations -Wmissing-prototypes -Wnested-externs -Wpointer-arith -Wundef -Wformat-security -fno-strict-aliasing -I/usr/local/include -D_LARGEFILE_SOURCE -D_FILE_OFFSET_BITS=64',
    optimize='-O2',
    cppflags='-D_REENTRANT -D_GNU_SOURCE -O2 -W -Wformat=2 -Wswitch -Wshadow -Wwrite-strings -Wuninitialized -Wall -pipe -mtune=native -march=native -fomit-frame-pointer -mfpmath=sse -pedantic -D_FORTIFY_SOURCE=2 -Wpointer-arith -Wstrict-prototypes -fstack-protector -Wstack-protector -Wextra -Wbad-function-cast -Wcast-align -Wcast-qual -Wdisabled-optimization -Wendif-labels -Wfloat-equal -Wformat-nonliteral -Winline -Wmissing-declarations -Wmissing-prototypes -Wnested-externs -Wpointer-arith -Wundef -Wformat-security -fno-strict-aliasing -I/usr/local/include'
    ccversion='', gccversion='4.7.2', gccosandvers=''
    intsize=4, longsize=8, ptrsize=8, doublesize=8, byteorder=12345678
    d_longlong=define, longlongsize=8, d_longdbl=define, longdblsize=16
    ivtype='long', ivsize=8, nvtype='double', nvsize=8, Off_t='off_t', lseeksize=8
    alignbytes=8, prototype=define
  Linker and Libraries:
    ld='cc', ldflags =' -fstack-protector -L/usr/local/lib'
    libpth=/usr/local/lib /lib/x86_64-linux-gnu /lib/../lib /usr/lib/x86_64-linux-gnu /usr/lib/../lib /lib /usr/lib
    libs=-lnsl -lgdbm -ldb -ldl -lm -lcrypt -lutil -lpthread -lc -lgdbm_compat
    perllibs=-lnsl -ldl -lm -lcrypt -lutil -lpthread -lc
    libc=, so=so, useshrplib=false, libperl=libperl.a
    gnulibc_version='2.13'
  Dynamic Linking:
    dlsrc=dl_dlopen.xs, dlext=so, d_dlsymun=undef, ccdlflags='-Wl,-E'
    cccdlflags='-fPIC', lddlflags='-shared -O2 -L/usr/local/lib -fstack-protector'


Characteristics of this binary (from libperl): 
  Compile-time options: MULTIPLICITY PERL_DONT_CREATE_GVSV
                        PERL_IMPLICIT_CONTEXT PERL_MALLOC_WRAP USE_64_BIT_ALL
                        USE_64_BIT_INT USE_ITHREADS USE_LARGE_FILES
                        USE_PERLIO USE_REENTRANT_API
  Built under linux
  Compiled at Mar  5 2013 01:45:13
  %ENV:
    PERL5LIB="/home/njh/.cpan/build/podlinkcheck-12-UKSTYz/blib/arch:/home/njh/.cpan/build/podlinkcheck-12-UKSTYz/blib/lib:/home/njh/.cpan/build/libintl-perl-1.23-AcxeT6/blib/arch:/home/njh/.cpan/build/libintl-perl-1.23-AcxeT6/blib/lib:/home/njh/.cpan/build/constant-defer-5-MZ2rxo/blib/arch:/home/njh/.cpan/build/constant-defer-5-MZ2rxo/blib/lib:/home/njh/.cpan/build/File-Find-Iterator-0.4-RCqCgR/blib/arch:/home/njh/.cpan/build/File-Find-Iterator-0.4-RCqCgR/blib/lib:/home/njh/.cpan/build/Class-Iterator-0.3-apyezd/blib/arch:/home/njh/.cpan/build/Class-Iterator-0.3-apyezd/blib/lib:/home/njh/.cpan/build/Test-EOL-1.5-7XmXo8/blib/arch:/home/njh/.cpan/build/Test-EOL-1.5-7XmXo8/blib/lib:/home/njh/.cpan/build/CPAN-Changes-0.22-23DrIu/blib/arch:/home/njh/.cpan/build/CPAN-Changes-0.22-23DrIu/blib/lib:/home/njh/.cpan/build/Test-Synopsis-0.06-N03QD1/blib/arch:/home/njh/.cpan/build/Test-Synopsis-0.06-N03QD1/blib/lib:/home/njh/.cpan/build/Test-CPAN-Meta-0.23-Nup8ED/blib/arch:/home/njh/.cpan/build/Test-CPAN-Meta-0.23-Nup8ED/blib/lib:/home/njh/.cpan/build/Test-NoTabs-1.3-3iEDfr/blib/arch:/home/njh/.cpan/build/Test-NoTabs-1.3-3iEDfr/blib/lib:/home/njh/.cpan/build/namespace-autoclean-0.13-plmglp/blib/arch:/home/njh/.cpan/build/namespace-autoclean-0.13-plmglp/blib/lib:/home/njh/.cpan/build/Test-Version-1.002001-wmAL0m/blib/arch:/home/njh/.cpan/build/Test-Version-1.002001-wmAL0m/blib/lib"
    PERL5OPT=""
    PERL5_CPANPLUS_IS_RUNNING="18084"
    PERL5_CPAN_IS_RUNNING="18084"
    PERL5_MINISMOKEBOX="0.56"
    PERLBREW_BASHRC_VERSION="0.58"
    PERLBREW_HOME="/home/njh/.perlbrew"
    PERLBREW_MANPATH="/home/njh/perl5/perlbrew/perls/perl-5.10.1/man"
    PERLBREW_PATH="/home/njh/perl5/perlbrew/bin:/home/njh/perl5/perlbrew/perls/perl-5.10.1/bin"
    PERLBREW_PERL="perl-5.10.1"
    PERLBREW_ROOT="/home/njh/perl5/perlbrew"
    PERLBREW_VERSION="0.66"
    PERL_EXTUTILS_AUTOINSTALL="--defaultdeps"
    PERL_MM_USE_DEFAULT="1"
  @INC:
    /home/njh/.cpan/build/podlinkcheck-12-UKSTYz/blib/arch
    /home/njh/.cpan/build/podlinkcheck-12-UKSTYz/blib/lib
    /home/njh/.cpan/build/libintl-perl-1.23-AcxeT6/blib/arch
    /home/njh/.cpan/build/libintl-perl-1.23-AcxeT6/blib/lib
    /home/njh/.cpan/build/constant-defer-5-MZ2rxo/blib/arch
    /home/njh/.cpan/build/constant-defer-5-MZ2rxo/blib/lib
    /home/njh/.cpan/build/File-Find-Iterator-0.4-RCqCgR/blib/arch
    /home/njh/.cpan/build/File-Find-Iterator-0.4-RCqCgR/blib/lib
    /home/njh/.cpan/build/Class-Iterator-0.3-apyezd/blib/arch
    /home/njh/.cpan/build/Class-Iterator-0.3-apyezd/blib/lib
    /home/njh/.cpan/build/Test-EOL-1.5-7XmXo8/blib/arch
    /home/njh/.cpan/build/Test-EOL-1.5-7XmXo8/blib/lib
    /home/njh/.cpan/build/CPAN-Changes-0.22-23DrIu/blib/arch
    /home/njh/.cpan/build/CPAN-Changes-0.22-23DrIu/blib/lib
    /home/njh/.cpan/build/Test-Synopsis-0.06-N03QD1/blib/arch
    /home/njh/.cpan/build/Test-Synopsis-0.06-N03QD1/blib/lib
    /home/njh/.cpan/build/Test-CPAN-Meta-0.23-Nup8ED/blib/arch
    /home/njh/.cpan/build/Test-CPAN-Meta-0.23-Nup8ED/blib/lib
    /home/njh/.cpan/build/Test-NoTabs-1.3-3iEDfr/blib/arch
    /home/njh/.cpan/build/Test-NoTabs-1.3-3iEDfr/blib/lib
    /home/njh/.cpan/build/namespace-autoclean-0.13-plmglp/blib/arch
    /home/njh/.cpan/build/namespace-autoclean-0.13-plmglp/blib/lib
    /home/njh/.cpan/build/Test-Version-1.002001-wmAL0m/blib/arch
    /home/njh/.cpan/build/Test-Version-1.002001-wmAL0m/blib/lib
    /home/njh/perl5/perlbrew/perls/perl-5.10.1/lib/5.10.1/x86_64-linux-thread-multi
    /home/njh/perl5/perlbrew/perls/perl-5.10.1/lib/5.10.1
    /home/njh/perl5/perlbrew/perls/perl-5.10.1/lib/site_perl/5.10.1/x86_64-linux-thread-multi
    /home/njh/perl5/perlbrew/perls/perl-5.10.1/lib/site_perl/5.10.1
    .