Back
From: metabase:user:30dda8bc-2aae-11df-837a-5e0a49663a4f
Subject: PASS Image-Thumbnail-0.66 v5.8.8 GNU/Linux
Date: 2011-04-04T17:51:58Z
This distribution has been tested as part of the CPAN Testers
project, supporting the Perl programming language. See
http://wiki.cpantesters.org/ for more information or email
questions to cpan-testers-discuss@perl.org
--
Dear Lee Goddard,
This is a computer-generated report for Image-Thumbnail-0.66
on perl 5.8.8, created by CPAN-Reporter-1.1902.
Thank you for uploading your work to CPAN. Congratulations!
All tests were successful.
Sections of this report:
* Tester comments
* Program output
* Prerequisites
* Environment and other context
------------------------------
TESTER COMMENTS
------------------------------
Additional comments from tester:
this report is from an automated smoke testing program
and was not reviewed by a human for accuracy
------------------------------
PROGRAM OUTPUT
------------------------------
Output from '/usr/bin/make test':
PERL_DL_NONLAZY=1 /usr/bin/perl "-MExtUtils::Command::MM" "-e" "test_harness(0, 'blib/lib', 'blib/arch')" t/*.t
Can't locate GD.pm in @INC (@INC contains: ../lib /tmp/cpan/CentOS-5.4-x86_64/build/Image-Thumbnail-0.66-PcQuyK/blib/lib /tmp/cpan/CentOS-5.4-x86_64/build/Image-Thumbnail-0.66-PcQuyK/blib/arch /net/netfile2/ag-russell/perl-smoker/CentOS-5.4-x86_64/lib/perl5/x86_64-linux-thread-multi /net/netfile2/ag-russell/perl-smoker/CentOS-5.4-x86_64/lib/perl5 /usr/lib64/perl5/site_perl/5.8.8/x86_64-linux-thread-multi /usr/lib/perl5/site_perl/5.8.8 /usr/lib/perl5/site_perl /usr/lib64/perl5/vendor_perl/5.8.8/x86_64-linux-thread-multi /usr/lib/perl5/vendor_perl/5.8.8 /usr/lib/perl5/vendor_perl /usr/lib64/perl5/5.8.8/x86_64-linux-thread-multi /usr/lib/perl5/5.8.8 .) at (eval 62) line 3.
...caught at t/gdblob.t line 11.
t/gdblob.t ...... skipped: Skip GD tests - GD not installed
t/gdf.t ......... skipped: Skip GD tests - GD not installed
t/gdo.t ......... skipped: Skip GD tests - GD not installed
t/imagerf.t ..... skipped: Skip Imager file test - No JPEG abaility in Imager
t/imagerfbmp.t .. ok
t/imagero.t ..... ok
t/imagerobmp.t .. ok
t/imblob.t ...... skipped: Skip IM tests - IM not installed
t/imf.t ......... skipped: Skip IM tests - IM not installed
t/imfa.t ........ skipped: Skip IM tests - IM not installed
t/imo.t ......... skipped: Skip Image Magick tests - IM not installed
All tests successful.
Files=11, Tests=20, 7 wallclock secs ( 0.10 usr 0.04 sys + 2.77 cusr 4.45 csys = 7.36 CPU)
Result: PASS
------------------------------
PREREQUISITES
------------------------------
Prerequisite modules loaded:
requires:
Module Need Have
------------------- ---- -------
Test::Harness 0.1 3.23
Test::More 0 2.00_07
build_requires:
Module Need Have
------------------- ---- -------
ExtUtils::MakeMaker 0 6.57_10
configure_requires:
Module Need Have
------------------- ---- -------
ExtUtils::MakeMaker 0 6.57_10
------------------------------
ENVIRONMENT AND OTHER CONTEXT
------------------------------
Environment variables:
AUTOMATED_TESTING = 1
LANG = en_US.utf8
PATH = /net/netfile2/ag-russell/perl-smoker/CentOS-5.4-x86_64/bin:/bin:/sbin:/usr/bin:/usr/sbin:/usr/local/bin
PERL5LIB = /net/netfile2/ag-russell/perl-smoker/CentOS-5.4-x86_64/lib/perl5/x86_64-linux-thread-multi:/net/netfile2/ag-russell/perl-smoker/CentOS-5.4-x86_64/lib/perl5
PERL5OPT =
PERL5_CPANPLUS_IS_RUNNING = 26656
PERL5_CPAN_IS_RUNNING = 26656
PERL5_CPAN_IS_RUNNING_IN_RECURSION = 3093,26656
PERLBREW_ROOT = /net/netfile2/ag-russell/install/CentOS-5.4-x86_64/perlbrew
PERL_CR_SMOKER_CURRENT = Image-Thumbnail-0.66
PERL_EXTUTILS_AUTOINSTALL = --defaultdeps
PERL_LOCAL_LIB_ROOT = /net/netfile2/ag-russell/perl-smoker/CentOS-5.4-x86_64
PERL_MB_OPT = --install_base /net/netfile2/ag-russell/perl-smoker/CentOS-5.4-x86_64
PERL_MM_OPT = INSTALL_BASE=/net/netfile2/ag-russell/perl-smoker/CentOS-5.4-x86_64
PERL_MM_USE_DEFAULT = 1
SHELL = /bin/bash
TERM = xterm
Perl special variables (and OS-specific diagnostics, for MSWin32):
$^X = /usr/bin/perl
$UID/$EUID = 2699 / 2699
$GID = 2048 10099 10004 10003 10000 2048
$EGID = 2048 10099 10004 10003 10000 2048
Perl module toolchain versions installed:
Module Have
------------------- --------
CPAN 1.9600
Cwd 3.33
ExtUtils::CBuilder 0.280202
ExtUtils::Command 1.17
ExtUtils::Install 1.54
ExtUtils::MakeMaker 6.57_10
ExtUtils::Manifest 1.58
ExtUtils::ParseXS 2.2206
File::Spec 3.33
Module::Build 0.3800
Module::Signature 0.66
Test::Harness 3.23
Test::More 2.00_07
YAML 0.72
YAML::Syck 1.17
version 0.88
--
Summary of my perl5 (revision 5 version 8 subversion 8) configuration:
Platform:
osname=linux, osvers=2.6.18-53.el5, archname=x86_64-linux-thread-multi
uname='linux builder10.centos.org 2.6.18-53.el5 #1 smp mon nov 12 02:14:55 est 2007 x86_64 x86_64 x86_64 gnulinux '
config_args='-des -Doptimize=-O2 -g -pipe -Wall -Wp,-D_FORTIFY_SOURCE=2 -fexceptions -fstack-protector --param=ssp-buffer-size=4 -m64 -mtune=generic -Dversion=5.8.8 -Dmyhostname=localhost -Dperladmin=root@localhost -Dcc=gcc -Dcf_by=Red Hat, Inc. -Dinstallprefix=/usr -Dprefix=/usr -Dlibpth=/usr/local/lib64 /lib64 /usr/lib64 -Dprivlib=/usr/lib/perl5/5.8.8 -Dsitelib=/usr/lib/perl5/site_perl/5.8.8 -Dvendorlib=/usr/lib/perl5/vendor_perl/5.8.8 -Darchlib=/usr/lib64/perl5/5.8.8/x86_64-linux-thread-multi -Dsitearch=/usr/lib64/perl5/site_perl/5.8.8/x86_64-linux-thread-multi -Dvendorarch=/usr/lib64/perl5/vendor_perl/5.8.8/x86_64-linux-thread-multi -Darchname=x86_64-linux-thread-multi -Dvendorprefix=/usr -Dsiteprefix=/usr -Duseshrplib -Dusethreads -Duseithreads -Duselargefiles -Dd_dosuid -Dd_semctl_semun -Di_db -Ui_ndbm -Di_gdbm -Di_shadow -Di_syslog -Dman3ext=3pm -Duseperlio -Dinstallusrbinperl=n -Ubincompat5005 -Uversiononly -Dpager=/usr/bin/less -isr -Dd_gethostent_r_proto -Ud_endhostent_r_proto -Ud_sethostent_r_proto -Ud_endprotoent_r_proto -Ud_setprotoent_r_proto -Ud_endservent_r_proto -Ud_setservent_r_proto -Dinc_version_list=5.8.7 5.8.6 5.8.5 -Dscriptdir=/usr/bin'
hint=recommended, useposix=true, d_sigaction=define
usethreads=define use5005threads=undef useithreads=define usemultiplicity=define
useperlio=define d_sfio=undef uselargefiles=define usesocks=undef
use64bitint=define use64bitall=define uselongdouble=undef
usemymalloc=n, bincompat5005=undef
Compiler:
cc='gcc', ccflags ='-D_REENTRANT -D_GNU_SOURCE -fno-strict-aliasing -pipe -Wdeclaration-after-statement -I/usr/local/include -D_LARGEFILE_SOURCE -D_FILE_OFFSET_BITS=64 -I/usr/include/gdbm',
optimize='-O2 -g -pipe -Wall -Wp,-D_FORTIFY_SOURCE=2 -fexceptions -fstack-protector --param=ssp-buffer-size=4 -m64 -mtune=generic',
cppflags='-D_REENTRANT -D_GNU_SOURCE -fno-strict-aliasing -pipe -Wdeclaration-after-statement -I/usr/local/include -I/usr/include/gdbm'
ccversion='', gccversion='4.1.2 20080704 (Red Hat 4.1.2-46)', gccosandvers=''
intsize=4, longsize=8, ptrsize=8, doublesize=8, byteorder=12345678
d_longlong=define, longlongsize=8, d_longdbl=define, longdblsize=16
ivtype='long', ivsize=8, nvtype='double', nvsize=8, Off_t='off_t', lseeksize=8
alignbytes=8, prototype=define
Linker and Libraries:
ld='gcc', ldflags =''
libpth=/usr/local/lib64 /lib64 /usr/lib64
libs=-lresolv -lnsl -lgdbm -ldb -ldl -lm -lcrypt -lutil -lpthread -lc
perllibs=-lresolv -lnsl -ldl -lm -lcrypt -lutil -lpthread -lc
libc=, so=so, useshrplib=true, libperl=libperl.so
gnulibc_version='2.5'
Dynamic Linking:
dlsrc=dl_dlopen.xs, dlext=so, d_dlsymun=undef, ccdlflags='-Wl,-E -Wl,-rpath,/usr/lib64/perl5/5.8.8/x86_64-linux-thread-multi/CORE'
cccdlflags='-fPIC', lddlflags='-shared -O2 -g -pipe -Wall -Wp,-D_FORTIFY_SOURCE=2 -fexceptions -fstack-protector --param=ssp-buffer-size=4 -m64 -mtune=generic'
Characteristics of this binary (from libperl):
Compile-time options: MULTIPLICITY PERL_IMPLICIT_CONTEXT
PERL_MALLOC_WRAP USE_64_BIT_ALL USE_64_BIT_INT
USE_ITHREADS USE_LARGE_FILES USE_PERLIO
USE_REENTRANT_API
Built under linux
Compiled at Sep 3 2009 10:26:51
%ENV:
PERL5LIB="/net/netfile2/ag-russell/perl-smoker/CentOS-5.4-x86_64/lib/perl5/x86_64-linux-thread-multi:/net/netfile2/ag-russell/perl-smoker/CentOS-5.4-x86_64/lib/perl5"
PERL5OPT=""
PERL5_CPANPLUS_IS_RUNNING="26656"
PERL5_CPAN_IS_RUNNING="26656"
PERL5_CPAN_IS_RUNNING_IN_RECURSION="3093,26656"
PERLBREW_ROOT="/net/netfile2/ag-russell/install/CentOS-5.4-x86_64/perlbrew"
PERL_CR_SMOKER_CURRENT="Image-Thumbnail-0.66"
PERL_EXTUTILS_AUTOINSTALL="--defaultdeps"
PERL_LOCAL_LIB_ROOT="/net/netfile2/ag-russell/perl-smoker/CentOS-5.4-x86_64"
PERL_MB_OPT="--install_base /net/netfile2/ag-russell/perl-smoker/CentOS-5.4-x86_64"
PERL_MM_OPT="INSTALL_BASE=/net/netfile2/ag-russell/perl-smoker/CentOS-5.4-x86_64"
PERL_MM_USE_DEFAULT="1"
@INC:
/net/netfile2/ag-russell/perl-smoker/CentOS-5.4-x86_64/lib/perl5/x86_64-linux-thread-multi
/net/netfile2/ag-russell/perl-smoker/CentOS-5.4-x86_64/lib/perl5/x86_64-linux-thread-multi
/net/netfile2/ag-russell/perl-smoker/CentOS-5.4-x86_64/lib/perl5
/usr/lib64/perl5/site_perl/5.8.8/x86_64-linux-thread-multi
/usr/lib/perl5/site_perl/5.8.8
/usr/lib/perl5/site_perl
/usr/lib64/perl5/vendor_perl/5.8.8/x86_64-linux-thread-multi
/usr/lib/perl5/vendor_perl/5.8.8
/usr/lib/perl5/vendor_perl
/usr/lib64/perl5/5.8.8/x86_64-linux-thread-multi
/usr/lib/perl5/5.8.8
.