Report for XML-CompileX-WSDL11-AsMethods-0.001-TRIAL

Back
From: metabase:user:320bfe00-2aae-11df-837a-5e0a49663a4f
Subject: PASS XML-CompileX-WSDL11-AsMethods-0.001-TRIAL v5.16.3 GNU/Linux
Date: 2015-01-23T08:45:51Z

This distribution has been tested as part of the CPAN Testers
project, supporting the Perl programming language.  See
http://wiki.cpantesters.org/ for more information or email
questions to cpan-testers-discuss@perl.org


--
Dear Mark Gardner,

This is a computer-generated report for XML-CompileX-WSDL11-AsMethods-0.001-TRIAL
on perl 5.16.3, created by CPAN-Reporter-1.2011.

Thank you for uploading your work to CPAN.  Congratulations!
All tests were successful.

Sections of this report:

    * Tester comments
    * Program output
    * Prerequisites
    * Environment and other context

------------------------------
TESTER COMMENTS
------------------------------

Additional comments from tester:

this report is from an automated smoke testing program
and was not reviewed by a human for accuracy

------------------------------
PROGRAM OUTPUT
------------------------------

Output from '/usr/bin/make test':

PERL_DL_NONLAZY=1 "/home/sand/src/perl/repoperls/installed-perls/perl/v5.16.3/a2da/bin/perl" "-MExtUtils::Command::MM" "-MTest::Harness" "-e" "undef *Test::Harness::Switches; test_harness(0, 'blib/lib', 'blib/arch')" t/*.t
t/00-compile.t ............... ok
# Testing with Perl 5.016003, /home/sand/src/perl/repoperls/installed-perls/perl/v5.16.3/a2da/bin/perl
#     Carp version is 1.3301
#     Const::Fast version is 0.014
#     ExtUtils::MakeMaker version is 7.0508
#     File::Spec version is 3.47
#     HTTP::Response version is 6.04
#     HTTP::Status version is 6.03
#     IO::Handle version is 1.33
#     IPC::Open3 version is 1.12
#     LWP::UserAgent version is 6.06
#     Modern::Perl version is 1.20140107
#     Moo version is 1.006001
#     MooX::Types::MooseLike::Base version is 0.27
#     Package::Stash version is 0.37
#     Params::Util version is 1.07
#     Path::Tiny version is 0.061
#     Scalar::Util version is 1.41
#     Test::LWP::UserAgent version is 0.026
#     Test::More version is 1.001014
#     Test::Most version is 0.34
#     Try::Tiny version is 0.22
#     URI version is 1.65
#     URI::file version is 4.21
#     XML::Compile::SOAP11 version is 3.07
#     XML::Compile::SOAP::Util version is 3.07
#     XML::Compile::Transport::SOAPHTTP version is 3.07
#     XML::Compile::WSDL11 version is 3.03
#     XML::CompileX::Schema::Loader version is 0.006
#     XML::LibXML version is 2.0117
#     XML::LibXML::XPathContext version is 2.0117
#     strict version is 1.07
#     utf8 version is 1.09
#     warnings version is 1.13
t/000-report-versions.t ...... ok
t/author-critic.t ............ skipped: these tests are for testing by the author
t/author-eol.t ............... skipped: these tests are for testing by the author
t/author-no-tabs.t ........... skipped: these tests are for testing by the author
t/release-cpan-changes.t ..... skipped: these tests are for release candidate testing
t/release-dist-manifest.t .... skipped: these tests are for release candidate testing
t/release-distmeta.t ......... skipped: these tests are for release candidate testing
t/release-kwalitee.t ......... skipped: these tests are for release candidate testing
t/release-meta-json.t ........ skipped: these tests are for release candidate testing
t/release-minimum-version.t .. skipped: these tests are for release candidate testing
t/release-mojibake.t ......... skipped: these tests are for release candidate testing
t/release-pod-coverage.t ..... skipped: these tests are for release candidate testing
t/release-pod-linkcheck.t .... skipped: these tests are for release candidate testing
t/release-pod-syntax.t ....... skipped: these tests are for release candidate testing
t/release-portability.t ...... skipped: these tests are for release candidate testing
t/release-synopsis.t ......... skipped: these tests are for release candidate testing
t/release-test-version.t ..... skipped: these tests are for release candidate testing
t/release-unused-vars.t ...... skipped: these tests are for release candidate testing
Name "Local::Test::StockQuote::GetLastTradePrice" used only once: possible typo at t/stockquote.t line 51.
error: a compiled call for GetLastTradePrice already exists
t/stockquote.t ............... ok
All tests successful.
Files=20, Tests=36, 10 wallclock secs ( 0.08 usr  0.00 sys +  1.44 cusr  0.23 csys =  1.75 CPU)
Result: PASS

------------------------------
PREREQUISITES
------------------------------

Prerequisite modules loaded:

requires:

    Module                            Need  Have      
    --------------------------------- ----- ----------
    Carp                              0     1.3301    
    LWP::UserAgent                    0     6.06      
    Modern::Perl                      0     1.20140107
    Moo                               0     1.006001  
    MooX::Types::MooseLike::Base      0     0.27      
    Package::Stash                    0     0.37      
    Params::Util                      0     1.07      
    perl                              5.010 5.016003  
    Scalar::Util                      0     1.41      
    Try::Tiny                         0     0.22      
    URI                               0     1.65      
    utf8                              0     1.09      
    XML::Compile::SOAP11              0     3.07      
    XML::Compile::Transport::SOAPHTTP 0     3.07      
    XML::Compile::WSDL11              0     3.03      
    XML::CompileX::Schema::Loader     0     0.006     

build_requires:

    Module                            Need  Have      
    --------------------------------- ----- ----------
    Const::Fast                       0     0.014     
    ExtUtils::MakeMaker               0     7.05_08   
    File::Spec                        0     3.47      
    HTTP::Response                    0     6.04      
    HTTP::Status                      0     6.03      
    IO::Handle                        0     1.33      
    IPC::Open3                        0     1.12      
    Path::Tiny                        0     0.061     
    strict                            0     1.07      
    Test::LWP::UserAgent              0     0.026     
    Test::More                        0.94  1.001014  
    Test::Most                        0     0.34      
    URI::file                         0     4.21      
    warnings                          0     1.13      
    XML::Compile::SOAP::Util          0     3.07      
    XML::LibXML                       0     2.0117    
    XML::LibXML::XPathContext         0     2.0117    

configure_requires:

    Module                            Need  Have      
    --------------------------------- ----- ----------
    ExtUtils::MakeMaker               0     7.05_08   


------------------------------
ENVIRONMENT AND OTHER CONTEXT
------------------------------

Environment variables:

    AUTOMATED_TESTING = 1
    LANG = en_US.UTF-8
    LANGUAGE = en_US:en
    PATH = /home/sand/bin:/usr/local/bin:/usr/bin:/bin:/usr/games:/usr/local/perl/bin:/usr/X11/bin:/sbin:/usr/sbin
    PERL5LIB = 
    PERL5OPT = 
    PERL5_CPANPLUS_IS_RUNNING = 8301
    PERL5_CPAN_IS_RUNNING = 8301
    PERL_MM_USE_DEFAULT = 1
    SHELL = /usr/bin/zsh
    TERM = screen

Perl special variables (and OS-specific diagnostics, for MSWin32):

    $^X = /home/sand/src/perl/repoperls/installed-perls/perl/v5.16.3/a2da/bin/perl
    $UID/$EUID = 1005 / 1005
    $GID = 1005 1005
    $EGID = 1005 1005

Perl module toolchain versions installed:

    Module              Have    
    ------------------- --------
    CPAN                2.05    
    CPAN::Meta          2.143240
    Cwd                 3.47    
    ExtUtils::CBuilder  0.280220
    ExtUtils::Command   7.05_08 
    ExtUtils::Install   1.58    
    ExtUtils::MakeMaker 7.05_08 
    ExtUtils::Manifest  1.70    
    ExtUtils::ParseXS   3.24    
    File::Spec          3.47    
    JSON                2.90    
    JSON::PP            2.27203 
    Module::Build       0.4211  
    Module::Signature   0.73    
    Parse::CPAN::Meta   1.4414  
    Test::Harness       3.35    
    Test::More          1.001014
    YAML                1.14    
    YAML::Syck          1.29    
    version             0.9912  


--

Summary of my perl5 (revision 5 version 16 subversion 3) configuration:
  Commit id: fd04d42d38f4751b981eb6e9213ee1ab8ef11ea6
  Platform:
    osname=linux, osvers=3.16.0-4-amd64, archname=x86_64-linux-thread-multi-ld
    uname='linux k83 3.16.0-4-amd64 #1 smp debian 3.16.7-ckt2-1 (2014-12-08) x86_64 gnulinux '
    config_args='-Dprefix=/home/sand/src/perl/repoperls/installed-perls/perl/v5.16.3/a2da -Dmyhostname=k83 -Dinstallusrbinperl=n -Uversiononly -Dusedevel -des -Ui_db -Duseithreads -Duselongdouble -DDEBUGGING=-g'
    hint=recommended, useposix=true, d_sigaction=define
    useithreads=define, usemultiplicity=define
    useperlio=define, d_sfio=undef, uselargefiles=define, usesocks=undef
    use64bitint=define, use64bitall=define, uselongdouble=define
    usemymalloc=n, bincompat5005=undef
  Compiler:
    cc='cc', ccflags ='-D_REENTRANT -D_GNU_SOURCE -fno-strict-aliasing -pipe -fstack-protector -I/usr/local/include -D_LARGEFILE_SOURCE -D_FILE_OFFSET_BITS=64',
    optimize='-O2 -g',
    cppflags='-D_REENTRANT -D_GNU_SOURCE -fno-strict-aliasing -pipe -fstack-protector -I/usr/local/include'
    ccversion='', gccversion='4.9.2', gccosandvers=''
    intsize=4, longsize=8, ptrsize=8, doublesize=8, byteorder=12345678
    d_longlong=define, longlongsize=8, d_longdbl=define, longdblsize=16
    ivtype='long', ivsize=8, nvtype='long double', nvsize=16, Off_t='off_t', lseeksize=8
    alignbytes=16, prototype=define
  Linker and Libraries:
    ld='cc', ldflags =' -fstack-protector -L/usr/local/lib'
    libpth=/usr/local/lib /lib/x86_64-linux-gnu /lib/../lib /usr/lib/x86_64-linux-gnu /usr/lib/../lib /lib /usr/lib
    libs=-lnsl -lgdbm -ldb -ldl -lm -lcrypt -lutil -lpthread -lc -lgdbm_compat
    perllibs=-lnsl -ldl -lm -lcrypt -lutil -lpthread -lc
    libc=, so=so, useshrplib=false, libperl=libperl.a
    gnulibc_version='2.19'
  Dynamic Linking:
    dlsrc=dl_dlopen.xs, dlext=so, d_dlsymun=undef, ccdlflags='-Wl,-E'
    cccdlflags='-fPIC', lddlflags='-shared -O2 -g -L/usr/local/lib -fstack-protector'


Characteristics of this binary (from libperl): 
  Compile-time options: HAS_TIMES MULTIPLICITY PERLIO_LAYERS
                        PERL_DONT_CREATE_GVSV PERL_IMPLICIT_CONTEXT
                        PERL_MALLOC_WRAP PERL_PRESERVE_IVUV PERL_USE_DEVEL
                        USE_64_BIT_ALL USE_64_BIT_INT USE_ITHREADS
                        USE_LARGE_FILES USE_LOCALE USE_LOCALE_COLLATE
                        USE_LOCALE_CTYPE USE_LOCALE_NUMERIC USE_LONG_DOUBLE
                        USE_PERLIO USE_PERL_ATOF USE_REENTRANT_API
  Built under linux
  Compiled at Jan 10 2015 09:23:23
  %ENV:
    PERL5LIB=""
    PERL5OPT=""
    PERL5_CPANPLUS_IS_RUNNING="8301"
    PERL5_CPAN_IS_RUNNING="8301"
    PERL_MM_USE_DEFAULT="1"
  @INC:
    /home/sand/src/perl/repoperls/installed-perls/perl/v5.16.3/a2da/lib/site_perl/5.16.3/x86_64-linux-thread-multi-ld
    /home/sand/src/perl/repoperls/installed-perls/perl/v5.16.3/a2da/lib/site_perl/5.16.3
    /home/sand/src/perl/repoperls/installed-perls/perl/v5.16.3/a2da/lib/5.16.3/x86_64-linux-thread-multi-ld
    /home/sand/src/perl/repoperls/installed-perls/perl/v5.16.3/a2da/lib/5.16.3
    .