Report for XML-Toolkit-0.15

Back
From: metabase:user:30f4dfbe-2aae-11df-837a-5e0a49663a4f
Subject: PASS XML-Toolkit-0.15 v5.22.0 Mac OS X
Date: 2015-06-08T19:47:46Z

This distribution has been tested as part of the CPAN Testers
project, supporting the Perl programming language.  See
http://wiki.cpantesters.org/ for more information or email
questions to cpan-testers-discuss@perl.org


--
Dear Chris Prather,

This is a computer-generated report for XML-Toolkit-0.15
on perl 5.22.0, created by CPAN-Reporter-1.2014.

Thank you for uploading your work to CPAN.  Congratulations!
All tests were successful.

Sections of this report:

    * Tester comments
    * Program output
    * Prerequisites
    * Environment and other context

------------------------------
TESTER COMMENTS
------------------------------

Additional comments from tester:

this report is from an automated smoke testing program
and was not reviewed by a human for accuracy

------------------------------
PROGRAM OUTPUT
------------------------------

Output from '/sw/bin/make test':

PERL_DL_NONLAZY=1 "/Users/hornenj/perl5/perlbrew/perls/perl-5.22.0/bin/perl5.22.0" "-MExtUtils::Command::MM" "-MTest::Harness" "-e" "undef *Test::Harness::Switches; test_harness(0, 'blib/lib', 'blib/arch')" t/*.t t/02.namespaces/*.t t/06.reuse/*.t
t/00-compile.t ................................ ok
Class::MOP::load_class is deprecated at /Users/hornenj/perl5/perlbrew/perls/perl-5.22.0/lib/site_perl/5.22.0/darwin-thread-multi-2level/Class/MOP.pm line 69.
	Class::MOP::load_class("MyTest::Note") called at /Users/hornenj/.cpan/build/XML-Toolkit-0.15-03JZLe/blib/lib/XML/Toolkit/Loader/Filter.pm line 44
	XML::Toolkit::Loader::Filter::load_class(XML::Toolkit::Loader::Filter=HASH(0x7fc2f3c7eb38), "MyTest::Note") called at /Users/hornenj/.cpan/build/XML-Toolkit-0.15-03JZLe/blib/lib/XML/Toolkit/Loader/Filter.pm line 63
	XML::Toolkit::Loader::Filter::start_element(XML::Toolkit::Loader::Filter=HASH(0x7fc2f3c7eb38), HASH(0x7fc2f3c3e140)) called at /Users/hornenj/perl5/perlbrew/perls/perl-5.22.0/lib/site_perl/5.22.0/XML/SAX/Base.pm line 300
	XML::SAX::Base::start_element(XML::SAX::Expat=HASH(0x7fc2f3c9b508), HASH(0x7fc2f3c3e140)) called at /Users/hornenj/perl5/perlbrew/perls/perl-5.22.0/lib/site_perl/5.22.0/XML/SAX/Expat.pm line 225
	XML::SAX::Expat::_handle_start(XML::Parser::Expat=HASH(0x7fc2f2fc7300), "note") called at /Users/hornenj/perl5/perlbrew/perls/perl-5.22.0/lib/site_perl/5.22.0/darwin-thread-multi-2level/XML/Parser/Expat.pm line 479
	XML::Parser::Expat::parse(XML::Parser::Expat=HASH(0x7fc2f2fc7300), "<?xml version=\"1.0\"?>\x{a}<note>\x{a}    <to>Tove</to>\x{a}    <from>Jani"...) called at /Users/hornenj/perl5/perlbrew/perls/perl-5.22.0/lib/site_perl/5.22.0/darwin-thread-multi-2level/XML/Parser.pm line 187
	eval {...} called at /Users/hornenj/perl5/perlbrew/perls/perl-5.22.0/lib/site_perl/5.22.0/darwin-thread-multi-2level/XML/Parser.pm line 186
	XML::Parser::parse(XML::Parser=HASH(0x7fc2f2477e40), "<?xml version=\"1.0\"?>\x{a}<note>\x{a}    <to>Tove</to>\x{a}    <from>Jani"...) called at /Users/hornenj/perl5/perlbrew/perls/perl-5.22.0/lib/site_perl/5.22.0/XML/SAX/Expat.pm line 60
	XML::SAX::Expat::_parse_string(XML::SAX::Expat=HASH(0x7fc2f3c9b508), "<?xml version=\"1.0\"?>\x{a}<note>\x{a}    <to>Tove</to>\x{a}    <from>Jani"...) called at /Users/hornenj/perl5/perlbrew/perls/perl-5.22.0/lib/site_perl/5.22.0/XML/SAX/Base.pm line 2617
	XML::SAX::Base::parse(XML::SAX::Expat=HASH(0x7fc2f3c9b508), HASH(0x7fc2f7229440)) called at /Users/hornenj/perl5/perlbrew/perls/perl-5.22.0/lib/site_perl/5.22.0/XML/SAX/Base.pm line 2662
	XML::SAX::Base::parse_string(XML::SAX::Expat=HASH(0x7fc2f3c9b508), "<?xml version=\"1.0\"?>\x{a}<note>\x{a}    <to>Tove</to>\x{a}    <from>Jani"...) called at /Users/hornenj/perl5/perlbrew/perls/perl-5.22.0/lib/site_perl/5.22.0/darwin-thread-multi-2level/Moose/Meta/Method/Delegation.pm line 110
	XML::Toolkit::Loader::parse_string(XML::Toolkit::Loader=HASH(0x7fc2f3c7e658), "<?xml version=\"1.0\"?>\x{a}<note>\x{a}    <to>Tove</to>\x{a}    <from>Jani"...) called at /Users/hornenj/perl5/perlbrew/perls/perl-5.22.0/lib/site_perl/5.22.0/darwin-thread-multi-2level/Class/MOP/Method/Wrapped.pm line 43
	Class::MOP::Method::Wrapped::__ANON__(XML::Toolkit::Loader=HASH(0x7fc2f3c7e658), "<?xml version=\"1.0\"?>\x{a}<note>\x{a}    <to>Tove</to>\x{a}    <from>Jani"...) called at /Users/hornenj/perl5/perlbrew/perls/perl-5.22.0/lib/site_perl/5.22.0/darwin-thread-multi-2level/Class/MOP/Method/Wrapped.pm line 87
	XML::Toolkit::Loader::parse_string(XML::Toolkit::Loader=HASH(0x7fc2f3c7e658), "<?xml version=\"1.0\"?>\x{a}<note>\x{a}    <to>Tove</to>\x{a}    <from>Jani"...) called at t/01.basic.t line 31
t/01.basic.t .................................. ok
Class::MOP::load_class is deprecated at /Users/hornenj/perl5/perlbrew/perls/perl-5.22.0/lib/site_perl/5.22.0/darwin-thread-multi-2level/Class/MOP.pm line 69.
	Class::MOP::load_class("XMLTK::Test::Foo") called at /Users/hornenj/.cpan/build/XML-Toolkit-0.15-03JZLe/blib/lib/XML/Toolkit/Loader/Filter.pm line 44
	XML::Toolkit::Loader::Filter::load_class(XML::Toolkit::Loader::Filter=HASH(0x7f9b908ebd60), "XMLTK::Test::Foo") called at /Users/hornenj/.cpan/build/XML-Toolkit-0.15-03JZLe/blib/lib/XML/Toolkit/Loader/Filter.pm line 63
	XML::Toolkit::Loader::Filter::start_element(XML::Toolkit::Loader::Filter=HASH(0x7f9b908ebd60), HASH(0x7f9b8de75fb0)) called at /Users/hornenj/perl5/perlbrew/perls/perl-5.22.0/lib/site_perl/5.22.0/XML/SAX/Base.pm line 300
	XML::SAX::Base::start_element(XML::SAX::Expat=HASH(0x7f9b8cfef4c0), HASH(0x7f9b8de75fb0)) called at /Users/hornenj/perl5/perlbrew/perls/perl-5.22.0/lib/site_perl/5.22.0/XML/SAX/Expat.pm line 225
	XML::SAX::Expat::_handle_start(XML::Parser::Expat=HASH(0x7f9b8cf2cbc0), "foo", "xmlns:my", "http://example.org/my/") called at /Users/hornenj/perl5/perlbrew/perls/perl-5.22.0/lib/site_perl/5.22.0/darwin-thread-multi-2level/XML/Parser/Expat.pm line 479
	XML::Parser::Expat::parse(XML::Parser::Expat=HASH(0x7f9b8cf2cbc0), "<foo xmlns:my=\"http://example.org/my/\"><my:bar /></foo>") called at /Users/hornenj/perl5/perlbrew/perls/perl-5.22.0/lib/site_perl/5.22.0/darwin-thread-multi-2level/XML/Parser.pm line 187
	eval {...} called at /Users/hornenj/perl5/perlbrew/perls/perl-5.22.0/lib/site_perl/5.22.0/darwin-thread-multi-2level/XML/Parser.pm line 186
	XML::Parser::parse(XML::Parser=HASH(0x7f9b8cf344a0), "<foo xmlns:my=\"http://example.org/my/\"><my:bar /></foo>") called at /Users/hornenj/perl5/perlbrew/perls/perl-5.22.0/lib/site_perl/5.22.0/XML/SAX/Expat.pm line 60
	XML::SAX::Expat::_parse_string(XML::SAX::Expat=HASH(0x7f9b8cfef4c0), "<foo xmlns:my=\"http://example.org/my/\"><my:bar /></foo>") called at /Users/hornenj/perl5/perlbrew/perls/perl-5.22.0/lib/site_perl/5.22.0/XML/SAX/Base.pm line 2617
	XML::SAX::Base::parse(XML::SAX::Expat=HASH(0x7f9b8cfef4c0), HASH(0x7f9b8df33ab0)) called at /Users/hornenj/perl5/perlbrew/perls/perl-5.22.0/lib/site_perl/5.22.0/XML/SAX/Base.pm line 2662
	XML::SAX::Base::parse_string(XML::SAX::Expat=HASH(0x7f9b8cfef4c0), "<foo xmlns:my=\"http://example.org/my/\"><my:bar /></foo>") called at /Users/hornenj/perl5/perlbrew/perls/perl-5.22.0/lib/site_perl/5.22.0/darwin-thread-multi-2level/Moose/Meta/Method/Delegation.pm line 110
	XML::Toolkit::Loader::parse_string(XML::Toolkit::Loader=HASH(0x7f9b8df4fae8), "<foo xmlns:my=\"http://example.org/my/\"><my:bar /></foo>") called at /Users/hornenj/perl5/perlbrew/perls/perl-5.22.0/lib/site_perl/5.22.0/darwin-thread-multi-2level/Class/MOP/Method/Wrapped.pm line 43
	Class::MOP::Method::Wrapped::__ANON__(XML::Toolkit::Loader=HASH(0x7f9b8df4fae8), "<foo xmlns:my=\"http://example.org/my/\"><my:bar /></foo>") called at /Users/hornenj/perl5/perlbrew/perls/perl-5.22.0/lib/site_perl/5.22.0/darwin-thread-multi-2level/Class/MOP/Method/Wrapped.pm line 87
	XML::Toolkit::Loader::parse_string(XML::Toolkit::Loader=HASH(0x7f9b8df4fae8), "<foo xmlns:my=\"http://example.org/my/\"><my:bar /></foo>") called at t/02.namespaces/01.basic_namespace.t line 36
t/02.namespaces/01.basic_namespace.t .......... ok
Class::MOP::load_class is deprecated at /Users/hornenj/perl5/perlbrew/perls/perl-5.22.0/lib/site_perl/5.22.0/darwin-thread-multi-2level/Class/MOP.pm line 69.
	Class::MOP::load_class("ABC::Root") called at /Users/hornenj/.cpan/build/XML-Toolkit-0.15-03JZLe/blib/lib/XML/Toolkit/Loader/Filter.pm line 44
	XML::Toolkit::Loader::Filter::load_class(XML::Toolkit::Loader::Filter=HASH(0x7ff89cf5e538), "ABC::Root") called at /Users/hornenj/.cpan/build/XML-Toolkit-0.15-03JZLe/blib/lib/XML/Toolkit/Loader/Filter.pm line 63
	XML::Toolkit::Loader::Filter::start_element(XML::Toolkit::Loader::Filter=HASH(0x7ff89cf5e538), HASH(0x7ff89ce12550)) called at /Users/hornenj/perl5/perlbrew/perls/perl-5.22.0/lib/site_perl/5.22.0/XML/SAX/Base.pm line 300
	XML::SAX::Base::start_element(XML::SAX::Expat=HASH(0x7ff89cf5ed60), HASH(0x7ff89ce12550)) called at /Users/hornenj/perl5/perlbrew/perls/perl-5.22.0/lib/site_perl/5.22.0/XML/SAX/Expat.pm line 225
	XML::SAX::Expat::_handle_start(XML::Parser::Expat=HASH(0x7ff89cb1ab18), "root", "xmlns", "abc") called at /Users/hornenj/perl5/perlbrew/perls/perl-5.22.0/lib/site_perl/5.22.0/darwin-thread-multi-2level/XML/Parser/Expat.pm line 479
	XML::Parser::Expat::parse(XML::Parser::Expat=HASH(0x7ff89cb1ab18), "<root xmlns=\"abc\">test1</root>") called at /Users/hornenj/perl5/perlbrew/perls/perl-5.22.0/lib/site_perl/5.22.0/darwin-thread-multi-2level/XML/Parser.pm line 187
	eval {...} called at /Users/hornenj/perl5/perlbrew/perls/perl-5.22.0/lib/site_perl/5.22.0/darwin-thread-multi-2level/XML/Parser.pm line 186
	XML::Parser::parse(XML::Parser=HASH(0x7ff89add34e8), "<root xmlns=\"abc\">test1</root>") called at /Users/hornenj/perl5/perlbrew/perls/perl-5.22.0/lib/site_perl/5.22.0/XML/SAX/Expat.pm line 60
	XML::SAX::Expat::_parse_string(XML::SAX::Expat=HASH(0x7ff89cf5ed60), "<root xmlns=\"abc\">test1</root>") called at /Users/hornenj/perl5/perlbrew/perls/perl-5.22.0/lib/site_perl/5.22.0/XML/SAX/Base.pm line 2617
	XML::SAX::Base::parse(XML::SAX::Expat=HASH(0x7ff89cf5ed60), HASH(0x7ff89add3cf8)) called at /Users/hornenj/perl5/perlbrew/perls/perl-5.22.0/lib/site_perl/5.22.0/XML/SAX/Base.pm line 2662
	XML::SAX::Base::parse_string(XML::SAX::Expat=HASH(0x7ff89cf5ed60), "<root xmlns=\"abc\">test1</root>") called at /Users/hornenj/perl5/perlbrew/perls/perl-5.22.0/lib/site_perl/5.22.0/darwin-thread-multi-2level/Moose/Meta/Method/Delegation.pm line 110
	XML::Toolkit::Loader::parse_string(XML::Toolkit::Loader=HASH(0x7ff89a97bee8), "<root xmlns=\"abc\">test1</root>") called at /Users/hornenj/perl5/perlbrew/perls/perl-5.22.0/lib/site_perl/5.22.0/darwin-thread-multi-2level/Class/MOP/Method/Wrapped.pm line 43
	Class::MOP::Method::Wrapped::__ANON__(XML::Toolkit::Loader=HASH(0x7ff89a97bee8), "<root xmlns=\"abc\">test1</root>") called at /Users/hornenj/perl5/perlbrew/perls/perl-5.22.0/lib/site_perl/5.22.0/darwin-thread-multi-2level/Class/MOP/Method/Wrapped.pm line 87
	XML::Toolkit::Loader::parse_string(XML::Toolkit::Loader=HASH(0x7ff89a97bee8), "<root xmlns=\"abc\">test1</root>") called at t/02.namespaces/02.root_namespace_equality.t line 26
t/02.namespaces/02.root_namespace_equality.t .. ok
Class::MOP::is_class_loaded is deprecated at /Users/hornenj/perl5/perlbrew/perls/perl-5.22.0/lib/site_perl/5.22.0/darwin-thread-multi-2level/Class/MOP.pm line 87.
	Class::MOP::is_class_loaded("MyApp::Root") called at t/02.namespaces/03.namespaced_loading.t line 39
	eval {...} called at t/02.namespaces/03.namespaced_loading.t line 34
Class::MOP::load_class is deprecated at /Users/hornenj/perl5/perlbrew/perls/perl-5.22.0/lib/site_perl/5.22.0/darwin-thread-multi-2level/Class/MOP.pm line 69.
	Class::MOP::load_class("MyApp::Root") called at /Users/hornenj/.cpan/build/XML-Toolkit-0.15-03JZLe/blib/lib/XML/Toolkit/Loader/Filter.pm line 44
	XML::Toolkit::Loader::Filter::load_class(XML::Toolkit::Loader::Filter=HASH(0x7f80fb405158), "MyApp::Root") called at /Users/hornenj/.cpan/build/XML-Toolkit-0.15-03JZLe/blib/lib/XML/Toolkit/Loader/Filter.pm line 63
	XML::Toolkit::Loader::Filter::start_element(XML::Toolkit::Loader::Filter=HASH(0x7f80fb405158), HASH(0x7f80fb58d670)) called at /Users/hornenj/perl5/perlbrew/perls/perl-5.22.0/lib/site_perl/5.22.0/XML/SAX/Base.pm line 300
	XML::SAX::Base::start_element(XML::SAX::Expat=HASH(0x7f80faf51620), HASH(0x7f80fb58d670)) called at /Users/hornenj/perl5/perlbrew/perls/perl-5.22.0/lib/site_perl/5.22.0/XML/SAX/Expat.pm line 225
	XML::SAX::Expat::_handle_start(XML::Parser::Expat=HASH(0x7f80facf7318), "root", "xmlns:a", "a", "xmlns:b", "b") called at /Users/hornenj/perl5/perlbrew/perls/perl-5.22.0/lib/site_perl/5.22.0/darwin-thread-multi-2level/XML/Parser/Expat.pm line 479
	XML::Parser::Expat::parse(XML::Parser::Expat=HASH(0x7f80facf7318), "<root xmlns:a=\"a\" xmlns:b=\"b\">\x{a}    <a:one>oneA</a:one>\x{a}    <b"...) called at /Users/hornenj/perl5/perlbrew/perls/perl-5.22.0/lib/site_perl/5.22.0/darwin-thread-multi-2level/XML/Parser.pm line 187
	eval {...} called at /Users/hornenj/perl5/perlbrew/perls/perl-5.22.0/lib/site_perl/5.22.0/darwin-thread-multi-2level/XML/Parser.pm line 186
	XML::Parser::parse(XML::Parser=HASH(0x7f80fa9075f0), "<root xmlns:a=\"a\" xmlns:b=\"b\">\x{a}    <a:one>oneA</a:one>\x{a}    <b"...) called at /Users/hornenj/perl5/perlbrew/perls/perl-5.22.0/lib/site_perl/5.22.0/XML/SAX/Expat.pm line 60
	XML::SAX::Expat::_parse_string(XML::SAX::Expat=HASH(0x7f80faf51620), "<root xmlns:a=\"a\" xmlns:b=\"b\">\x{a}    <a:one>oneA</a:one>\x{a}    <b"...) called at /Users/hornenj/perl5/perlbrew/perls/perl-5.22.0/lib/site_perl/5.22.0/XML/SAX/Base.pm line 2617
	XML::SAX::Base::parse(XML::SAX::Expat=HASH(0x7f80faf51620), HASH(0x7f80fa52cbd0)) called at /Users/hornenj/perl5/perlbrew/perls/perl-5.22.0/lib/site_perl/5.22.0/XML/SAX/Base.pm line 2662
	XML::SAX::Base::parse_string(XML::SAX::Expat=HASH(0x7f80faf51620), "<root xmlns:a=\"a\" xmlns:b=\"b\">\x{a}    <a:one>oneA</a:one>\x{a}    <b"...) called at /Users/hornenj/perl5/perlbrew/perls/perl-5.22.0/lib/site_perl/5.22.0/darwin-thread-multi-2level/Moose/Meta/Method/Delegation.pm line 110
	XML::Toolkit::Loader::parse_string(XML::Toolkit::Loader=HASH(0x7f80faee3bb0), "<root xmlns:a=\"a\" xmlns:b=\"b\">\x{a}    <a:one>oneA</a:one>\x{a}    <b"...) called at /Users/hornenj/perl5/perlbrew/perls/perl-5.22.0/lib/site_perl/5.22.0/darwin-thread-multi-2level/Class/MOP/Method/Wrapped.pm line 43
	Class::MOP::Method::Wrapped::__ANON__(XML::Toolkit::Loader=HASH(0x7f80faee3bb0), "<root xmlns:a=\"a\" xmlns:b=\"b\">\x{a}    <a:one>oneA</a:one>\x{a}    <b"...) called at /Users/hornenj/perl5/perlbrew/perls/perl-5.22.0/lib/site_perl/5.22.0/darwin-thread-multi-2level/Class/MOP/Method/Wrapped.pm line 87
	XML::Toolkit::Loader::parse_string(XML::Toolkit::Loader=HASH(0x7f80faee3bb0), "<root xmlns:a=\"a\" xmlns:b=\"b\">\x{a}    <a:one>oneA</a:one>\x{a}    <b"...) called at t/02.namespaces/03.namespaced_loading.t line 47
	eval {...} called at t/02.namespaces/03.namespaced_loading.t line 45
t/02.namespaces/03.namespaced_loading.t ....... ok
Class::MOP::load_class is deprecated at /Users/hornenj/perl5/perlbrew/perls/perl-5.22.0/lib/site_perl/5.22.0/darwin-thread-multi-2level/Class/MOP.pm line 69.
	Class::MOP::load_class("XML::XSPF::Playlist") called at /Users/hornenj/.cpan/build/XML-Toolkit-0.15-03JZLe/blib/lib/XML/Toolkit/Loader/Filter.pm line 44
	XML::Toolkit::Loader::Filter::load_class(XML::Toolkit::Loader::Filter=HASH(0x7feb517562e8), "XML::XSPF::Playlist") called at /Users/hornenj/.cpan/build/XML-Toolkit-0.15-03JZLe/blib/lib/XML/Toolkit/Loader/Filter.pm line 63
	XML::Toolkit::Loader::Filter::start_element(XML::Toolkit::Loader::Filter=HASH(0x7feb517562e8), HASH(0x7feb51716dd0)) called at /Users/hornenj/perl5/perlbrew/perls/perl-5.22.0/lib/site_perl/5.22.0/XML/SAX/Base.pm line 300
	XML::SAX::Base::start_element(XML::SAX::Expat=HASH(0x7feb52e11880), HASH(0x7feb51716dd0)) called at /Users/hornenj/perl5/perlbrew/perls/perl-5.22.0/lib/site_perl/5.22.0/XML/SAX/Expat.pm line 225
	XML::SAX::Expat::_handle_start(XML::Parser::Expat=HASH(0x7feb560eb160), "playlist", "version", 1, "xmlns", "http://xspf.org/ns/0/") called at /Users/hornenj/perl5/perlbrew/perls/perl-5.22.0/lib/site_perl/5.22.0/darwin-thread-multi-2level/XML/Parser/Expat.pm line 479
	XML::Parser::Expat::parse(XML::Parser::Expat=HASH(0x7feb560eb160), "<?xml version=\"1.0\" encoding=\"utf-8\"?>\x{a}<playlist version=\"1\" "...) called at /Users/hornenj/perl5/perlbrew/perls/perl-5.22.0/lib/site_perl/5.22.0/darwin-thread-multi-2level/XML/Parser.pm line 187
	eval {...} called at /Users/hornenj/perl5/perlbrew/perls/perl-5.22.0/lib/site_perl/5.22.0/darwin-thread-multi-2level/XML/Parser.pm line 186
	XML::Parser::parse(XML::Parser=HASH(0x7feb52c1c710), "<?xml version=\"1.0\" encoding=\"utf-8\"?>\x{a}<playlist version=\"1\" "...) called at /Users/hornenj/perl5/perlbrew/perls/perl-5.22.0/lib/site_perl/5.22.0/XML/SAX/Expat.pm line 60
	XML::SAX::Expat::_parse_string(XML::SAX::Expat=HASH(0x7feb52e11880), "<?xml version=\"1.0\" encoding=\"utf-8\"?>\x{a}<playlist version=\"1\" "...) called at /Users/hornenj/perl5/perlbrew/perls/perl-5.22.0/lib/site_perl/5.22.0/XML/SAX/Base.pm line 2617
	XML::SAX::Base::parse(XML::SAX::Expat=HASH(0x7feb52e11880), HASH(0x7feb5174fd50)) called at /Users/hornenj/perl5/perlbrew/perls/perl-5.22.0/lib/site_perl/5.22.0/XML/SAX/Base.pm line 2662
	XML::SAX::Base::parse_string(XML::SAX::Expat=HASH(0x7feb52e11880), "<?xml version=\"1.0\" encoding=\"utf-8\"?>\x{a}<playlist version=\"1\" "...) called at /Users/hornenj/perl5/perlbrew/perls/perl-5.22.0/lib/site_perl/5.22.0/darwin-thread-multi-2level/Moose/Meta/Method/Delegation.pm line 110
	XML::Toolkit::Loader::parse_string(XML::Toolkit::Loader=HASH(0x7feb517218b8), "<?xml version=\"1.0\" encoding=\"utf-8\"?>\x{a}<playlist version=\"1\" "...) called at /Users/hornenj/perl5/perlbrew/perls/perl-5.22.0/lib/site_perl/5.22.0/darwin-thread-multi-2level/Class/MOP/Method/Wrapped.pm line 43
	Class::MOP::Method::Wrapped::__ANON__(XML::Toolkit::Loader=HASH(0x7feb517218b8), "<?xml version=\"1.0\" encoding=\"utf-8\"?>\x{a}<playlist version=\"1\" "...) called at /Users/hornenj/perl5/perlbrew/perls/perl-5.22.0/lib/site_perl/5.22.0/darwin-thread-multi-2level/Class/MOP/Method/Wrapped.pm line 87
	XML::Toolkit::Loader::parse_string(XML::Toolkit::Loader=HASH(0x7feb517218b8), "<?xml version=\"1.0\" encoding=\"utf-8\"?>\x{a}<playlist version=\"1\" "...) called at t/03.xspf.t line 45
t/03.xspf.t ................................... ok
Class::MOP::load_class is deprecated at /Users/hornenj/perl5/perlbrew/perls/perl-5.22.0/lib/site_perl/5.22.0/darwin-thread-multi-2level/Class/MOP.pm line 69.
	Class::MOP::load_class("XML::RDF::RDF") called at /Users/hornenj/.cpan/build/XML-Toolkit-0.15-03JZLe/blib/lib/XML/Toolkit/Loader/Filter.pm line 44
	XML::Toolkit::Loader::Filter::load_class(XML::Toolkit::Loader::Filter=HASH(0x7f92a5b891a8), "XML::RDF::RDF") called at /Users/hornenj/.cpan/build/XML-Toolkit-0.15-03JZLe/blib/lib/XML/Toolkit/Loader/Filter.pm line 63
	XML::Toolkit::Loader::Filter::start_element(XML::Toolkit::Loader::Filter=HASH(0x7f92a5b891a8), HASH(0x7f92a3cc3408)) called at /Users/hornenj/perl5/perlbrew/perls/perl-5.22.0/lib/site_perl/5.22.0/XML/SAX/Base.pm line 300
	XML::SAX::Base::start_element(XML::SAX::Expat=HASH(0x7f92a1fbb488), HASH(0x7f92a3cc3408)) called at /Users/hornenj/perl5/perlbrew/perls/perl-5.22.0/lib/site_perl/5.22.0/XML/SAX/Expat.pm line 225
	XML::SAX::Expat::_handle_start(XML::Parser::Expat=HASH(0x7f92a5879108), "rdf:RDF", "xmlns:rdf", "http://www.w3.org/1999/02/22-rdf-syntax-ns#", "xmlns:dc", "http://purl.org/dc/elements/1.1/") called at /Users/hornenj/perl5/perlbrew/perls/perl-5.22.0/lib/site_perl/5.22.0/darwin-thread-multi-2level/XML/Parser/Expat.pm line 479
	XML::Parser::Expat::parse(XML::Parser::Expat=HASH(0x7f92a5879108), "<?xml version=\"1.0\" encoding=\"utf-8\"?>\x{a}<rdf:RDF\x{a}  xmlns:rdf=\""...) called at /Users/hornenj/perl5/perlbrew/perls/perl-5.22.0/lib/site_perl/5.22.0/darwin-thread-multi-2level/XML/Parser.pm line 187
	eval {...} called at /Users/hornenj/perl5/perlbrew/perls/perl-5.22.0/lib/site_perl/5.22.0/darwin-thread-multi-2level/XML/Parser.pm line 186
	XML::Parser::parse(XML::Parser=HASH(0x7f92a588a6e0), "<?xml version=\"1.0\" encoding=\"utf-8\"?>\x{a}<rdf:RDF\x{a}  xmlns:rdf=\""...) called at /Users/hornenj/perl5/perlbrew/perls/perl-5.22.0/lib/site_perl/5.22.0/XML/SAX/Expat.pm line 60
	XML::SAX::Expat::_parse_string(XML::SAX::Expat=HASH(0x7f92a1fbb488), "<?xml version=\"1.0\" encoding=\"utf-8\"?>\x{a}<rdf:RDF\x{a}  xmlns:rdf=\""...) called at /Users/hornenj/perl5/perlbrew/perls/perl-5.22.0/lib/site_perl/5.22.0/XML/SAX/Base.pm line 2617
	XML::SAX::Base::parse(XML::SAX::Expat=HASH(0x7f92a1fbb488), HASH(0x7f92a3ce9e50)) called at /Users/hornenj/perl5/perlbrew/perls/perl-5.22.0/lib/site_perl/5.22.0/XML/SAX/Base.pm line 2662
	XML::SAX::Base::parse_string(XML::SAX::Expat=HASH(0x7f92a1fbb488), "<?xml version=\"1.0\" encoding=\"utf-8\"?>\x{a}<rdf:RDF\x{a}  xmlns:rdf=\""...) called at /Users/hornenj/perl5/perlbrew/perls/perl-5.22.0/lib/site_perl/5.22.0/darwin-thread-multi-2level/Moose/Meta/Method/Delegation.pm line 110
	XML::Toolkit::Loader::parse_string(XML::Toolkit::Loader=HASH(0x7f92a3cc33f0), "<?xml version=\"1.0\" encoding=\"utf-8\"?>\x{a}<rdf:RDF\x{a}  xmlns:rdf=\""...) called at /Users/hornenj/perl5/perlbrew/perls/perl-5.22.0/lib/site_perl/5.22.0/darwin-thread-multi-2level/Class/MOP/Method/Wrapped.pm line 43
	Class::MOP::Method::Wrapped::__ANON__(XML::Toolkit::Loader=HASH(0x7f92a3cc33f0), "<?xml version=\"1.0\" encoding=\"utf-8\"?>\x{a}<rdf:RDF\x{a}  xmlns:rdf=\""...) called at /Users/hornenj/perl5/perlbrew/perls/perl-5.22.0/lib/site_perl/5.22.0/darwin-thread-multi-2level/Class/MOP/Method/Wrapped.pm line 87
	XML::Toolkit::Loader::parse_string(XML::Toolkit::Loader=HASH(0x7f92a3cc33f0), "<?xml version=\"1.0\" encoding=\"utf-8\"?>\x{a}<rdf:RDF\x{a}  xmlns:rdf=\""...) called at t/04.rdf.t line 42
t/04.rdf.t .................................... ok
Class::MOP::load_class is deprecated at /Users/hornenj/perl5/perlbrew/perls/perl-5.22.0/lib/site_perl/5.22.0/darwin-thread-multi-2level/Class/MOP.pm line 69.
	Class::MOP::load_class("MyApp::Code") called at /Users/hornenj/.cpan/build/XML-Toolkit-0.15-03JZLe/blib/lib/XML/Toolkit/Loader/Filter.pm line 44
	XML::Toolkit::Loader::Filter::load_class(XML::Toolkit::Loader::Filter=HASH(0x7ffc22ed09f8), "MyApp::Code") called at /Users/hornenj/.cpan/build/XML-Toolkit-0.15-03JZLe/blib/lib/XML/Toolkit/Loader/Filter.pm line 63
	XML::Toolkit::Loader::Filter::start_element(XML::Toolkit::Loader::Filter=HASH(0x7ffc22ed09f8), HASH(0x7ffc22e39d70)) called at /Users/hornenj/perl5/perlbrew/perls/perl-5.22.0/lib/site_perl/5.22.0/XML/SAX/Base.pm line 300
	XML::SAX::Base::start_element(XML::SAX::Expat=HASH(0x7ffc24f095c0), HASH(0x7ffc22e39d70)) called at /Users/hornenj/perl5/perlbrew/perls/perl-5.22.0/lib/site_perl/5.22.0/XML/SAX/Expat.pm line 225
	XML::SAX::Expat::_handle_start(XML::Parser::Expat=HASH(0x7ffc226d4718), "code") called at /Users/hornenj/perl5/perlbrew/perls/perl-5.22.0/lib/site_perl/5.22.0/darwin-thread-multi-2level/XML/Parser/Expat.pm line 479
	XML::Parser::Expat::parse(XML::Parser::Expat=HASH(0x7ffc226d4718), "<code><![CDATA[<crackers \x{26} cheese>]]></code>") called at /Users/hornenj/perl5/perlbrew/perls/perl-5.22.0/lib/site_perl/5.22.0/darwin-thread-multi-2level/XML/Parser.pm line 187
	eval {...} called at /Users/hornenj/perl5/perlbrew/perls/perl-5.22.0/lib/site_perl/5.22.0/darwin-thread-multi-2level/XML/Parser.pm line 186
	XML::Parser::parse(XML::Parser=HASH(0x7ffc226d3908), "<code><![CDATA[<crackers \x{26} cheese>]]></code>") called at /Users/hornenj/perl5/perlbrew/perls/perl-5.22.0/lib/site_perl/5.22.0/XML/SAX/Expat.pm line 60
	XML::SAX::Expat::_parse_string(XML::SAX::Expat=HASH(0x7ffc24f095c0), "<code><![CDATA[<crackers \x{26} cheese>]]></code>") called at /Users/hornenj/perl5/perlbrew/perls/perl-5.22.0/lib/site_perl/5.22.0/XML/SAX/Base.pm line 2617
	XML::SAX::Base::parse(XML::SAX::Expat=HASH(0x7ffc24f095c0), HASH(0x7ffc22e34e18)) called at /Users/hornenj/perl5/perlbrew/perls/perl-5.22.0/lib/site_perl/5.22.0/XML/SAX/Base.pm line 2662
	XML::SAX::Base::parse_string(XML::SAX::Expat=HASH(0x7ffc24f095c0), "<code><![CDATA[<crackers \x{26} cheese>]]></code>") called at /Users/hornenj/perl5/perlbrew/perls/perl-5.22.0/lib/site_perl/5.22.0/darwin-thread-multi-2level/Moose/Meta/Method/Delegation.pm line 110
	XML::Toolkit::Loader::parse_string(XML::Toolkit::Loader=HASH(0x7ffc22f23cd0), "<code><![CDATA[<crackers \x{26} cheese>]]></code>") called at /Users/hornenj/perl5/perlbrew/perls/perl-5.22.0/lib/site_perl/5.22.0/darwin-thread-multi-2level/Class/MOP/Method/Wrapped.pm line 43
	Class::MOP::Method::Wrapped::__ANON__(XML::Toolkit::Loader=HASH(0x7ffc22f23cd0), "<code><![CDATA[<crackers \x{26} cheese>]]></code>") called at /Users/hornenj/perl5/perlbrew/perls/perl-5.22.0/lib/site_perl/5.22.0/darwin-thread-multi-2level/Class/MOP/Method/Wrapped.pm line 87
	XML::Toolkit::Loader::parse_string(XML::Toolkit::Loader=HASH(0x7ffc22f23cd0), "<code><![CDATA[<crackers \x{26} cheese>]]></code>") called at t/05.cdata.t line 26
t/05.cdata.t .................................. ok
Class::MOP::load_class is deprecated at /Users/hornenj/perl5/perlbrew/perls/perl-5.22.0/lib/site_perl/5.22.0/darwin-thread-multi-2level/Class/MOP.pm line 69.
	Class::MOP::load_class("MyTest::Note") called at /Users/hornenj/.cpan/build/XML-Toolkit-0.15-03JZLe/blib/lib/XML/Toolkit/Loader/Filter.pm line 44
	XML::Toolkit::Loader::Filter::load_class(XML::Toolkit::Loader::Filter=HASH(0x7fd1bd827ed8), "MyTest::Note") called at /Users/hornenj/.cpan/build/XML-Toolkit-0.15-03JZLe/blib/lib/XML/Toolkit/Loader/Filter.pm line 63
	XML::Toolkit::Loader::Filter::start_element(XML::Toolkit::Loader::Filter=HASH(0x7fd1bd827ed8), HASH(0x7fd1bd3a8850)) called at /Users/hornenj/perl5/perlbrew/perls/perl-5.22.0/lib/site_perl/5.22.0/XML/SAX/Base.pm line 300
	XML::SAX::Base::start_element(XML::SAX::Expat=HASH(0x7fd1b9ed8c38), HASH(0x7fd1bd3a8850)) called at /Users/hornenj/perl5/perlbrew/perls/perl-5.22.0/lib/site_perl/5.22.0/XML/SAX/Expat.pm line 225
	XML::SAX::Expat::_handle_start(XML::Parser::Expat=HASH(0x7fd1bd1655b0), "note") called at /Users/hornenj/perl5/perlbrew/perls/perl-5.22.0/lib/site_perl/5.22.0/darwin-thread-multi-2level/XML/Parser/Expat.pm line 479
	XML::Parser::Expat::parse(XML::Parser::Expat=HASH(0x7fd1bd1655b0), "<?xml version=\"1.0\"?>\x{a}<note>\x{a}    <to>Tove</to>\x{a}    <from>Jani"...) called at /Users/hornenj/perl5/perlbrew/perls/perl-5.22.0/lib/site_perl/5.22.0/darwin-thread-multi-2level/XML/Parser.pm line 187
	eval {...} called at /Users/hornenj/perl5/perlbrew/perls/perl-5.22.0/lib/site_perl/5.22.0/darwin-thread-multi-2level/XML/Parser.pm line 186
	XML::Parser::parse(XML::Parser=HASH(0x7fd1b94871a8), "<?xml version=\"1.0\"?>\x{a}<note>\x{a}    <to>Tove</to>\x{a}    <from>Jani"...) called at /Users/hornenj/perl5/perlbrew/perls/perl-5.22.0/lib/site_perl/5.22.0/XML/SAX/Expat.pm line 60
	XML::SAX::Expat::_parse_string(XML::SAX::Expat=HASH(0x7fd1b9ed8c38), "<?xml version=\"1.0\"?>\x{a}<note>\x{a}    <to>Tove</to>\x{a}    <from>Jani"...) called at /Users/hornenj/perl5/perlbrew/perls/perl-5.22.0/lib/site_perl/5.22.0/XML/SAX/Base.pm line 2617
	XML::SAX::Base::parse(XML::SAX::Expat=HASH(0x7fd1b9ed8c38), HASH(0x7fd1bd249998)) called at /Users/hornenj/perl5/perlbrew/perls/perl-5.22.0/lib/site_perl/5.22.0/XML/SAX/Base.pm line 2662
	XML::SAX::Base::parse_string(XML::SAX::Expat=HASH(0x7fd1b9ed8c38), "<?xml version=\"1.0\"?>\x{a}<note>\x{a}    <to>Tove</to>\x{a}    <from>Jani"...) called at /Users/hornenj/perl5/perlbrew/perls/perl-5.22.0/lib/site_perl/5.22.0/darwin-thread-multi-2level/Moose/Meta/Method/Delegation.pm line 110
	XML::Toolkit::Loader::parse_string(XML::Toolkit::Loader=HASH(0x7fd1b8ff0798), "<?xml version=\"1.0\"?>\x{a}<note>\x{a}    <to>Tove</to>\x{a}    <from>Jani"...) called at /Users/hornenj/perl5/perlbrew/perls/perl-5.22.0/lib/site_perl/5.22.0/darwin-thread-multi-2level/Class/MOP/Method/Wrapped.pm line 43
	Class::MOP::Method::Wrapped::__ANON__(XML::Toolkit::Loader=HASH(0x7fd1b8ff0798), "<?xml version=\"1.0\"?>\x{a}<note>\x{a}    <to>Tove</to>\x{a}    <from>Jani"...) called at /Users/hornenj/perl5/perlbrew/perls/perl-5.22.0/lib/site_perl/5.22.0/darwin-thread-multi-2level/Class/MOP/Method/Wrapped.pm line 87
	XML::Toolkit::Loader::parse_string(XML::Toolkit::Loader=HASH(0x7fd1b8ff0798), "<?xml version=\"1.0\"?>\x{a}<note>\x{a}    <to>Tove</to>\x{a}    <from>Jani"...) called at t/06.reuse/06.reuse_generator.t line 41
t/06.reuse/06.reuse_generator.t ............... ok
Class::MOP::load_class is deprecated at /Users/hornenj/perl5/perlbrew/perls/perl-5.22.0/lib/site_perl/5.22.0/darwin-thread-multi-2level/Class/MOP.pm line 69.
	Class::MOP::load_class() called at /Users/hornenj/.cpan/build/XML-Toolkit-0.15-03JZLe/blib/lib/XML/Toolkit/Loader/Filter.pm line 44
	XML::Toolkit::Loader::Filter::load_class() called at /Users/hornenj/.cpan/build/XML-Toolkit-0.15-03JZLe/blib/lib/XML/Toolkit/Loader/Filter.pm line 63
	XML::Toolkit::Loader::Filter::start_element() called at /Users/hornenj/perl5/perlbrew/perls/perl-5.22.0/lib/site_perl/5.22.0/XML/SAX/Base.pm line 300
	XML::SAX::Base::start_element() called at /Users/hornenj/perl5/perlbrew/perls/perl-5.22.0/lib/site_perl/5.22.0/XML/SAX/Expat.pm line 225
	XML::SAX::Expat::_handle_start() called at /Users/hornenj/perl5/perlbrew/perls/perl-5.22.0/lib/site_perl/5.22.0/darwin-thread-multi-2level/XML/Parser/Expat.pm line 479
	XML::Parser::Expat::parse() called at /Users/hornenj/perl5/perlbrew/perls/perl-5.22.0/lib/site_perl/5.22.0/darwin-thread-multi-2level/XML/Parser.pm line 187
	eval {...} called at /Users/hornenj/perl5/perlbrew/perls/perl-5.22.0/lib/site_perl/5.22.0/darwin-thread-multi-2level/XML/Parser.pm line 186
	XML::Parser::parse() called at /Users/hornenj/perl5/perlbrew/perls/perl-5.22.0/lib/site_perl/5.22.0/XML/SAX/Expat.pm line 60
	XML::SAX::Expat::_parse_string() called at /Users/hornenj/perl5/perlbrew/perls/perl-5.22.0/lib/site_perl/5.22.0/XML/SAX/Base.pm line 2617
	XML::SAX::Base::parse() called at /Users/hornenj/perl5/perlbrew/perls/perl-5.22.0/lib/site_perl/5.22.0/XML/SAX/Base.pm line 2662
	XML::SAX::Base::parse_string() called at /Users/hornenj/perl5/perlbrew/perls/perl-5.22.0/lib/site_perl/5.22.0/darwin-thread-multi-2level/Moose/Meta/Method/Delegation.pm line 110
	XML::Toolkit::Loader::parse_string() called at /Users/hornenj/perl5/perlbrew/perls/perl-5.22.0/lib/site_perl/5.22.0/darwin-thread-multi-2level/Class/MOP/Method/Wrapped.pm line 43
	Class::MOP::Method::Wrapped::__ANON__() called at /Users/hornenj/perl5/perlbrew/perls/perl-5.22.0/lib/site_perl/5.22.0/darwin-thread-multi-2level/Class/MOP/Method/Wrapped.pm line 87
	XML::Toolkit::Loader::parse_string() called at t/06.reuse/06.reuse_loader.t line 42
	Test::Exception::lives_ok() called at t/06.reuse/06.reuse_loader.t line 42
t/06.reuse/06.reuse_loader.t .................. ok
t/release-pod-coverage.t ...................... skipped: these tests are for release candidate testing
t/release-pod-syntax.t ........................ skipped: these tests are for release candidate testing
All tests successful.
Files=12, Tests=91, 14 wallclock secs ( 0.05 usr  0.03 sys + 11.23 cusr  2.41 csys = 13.72 CPU)
Result: PASS

------------------------------
PREREQUISITES
------------------------------

Prerequisite modules loaded:

requires:

    Module                                   Need Have    
    ---------------------------------------- ---- --------
    aliased                                  0    0.34    
    Bread::Board                             0    0.33    
    Bread::Board::Container                  0    0.33    
    Devel::PackagePath                       0.01 0.03    
    Encode                                   0    2.73    
    Moose                                    0.92 2.1405  
    Moose::Role                              0    2.1405  
    Moose::Util::TypeConstraints             0    2.1405  
    MooseX::Aliases                          0    0.11    
    MooseX::App::Cmd                         0    0.31    
    MooseX::App::Cmd::Command                0    0.31    
    MooseX::Getopt::Dashes                   0    0.68    
    MooseX::MetaDescription                  0.03 0.06    
    MooseX::MetaDescription::Description     0    0.06    
    MooseX::MetaDescription::Meta::Attribute 0    0.06    
    MooseX::MetaDescription::Meta::Trait     0    0.06    
    MooseX::NonMoose                         0    0.26    
    MooseX::Types::Path::Class               0.04 0.06    
    namespace::autoclean                     0    0.26    
    strict                                   0    1.09    
    Template                                 2.20 2.26    
    warnings                                 0    1.32    
    XML::SAX                                 0.96 0.99    
    XML::SAX::Base                           0    1.08    
    XML::SAX::Writer                         0.50 0.56    

build_requires:

    Module                                   Need Have    
    ---------------------------------------- ---- --------
    File::Find                               0    1.29    
    File::Temp                               0    0.2304  
    Path::Class                              0    0.35    
    Test::Deep                               0    0.115   
    Test::Exception                          0    0.40    
    Test::More                               0    1.001014
    Test::Simple                             0.94 1.001014
    Test::XML                                0.00 0.08    

configure_requires:

    Module                                   Need Have    
    ---------------------------------------- ---- --------
    ExtUtils::MakeMaker                      6.30 7.04_01 


------------------------------
ENVIRONMENT AND OTHER CONTEXT
------------------------------

Environment variables:

    AUTOMATED_TESTING = 1
    LANG = en_US.UTF-8
    LC_ALL = POSIX
    LD_LIBRARY_PATH = :/net/traces01.be-md.ncbi.nlm.nih.gov/trace_software/vdb/mac/release/x86_64/lib
    NO_NETWORK_TESTING = 1
    PATH = /Users/hornenj/perl5/perlbrew/bin:/Users/hornenj/perl5/perlbrew/perls/perl-5.22.0/bin:/Users/hornenj/perl5/perlbrew/bin:/Users/hornenj/perl5/perlbrew/perls/perl-5.22.0/bin:/Users/hornenj/bin:/sw/lib/perl5/ExtUtils:/sw/bin:/am/ncbiapdata/bin:/usr/bin:/bin:/usr/X11R6/bin:/netopt/ncbi_tools/bin:/usr/local/ncbi/blast/bin:/net/traces01.be-md.ncbi.nlm.nih.gov/trace_software/vdb/mac/release/x86_64/bin
    PERL5LIB = /Users/hornenj/.cpan/build/Test-XML-0.08-Pk_XUW/blib/arch:/Users/hornenj/.cpan/build/Test-XML-0.08-Pk_XUW/blib/lib:/Users/hornenj/.cpan/build/XML-SemanticDiff-1.0004-llXiaH/blib/arch:/Users/hornenj/.cpan/build/XML-SemanticDiff-1.0004-llXiaH/blib/lib:/Users/hornenj/.cpan/build/MooseX-NonMoose-0.26-6H37Aj/blib/arch:/Users/hornenj/.cpan/build/MooseX-NonMoose-0.26-6H37Aj/blib/lib:/Users/hornenj/.cpan/build/MooseX-Aliases-0.11-U7Ojyw/blib/arch:/Users/hornenj/.cpan/build/MooseX-Aliases-0.11-U7Ojyw/blib/lib:/Users/hornenj/.cpan/build/MooseX-App-Cmd-0.31-6d4Nk1/blib/arch:/Users/hornenj/.cpan/build/MooseX-App-Cmd-0.31-6d4Nk1/blib/lib:/Users/hornenj/.cpan/build/MooseX-Getopt-0.68-k2jHv2/blib/arch:/Users/hornenj/.cpan/build/MooseX-Getopt-0.68-k2jHv2/blib/lib:/Users/hornenj/.cpan/build/Test-Trap-v0.3.2-1cOzNR/blib/arch:/Users/hornenj/.cpan/build/Test-Trap-v0.3.2-1cOzNR/blib/lib:/Users/hornenj/.cpan/build/MooseX-Role-Parameterized-1.08-o41sNE/blib/arch:/Users/hornenj/.cpan/build/MooseX-Role-Parameterized-1.08-o41sNE/blib/lib:/Users/hornenj/.cpan/build/MooseX-Role-WithOverloading-0.16-1WdoMk/blib/arch:/Users/hornenj/.cpan/build/MooseX-Role-WithOverloading-0.16-1WdoMk/blib/lib:/Users/hornenj/.cpan/build/aliased-0.34-eZUVp7/blib/arch:/Users/hornenj/.cpan/build/aliased-0.34-eZUVp7/blib/lib:/Users/hornenj/.cpan/build/App-Cmd-0.327-RkWHKH/blib/arch:/Users/hornenj/.cpan/build/App-Cmd-0.327-RkWHKH/blib/lib:/Users/hornenj/.cpan/build/IO-TieCombine-1.004-5ojaSF/blib/arch:/Users/hornenj/.cpan/build/IO-TieCombine-1.004-5ojaSF/blib/lib:/Users/hornenj/.cpan/build/Getopt-Long-Descriptive-0.099-1VUZlD/blib/arch:/Users/hornenj/.cpan/build/Getopt-Long-Descriptive-0.099-1VUZlD/blib/lib:/Users/hornenj/.cpan/build/Template-Toolkit-2.26-faquTT/blib/arch:/Users/hornenj/.cpan/build/Template-Toolkit-2.26-faquTT/blib/lib:/Users/hornenj/.cpan/build/Devel-PackagePath-0.03-CDt8Rn/blib/arch:/Users/hornenj/.cpan/build/Devel-PackagePath-0.03-CDt8Rn/blib/lib:/Users/hornenj/.cpan/build/Bread-Board-0.33-monBCa/blib/arch:/Users/hornenj/.cpan/build/Bread-Board-0.33-monBCa/blib/lib:/Users/hornenj/.cpan/build/MooseX-Params-Validate-0.21-TKAxOF/blib/arch:/Users/hornenj/.cpan/build/MooseX-Params-Validate-0.21-TKAxOF/blib/lib:/Users/hornenj/.cpan/build/Devel-Caller-2.06-IjIRFR/blib/arch:/Users/hornenj/.cpan/build/Devel-Caller-2.06-IjIRFR/blib/lib:/Users/hornenj/.cpan/build/MooseX-Clone-0.06-ZAzyiC/blib/arch:/Users/hornenj/.cpan/build/MooseX-Clone-0.06-ZAzyiC/blib/lib:/Users/hornenj/.cpan/build/Data-Visitor-0.30-jhlzN9/blib/arch:/Users/hornenj/.cpan/build/Data-Visitor-0.30-jhlzN9/blib/lib:/Users/hornenj/.cpan/build/Tie-ToObject-0.03-sKtQ8c/blib/arch:/Users/hornenj/.cpan/build/Tie-ToObject-0.03-sKtQ8c/blib/lib:/Users/hornenj/.cpan/build/Hash-Util-FieldHash-Compat-0.08-FGBuG4/blib/arch:/Users/hornenj/.cpan/build/Hash-Util-FieldHash-Compat-0.08-FGBuG4/blib/lib:/Users/hornenj/.cpan/build/XML-SAX-Writer-0.56-ROLQ6Q/blib/arch:/Users/hornenj/.cpan/build/XML-SAX-Writer-0.56-ROLQ6Q/blib/lib:/Users/hornenj/.cpan/build/XML-Filter-BufferText-1.01-bQLBVl/blib/arch:/Users/hornenj/.cpan/build/XML-Filter-BufferText-1.01-bQLBVl/blib/lib:/Users/hornenj/.cpan/build/MooseX-MetaDescription-0.06-wXdGXA/blib/arch:/Users/hornenj/.cpan/build/MooseX-MetaDescription-0.06-wXdGXA/blib/lib:/Users/hornenj/.cpan/build/IPC-ConcurrencyLimit-Lock-NFS-0.01-iF4mFO/blib/arch:/Users/hornenj/.cpan/build/IPC-ConcurrencyLimit-Lock-NFS-0.01-iF4mFO/blib/lib:/Users/hornenj/.cpan/build/IPC-ConcurrencyLimit-0.12-K9FORj/blib/arch:/Users/hornenj/.cpan/build/IPC-ConcurrencyLimit-0.12-K9FORj/blib/lib:/Users/hornenj/.cpan/build/File-SharedNFSLock-0.04-_8Ocvs/blib/arch:/Users/hornenj/.cpan/build/File-SharedNFSLock-0.04-_8Ocvs/blib/lib:/Users/hornenj/.cpan/build/Const-Fast-0.014-WeyYsZ/blib/arch:/Users/hornenj/.cpan/build/Const-Fast-0.014-WeyYsZ/blib/lib:/Users/hornenj/.cpan/build/Regexp-Debugger-0.001020-qBVBUY/blib/arch:/Users/hornenj/.cpan/build/Regexp-Debugger-0.001020-qBVBUY/blib/lib:/Users/hornenj/.cpan/build/XML-Twig-3.49-9kfA0Q/blib/arch:/Users/hornenj/.cpan/build/XML-Twig-3.49-9kfA0Q/blib/lib:/Users/hornenj/.cpan/build/Parallel-ForkManager-1.14-xhv1iO/blib/arch:/Users/hornenj/.cpan/build/Parallel-ForkManager-1.14-xhv1iO/blib/lib:/Users/hornenj/.cpan/build/File-chdir-0.1010-7cymO7/blib/arch:/Users/hornenj/.cpan/build/File-chdir-0.1010-7cymO7/blib/lib:/Users/hornenj/.cpan/build/Test-Pretty-0.31-RXmFAP/blib/arch:/Users/hornenj/.cpan/build/Test-Pretty-0.31-RXmFAP/blib/lib:/Users/hornenj/.cpan/build/Term-Encoding-0.02-sUFBZ8/blib/arch:/Users/hornenj/.cpan/build/Term-Encoding-0.02-sUFBZ8/blib/lib:/Users/hornenj/.cpan/build/Scope-Guard-0.20-x3o7ja/blib/arch:/Users/hornenj/.cpan/build/Scope-Guard-0.20-x3o7ja/blib/lib:/Users/hornenj/.cpan/build/Carp-Always-0.13-YYHItF/blib/arch:/Users/hornenj/.cpan/build/Carp-Always-0.13-YYHItF/blib/lib
    PERL5OPT = 
    PERL5_CPANPLUS_IS_RUNNING = 52722
    PERL5_CPAN_IS_RUNNING = 52722
    PERL5_MINISMOKEBOX = 0.58
    PERLBREW_BASHRC_VERSION = 0.73
    PERLBREW_HOME = /Users/hornenj/.perlbrew
    PERLBREW_LIB = 
    PERLBREW_MANPATH = /Users/hornenj/perl5/perlbrew/perls/perl-5.22.0/man
    PERLBREW_PATH = /Users/hornenj/perl5/perlbrew/bin:/Users/hornenj/perl5/perlbrew/perls/perl-5.22.0/bin
    PERLBREW_PERL = perl-5.22.0
    PERLBREW_ROOT = /Users/hornenj/perl5/perlbrew
    PERLBREW_VERSION = 0.73
    PERL_EXTUTILS_AUTOINSTALL = --defaultdeps
    PERL_LOCAL_LIB_ROOT = 
    PERL_MM_USE_DEFAULT = 1
    SHELL = /bin/bash
    TERM = xterm-256color
    TMPDIR = /var/folders/pz/pd7y1qjs6s3cbk170cw50fjc000c61/T/
    VERSIONER_PERL_PREFER_32_BIT = no
    VERSIONER_PERL_VERSION = 5.18
    ac_cv_path_INTLTOOL_PERL = /usr/bin/perl

Perl special variables (and OS-specific diagnostics, for MSWin32):

    $^X = /Users/hornenj/perl5/perlbrew/perls/perl-5.22.0/bin/perl5.22.0
    $UID/$EUID = 12481 / 12481
    $GID = 14 14 5344 37103 527 241
    $EGID = 14 14 5344 37103 527 241

Perl module toolchain versions installed:

    Module              Have    
    ------------------- --------
    CPAN                2.10    
    CPAN::Meta          2.150001
    Cwd                 3.56    
    ExtUtils::CBuilder  0.280223
    ExtUtils::Command   1.20    
    ExtUtils::Install   2.04    
    ExtUtils::MakeMaker 7.04_01 
    ExtUtils::Manifest  1.70    
    ExtUtils::ParseXS   3.28    
    File::Spec          3.56    
    JSON                2.90    
    JSON::PP            2.27300 
    Module::Build       0.4212  
    Module::Signature   n/a     
    Parse::CPAN::Meta   1.4414  
    Test::Harness       3.35    
    Test::More          1.001014
    YAML                1.15    
    YAML::Syck          1.29    
    version             0.9912  


--

Summary of my perl5 (revision 5 version 22 subversion 0) configuration:
   
  Platform:
    osname=darwin, osvers=14.3.0, archname=darwin-thread-multi-2level
    uname='darwin ncbimac2027.ncbi.nlm.nih.gov 14.3.0 darwin kernel version 14.3.0: mon mar 23 11:59:05 pdt 2015; root:xnu-2782.20.48~5release_x86_64 x86_64 '
    config_args='-de -Dprefix=/Users/hornenj/perl5/perlbrew/perls/perl-5.22.0 -Duseithreads -Dusemultiplicity -Dusedevel -Accflags=-O2 -W -Wformat=2 -Wswitch -Wshadow -Wwrite-strings -Wuninitialized -Wall -pipe -mtune=native -march=native -fomit-frame-pointer -msse2 -msse -mmmx -pedantic -D_FORTIFY_SOURCE=2 -Wpointer-arith -Wstrict-prototypes -fstack-protector -Wstack-protector -Wextra -Wbad-function-cast -Wcast-align -Wcast-qual -Wdisabled-optimization -Wendif-labels -Wfloat-equal -Wformat-nonliteral -Winline -Wmissing-declarations -Wmissing-prototypes -Wnested-externs -Wpointer-arith -Wundef -Wformat-security -fassociative-math -Acc=cc -Aeval:scriptdir=/Users/hornenj/perl5/perlbrew/perls/perl-5.22.0/bin'
    hint=recommended, useposix=true, d_sigaction=define
    useithreads=define, usemultiplicity=define
    use64bitint=define, use64bitall=define, uselongdouble=undef
    usemymalloc=n, bincompat5005=undef
  Compiler:
    cc=' cc', ccflags ='-fno-common -DPERL_DARWIN -O2 -W -Wformat=2 -Wswitch -Wshadow -Wwrite-strings -Wuninitialized -Wall -pipe -mtune=native -march=native -fomit-frame-pointer -msse2 -msse -mmmx -pedantic -D_FORTIFY_SOURCE=2 -Wpointer-arith -Wstrict-prototypes -fstack-protector -Wstack-protector -Wextra -Wbad-function-cast -Wcast-align -Wcast-qual -Wdisabled-optimization -Wendif-labels -Wfloat-equal -Wformat-nonliteral -Winline -Wmissing-declarations -Wmissing-prototypes -Wnested-externs -Wpointer-arith -Wundef -Wformat-security -fassociative-math -fno-strict-aliasing -I/usr/local/include',
    optimize='-O3',
    cppflags='-fno-common -DPERL_DARWIN -O2 -W -Wformat=2 -Wswitch -Wshadow -Wwrite-strings -Wuninitialized -Wall -pipe -mtune=native -march=native -fomit-frame-pointer -msse2 -msse -mmmx -pedantic -D_FORTIFY_SOURCE=2 -Wpointer-arith -Wstrict-prototypes -fstack-protector -Wstack-protector -Wextra -Wbad-function-cast -Wcast-align -Wcast-qual -Wdisabled-optimization -Wendif-labels -Wfloat-equal -Wformat-nonliteral -Winline -Wmissing-declarations -Wmissing-prototypes -Wnested-externs -Wpointer-arith -Wundef -Wformat-security -fassociative-math -fno-strict-aliasing -I/usr/local/include'
    ccversion='', gccversion='4.2.1 Compatible Apple LLVM 6.0 (clang-600.0.56)', gccosandvers=''
    intsize=4, longsize=8, ptrsize=8, doublesize=8, byteorder=12345678, doublekind=3
    d_longlong=define, longlongsize=8, d_longdbl=define, longdblsize=16, longdblkind=3
    ivtype='long', ivsize=8, nvtype='double', nvsize=8, Off_t='off_t', lseeksize=8
    alignbytes=8, prototype=define
  Linker and Libraries:
    ld='env MACOSX_DEPLOYMENT_TARGET=10.3 cc', ldflags =' -fstack-protector -L/usr/local/lib'
    libpth=/Applications/Xcode.app/Contents/Developer/Toolchains/XcodeDefault.xctoolchain/usr/bin/../lib/clang/6.0/lib /Applications/Xcode.app/Contents/Developer/Toolchains/XcodeDefault.xctoolchain/usr/lib /Applications/Xcode.app/Contents/Developer/Platforms/MacOSX.platform/Developer/SDKs/MacOSX10.10.sdk/usr/lib /usr/local/lib /usr/lib
    libs=-lpthread -ldbm -ldl -lm -lutil -lc
    perllibs=-lpthread -ldl -lm -lutil -lc
    libc=, so=dylib, useshrplib=false, libperl=libperl.a
    gnulibc_version=''
  Dynamic Linking:
    dlsrc=dl_dlopen.xs, dlext=bundle, d_dlsymun=undef, ccdlflags=' '
    cccdlflags=' ', lddlflags=' -bundle -undefined dynamic_lookup -L/usr/local/lib -fstack-protector'


Characteristics of this binary (from libperl): 
  Compile-time options: HAS_TIMES MULTIPLICITY PERLIO_LAYERS
                        PERL_DONT_CREATE_GVSV
                        PERL_HASH_FUNC_ONE_AT_A_TIME_HARD
                        PERL_IMPLICIT_CONTEXT PERL_MALLOC_WRAP
                        PERL_NEW_COPY_ON_WRITE PERL_PRESERVE_IVUV
                        PERL_USE_DEVEL USE_64_BIT_ALL USE_64_BIT_INT
                        USE_ITHREADS USE_LARGE_FILES USE_LOCALE
                        USE_LOCALE_COLLATE USE_LOCALE_CTYPE
                        USE_LOCALE_NUMERIC USE_LOCALE_TIME USE_PERLIO
                        USE_PERL_ATOF USE_REENTRANT_API
  Locally applied patches:
	Devel::PatchPerl 1.30
  Built under darwin
  Compiled at Jun  2 2015 11:16:32
  %ENV:
    PERL5LIB="/Users/hornenj/.cpan/build/Test-XML-0.08-Pk_XUW/blib/arch:/Users/hornenj/.cpan/build/Test-XML-0.08-Pk_XUW/blib/lib:/Users/hornenj/.cpan/build/XML-SemanticDiff-1.0004-llXiaH/blib/arch:/Users/hornenj/.cpan/build/XML-SemanticDiff-1.0004-llXiaH/blib/lib:/Users/hornenj/.cpan/build/MooseX-NonMoose-0.26-6H37Aj/blib/arch:/Users/hornenj/.cpan/build/MooseX-NonMoose-0.26-6H37Aj/blib/lib:/Users/hornenj/.cpan/build/MooseX-Aliases-0.11-U7Ojyw/blib/arch:/Users/hornenj/.cpan/build/MooseX-Aliases-0.11-U7Ojyw/blib/lib:/Users/hornenj/.cpan/build/MooseX-App-Cmd-0.31-6d4Nk1/blib/arch:/Users/hornenj/.cpan/build/MooseX-App-Cmd-0.31-6d4Nk1/blib/lib:/Users/hornenj/.cpan/build/MooseX-Getopt-0.68-k2jHv2/blib/arch:/Users/hornenj/.cpan/build/MooseX-Getopt-0.68-k2jHv2/blib/lib:/Users/hornenj/.cpan/build/Test-Trap-v0.3.2-1cOzNR/blib/arch:/Users/hornenj/.cpan/build/Test-Trap-v0.3.2-1cOzNR/blib/lib:/Users/hornenj/.cpan/build/MooseX-Role-Parameterized-1.08-o41sNE/blib/arch:/Users/hornenj/.cpan/build/MooseX-Role-Parameterized-1.08-o41sNE/blib/lib:/Users/hornenj/.cpan/build/MooseX-Role-WithOverloading-0.16-1WdoMk/blib/arch:/Users/hornenj/.cpan/build/MooseX-Role-WithOverloading-0.16-1WdoMk/blib/lib:/Users/hornenj/.cpan/build/aliased-0.34-eZUVp7/blib/arch:/Users/hornenj/.cpan/build/aliased-0.34-eZUVp7/blib/lib:/Users/hornenj/.cpan/build/App-Cmd-0.327-RkWHKH/blib/arch:/Users/hornenj/.cpan/build/App-Cmd-0.327-RkWHKH/blib/lib:/Users/hornenj/.cpan/build/IO-TieCombine-1.004-5ojaSF/blib/arch:/Users/hornenj/.cpan/build/IO-TieCombine-1.004-5ojaSF/blib/lib:/Users/hornenj/.cpan/build/Getopt-Long-Descriptive-0.099-1VUZlD/blib/arch:/Users/hornenj/.cpan/build/Getopt-Long-Descriptive-0.099-1VUZlD/blib/lib:/Users/hornenj/.cpan/build/Template-Toolkit-2.26-faquTT/blib/arch:/Users/hornenj/.cpan/build/Template-Toolkit-2.26-faquTT/blib/lib:/Users/hornenj/.cpan/build/Devel-PackagePath-0.03-CDt8Rn/blib/arch:/Users/hornenj/.cpan/build/Devel-PackagePath-0.03-CDt8Rn/blib/lib:/Users/hornenj/.cpan/build/Bread-Board-0.33-monBCa/blib/arch:/Users/hornenj/.cpan/build/Bread-Board-0.33-monBCa/blib/lib:/Users/hornenj/.cpan/build/MooseX-Params-Validate-0.21-TKAxOF/blib/arch:/Users/hornenj/.cpan/build/MooseX-Params-Validate-0.21-TKAxOF/blib/lib:/Users/hornenj/.cpan/build/Devel-Caller-2.06-IjIRFR/blib/arch:/Users/hornenj/.cpan/build/Devel-Caller-2.06-IjIRFR/blib/lib:/Users/hornenj/.cpan/build/MooseX-Clone-0.06-ZAzyiC/blib/arch:/Users/hornenj/.cpan/build/MooseX-Clone-0.06-ZAzyiC/blib/lib:/Users/hornenj/.cpan/build/Data-Visitor-0.30-jhlzN9/blib/arch:/Users/hornenj/.cpan/build/Data-Visitor-0.30-jhlzN9/blib/lib:/Users/hornenj/.cpan/build/Tie-ToObject-0.03-sKtQ8c/blib/arch:/Users/hornenj/.cpan/build/Tie-ToObject-0.03-sKtQ8c/blib/lib:/Users/hornenj/.cpan/build/Hash-Util-FieldHash-Compat-0.08-FGBuG4/blib/arch:/Users/hornenj/.cpan/build/Hash-Util-FieldHash-Compat-0.08-FGBuG4/blib/lib:/Users/hornenj/.cpan/build/XML-SAX-Writer-0.56-ROLQ6Q/blib/arch:/Users/hornenj/.cpan/build/XML-SAX-Writer-0.56-ROLQ6Q/blib/lib:/Users/hornenj/.cpan/build/XML-Filter-BufferText-1.01-bQLBVl/blib/arch:/Users/hornenj/.cpan/build/XML-Filter-BufferText-1.01-bQLBVl/blib/lib:/Users/hornenj/.cpan/build/MooseX-MetaDescription-0.06-wXdGXA/blib/arch:/Users/hornenj/.cpan/build/MooseX-MetaDescription-0.06-wXdGXA/blib/lib:/Users/hornenj/.cpan/build/IPC-ConcurrencyLimit-Lock-NFS-0.01-iF4mFO/blib/arch:/Users/hornenj/.cpan/build/IPC-ConcurrencyLimit-Lock-NFS-0.01-iF4mFO/blib/lib:/Users/hornenj/.cpan/build/IPC-ConcurrencyLimit-0.12-K9FORj/blib/arch:/Users/hornenj/.cpan/build/IPC-ConcurrencyLimit-0.12-K9FORj/blib/lib:/Users/hornenj/.cpan/build/File-SharedNFSLock-0.04-_8Ocvs/blib/arch:/Users/hornenj/.cpan/build/File-SharedNFSLock-0.04-_8Ocvs/blib/lib:/Users/hornenj/.cpan/build/Const-Fast-0.014-WeyYsZ/blib/arch:/Users/hornenj/.cpan/build/Const-Fast-0.014-WeyYsZ/blib/lib:/Users/hornenj/.cpan/build/Regexp-Debugger-0.001020-qBVBUY/blib/arch:/Users/hornenj/.cpan/build/Regexp-Debugger-0.001020-qBVBUY/blib/lib:/Users/hornenj/.cpan/build/XML-Twig-3.49-9kfA0Q/blib/arch:/Users/hornenj/.cpan/build/XML-Twig-3.49-9kfA0Q/blib/lib:/Users/hornenj/.cpan/build/Parallel-ForkManager-1.14-xhv1iO/blib/arch:/Users/hornenj/.cpan/build/Parallel-ForkManager-1.14-xhv1iO/blib/lib:/Users/hornenj/.cpan/build/File-chdir-0.1010-7cymO7/blib/arch:/Users/hornenj/.cpan/build/File-chdir-0.1010-7cymO7/blib/lib:/Users/hornenj/.cpan/build/Test-Pretty-0.31-RXmFAP/blib/arch:/Users/hornenj/.cpan/build/Test-Pretty-0.31-RXmFAP/blib/lib:/Users/hornenj/.cpan/build/Term-Encoding-0.02-sUFBZ8/blib/arch:/Users/hornenj/.cpan/build/Term-Encoding-0.02-sUFBZ8/blib/lib:/Users/hornenj/.cpan/build/Scope-Guard-0.20-x3o7ja/blib/arch:/Users/hornenj/.cpan/build/Scope-Guard-0.20-x3o7ja/blib/lib:/Users/hornenj/.cpan/build/Carp-Always-0.13-YYHItF/blib/arch:/Users/hornenj/.cpan/build/Carp-Always-0.13-YYHItF/blib/lib"
    PERL5OPT=""
    PERL5_CPANPLUS_IS_RUNNING="52722"
    PERL5_CPAN_IS_RUNNING="52722"
    PERL5_MINISMOKEBOX="0.58"
    PERLBREW_BASHRC_VERSION="0.73"
    PERLBREW_HOME="/Users/hornenj/.perlbrew"
    PERLBREW_LIB=""
    PERLBREW_MANPATH="/Users/hornenj/perl5/perlbrew/perls/perl-5.22.0/man"
    PERLBREW_PATH="/Users/hornenj/perl5/perlbrew/bin:/Users/hornenj/perl5/perlbrew/perls/perl-5.22.0/bin"
    PERLBREW_PERL="perl-5.22.0"
    PERLBREW_ROOT="/Users/hornenj/perl5/perlbrew"
    PERLBREW_VERSION="0.73"
    PERL_EXTUTILS_AUTOINSTALL="--defaultdeps"
    PERL_LOCAL_LIB_ROOT=""
    PERL_MM_USE_DEFAULT="1"
  @INC:
    /Users/hornenj/.cpan/build/Test-XML-0.08-Pk_XUW/blib/arch
    /Users/hornenj/.cpan/build/Test-XML-0.08-Pk_XUW/blib/lib
    /Users/hornenj/.cpan/build/XML-SemanticDiff-1.0004-llXiaH/blib/arch
    /Users/hornenj/.cpan/build/XML-SemanticDiff-1.0004-llXiaH/blib/lib
    /Users/hornenj/.cpan/build/MooseX-NonMoose-0.26-6H37Aj/blib/arch
    /Users/hornenj/.cpan/build/MooseX-NonMoose-0.26-6H37Aj/blib/lib
    /Users/hornenj/.cpan/build/MooseX-Aliases-0.11-U7Ojyw/blib/arch
    /Users/hornenj/.cpan/build/MooseX-Aliases-0.11-U7Ojyw/blib/lib
    /Users/hornenj/.cpan/build/MooseX-App-Cmd-0.31-6d4Nk1/blib/arch
    /Users/hornenj/.cpan/build/MooseX-App-Cmd-0.31-6d4Nk1/blib/lib
    /Users/hornenj/.cpan/build/MooseX-Getopt-0.68-k2jHv2/blib/arch
    /Users/hornenj/.cpan/build/MooseX-Getopt-0.68-k2jHv2/blib/lib
    /Users/hornenj/.cpan/build/Test-Trap-v0.3.2-1cOzNR/blib/arch
    /Users/hornenj/.cpan/build/Test-Trap-v0.3.2-1cOzNR/blib/lib
    /Users/hornenj/.cpan/build/MooseX-Role-Parameterized-1.08-o41sNE/blib/arch
    /Users/hornenj/.cpan/build/MooseX-Role-Parameterized-1.08-o41sNE/blib/lib
    /Users/hornenj/.cpan/build/MooseX-Role-WithOverloading-0.16-1WdoMk/blib/arch
    /Users/hornenj/.cpan/build/MooseX-Role-WithOverloading-0.16-1WdoMk/blib/lib
    /Users/hornenj/.cpan/build/aliased-0.34-eZUVp7/blib/arch
    /Users/hornenj/.cpan/build/aliased-0.34-eZUVp7/blib/lib
    /Users/hornenj/.cpan/build/App-Cmd-0.327-RkWHKH/blib/arch
    /Users/hornenj/.cpan/build/App-Cmd-0.327-RkWHKH/blib/lib
    /Users/hornenj/.cpan/build/IO-TieCombine-1.004-5ojaSF/blib/arch
    /Users/hornenj/.cpan/build/IO-TieCombine-1.004-5ojaSF/blib/lib
    /Users/hornenj/.cpan/build/Getopt-Long-Descriptive-0.099-1VUZlD/blib/arch
    /Users/hornenj/.cpan/build/Getopt-Long-Descriptive-0.099-1VUZlD/blib/lib
    /Users/hornenj/.cpan/build/Template-Toolkit-2.26-faquTT/blib/arch
    /Users/hornenj/.cpan/build/Template-Toolkit-2.26-faquTT/blib/lib
    /Users/hornenj/.cpan/build/Devel-PackagePath-0.03-CDt8Rn/blib/arch
    /Users/hornenj/.cpan/build/Devel-PackagePath-0.03-CDt8Rn/blib/lib
    /Users/hornenj/.cpan/build/Bread-Board-0.33-monBCa/blib/arch
    /Users/hornenj/.cpan/build/Bread-Board-0.33-monBCa/blib/lib
    /Users/hornenj/.cpan/build/MooseX-Params-Validate-0.21-TKAxOF/blib/arch
    /Users/hornenj/.cpan/build/MooseX-Params-Validate-0.21-TKAxOF/blib/lib
    /Users/hornenj/.cpan/build/Devel-Caller-2.06-IjIRFR/blib/arch
    /Users/hornenj/.cpan/build/Devel-Caller-2.06-IjIRFR/blib/lib
    /Users/hornenj/.cpan/build/MooseX-Clone-0.06-ZAzyiC/blib/arch
    /Users/hornenj/.cpan/build/MooseX-Clone-0.06-ZAzyiC/blib/lib
    /Users/hornenj/.cpan/build/Data-Visitor-0.30-jhlzN9/blib/arch
    /Users/hornenj/.cpan/build/Data-Visitor-0.30-jhlzN9/blib/lib
    /Users/hornenj/.cpan/build/Tie-ToObject-0.03-sKtQ8c/blib/arch
    /Users/hornenj/.cpan/build/Tie-ToObject-0.03-sKtQ8c/blib/lib
    /Users/hornenj/.cpan/build/Hash-Util-FieldHash-Compat-0.08-FGBuG4/blib/arch
    /Users/hornenj/.cpan/build/Hash-Util-FieldHash-Compat-0.08-FGBuG4/blib/lib
    /Users/hornenj/.cpan/build/XML-SAX-Writer-0.56-ROLQ6Q/blib/arch
    /Users/hornenj/.cpan/build/XML-SAX-Writer-0.56-ROLQ6Q/blib/lib
    /Users/hornenj/.cpan/build/XML-Filter-BufferText-1.01-bQLBVl/blib/arch
    /Users/hornenj/.cpan/build/XML-Filter-BufferText-1.01-bQLBVl/blib/lib
    /Users/hornenj/.cpan/build/MooseX-MetaDescription-0.06-wXdGXA/blib/arch
    /Users/hornenj/.cpan/build/MooseX-MetaDescription-0.06-wXdGXA/blib/lib
    /Users/hornenj/.cpan/build/IPC-ConcurrencyLimit-Lock-NFS-0.01-iF4mFO/blib/arch
    /Users/hornenj/.cpan/build/IPC-ConcurrencyLimit-Lock-NFS-0.01-iF4mFO/blib/lib
    /Users/hornenj/.cpan/build/IPC-ConcurrencyLimit-0.12-K9FORj/blib/arch
    /Users/hornenj/.cpan/build/IPC-ConcurrencyLimit-0.12-K9FORj/blib/lib
    /Users/hornenj/.cpan/build/File-SharedNFSLock-0.04-_8Ocvs/blib/arch
    /Users/hornenj/.cpan/build/File-SharedNFSLock-0.04-_8Ocvs/blib/lib
    /Users/hornenj/.cpan/build/Const-Fast-0.014-WeyYsZ/blib/arch
    /Users/hornenj/.cpan/build/Const-Fast-0.014-WeyYsZ/blib/lib
    /Users/hornenj/.cpan/build/Regexp-Debugger-0.001020-qBVBUY/blib/arch
    /Users/hornenj/.cpan/build/Regexp-Debugger-0.001020-qBVBUY/blib/lib
    /Users/hornenj/.cpan/build/XML-Twig-3.49-9kfA0Q/blib/arch
    /Users/hornenj/.cpan/build/XML-Twig-3.49-9kfA0Q/blib/lib
    /Users/hornenj/.cpan/build/Parallel-ForkManager-1.14-xhv1iO/blib/arch
    /Users/hornenj/.cpan/build/Parallel-ForkManager-1.14-xhv1iO/blib/lib
    /Users/hornenj/.cpan/build/File-chdir-0.1010-7cymO7/blib/arch
    /Users/hornenj/.cpan/build/File-chdir-0.1010-7cymO7/blib/lib
    /Users/hornenj/.cpan/build/Test-Pretty-0.31-RXmFAP/blib/arch
    /Users/hornenj/.cpan/build/Test-Pretty-0.31-RXmFAP/blib/lib
    /Users/hornenj/.cpan/build/Term-Encoding-0.02-sUFBZ8/blib/arch
    /Users/hornenj/.cpan/build/Term-Encoding-0.02-sUFBZ8/blib/lib
    /Users/hornenj/.cpan/build/Scope-Guard-0.20-x3o7ja/blib/arch
    /Users/hornenj/.cpan/build/Scope-Guard-0.20-x3o7ja/blib/lib
    /Users/hornenj/.cpan/build/Carp-Always-0.13-YYHItF/blib/arch
    /Users/hornenj/.cpan/build/Carp-Always-0.13-YYHItF/blib/lib
    /Users/hornenj/perl5/perlbrew/perls/perl-5.22.0/lib/site_perl/5.22.0/darwin-thread-multi-2level
    /Users/hornenj/perl5/perlbrew/perls/perl-5.22.0/lib/site_perl/5.22.0
    /Users/hornenj/perl5/perlbrew/perls/perl-5.22.0/lib/5.22.0/darwin-thread-multi-2level
    /Users/hornenj/perl5/perlbrew/perls/perl-5.22.0/lib/5.22.0
    .