Back
From: metabase:user:20b5d20a-b56b-11df-b6fe-a673812b71ce
Subject: PASS Catalyst-Runtime-5.90103 v5.22.1 GNU/Linux
Date: 2016-01-26T17:14:19Z
This distribution has been tested as part of the CPAN Testers
project, supporting the Perl programming language. See
http://wiki.cpantesters.org/ for more information or email
questions to cpan-testers-discuss@perl.org
--
Dear Matt S Trout,
This is a computer-generated report for Catalyst-Runtime-5.90103
on perl 5.22.1, created by CPAN-Reporter-1.2015.
Thank you for uploading your work to CPAN. Congratulations!
All tests were successful.
Sections of this report:
* Tester comments
* Program output
* Prerequisites
* Environment and other context
------------------------------
TESTER COMMENTS
------------------------------
Additional comments from tester:
none provided
------------------------------
PROGRAM OUTPUT
------------------------------
Output from '/usr/bin/make test':
PERL_DL_NONLAZY=1 "/usr/bin/perl" "-MExtUtils::Command::MM" "-MTest::Harness" "-e" "undef *Test::Harness::Switches; test_harness(0, 'inc', 'blib/lib', 'blib/arch')" t/*.t t/aggregate/*.t
t/01use.t ............................................................. ok
[error] Unknown resource "test_model"
t/accept_context_regression.t ......................................... ok
t/aggregate.t ......................................................... skipped: No test aggregation requested
t/aggregate/c3_appclass_bug.t ......................................... ok
t/aggregate/c3_mro.t .................................................. ok
t/aggregate/caf_backcompat.t .......................................... ok
t/aggregate/catalyst_test_utf8.t ...................................... ok
t/aggregate/custom_live_component_controller_action_auto_doublebug.t .. ok
t/aggregate/custom_live_path_bug.t .................................... ok
t/aggregate/deprecated_test_import.t .................................. ok
t/aggregate/deprecated_test_unimported.t .............................. ok
t/aggregate/error_page_dump.t ......................................... ok
t/aggregate/live_component_controller_action_action.t ................. ok
t/aggregate/live_component_controller_action_auto.t ................... ok
t/aggregate/live_component_controller_action_begin.t .................. ok
t/aggregate/live_component_controller_action_chained.t ................ ok
t/aggregate/live_component_controller_action_chained2.t ............... ok
t/aggregate/live_component_controller_action_default.t ................ ok
t/aggregate/live_component_controller_action_detach.t ................. ok
t/aggregate/live_component_controller_action_die_in_end.t ............. ok
t/aggregate/live_component_controller_action_end.t .................... ok
t/aggregate/live_component_controller_action_forward.t ................ ok
t/aggregate/live_component_controller_action_global.t ................. ok
t/aggregate/live_component_controller_action_go.t ..................... ok
t/aggregate/live_component_controller_action_index.t .................. ok
t/aggregate/live_component_controller_action_index_or_default.t ....... ok
t/aggregate/live_component_controller_action_inheritance.t ............ ok
t/aggregate/live_component_controller_action_local.t .................. ok
t/aggregate/live_component_controller_action_multipath.t .............. ok
t/aggregate/live_component_controller_action_path.t ................... ok
t/aggregate/live_component_controller_action_path_matchsingle.t ....... ok
t/aggregate/live_component_controller_action_private.t ................ ok
t/aggregate/live_component_controller_action_streaming.t .............. ok
t/aggregate/live_component_controller_action_visit.t .................. ok
t/aggregate/live_component_controller_actionroles.t ................... ok
t/aggregate/live_component_controller_anon.t .......................... ok
t/aggregate/live_component_controller_args.t .......................... ok
t/aggregate/live_component_controller_attributes.t .................... ok
t/aggregate/live_component_controller_httpmethods.t ................... ok
t/aggregate/live_component_controller_moose.t ......................... ok
t/aggregate/live_component_view_single.t .............................. ok
t/aggregate/live_engine_request_auth.t ................................ ok
t/aggregate/live_engine_request_body.t ................................ ok
t/aggregate/live_engine_request_body_demand.t ......................... ok
t/aggregate/live_engine_request_cookies.t ............................. ok
t/aggregate/live_engine_request_env.t ................................. ok
t/aggregate/live_engine_request_escaped_path.t ........................ ok
t/aggregate/live_engine_request_headers.t ............................. ok
t/aggregate/live_engine_request_parameters.t .......................... ok
t/aggregate/live_engine_request_prepare_parameters.t .................. ok
t/aggregate/live_engine_request_remote_user.t ......................... ok
t/aggregate/live_engine_request_uploads.t ............................. ok
t/aggregate/live_engine_request_uri.t ................................. ok
t/aggregate/live_engine_response_body.t ............................... ok
t/aggregate/live_engine_response_cookies.t ............................ ok
t/aggregate/live_engine_response_emptybody.t .......................... ok
t/aggregate/live_engine_response_errors.t ............................. ok
t/aggregate/live_engine_response_headers.t ............................ ok
t/aggregate/live_engine_response_large.t .............................. ok
t/aggregate/live_engine_response_print.t .............................. ok
t/aggregate/live_engine_response_redirect.t ........................... ok
t/aggregate/live_engine_response_status.t ............................. ok
t/aggregate/live_engine_setup_basics.t ................................ ok
t/aggregate/live_engine_setup_plugins.t ............................... ok
t/aggregate/live_loop.t ............................................... ok
t/aggregate/live_plugin_loaded.t ...................................... ok
t/aggregate/live_priorities.t ......................................... ok
t/aggregate/live_recursion.t .......................................... ok
t/aggregate/live_view_warnings.t ...................................... ok
t/aggregate/meta_method_unneeded.t .................................... ok
t/aggregate/psgi_file.t ............................................... ok
t/aggregate/to_app.t .................................................. ok
t/aggregate/unit_controller_actions.t ................................. ok
t/aggregate/unit_controller_config.t .................................. ok
t/aggregate/unit_controller_namespace.t ............................... ok
t/aggregate/unit_core_action.t ........................................ ok
t/aggregate/unit_core_action_for.t .................................... ok
t/aggregate/unit_core_appclass_roles_in_plugin_list.t ................. ok
t/aggregate/unit_core_classdata.t ..................................... ok
[warn] Used regexp fallback for $c->model('MyApp::V::View$'), which found 'MyApp::V::View'. Relying on regexp fallback behavior for component resolution is unreliable and unsafe. You probably meant $c->model('MyApp::V::View') instead of $c->model('MyApp::V::View$'), but if you really wanted to search, pass in a regexp as the argument like so: $c->model(qr/MyApp::V::View$/) at t/aggregate/unit_core_component.t line 34.
[warn] Used regexp fallback for $c->model('MyApp::C::Controller$'), which found 'MyApp::C::Controller'. Relying on regexp fallback behavior for component resolution is unreliable and unsafe. You probably meant $c->model('MyApp::C::Controller') instead of $c->model('MyApp::C::Controller$'), but if you really wanted to search, pass in a regexp as the argument like so: $c->model(qr/MyApp::C::Controller$/) at t/aggregate/unit_core_component.t line 35.
[warn] Used regexp fallback for $c->model('MyApp::M::Model$'), which found 'MyApp::M::Model'. Relying on regexp fallback behavior for component resolution is unreliable and unsafe. You probably meant $c->model('MyApp::M::Model') instead of $c->model('MyApp::M::Model$'), but if you really wanted to search, pass in a regexp as the argument like so: $c->model(qr/MyApp::M::Model$/) at t/aggregate/unit_core_component.t line 36.
[warn] Used regexp fallback for $c->model('Mode'), which found 'MyApp::M::Model'. Relying on regexp fallback behavior for component resolution is unreliable and unsafe. You probably meant $c->model('MyApp::M::Model') instead of $c->model('Mode'), but if you really wanted to search, pass in a regexp as the argument like so: $c->model(qr/Mode/) at t/aggregate/unit_core_component.t line 90.
t/aggregate/unit_core_component.t ..................................... ok
t/aggregate/unit_core_component_generating.t .......................... ok
t/aggregate/unit_core_component_layers.t .............................. ok
t/aggregate/unit_core_component_loading.t ............................. ok
t/aggregate/unit_core_component_mro.t ................................. ok
t/aggregate/unit_core_controller_actions_config.t ..................... ok
t/aggregate/unit_core_ctx_attr.t ...................................... ok
t/aggregate/unit_core_engine-prepare_path.t ........................... ok
t/aggregate/unit_core_engine_fixenv-iis6.t ............................ ok
t/aggregate/unit_core_engine_fixenv-lighttpd.t ........................ ok
t/aggregate/unit_core_log.t ........................................... ok
t/aggregate/unit_core_log_autoflush.t ................................. ok
t/aggregate/unit_core_merge_config_hashes.t ........................... ok
[warn] Attempted to use view 'MyMVCTestApp::View::View', but does not exist
[warn] Attempted to use view 'MyMVCTestApp::View::MyMVCTestApp::V::View$', but does not exist
[warn] Used regexp fallback for $c->view('MyMVCTestApp::V::View$'), which found 'MyMVCTestApp::V::View'. Relying on regexp fallback behavior for component resolution is unreliable and unsafe. You probably meant $c->view('MyMVCTestApp::V::View') instead of $c->view('MyMVCTestApp::V::View$'), but if you really wanted to search, pass in a regexp as the argument like so: $c->view(qr/MyMVCTestApp::V::View$/) at t/aggregate/unit_core_mvc.t line 148.
[warn] Used regexp fallback for $c->controller('MyMVCTestApp::C::Controller$'), which found 'MyMVCTestApp::C::Controller'. Relying on regexp fallback behavior for component resolution is unreliable and unsafe. You probably meant $c->controller('MyMVCTestApp::C::Controller') instead of $c->controller('MyMVCTestApp::C::Controller$'), but if you really wanted to search, pass in a regexp as the argument like so: $c->controller(qr/MyMVCTestApp::C::Controller$/) at t/aggregate/unit_core_mvc.t line 149.
[warn] Used regexp fallback for $c->model('MyMVCTestApp::M::Model$'), which found 'MyMVCTestApp::M::Model'. Relying on regexp fallback behavior for component resolution is unreliable and unsafe. You probably meant $c->model('MyMVCTestApp::M::Model') instead of $c->model('MyMVCTestApp::M::Model$'), but if you really wanted to search, pass in a regexp as the argument like so: $c->model(qr/MyMVCTestApp::M::Model$/) at t/aggregate/unit_core_mvc.t line 150.
[warn] Attempted to use view 'MyMVCTestApp::View::::View::V', but does not exist
[warn] Used regexp fallback for $c->view('::View::V'), which found 'MyMVCTestApp::View::V'. Relying on regexp fallback behavior for component resolution is unreliable and unsafe. You probably meant $c->view('V') instead of $c->view('::View::V'), but if you really wanted to search, pass in a regexp as the argument like so: $c->view(qr/::View::V/) at t/aggregate/unit_core_mvc.t line 197.
t/aggregate/unit_core_mvc.t ........................................... ok
t/aggregate/unit_core_path_to.t ....................................... ok
t/aggregate/unit_core_plugin.t ........................................ ok
t/aggregate/unit_core_script_cgi.t .................................... ok
t/aggregate/unit_core_script_create.t ................................. ok
t/aggregate/unit_core_script_fastcgi.t ................................ ok
t/aggregate/unit_core_script_help.t ................................... ok
t/aggregate/unit_core_script_run_options.t ............................ ok
t/aggregate/unit_core_script_server-without_modules.t ................. ok
t/aggregate/unit_core_script_server.t ................................. ok
t/aggregate/unit_core_scriptrunner.t .................................. ok
Term::Size::Any is not installed, can't autodetect terminal column width
Trouble trying to detect your terminal size, looking at $ENV{COLUMNS}
t/aggregate/unit_core_setup.t ......................................... ok
[debug] Debug messages enabled
[debug] Debug messages enabled
t/aggregate/unit_core_setup_log.t ..................................... ok
t/aggregate/unit_core_setup_stats.t ................................... ok
t/aggregate/unit_core_uri_for.t ....................................... ok
t/aggregate/unit_core_uri_for_action.t ................................ ok
t/aggregate/unit_core_uri_for_multibytechar.t ......................... ok
t/aggregate/unit_core_uri_with.t ...................................... ok
t/aggregate/unit_dispatcher_requestargs_restore.t ..................... ok
t/aggregate/unit_engineloader.t ....................................... ok
t/aggregate/unit_load_catalyst_test.t ................................. ok
t/aggregate/unit_metaclass_compat_extend_non_moose_controller.t ....... ok
t/aggregate/unit_metaclass_compat_non_moose.t ......................... ok
t/aggregate/unit_metaclass_compat_non_moose_controller.t .............. ok
t/aggregate/unit_response.t ........................................... ok
t/aggregate/unit_utils_env_value.t .................................... ok
t/aggregate/unit_utils_home.t ......................................... ok
t/aggregate/unit_utils_prefix.t ....................................... ok
t/aggregate/unit_utils_request.t ...................................... ok
t/aggregate/utf8_content_length.t ..................................... ok
args [20] do not match the type constraints in action 'user' at t/arg_constraints.t line 509.
captures [1 2 3 4 5] do not match the type constraints in actionchain ending with 'finally' at t/arg_constraints.t line 523.
args [a] do not match the type constraints in action 'finally' at t/arg_constraints.t line 532.
captures [a a 3 4 4] do not match the type constraints in actionchain ending with 'finally' at t/arg_constraints.t line 536.
args [1] do not match the type constraints in action 'heart' at t/arg_constraints.t line 545.
captures [2] do not match the type constraints in actionchain ending with 'utf8_end' at t/arg_constraints.t line 554.
t/arg_constraints.t ................................................... ok
Term::Size::Any is not installed, can't autodetect terminal column width
Trouble trying to detect your terminal size, looking at $ENV{COLUMNS}
t/args-empty-parens-bug.t ............................................. ok
t/args0_bug.t ......................................................... ok
t/bad_middleware_error.t .............................................. ok
t/body_fh.t ........................................................... ok
[error] No default action defined
t/class_traits.t ...................................................... ok
t/configured_comps.t .................................................. ok
t/consumes.t .......................................................... ok
t/content_negotiation.t ............................................... ok
t/custom_exception_class_simple.t ..................................... ok
[error] No default action defined
t/data_handler.t ...................................................... ok
t/dead_load_bad_args.t ................................................ skipped: Removing this test because constraint arg types allow this
t/dead_load_multiple_chained_attributes.t ............................. ok
t/dead_no_unknown_error.t ............................................. ok
t/dead_recursive_chained_attributes.t ................................. ok
t/deprecated.t ........................................................ ok
t/deprecated_appclass_action_warnings.t ............................... ok
t/dispatch_on_scheme.t ................................................ ok
t/encoding_set_in_app.t ............................................... ok
t/encoding_set_in_config.t ............................................ skipped: Need Catalyst::Plugin::ConfigLoader
t/head_middleware.t ................................................... ok
Term::Size::Any is not installed, can't autodetect terminal column width
Trouble trying to detect your terminal size, looking at $ENV{COLUMNS}
t/http_exceptions.t ................................................... ok
Term::Size::Any is not installed, can't autodetect terminal column width
Trouble trying to detect your terminal size, looking at $ENV{COLUMNS}
t/http_exceptions_backcompat.t ........................................ ok
t/http_method.t ....................................................... skipped: Test Cases are Sketch for next release
t/inject_component_util.t ............................................. ok
t/live_catalyst_test.t ................................................ ok
t/live_component_controller_context_closure.t ......................... skipped: CatalystX::LeakChecker 0.05 required for this test
t/live_fork.t ......................................................... ok
t/live_redirect_body.t ................................................ ok
t/live_show_internal_actions_warnings.t ............................... ok
Term::Size::Any is not installed, can't autodetect terminal column width
Trouble trying to detect your terminal size, looking at $ENV{COLUMNS}
t/live_stats.t ........................................................ ok
t/middleware-stash.t .................................................. ok
t/more-psgi-compat.t .................................................. ok
t/no_test_stash_bug.t ................................................. ok
t/not_utf8_query_bug.t ................................................ ok
t/optional_http-server-restart.t ...................................... skipped: set TEST_HTTP to enable this test
t/optional_lighttpd-fastcgi-non-root.t ................................ skipped: set TEST_LIGHTTPD to enable this test
t/optional_lighttpd-fastcgi.t ......................................... skipped: set TEST_LIGHTTPD to enable this test
t/optional_memleak.t .................................................. skipped: set TEST_MEMLEAK to enable this test
t/optional_stress.t ................................................... skipped: set TEST_STRESS to enable this test
t/optional_threads.t .................................................. skipped: set TEST_THREADS to enable this test
t/path_action_empty_brackets.t ........................................ ok
t/plack-middleware-config.t ........................................... skipped: Need Catalyst::Plugin::ConfigLoader
t/plack-middleware.t .................................................. ok
t/plugin_new_method_backcompat.t ...................................... ok
t/psgi-log.t .......................................................... ok
t/psgi_file_testapp.t ................................................. ok
t/psgi_utils.t ........................................................ ok
t/query_constraints.t ................................................. ok
t/remove_redundant_body.t ............................................. ok
t/set_allowed_method.t ................................................ ok
t/state.t ............................................................. ok
t/undef-params.t ...................................................... ok
t/unicode_plugin_charset_utf8.t ....................................... ok
t/unicode_plugin_config.t ............................................. skipped: Need Test::WWW::Mechanize::Catalyst for this test
t/unicode_plugin_live.t ............................................... skipped: Need Test::WWW::Mechanize::Catalyst for this test
t/unicode_plugin_no_encoding.t ........................................ ok
t/unicode_plugin_request_decode.t ..................................... ok
t/unit_core_methodattributes_method_metaclass_on_subclasses.t ......... ok
t/unit_core_script_test.t ............................................. ok
Term::Size::Any is not installed, can't autodetect terminal column width
Trouble trying to detect your terminal size, looking at $ENV{COLUMNS}
t/unit_stats.t ........................................................ ok
t/unit_utils_load_class.t ............................................. ok
t/unit_utils_subdir.t ................................................. ok
[error] Caught exception in MyApp::Controller::Root->stream_write_error "You may not change the encoding once the headers are finalized at t/utf_incoming.t line 190."
[warn] Useless setting a header value after finalize_headers and the response callback has been called. Not what you want.
[warn] Useless setting a header value after finalize_headers and the response callback has been called. Not what you want.
t/utf_incoming.t ...................................................... ok
All tests successful.
Test Summary Report
-------------------
t/aggregate/unit_core_uri_for.t (Wstat: 0 Tests: 36 Failed: 0)
TODO passed: 19
Files=186, Tests=3656, 201 wallclock secs ( 0.80 usr 0.18 sys + 193.46 cusr 6.34 csys = 200.78 CPU)
Result: PASS
------------------------------
PREREQUISITES
------------------------------
Prerequisite modules loaded:
requires:
Module Need Have
---------------------------------------------------------- -------- --------
Carp 1.25 1.38
CGI::Simple::Cookie 1.109 1.114
CGI::Struct 0 1.21
Class::C3::Adopt::NEXT 0.07 0.14
Class::Data::Inheritable 0 0.08
Class::Load 0.12 0.23
Data::Dump 0 1.23
Data::OptList 0 0.109
Devel::InnerPackage 0 0.4
Encode 2.49 2.79
Hash::MultiValue 0 0.16
HTML::Entities 0 3.69
HTML::HeadParser 0 3.71
HTTP::Body 1.22 1.22
HTTP::Headers 1.64 6.11
HTTP::Request 5.814 6.11
HTTP::Request::AsCGI 1.0 1.2
HTTP::Request::Common 0 6.11
HTTP::Response 5.813 6.11
HTTP::Status 0 6.11
IO::Scalar 0 2.111
JSON::MaybeXS 1.000000 1.003005
List::MoreUtils 0 0.413
LWP 5.837 6.15
Module::Pluggable 4.7 5.2
Moose 1.03 2.1604
MooseX::Emulate::Class::Accessor::Fast 0.00903 0.00903
MooseX::Getopt 0.48 0.68
MooseX::MethodAttributes::Role::AttrContainer::Inheritable 0.24 0.31
MooseX::Role::WithOverloading 0.09 0.17
MRO::Compat 0 0.12
namespace::autoclean 0.28 0.28
namespace::clean 0.23 0.26
Path::Class 0.09 0.35
perl 5.008003 5.022001
Plack 0.9991 1.0039
Plack::Middleware::Conditional 0 0
Plack::Middleware::ContentLength 0 0
Plack::Middleware::FixMissingBodyInRedirect 0.09 0.12
Plack::Middleware::Head 0 0
Plack::Middleware::HTTPExceptions 0 0
Plack::Middleware::IIS6ScriptNameFix 0 0
Plack::Middleware::IIS7KeepAliveFix 0 0
Plack::Middleware::LighttpdScriptNameFix 0 0
Plack::Middleware::MethodOverride 0.12 0.15
Plack::Middleware::RemoveRedundantBody 0.03 0.04
Plack::Middleware::ReverseProxy 0.04 0.15
Plack::Request::Upload 0 0
Plack::Test::ExternalServer 0 0.02
Safe::Isa 0 1.000005
Scalar::Util 0 1.42
Stream::Buffered 0 0.03
String::RewritePrefix 0.004 0.007
Sub::Exporter 0 0.987
Task::Weaken 0 1.04
Test::Fatal 0 0.014
Test::More 0.88 1.001014
Text::Balanced 0 2.03
Text::SimpleTable 0.03 2.03
Time::HiRes 0 1.9728
Tree::Simple 1.15 1.26
Tree::Simple::Visitor::FindByPath 0 0.12
Try::Tiny 0.17 0.24
URI 1.65 1.71
URI::ws 0.03 0.03
build_requires:
Module Need Have
---------------------------------------------------------- -------- --------
Data::Dump 0 1.23
ExtUtils::MakeMaker 6.59 7.10
HTTP::Request::Common 0 6.11
HTTP::Status 0 6.11
IO::Scalar 0 2.111
JSON::MaybeXS 0 1.003005
Test::Fatal 0 0.014
Test::More 0.88 1.001014
configure_requires:
Module Need Have
---------------------------------------------------------- -------- --------
ExtUtils::MakeMaker 6.59 7.10
------------------------------
ENVIRONMENT AND OTHER CONTEXT
------------------------------
Environment variables:
LANG = en_US.UTF-8
PATH = /usr/local/sbin:/usr/local/bin:/usr/sbin:/usr/bin:/sbin:/bin
PERL5LIB =
PERL5OPT =
PERL5_CPANPLUS_IS_RUNNING = 31912
PERL5_CPAN_IS_RUNNING = 31912
SHELL = /bin/bash
TERM = screen
Perl special variables (and OS-specific diagnostics, for MSWin32):
$^X = /usr/bin/perl
$UID/$EUID = 0 / 0
$GID = 0 0
$EGID = 0 0
Perl module toolchain versions installed:
Module Have
------------------- --------
CPAN 2.11
CPAN::Meta 2.150005
Cwd 3.62
ExtUtils::CBuilder 0.280224
ExtUtils::Command 7.10
ExtUtils::Install 2.04
ExtUtils::MakeMaker 7.10
ExtUtils::Manifest 1.70
ExtUtils::ParseXS 3.30
File::Spec 3.62
JSON 2.90
JSON::PP 2.27300
Module::Build 0.4216
Module::Signature n/a
Parse::CPAN::Meta 1.4417
Test::Harness 3.36
Test::More 1.001014
YAML 1.15
YAML::Syck n/a
version 0.9912
--
Summary of my perl5 (revision 5 version 22 subversion 1) configuration:
Platform:
osname=linux, osvers=3.16.0, archname=x86_64-linux-gnu-thread-multi
uname='linux localhost 3.16.0 #1 smp debian 3.16.0 x86_64 gnulinux '
config_args='-Dusethreads -Duselargefiles -Dcc=x86_64-linux-gnu-gcc -Dcpp=x86_64-linux-gnu-cpp -Dld=x86_64-linux-gnu-gcc -Dccflags=-DDEBIAN -D_FORTIFY_SOURCE=2 -g -O2 -fstack-protector-strong -Wformat -Werror=format-security -Dldflags= -Wl,-Bsymbolic-functions -Wl,-z,relro -Dlddlflags=-shared -Wl,-Bsymbolic-functions -Wl,-z,relro -Dcccdlflags=-fPIC -Darchname=x86_64-linux-gnu -Dprefix=/usr -Dprivlib=/usr/share/perl/5.22 -Darchlib=/usr/lib/x86_64-linux-gnu/perl/5.22 -Dvendorprefix=/usr -Dvendorlib=/usr/share/perl5 -Dvendorarch=/usr/lib/x86_64-linux-gnu/perl5/5.22 -Dsiteprefix=/usr/local -Dsitelib=/usr/local/share/perl/5.22.1 -Dsitearch=/usr/local/lib/x86_64-linux-gnu/perl/5.22.1 -Dman1dir=/usr/share/man/man1 -Dman3dir=/usr/share/man/man3 -Dsiteman1dir=/usr/local/man/man1 -Dsiteman3dir=/usr/local/man/man3 -Duse64bitint -Dman1ext=1 -Dman3ext=3perl -Dpager=/usr/bin/sensible-pager -Uafs -Ud_csh -Ud_ualarm -Uusesfio -Uusenm -Ui_libutil -Uversiononly -DDEBUGGING=-g -Doptimize=-O2 -Duseshrplib -Dlibperl=libperl.so.5.22.1 -des'
hint=recommended, useposix=true, d_sigaction=define
useithreads=define, usemultiplicity=define
use64bitint=define, use64bitall=define, uselongdouble=undef
usemymalloc=n, bincompat5005=undef
Compiler:
cc='x86_64-linux-gnu-gcc', ccflags ='-D_REENTRANT -D_GNU_SOURCE -DDEBIAN -fwrapv -fno-strict-aliasing -pipe -I/usr/local/include -D_LARGEFILE_SOURCE -D_FILE_OFFSET_BITS=64',
optimize='-O2 -g',
cppflags='-D_REENTRANT -D_GNU_SOURCE -DDEBIAN -fwrapv -fno-strict-aliasing -pipe -I/usr/local/include'
ccversion='', gccversion='5.3.1 20160108', gccosandvers=''
intsize=4, longsize=8, ptrsize=8, doublesize=8, byteorder=12345678, doublekind=3
d_longlong=define, longlongsize=8, d_longdbl=define, longdblsize=16, longdblkind=3
ivtype='long', ivsize=8, nvtype='double', nvsize=8, Off_t='off_t', lseeksize=8
alignbytes=8, prototype=define
Linker and Libraries:
ld='x86_64-linux-gnu-gcc', ldflags =' -fstack-protector-strong -L/usr/local/lib'
libpth=/usr/local/lib /usr/lib/gcc/x86_64-linux-gnu/5/include-fixed /usr/include/x86_64-linux-gnu /usr/lib /lib/x86_64-linux-gnu /lib/../lib /usr/lib/x86_64-linux-gnu /usr/lib/../lib /lib
libs=-lgdbm -lgdbm_compat -ldb -ldl -lm -lpthread -lc -lcrypt
perllibs=-ldl -lm -lpthread -lc -lcrypt
libc=libc-2.21.so, so=so, useshrplib=true, libperl=libperl.so.5.22
gnulibc_version='2.21'
Dynamic Linking:
dlsrc=dl_dlopen.xs, dlext=so, d_dlsymun=undef, ccdlflags='-Wl,-E'
cccdlflags='-fPIC', lddlflags='-shared -L/usr/local/lib -fstack-protector-strong'
Characteristics of this binary (from libperl):
Compile-time options: HAS_TIMES MULTIPLICITY PERLIO_LAYERS
PERL_DONT_CREATE_GVSV
PERL_HASH_FUNC_ONE_AT_A_TIME_HARD
PERL_IMPLICIT_CONTEXT PERL_MALLOC_WRAP
PERL_NEW_COPY_ON_WRITE PERL_PRESERVE_IVUV
USE_64_BIT_ALL USE_64_BIT_INT USE_ITHREADS
USE_LARGE_FILES USE_LOCALE USE_LOCALE_COLLATE
USE_LOCALE_CTYPE USE_LOCALE_NUMERIC USE_LOCALE_TIME
USE_PERLIO USE_PERL_ATOF USE_REENTRANT_API
Locally applied patches:
DEBPKG:debian/cpan_definstalldirs - Provide a sensible INSTALLDIRS default for modules installed from CPAN.
DEBPKG:debian/db_file_ver - http://bugs.debian.org/340047 Remove overly restrictive DB_File version check.
DEBPKG:debian/doc_info - Replace generic man(1) instructions with Debian-specific information.
DEBPKG:debian/enc2xs_inc - http://bugs.debian.org/290336 Tweak enc2xs to follow symlinks and ignore missing @INC directories.
DEBPKG:debian/errno_ver - http://bugs.debian.org/343351 Remove Errno version check due to upgrade problems with long-running processes.
DEBPKG:debian/libperl_embed_doc - http://bugs.debian.org/186778 Note that libperl-dev package is required for embedded linking
DEBPKG:fixes/respect_umask - Respect umask during installation
DEBPKG:debian/writable_site_dirs - Set umask approproately for site install directories
DEBPKG:debian/extutils_set_libperl_path - EU:MM: set location of libperl.a under /usr/lib
DEBPKG:debian/no_packlist_perllocal - Don't install .packlist or perllocal.pod for perl or vendor
DEBPKG:debian/fakeroot - Postpone LD_LIBRARY_PATH evaluation to the binary targets.
DEBPKG:debian/instmodsh_doc - Debian policy doesn't install .packlist files for core or vendor.
DEBPKG:debian/ld_run_path - Remove standard libs from LD_RUN_PATH as per Debian policy.
DEBPKG:debian/libnet_config_path - Set location of libnet.cfg to /etc/perl/Net as /usr may not be writable.
DEBPKG:debian/mod_paths - Tweak @INC ordering for Debian
DEBPKG:debian/prune_libs - http://bugs.debian.org/128355 Prune the list of libraries wanted to what we actually need.
DEBPKG:fixes/net_smtp_docs - [rt.cpan.org #36038] http://bugs.debian.org/100195 Document the Net::SMTP 'Port' option
DEBPKG:debian/perlivp - http://bugs.debian.org/510895 Make perlivp skip include directories in /usr/local
DEBPKG:debian/deprecate-with-apt - http://bugs.debian.org/747628 Point users to Debian packages of deprecated core modules
DEBPKG:debian/squelch-locale-warnings - http://bugs.debian.org/508764 Squelch locale warnings in Debian package maintainer scripts
DEBPKG:debian/skip-upstream-git-tests - Skip tests specific to the upstream Git repository
DEBPKG:debian/patchlevel - http://bugs.debian.org/567489 List packaged patches for 5.22.1-4 in patchlevel.h
DEBPKG:debian/skip-kfreebsd-crash - http://bugs.debian.org/628493 [perl #96272] Skip a crashing test case in t/op/threads.t on GNU/kFreeBSD
DEBPKG:fixes/document_makemaker_ccflags - http://bugs.debian.org/628522 [rt.cpan.org #68613] Document that CCFLAGS should include $Config{ccflags}
DEBPKG:debian/find_html2text - http://bugs.debian.org/640479 Configure CPAN::Distribution with correct name of html2text
DEBPKG:debian/perl5db-x-terminal-emulator.patch - http://bugs.debian.org/668490 Invoke x-terminal-emulator rather than xterm in perl5db.pl
DEBPKG:debian/cpan-missing-site-dirs - http://bugs.debian.org/688842 Fix CPAN::FirstTime defaults with nonexisting site dirs if a parent is writable
DEBPKG:fixes/memoize_storable_nstore - [rt.cpan.org #77790] http://bugs.debian.org/587650 Memoize::Storable: respect 'nstore' option not respected
DEBPKG:debian/regen-skip - Skip a regeneration check in unrelated git repositories
DEBPKG:debian/makemaker-pasthru - http://bugs.debian.org/758471 Pass LD settings through to subdirectories
DEBPKG:fixes/pod_man_reproducible_date - http://bugs.debian.org/759405 Support POD_MAN_DATE in Pod::Man for the left-hand footer
DEBPKG:debian/locale-robustness - http://bugs.debian.org/782068 [perl #124310] Make t/run/locale.t survive missing locales masked by LC_ALL
DEBPKG:fixes/podman-utc - http://bugs.debian.org/780259 Make the embedded date from Pod::Man reproducible
DEBPKG:fixes/podman-utc-docs - http://bugs.debian.org/780259 Documentation and test suite updates for UTC fix
DEBPKG:fixes/podman-empty-date - http://bugs.debian.org/780259 Support an empty POD_MAN_DATE environment variable
DEBPKG:fixes/podman-pipe - http://bugs.debian.org/777405 Better errors for man pages from standard input
DEBPKG:debian/pod2man-customized - Update porting/customized.dat for pod2man modifications
DEBPKG:debian/makemaker-manext - http://bugs.debian.org/247370 Make EU::MakeMaker honour MANnEXT settings in generated manpage headers
DEBPKG:debian/makemaker_customized - Update t/porting/customized.dat for files patched in Debian
DEBPKG:debian/do-not-record-build-date - [6baa8db] http://bugs.debian.org/774422 [perl #125830] Allow overriding the compile time in "perl -V" output
DEBPKG:fixes/podman-source-date-epoch - http://bugs.debian.org/801621 Make Pod::Man honor the SOURCE_DATE_EPOCH environment variable
DEBPKG:fixes/podman-source-date-epoch-cleanups - http://bugs.debian.org/801621 Coding style and documentation for SOURCE_EPOCH_DATE
DEBPKG:fixes/podman-source-date-epoch-testfix - http://bugs.debian.org/807086 Guard for building with SOURCE_DATE_EPOCH or POD_MAN_DATE set
DEBPKG:debian/devel-ppport-reproducibility - http://bugs.debian.org/801523 Sort the list of XS code files when generating RealPPPort.xs
DEBPKG:fixes/encode-unicode-bom - http://bugs.debian.org/798727 [rt.cpan.org #107043] Address https://rt.cpan.org/Public/Bug/Display.html?id=107043
DEBPKG:debian/encode-unicode-bom-doc - http://bugs.debian.org/798727 Document Debian backport of Encode::Unicode fix
DEBPKG:debian/kfreebsd-softupdates - http://bugs.debian.org/796798 Work around Debian Bug#796798
DEBPKG:fixes/autodie-scope - http://bugs.debian.org/798096 Fix a scoping issue with "no autodie" and the "system" sub
DEBPKG:debian/debugperl-compat-fix - [perl #127212] http://bugs.debian.org/810326 Disable PERL_TRACK_MEMPOOL for debugging builds
DEBPKG:fixes/CVE-2015-8607_file_spec_taint_fix - http://bugs.debian.org/810719 [perl #126862] ensure File::Spec::canonpath() preserves taint
Built under linux
Compiled at Jan 11 2016 22:29:23
%ENV:
PERL5LIB=""
PERL5OPT=""
PERL5_CPANPLUS_IS_RUNNING="31912"
PERL5_CPAN_IS_RUNNING="31912"
@INC:
/etc/perl
/usr/local/lib/x86_64-linux-gnu/perl/5.22.1
/usr/local/share/perl/5.22.1
/usr/lib/x86_64-linux-gnu/perl5/5.22
/usr/share/perl5
/usr/lib/x86_64-linux-gnu/perl/5.22
/usr/share/perl/5.22
/usr/local/lib/site_perl
/usr/lib/x86_64-linux-gnu/perl-base
.