MooseX-Extended v0.35 Perl 5 v5.40.0 darwin-2level
- Status
- Pass
- From
- Philip Sharman
- Dist
-
MooseX-Extended v0.35
- Platform
- Perl 5 v5.40.0 darwin-2level
- Date
- 2024-07-03 17:03:57
- ID
- 3c5f38d0-395e-11ef-a0e9-dfd4b720fa8f
This distribution has been tested as part of the CPAN Testers
project, supporting the Perl programming language. See
http://wiki.cpantesters.org/ for more information or email
questions to cpan-testers-discuss@perl.org
--
Dear Curtis Poe,
This is a computer-generated report for MooseX-Extended-0.35
on perl 5.40.0, created by CPAN-Reporter-1.2019.
Thank you for uploading your work to CPAN. Congratulations!
All tests were successful.
Sections of this report:
* Tester comments
* Program output
* Prerequisites
* Environment and other context
------------------------------
TESTER COMMENTS
------------------------------
Additional comments from tester:
none provided
------------------------------
PROGRAM OUTPUT
------------------------------
Output from '/usr/bin/make test':
PERL_DL_NONLAZY=1 "/Users/psharman/perl5/perlbrew/perls/perl-5.40.0/bin/perl" "-MExtUtils::Command::MM" "-MTest::Harness" "-e" "undef *Test::Harness::Switches; test_harness(0, 'blib/lib', 'blib/arch')" t/*.t
# Testing MooseX::Extended 0.35, Perl 5.040000, /Users/psharman/perl5/perlbrew/perls/perl-5.40.0/bin/perl
t/00-load.t ............... ok
#
# Versions for all modules listed in MYMETA.json (including optional ones):
#
# === Configure Requires ===
#
# Module Want Have
# ------------------- ---- ----
# ExtUtils::MakeMaker any 7.70
#
# === Build Requires ===
#
# Module Want Have
# ------------------- ---- ----
# ExtUtils::MakeMaker any 7.70
#
# === Test Requires ===
#
# Module Want Have
# ------------------- ---- --------
# Capture::Tiny any 0.48
# DateTime any 1.65
# ExtUtils::MakeMaker any 7.70
# File::Spec any 3.90
# List::Util any 1.63
# Scalar::Util any 1.63
# Test::Builder any 1.302199
# Test::More any 1.302199
# Test::Most any 0.38
# base any 2.27
# lib any 0.65
# version any 0.9932
#
# === Test Recommends ===
#
# Module Want Have
# --------------- -------- --------
# CPAN::Meta 2.120900 2.150010
# Data::Printer any 1.002001
# IO::Async::Loop any missing
#
# === Runtime Requires ===
#
# Module Want Have
# ----------------------------- -------- --------
# B::Hooks::AtRuntime 8 8
# Carp any 1.54
# Data::Printer any 1.002001
# Exporter any 5.78
# Import::Into any 1.002005
# Module::Load any 0.36
# Moose any 2.2207
# Moose::Exception any 2.2207
# Moose::Exception::Role::Class any 2.2207
# Moose::Exporter any 2.2207
# Moose::Meta::Role any 2.2207
# Moose::Role any 2.2207
# Moose::Util any 2.2207
# MooseX::Role::WarnOnConflict any 0.01
# MooseX::StrictConstructor any 0.21
# Ref::Util any 0.204
# Storable any 3.32
# Type::Library any 2.004000
# Type::Params any 2.004000
# Type::Tiny 1.012004 2.004000
# Type::Utils any 2.004000
# Types::Common::Numeric any 2.004000
# Types::Common::String any 2.004000
# Types::Standard any 2.004000
# constant any 1.33
# feature any 1.89
# mro any 1.29
# namespace::autoclean any 0.29
# parent any 0.241
# perl 5.020000 5.040000
# strict any 1.13
# true v1.0.2 v1.0.2
# warnings any 1.70
#
# === Runtime Suggests ===
#
# Module Want Have
# ------------------------- -------- --------
# Function::Parameters 2.001003 2.002004
# Future 0.48 0.50
# Future::AsyncAwait 0.58 0.66
# Syntax::Keyword::MultiSub 0.03 missing
# Syntax::Keyword::Try 0.027 missing
#
t/00-report-prereqs.t ..... ok
t/async.t ................. skipped: Could not load IO::Async::Loop: Can't locate IO/Async/Loop.pm in @INC (you may need to install the IO::Async::Loop module) (@INC entries checked: t/lib /Users/psharman/.cpan/build/MooseX-Extended-0.35-0/blib/lib /Users/psharman/.cpan/build/MooseX-Extended-0.35-0/blib/arch /Users/psharman/perl5/perlbrew/perls/perl-5.40.0/lib/site_perl/5.40.0/darwin-2level /Users/psharman/perl5/perlbrew/perls/perl-5.40.0/lib/site_perl/5.40.0 /Users/psharman/perl5/perlbrew/perls/perl-5.40.0/lib/5.40.0/darwin-2level /Users/psharman/perl5/perlbrew/perls/perl-5.40.0/lib/5.40.0 .) at /Users/psharman/perl5/perlbrew/perls/perl-5.40.0/lib/5.40.0/Module/Load.pm line 78.
t/basic.t ................. ok
t/clone.t ................. ok
t/configuration.t ......... ok
t/custom.t ................ ok
t/exceptions.t ............ ok
t/excludes_field_param.t .. ok
t/field_init_arg.t ........ ok
t/import-lists.t .......... skipped: Could not load Syntax::Keyword::Try: Can't locate Syntax/Keyword/Try.pm in @INC (you may need to install the Syntax::Keyword::Try module) (@INC entries checked: t/lib /Users/psharman/.cpan/build/MooseX-Extended-0.35-0/blib/lib /Users/psharman/.cpan/build/MooseX-Extended-0.35-0/blib/arch /Users/psharman/perl5/perlbrew/perls/perl-5.40.0/lib/site_perl/5.40.0/darwin-2level /Users/psharman/perl5/perlbrew/perls/perl-5.40.0/lib/site_perl/5.40.0 /Users/psharman/perl5/perlbrew/perls/perl-5.40.0/lib/5.40.0/darwin-2level /Users/psharman/perl5/perlbrew/perls/perl-5.40.0/lib/5.40.0 .) at /Users/psharman/perl5/perlbrew/perls/perl-5.40.0/lib/5.40.0/Module/Load.pm line 78.
t/inheritance.t ........... ok
t/inline.t ................ ok
t/method-keyword.t ........ ok
t/moose_compatibility.t ... ok
t/multimethods.t .......... skipped: Could not load Syntax::Keyword::MultiSub: Can't locate Syntax/Keyword/MultiSub.pm in @INC (you may need to install the Syntax::Keyword::MultiSub module) (@INC entries checked: t/lib /Users/psharman/.cpan/build/MooseX-Extended-0.35-0/blib/lib /Users/psharman/.cpan/build/MooseX-Extended-0.35-0/blib/arch /Users/psharman/perl5/perlbrew/perls/perl-5.40.0/lib/site_perl/5.40.0/darwin-2level /Users/psharman/perl5/perlbrew/perls/perl-5.40.0/lib/site_perl/5.40.0 /Users/psharman/perl5/perlbrew/perls/perl-5.40.0/lib/5.40.0/darwin-2level /Users/psharman/perl5/perlbrew/perls/perl-5.40.0/lib/5.40.0 .) at /Users/psharman/perl5/perlbrew/perls/perl-5.40.0/lib/5.40.0/Module/Load.pm line 78.
t/roles.t ................. ok
t/rwp.t ................... ok
t/stringy-eval.t .......... ok
t/try.t ................... skipped: Could not load Syntax::Keyword::Try: Can't locate Syntax/Keyword/Try.pm in @INC (you may need to install the Syntax::Keyword::Try module) (@INC entries checked: t/lib /Users/psharman/.cpan/build/MooseX-Extended-0.35-0/blib/lib /Users/psharman/.cpan/build/MooseX-Extended-0.35-0/blib/arch /Users/psharman/perl5/perlbrew/perls/perl-5.40.0/lib/site_perl/5.40.0/darwin-2level /Users/psharman/perl5/perlbrew/perls/perl-5.40.0/lib/site_perl/5.40.0 /Users/psharman/perl5/perlbrew/perls/perl-5.40.0/lib/5.40.0/darwin-2level /Users/psharman/perl5/perlbrew/perls/perl-5.40.0/lib/5.40.0 .) at /Users/psharman/perl5/perlbrew/perls/perl-5.40.0/lib/5.40.0/Module/Load.pm line 78.
t/types.t ................. ok
t/warnings.t .............. ok
All tests successful.
Files=22, Tests=115, 9 wallclock secs ( 0.05 usr 0.03 sys + 4.94 cusr 0.79 csys = 5.81 CPU)
Result: PASS
------------------------------
PREREQUISITES
------------------------------
Prerequisite modules loaded:
requires:
Module Need Have
----------------------------- -------- --------
B::Hooks::AtRuntime 8 8
Carp 0 1.54
constant 0 1.33
Data::Printer 0 1.002001
Exporter 0 5.78
feature 0 1.89
Import::Into 0 1.002005
Module::Load 0 0.36
Moose 0 2.2207
Moose::Exception 0 2.2207
Moose::Exception::Role::Class 0 2.2207
Moose::Exporter 0 2.2207
Moose::Meta::Role 0 2.2207
Moose::Role 0 2.2207
Moose::Util 0 2.2207
MooseX::Role::WarnOnConflict 0 0.01
MooseX::StrictConstructor 0 0.21
mro 0 1.29
namespace::autoclean 0 0.29
parent 0 0.241
perl 5.020000 5.040000
Ref::Util 0 0.204
Storable 0 3.32
strict 0 1.13
true v1.0.2 v1.0.2
Type::Library 0 2.004000
Type::Params 0 2.004000
Type::Tiny 1.012004 2.004000
Type::Utils 0 2.004000
Types::Common::Numeric 0 2.004000
Types::Common::String 0 2.004000
Types::Standard 0 2.004000
warnings 0 1.70
build_requires:
Module Need Have
----------------------------- -------- --------
base 0 2.27
Capture::Tiny 0 0.48
DateTime 0 1.65
ExtUtils::MakeMaker 0 7.70
File::Spec 0 3.90
lib 0 0.65
List::Util 0 1.63
Scalar::Util 0 1.63
Test::Builder 0 1.302199
Test::More 0 1.302199
Test::Most 0 0.38
version 0 0.9932
configure_requires:
Module Need Have
----------------------------- -------- --------
ExtUtils::MakeMaker 0 7.70
opt_build_requires:
Module Need Have
----------------------------- -------- --------
CPAN::Meta 2.120900 2.150010
Data::Printer 0 1.002001
! IO::Async::Loop 0 n/a
------------------------------
ENVIRONMENT AND OTHER CONTEXT
------------------------------
Environment variables:
LANG = en_CA.UTF-8
LC_ALL = en_US.UTF-8
PATH = /usr/local/opt/ruby/bin:/usr/local/sbin:/Users/psharman/bin:/Users/psharman/.yarn/bin:/Users/psharman/.config/yarn/global/node_modules/.bin:/Users/psharman/.volta/bin:/Users/psharman/perl5/perlbrew/bin:/Users/psharman/perl5/perlbrew/perls/perl-5.40.0/bin:/usr/local/bin:/System/Cryptexes/App/usr/bin:/usr/bin:/bin:/usr/sbin:/sbin:/var/run/com.apple.security.cryptexd/codex.system/bootstrap/usr/local/bin:/var/run/com.apple.security.cryptexd/codex.system/bootstrap/usr/bin:/var/run/com.apple.security.cryptexd/codex.system/bootstrap/usr/appleinternal/bin:/opt/X11/bin:/Library/Apple/usr/bin:/Users/psharman/.local/bin
PERL5LIB =
PERL5OPT =
PERL5_CPANPLUS_IS_RUNNING = 5597
PERL5_CPAN_IS_RUNNING = 5597
PERLBREW_HOME = /Users/psharman/.perlbrew
PERLBREW_MANPATH = /Users/psharman/perl5/perlbrew/perls/perl-5.40.0/man
PERLBREW_PATH = /Users/psharman/perl5/perlbrew/bin:/Users/psharman/perl5/perlbrew/perls/perl-5.40.0/bin
PERLBREW_PERL = perl-5.40.0
PERLBREW_ROOT = /Users/psharman/perl5/perlbrew
PERLBREW_SHELLRC_VERSION = 0.97
PERLBREW_VERSION = 0.97
PERL_USE_UNSAFE_INC = 1
SHELL = /bin/bash
TERM = xterm-256color
TMPDIR = /var/folders/wm/l8wrwck93hv13zkbfsbwvpzr0000gq/T/
Perl special variables (and OS-specific diagnostics, for MSWin32):
$^X = /Users/psharman/perl5/perlbrew/perls/perl-5.40.0/bin/perl
$UID/$EUID = 503 / 503
$GID = 20 20 12 61 79 80 81 98 703 702 701 704 33 100 204 250 395
$EGID = 20 20 12 61 79 80 81 98 703 702 701 704 33 100 204 250 395
Perl module toolchain versions installed:
Module Have
------------------- --------
CPAN 2.36
CPAN::Meta 2.150010
Cwd 3.90
ExtUtils::CBuilder 0.280240
ExtUtils::Command 7.70
ExtUtils::Install 2.22
ExtUtils::MakeMaker 7.70
ExtUtils::Manifest 1.75
ExtUtils::ParseXS 3.51
File::Spec 3.90
JSON 4.10
JSON::PP 4.16
Module::Build 0.4234
Module::Signature n/a
Parse::CPAN::Meta 2.150010
Test2 1.302199
Test::Harness 3.48
Test::More 1.302199
YAML 1.31
YAML::Syck n/a
version 0.9932
--
Summary of my perl5 (revision 5 version 40 subversion 0) configuration:
Platform:
osname=darwin
osvers=23.5.0
archname=darwin-2level
uname='darwin psharma-wsmwwph.internal.salesforce.com 23.5.0 darwin kernel version 23.5.0: wed may 1 20:09:52 pdt 2024; root:xnu-10063.121.3~5release_x86_64 x86_64 '
config_args='-de -Dprefix=/Users/psharman/perl5/perlbrew/perls/perl-5.40.0 -Aeval:scriptdir=/Users/psharman/perl5/perlbrew/perls/perl-5.40.0/bin'
hint=recommended
useposix=true
d_sigaction=define
useithreads=undef
usemultiplicity=undef
use64bitint=define
use64bitall=define
uselongdouble=undef
usemymalloc=n
default_inc_excludes_dot=define
Compiler:
cc='cc'
ccflags ='-fno-common -DPERL_DARWIN -mmacosx-version-min=14.5 -DNO_THREAD_SAFE_QUERYLOCALE -DNO_POSIX_2008_LOCALE -fno-strict-aliasing -pipe -fstack-protector-strong -I/usr/local/include'
optimize='-O3'
cppflags='-fno-common -DPERL_DARWIN -mmacosx-version-min=14.5 -DNO_THREAD_SAFE_QUERYLOCALE -DNO_POSIX_2008_LOCALE -fno-strict-aliasing -pipe -fstack-protector-strong -I/usr/local/include'
ccversion=''
gccversion='Apple LLVM 15.0.0 (clang-1500.3.9.4)'
gccosandvers=''
intsize=4
longsize=8
ptrsize=8
doublesize=8
byteorder=12345678
doublekind=3
d_longlong=define
longlongsize=8
d_longdbl=define
longdblsize=16
longdblkind=3
ivtype='long'
ivsize=8
nvtype='double'
nvsize=8
Off_t='off_t'
lseeksize=8
alignbytes=8
prototype=define
Linker and Libraries:
ld='cc'
ldflags =' -mmacosx-version-min=14.5 -fstack-protector-strong -L/usr/local/lib'
libpth=/usr/local/lib /Applications/Xcode.app/Contents/Developer/Toolchains/XcodeDefault.xctoolchain/usr/lib/clang/15.0.0/lib /Applications/Xcode.app/Contents/Developer/Platforms/MacOSX.platform/Developer/SDKs/MacOSX.sdk/usr/lib /Applications/Xcode.app/Contents/Developer/Toolchains/XcodeDefault.xctoolchain/usr/lib /usr/lib
libs=-lgdbm
perllibs=
libc=
so=dylib
useshrplib=false
libperl=libperl.a
gnulibc_version=''
Dynamic Linking:
dlsrc=dl_dlopen.xs
dlext=bundle
d_dlsymun=undef
ccdlflags=' '
cccdlflags=' '
lddlflags=' -mmacosx-version-min=14.5 -bundle -undefined dynamic_lookup -L/usr/local/lib -fstack-protector-strong'
Characteristics of this binary (from libperl):
Compile-time options:
HAS_LONG_DOUBLE
HAS_STRTOLD
HAS_TIMES
PERLIO_LAYERS
PERL_COPY_ON_WRITE
PERL_DONT_CREATE_GVSV
PERL_HASH_FUNC_SIPHASH13
PERL_HASH_USE_SBOX32
PERL_MALLOC_WRAP
PERL_OP_PARENT
PERL_PRESERVE_IVUV
PERL_USE_SAFE_PUTENV
USE_64_BIT_ALL
USE_64_BIT_INT
USE_LARGE_FILES
USE_LOCALE
USE_LOCALE_COLLATE
USE_LOCALE_CTYPE
USE_LOCALE_NUMERIC
USE_LOCALE_TIME
USE_PERLIO
USE_PERL_ATOF
Built under darwin
Compiled at Jun 10 2024 09:14:37
%ENV:
PERL5LIB=""
PERL5OPT=""
PERL5_CPANPLUS_IS_RUNNING="5597"
PERL5_CPAN_IS_RUNNING="5597"
PERLBREW_HOME="/Users/psharman/.perlbrew"
PERLBREW_MANPATH="/Users/psharman/perl5/perlbrew/perls/perl-5.40.0/man"
PERLBREW_PATH="/Users/psharman/perl5/perlbrew/bin:/Users/psharman/perl5/perlbrew/perls/perl-5.40.0/bin"
PERLBREW_PERL="perl-5.40.0"
PERLBREW_ROOT="/Users/psharman/perl5/perlbrew"
PERLBREW_SHELLRC_VERSION="0.97"
PERLBREW_VERSION="0.97"
PERL_USE_UNSAFE_INC="1"
@INC:
/Users/psharman/perl5/perlbrew/perls/perl-5.40.0/lib/site_perl/5.40.0/darwin-2level
/Users/psharman/perl5/perlbrew/perls/perl-5.40.0/lib/site_perl/5.40.0
/Users/psharman/perl5/perlbrew/perls/perl-5.40.0/lib/5.40.0/darwin-2level
/Users/psharman/perl5/perlbrew/perls/perl-5.40.0/lib/5.40.0
.