namespace-autoclean v0.31 Perl 5 v5.38.2 amd64-freebsd

Status
Pass
From
Slaven Rezić
Dist
namespace-autoclean v0.31
Platform
Perl 5 v5.38.2 amd64-freebsd
Date
2024-10-12 18:31:45
ID
3bf5481c-88c8-11ef-a3c3-05246e8775ea
This distribution has been tested as part of the CPAN Testers
project, supporting the Perl programming language.  See
http://wiki.cpantesters.org/ for more information or email
questions to cpan-testers-discuss@perl.org


--
Dear Karen Etheridge,

This is a computer-generated report for namespace-autoclean-0.31
on perl 5.38.2, created by CPAN-Reporter-1.2019.

Thank you for uploading your work to CPAN.  Congratulations!
All tests were successful.

Sections of this report:

    * Tester comments
    * Program output
    * Prerequisites
    * Environment and other context

------------------------------
TESTER COMMENTS
------------------------------

Additional comments from tester:

none provided

------------------------------
PROGRAM OUTPUT
------------------------------

Output from '/usr/bin/make test':

PERL_DL_NONLAZY=1 "/usr/perl5.38.2/bin/perl" "-MExtUtils::Command::MM" "-MTest::Harness" "-e" "undef *Test::Harness::Switches; test_harness(0, 'blib/lib', 'blib/arch')" t/*.t
# 
# Versions for all modules listed in MYMETA.json (including optional ones):
# 
# === Configure Requires ===
# 
#     Module               Want     Have
#     ------------------- ----- --------
#     ExtUtils::MakeMaker   any     7.70
#     perl                5.006 5.038002
# 
# === Build Requires ===
# 
#     Module              Want Have
#     ------------------- ---- ----
#     ExtUtils::MakeMaker  any 7.70
# 
# === Test Requires ===
# 
#     Module               Want     Have
#     ------------------- ----- --------
#     Carp                  any     1.54
#     ExtUtils::MakeMaker   any     7.70
#     File::Basename        any     2.86
#     File::Spec            any     3.88
#     FindBin               any     1.54
#     Scalar::Util          any     1.63
#     Test::More           0.88 1.302204
#     Test::Needs           any 0.002010
#     constant              any     1.33
#     overload              any     1.37
#     perl                5.006 5.038002
# 
# === Test Recommends ===
# 
#     Module         Want     Have
#     ---------- -------- --------
#     CPAN::Meta 2.120900 2.150010
# 
# === Runtime Requires ===
# 
#     Module                Want     Have
#     -------------------- ----- --------
#     B                      any     1.88
#     B::Hooks::EndOfScope  0.12     0.26
#     List::Util             any     1.63
#     namespace::clean      0.20     0.27
#     perl                 5.006 5.038002
#     strict                 any     1.12
#     warnings               any     1.65
# 
# === Other Modules ===
# 
#     Module                            Have
#     ----------------------------- --------
#     Class::MOP                      2.2207
#     Encode                            3.20
#     Exporter                          5.78
#     File::Temp                      0.2311
#     JSON::PP                          4.16
#     Module::Runtime                  0.016
#     Moo                           2.005005
#     Moose                           2.2207
#     MooseX::Role::Parameterized       1.11
#     MooseX::Role::WithOverloading  missing
#     Mouse                          v2.5.10
#     Mouse::PurePerl                  undef
#     Pod::Coverage                     0.23
#     Role::Tiny                    2.002004
#     Sub::Exporter                    0.991
#     Sub::Install                     0.929
#     Sub::Name                         0.27
#     Sub::Util                         1.63
#     Test::Fatal                      0.017
#     YAML                              1.31
#     autodie                           2.37
#     parent                           0.241
# 
t/00-report-prereqs.t .............. ok
t/also.t ........................... ok
t/basic.t .......................... ok
t/broken_meta.t .................... ok
t/cleanee.t ........................ ok
t/constant.t ....................... ok
t/except.t ......................... ok
t/matchclean.t ..................... ok
t/moo-with-moose.t ................. ok
t/moo.t ............................ ok
t/moose-with-native-overloading.t .. ok
t/moose-withoverloading.t .......... skipped: Need MooseX::Role::WithOverloading
t/moose.t .......................... ok
t/mouse-pp.t ....................... ok
t/mouse.t .......................... ok
t/overload.t ....................... ok
t/sub-install.t .................... ok
t/sub-name.t ....................... ok
All tests successful.

Test Summary Report
-------------------
t/moo.t                          (Wstat: 0 Tests: 30 Failed: 0)
  TODO passed:   11
Files=18, Tests=217,  2 wallclock secs ( 0.09 usr  0.02 sys +  1.59 cusr  0.33 csys =  2.02 CPU)
Result: PASS

------------------------------
PREREQUISITES
------------------------------

Prerequisite modules loaded:

requires:

    Module               Need  Have    
    -------------------- ----- --------
    B                    0     1.88    
    B::Hooks::EndOfScope 0.12  0.26    
    List::Util           0     1.63    
    namespace::clean     0.20  0.27    
    perl                 5.006 5.038002
    strict               0     1.12    
    warnings             0     1.65    

build_requires:

    Module               Need  Have    
    -------------------- ----- --------
    Carp                 0     1.54    
    constant             0     1.33    
    ExtUtils::MakeMaker  0     7.70    
    File::Basename       0     2.86    
    File::Spec           0     3.88    
    FindBin              0     1.54    
    overload             0     1.37    
    Scalar::Util         0     1.63    
    Test::More           0.88  1.302204
    Test::Needs          0     0.002010

configure_requires:

    Module               Need  Have    
    -------------------- ----- --------
    ExtUtils::MakeMaker  0     7.70    
    perl                 5.006 5.038002


------------------------------
ENVIRONMENT AND OTHER CONTEXT
------------------------------

Environment variables:

    LANG = C.UTF-8
    PATH = /usr/local/bin:/usr/bin:/bin:/usr/local/sbin:/usr/sbin:/sbin:/home/cpansand/bin/sh:/home/cpansand/bin:/usr/games:/home/cpansand/devel:/home/eserte/src/srezic-misc/scripts
    PERL5LIB = 
    PERL5OPT = 
    PERL5_CPANPLUS_IS_RUNNING = 85955
    PERL5_CPAN_IS_RUNNING = 85955
    PERL5_CPAN_IS_RUNNING_IN_RECURSION = 85918,85955
    PERL_BATCH = yes
    PERL_CANARY_STABILITY_NOPROMPT = 1
    PERL_CPAN_REPORTER_CONFIG = /var/tmp/cpansmoker-1023/2024101216/cpanreporter_000_config.ini
    PERL_EXTUTILS_AUTOINSTALL = --defaultdeps
    PERL_USE_UNSAFE_INC = 1
    SHELL = /bin/sh
    TMPDIR = /var/tmp/cpansmoker-1023/2024101216

Perl special variables (and OS-specific diagnostics, for MSWin32):

    $^X = /usr/perl5.38.2/bin/perl
    $UID/$EUID = 1023 / 1023
    $GID = 1023 1023
    $EGID = 1023 1023

Perl module toolchain versions installed:

    Module              Have    
    ------------------- --------
    CPAN                2.37    
    CPAN::Meta          2.150010
    Cwd                 3.89    
    ExtUtils::CBuilder  0.280238
    ExtUtils::Command   7.70    
    ExtUtils::Install   2.22    
    ExtUtils::MakeMaker 7.70    
    ExtUtils::Manifest  1.75    
    ExtUtils::ParseXS   3.51    
    File::Spec          3.88    
    JSON                4.10    
    JSON::PP            4.16    
    Module::Build       0.4234  
    Module::Signature   0.88    
    Parse::CPAN::Meta   2.150010
    Test2               1.302204
    Test::Harness       3.44    
    Test::More          1.302204
    YAML                1.31    
    YAML::Syck          1.34    
    version             0.9933  


--

Summary of my perl5 (revision 5 version 38 subversion 2) configuration:
   
  Platform:
    osname=freebsd
    osvers=15.0-current
    archname=amd64-freebsd
    uname='freebsd cloud2.bbbike.org 15.0-current freebsd 15.0-current #0 main-5bc10feacc: tue dec 26 13:29:01 utc 2023 root@cloud2.bbbike.org:usrobjhomeprojectsfreebsd-srcamd64.amd64sysgeneric amd64 '
    config_args='-ds -e -Dprefix=/usr/perl5.38.2 -Dcf_email=srezic@cpan.org -Doptimize=-O2 -pipe'
    hint=recommended
    useposix=true
    d_sigaction=define
    useithreads=undef
    usemultiplicity=undef
    use64bitint=define
    use64bitall=define
    uselongdouble=undef
    usemymalloc=n
    default_inc_excludes_dot=define
  Compiler:
    cc='cc'
    ccflags ='-DHAS_FPSETMASK -DHAS_FLOATINGPOINT_H -fno-strict-aliasing -pipe -fstack-protector-strong -I/usr/local/include'
    optimize='-O2 -pipe'
    cppflags='-DHAS_FPSETMASK -DHAS_FLOATINGPOINT_H -fno-strict-aliasing -pipe -fstack-protector-strong -I/usr/local/include'
    ccversion=''
    gccversion='FreeBSD Clang 17.0.6 (https://github.com/llvm/llvm-project.git llvmorg-17.0.6-0-g6009708b4367)'
    gccosandvers=''
    intsize=4
    longsize=8
    ptrsize=8
    doublesize=8
    byteorder=12345678
    doublekind=3
    d_longlong=define
    longlongsize=8
    d_longdbl=define
    longdblsize=16
    longdblkind=3
    ivtype='long'
    ivsize=8
    nvtype='double'
    nvsize=8
    Off_t='off_t'
    lseeksize=8
    alignbytes=8
    prototype=define
  Linker and Libraries:
    ld='cc'
    ldflags ='-Wl,-E  -fstack-protector-strong -L/usr/local/lib'
    libpth=/usr/lib /usr/local/lib /usr/lib/clang/17/lib
    libs=-lpthread -lgdbm -ldl -lm -lcrypt -lutil -lc
    perllibs=-lpthread -ldl -lm -lcrypt -lutil -lc
    libc=
    so=so
    useshrplib=false
    libperl=libperl.a
    gnulibc_version=''
  Dynamic Linking:
    dlsrc=dl_dlopen.xs
    dlext=so
    d_dlsymun=undef
    ccdlflags=' '
    cccdlflags='-DPIC -fPIC'
    lddlflags='-shared  -L/usr/local/lib -fstack-protector-strong'


Characteristics of this binary (from libperl): 
  Compile-time options:
    HAS_LONG_DOUBLE
    HAS_STRTOLD
    HAS_TIMES
    PERLIO_LAYERS
    PERL_COPY_ON_WRITE
    PERL_DONT_CREATE_GVSV
    PERL_HASH_FUNC_SIPHASH13
    PERL_HASH_USE_SBOX32
    PERL_MALLOC_WRAP
    PERL_OP_PARENT
    PERL_PRESERVE_IVUV
    PERL_USE_SAFE_PUTENV
    USE_64_BIT_ALL
    USE_64_BIT_INT
    USE_LARGE_FILES
    USE_LOCALE
    USE_LOCALE_COLLATE
    USE_LOCALE_CTYPE
    USE_LOCALE_NUMERIC
    USE_LOCALE_TIME
    USE_PERLIO
    USE_PERL_ATOF
  Built under freebsd
  Compiled at Dec 26 2023 16:19:55
  %ENV:
    PERL5LIB=""
    PERL5OPT=""
    PERL5_CPANPLUS_IS_RUNNING="85955"
    PERL5_CPAN_IS_RUNNING="85955"
    PERL5_CPAN_IS_RUNNING_IN_RECURSION="85918,85955"
    PERL_BATCH="yes"
    PERL_CANARY_STABILITY_NOPROMPT="1"
    PERL_CPAN_REPORTER_CONFIG="/var/tmp/cpansmoker-1023/2024101216/cpanreporter_000_config.ini"
    PERL_EXTUTILS_AUTOINSTALL="--defaultdeps"
    PERL_USE_UNSAFE_INC="1"
  @INC:
    /usr/perl5.38.2/lib/site_perl/5.38.2/amd64-freebsd
    /usr/perl5.38.2/lib/site_perl/5.38.2
    /usr/perl5.38.2/lib/5.38.2/amd64-freebsd
    /usr/perl5.38.2/lib/5.38.2
    .