Net-Async-Webservice-DHL v1.2.2 Perl 5 v5.32.1 i386-openbsd

Status
Pass
From
Alceu Rodrigues de Freitas Junior
Dist
Net-Async-Webservice-DHL v1.2.2
Platform
Perl 5 v5.32.1 i386-openbsd
Date
2022-06-29 15:57:52
ID
3b9c1b58-f7c4-11ec-b737-db65ffa5fe2c
This distribution has been tested as part of the CPAN Testers
project, supporting the Perl programming language.  See
http://wiki.cpantesters.org/ for more information or email
questions to cpan-testers-discuss@perl.org


--
Dear Gianni Ceccarelli,

This is a computer-generated report for Net-Async-Webservice-DHL-1.2.2
on perl 5.32.1, created by CPAN-Reporter-1.2018.

Thank you for uploading your work to CPAN.  Congratulations!
All tests were successful.

Sections of this report:

    * Tester comments
    * Program output
    * Prerequisites
    * Environment and other context

------------------------------
TESTER COMMENTS
------------------------------

Additional comments from tester:

this report is from an automated smoke testing program
and was not reviewed by a human for accuracy

If you would like to try to reproduce this report results or even to work with
the same environment for a bug fix, please refer to
https://github.com/glasswalk3r/cpan-openbsd-smoker to see how to use the
prebuilt virtual machines available.

------------------------------
PROGRAM OUTPUT
------------------------------

Output from '/usr/bin/make test':

Skip blib/lib/auto/share/dist/Net-Async-Webservice-DHL/routing-global-res.xsd (unchanged)
Skip blib/lib/auto/share/dist/Net-Async-Webservice-DHL/datatypes_global.xsd (unchanged)
Skip blib/lib/auto/share/dist/Net-Async-Webservice-DHL/routing-err-res.xsd (unchanged)
Skip blib/lib/auto/share/dist/Net-Async-Webservice-DHL/routing-global-req.xsd (unchanged)
Skip blib/lib/auto/share/dist/Net-Async-Webservice-DHL/DCTRequestdatatypes.xsd (unchanged)
Skip blib/lib/auto/share/dist/Net-Async-Webservice-DHL/DCTResponsedatatypes.xsd (unchanged)
Skip blib/lib/auto/share/dist/Net-Async-Webservice-DHL/DCT-Response.xsd (unchanged)
Skip blib/lib/auto/share/dist/Net-Async-Webservice-DHL/DCT-req.xsd (unchanged)
Skip blib/lib/auto/share/dist/Net-Async-Webservice-DHL/datatypes.xsd (unchanged)
Skip blib/lib/auto/share/dist/Net-Async-Webservice-DHL/err-res.xsd (unchanged)
PERL_DL_NONLAZY=1 "/usr/bin/perl" "-MExtUtils::Command::MM" "-MTest::Harness" "-e" "undef *Test::Harness::Switches; test_harness(0, 'blib/lib', 'blib/arch')" t/*.t
t/author-critic.t ........ skipped: these tests are for testing by the author
t/author-no-tabs.t ....... skipped: these tests are for testing by the author
t/author-pod-coverage.t .. skipped: these tests are for testing by the author
t/author-pod-syntax.t .... skipped: these tests are for testing by the author
t/dhl-live-sync.t ........ skipped: need a ~/.naws_dhl.conf file, or a NAWS_DHL_CONFIG env variable pointing to a valid config file
t/dhl-live.t ............. skipped: this test only runs with IO::Async and Net::Async::HTTP
t/dhl-offline.t .......... ok
t/xml-schema.t ........... ok
All tests successful.
Files=8, Tests=5,  7 wallclock secs ( 0.05 usr  0.02 sys +  5.79 cusr  1.65 csys =  7.51 CPU)
Result: PASS

------------------------------
PREREQUISITES
------------------------------

Prerequisite modules loaded:

requires:

    Module                         Need  Have     
    ------------------------------ ----- ---------
    DateTime                       0     1.58     
    DateTime::Format::ISO8601      0     0.16     
    Encode                         0     3.17     
    Error::TypeTiny                0     1.013_000
    File::ShareDir                 0     1.118    
    Future                         0     0.48     
    HTTP::Request                  0     6.37     
    List::AllUtils                 0     0.19     
    Moo                            0     2.005004 
    namespace::autoclean           0     0.30     
    Net::Async::Webservice::Common 0     1.0.2    
    perl                           5.010 5.032001 
    strict                         0     1.11     
    Try::Tiny                      0     0.31     
    Type::Library                  0     1.013_000
    Type::Params                   0     1.013_000
    Type::Utils                    0     1.013_000
    Types::DateTime                0     0.002    
    Types::Standard                0     1.013_000
    Types::URI                     0     0.007    
    warnings                       0     1.47     
    XML::Compile::Cache            0     1.06     
    XML::Compile::Util             0     1.63     
    XML::LibXML                    0     2.0207   

build_requires:

    Module                         Need  Have     
    ------------------------------ ----- ---------
    Data::Printer                  0     1.000004 
    Data::Visitor::Callback        0     0.31     
    ExtUtils::MakeMaker            0     7.65_01  
    File::Spec                     0     3.78     
    File::Temp                     0     0.2311   
    HTTP::Response                 0     6.37     
    lib                            0     0.65     
    Test::Deep                     0     1.130    
    Test::File::ShareDir           0     1.001002 
    Test::More                     0     1.302190 
    Test::Most                     0     0.37     
    Time::HiRes                    0     1.9764_02
    XML::Simple                    0     2.25     

configure_requires:

    Module                         Need  Have     
    ------------------------------ ----- ---------
    ExtUtils::MakeMaker            0     7.65_01  
    File::ShareDir::Install        0.06  0.13     

opt_requires:

    Module                         Need  Have     
    ------------------------------ ----- ---------
  ! IO::Async::Loop                0     n/a      
    LWP::UserAgent                 0     6.67     
  ! Net::Async::HTTP               0     n/a      

opt_build_requires:

    Module                         Need  Have     
    ------------------------------ ----- ---------
  ! IO::Async::Loop                0     n/a      
    LWP::UserAgent                 0     6.67     
  ! Net::Async::HTTP               0     n/a      


------------------------------
ENVIRONMENT AND OTHER CONTEXT
------------------------------

Environment variables:

    AUTOMATED_TESTING = 1
    PATH = /home/goku/perl5/bin:/usr/bin:/bin:/usr/sbin:/sbin:/usr/X11R6/bin:/usr/local/bin:/usr/local/sbin
    PERL5LIB = /home/goku/perl5/lib/perl5
    PERL5OPT = 
    PERL5_CPANPLUS_IS_RUNNING = 11754
    PERL5_CPAN_IS_RUNNING = 11754
    PERL5_CPAN_IS_RUNNING_IN_RECURSION = 1201,11754
    PERL_CR_SMOKER_CURRENT = Net-Async-Webservice-DHL-1.2.2
    PERL_EXTUTILS_AUTOINSTALL = --defaultdeps
    PERL_LOCAL_LIB_ROOT = /home/goku/perl5
    PERL_MB_OPT = --install_base "/home/goku/perl5"
    PERL_MM_OPT = INSTALL_BASE=/home/goku/perl5
    PERL_MM_USE_DEFAULT = 1
    PERL_USE_UNSAFE_INC = 1
    SHELL = /bin/ksh
    TERM = xterm-256color

Perl special variables (and OS-specific diagnostics, for MSWin32):

    $^X = /usr/bin/perl
    $UID/$EUID = 1001 / 1001
    $GID = 1002 1002 1001
    $EGID = 1002 1002 1001

Perl module toolchain versions installed:

    Module              Have    
    ------------------- --------
    CPAN                2.34    
    CPAN::Meta          2.150010
    Cwd                 3.78    
    ExtUtils::CBuilder  0.280236
    ExtUtils::Command   7.65_01 
    ExtUtils::Install   2.20    
    ExtUtils::MakeMaker 7.65_01 
    ExtUtils::Manifest  1.73    
    ExtUtils::ParseXS   3.44    
    File::Spec          3.78    
    JSON                4.06    
    JSON::PP            4.09    
    Module::Build       0.4231  
    Module::Signature   n/a     
    Parse::CPAN::Meta   2.150010
    Test::Harness       3.44    
    Test::More          1.302190
    YAML                1.30    
    YAML::Syck          1.34    
    version             0.9929  


--

Summary of my perl5 (revision 5 version 32 subversion 1) configuration:
   
  Platform:
    osname=openbsd
    osvers=7.1
    archname=i386-openbsd
    uname='openbsd'
    config_args='-dse -Dopenbsd_distribution=defined -Dmksymlinks'
    hint=recommended
    useposix=true
    d_sigaction=define
    useithreads=undef
    usemultiplicity=undef
    use64bitint=undef
    use64bitall=undef
    uselongdouble=undef
    usemymalloc=n
    default_inc_excludes_dot=define
    bincompat5005=undef
  Compiler:
    cc='cc'
    ccflags ='-DNO_LOCALE_NUMERIC -DNO_LOCALE_COLLATE -fno-strict-aliasing -fno-delete-null-pointer-checks -pipe -fstack-protector-strong -I/usr/local/include'
    optimize='-O2'
    cppflags='-DBIG_TIME -DNO_LOCALE_NUMERIC -DNO_LOCALE_COLLATE -fno-strict-aliasing -fno-delete-null-pointer-checks -pipe -fstack-protector-strong -I/usr/local/include'
    ccversion=''
    gccversion='OpenBSD Clang 13.0.0'
    gccosandvers=''
    intsize=4
    longsize=4
    ptrsize=4
    doublesize=8
    byteorder=1234
    doublekind=3
    d_longlong=define
    longlongsize=8
    d_longdbl=define
    longdblsize=12
    longdblkind=3
    ivtype='long'
    ivsize=4
    nvtype='double'
    nvsize=8
    Off_t='off_t'
    lseeksize=8
    alignbytes=4
    prototype=define
  Linker and Libraries:
    ld='cc'
    ldflags ='-Wl,-E  -fstack-protector-strong -L/usr/local/lib'
    libpth=/usr/lib /usr/lib/clang/13.0.0/lib /usr/lib
    libs=-lm -lc
    perllibs=-lm -lc
    libc=/usr/lib/libc.so.96.1
    so=so
    useshrplib=true
    libperl=libperl.so.22.0
    gnulibc_version=''
  Dynamic Linking:
    dlsrc=dl_dlopen.xs
    dlext=so
    d_dlsymun=undef
    ccdlflags='-Wl,-R/usr/libdata/perl5/i386-openbsd/CORE'
    cccdlflags='-DPIC -fpic '
    lddlflags='-shared -fpic  -fstack-protector-strong -L/usr/local/lib'


Characteristics of this binary (from libperl): 
  Compile-time options:
    HAS_TIMES
    PERLIO_LAYERS
    PERL_COPY_ON_WRITE
    PERL_DONT_CREATE_GVSV
    PERL_MALLOC_WRAP
    PERL_OP_PARENT
    PERL_PRESERVE_IVUV
    USE_LARGE_FILES
    USE_LOCALE
    USE_LOCALE_CTYPE
    USE_LOCALE_TIME
    USE_PERLIO
    USE_PERL_ATOF
  Built under openbsd
  %ENV:
    PERL5LIB="/home/goku/perl5/lib/perl5"
    PERL5OPT=""
    PERL5_CPANPLUS_IS_RUNNING="11754"
    PERL5_CPAN_IS_RUNNING="11754"
    PERL5_CPAN_IS_RUNNING_IN_RECURSION="1201,11754"
    PERL_CR_SMOKER_CURRENT="Net-Async-Webservice-DHL-1.2.2"
    PERL_EXTUTILS_AUTOINSTALL="--defaultdeps"
    PERL_LOCAL_LIB_ROOT="/home/goku/perl5"
    PERL_MB_OPT="--install_base "/home/goku/perl5""
    PERL_MM_OPT="INSTALL_BASE=/home/goku/perl5"
    PERL_MM_USE_DEFAULT="1"
    PERL_USE_UNSAFE_INC="1"
  @INC:
    /home/goku/perl5/lib/perl5/5.32.1/i386-openbsd
    /home/goku/perl5/lib/perl5/5.32.1
    /home/goku/perl5/lib/perl5/i386-openbsd
    /home/goku/perl5/lib/perl5
    /usr/local/libdata/perl5/site_perl/i386-openbsd
    /usr/local/libdata/perl5/site_perl
    /usr/libdata/perl5/i386-openbsd
    /usr/libdata/perl5
    .