Module-Install v1.21 Perl 5 v5.39.10 amd64-freebsd-thread-multi

Status
Pass
From
James E Keenan
Dist
Module-Install v1.21
Platform
Perl 5 v5.39.10 amd64-freebsd-thread-multi
Date
2024-04-21 14:41:26
ID
3b808612-ffed-11ee-80ea-dee3b0b03260
This distribution has been tested as part of the CPAN Testers
project, supporting the Perl programming language.  See
http://wiki.cpantesters.org/ for more information or email
questions to cpan-testers-discuss@perl.org


--
Dear Karen Etheridge,

This is a computer-generated report for Module-Install-1.21
on perl 5.39.10, created by CPAN-Reporter-1.2019.

Thank you for uploading your work to CPAN.  Congratulations!
All tests were successful.

Sections of this report:

    * Tester comments
    * Program output
    * Prerequisites
    * Environment and other context

------------------------------
TESTER COMMENTS
------------------------------

Additional comments from tester:

none provided

------------------------------
PROGRAM OUTPUT
------------------------------

Output from '/usr/bin/make test':

PERL_DL_NONLAZY=1 "/usr/home/jkeenan/testing/blead/bin/perl" "-MExtUtils::Command::MM" "-MTest::Harness" "-e" "undef *Test::Harness::Switches; test_harness(0, 'inc', 'blib/lib', 'blib/arch')" t/*.t t/recursive/*.t
t/01_compile.t .......................... ok
t/02_mymeta.t ........................... skipped: New EU::MM has own MYMETA support
t/03_autoinstall.t ...................... skipped: Skipping dangerous test
t/04_version.t .......................... ok
t/05_share.t ............................ ok
t/06_ppport.t ........................... ok
t/07_perl_version.t ..................... ok
t/09_read.t ............................. ok
t/10_test.t ............................. ok
t/11_extraction.t ....................... ok
t/12_eumm_params.t ...................... ok
t/13_author_tests.t ..................... ok
t/13_author_tests_ext.t ................. skipped: requires Module::Install::AuthorTests
t/13_author_tests_ext2.t ................ skipped: requires Module::Install::ExtraTests 0.007
t/14_auto_include_deps_with_version.t ... skipped: your perl is new enough to have File::Spec 3.30 in core
t/15_wrong_usage.t ...................... ok
t/16_require.t .......................... ok
t/17_sign.t ............................. ok
t/18_all_from.t ......................... ok
t/19_authors.t .......................... ok
t/20_authors_with_special_characters.t .. ok
t/21_makemaker_args.t ................... ok
Use of uninitialized value $cmd in substitution (s///) at /home/jkeenan/testing/blead/lib/perl5/5.39.10/ExtUtils/MM_Any.pm line 347.
Use of uninitialized value $mandir in pattern match (m//) at /home/jkeenan/testing/blead/lib/perl5/5.39.10/ExtUtils/MM_Unix.pm line 1530.
Use of uninitialized value $mandir in pattern match (m//) at /home/jkeenan/testing/blead/lib/perl5/5.39.10/ExtUtils/MM_Unix.pm line 1530.
Use of uninitialized value $mandir in pattern match (m//) at /home/jkeenan/testing/blead/lib/perl5/5.39.10/ExtUtils/MM_Unix.pm line 1530.
Use of uninitialized value $mandir in pattern match (m//) at /home/jkeenan/testing/blead/lib/perl5/5.39.10/ExtUtils/MM_Unix.pm line 1530.
Use of uninitialized value $mandir in pattern match (m//) at /home/jkeenan/testing/blead/lib/perl5/5.39.10/ExtUtils/MM_Unix.pm line 1530.
Use of uninitialized value $mandir in pattern match (m//) at /home/jkeenan/testing/blead/lib/perl5/5.39.10/ExtUtils/MM_Unix.pm line 1530.
Use of uninitialized value $mandir in pattern match (m//) at /home/jkeenan/testing/blead/lib/perl5/5.39.10/ExtUtils/MM_Unix.pm line 1530.
Use of uninitialized value $mandir in pattern match (m//) at /home/jkeenan/testing/blead/lib/perl5/5.39.10/ExtUtils/MM_Unix.pm line 1530.
Use of uninitialized value $mandir in pattern match (m//) at /home/jkeenan/testing/blead/lib/perl5/5.39.10/ExtUtils/MM_Unix.pm line 1530.
Use of uninitialized value $cmd in substitution (s///) at /home/jkeenan/testing/blead/lib/perl5/5.39.10/ExtUtils/MM_Any.pm line 347.
Use of uninitialized value $mandir in pattern match (m//) at /home/jkeenan/testing/blead/lib/perl5/5.39.10/ExtUtils/MM_Unix.pm line 1530.
Use of uninitialized value $mandir in pattern match (m//) at /home/jkeenan/testing/blead/lib/perl5/5.39.10/ExtUtils/MM_Unix.pm line 1530.
Use of uninitialized value $mandir in pattern match (m//) at /home/jkeenan/testing/blead/lib/perl5/5.39.10/ExtUtils/MM_Unix.pm line 1530.
Use of uninitialized value $mandir in pattern match (m//) at /home/jkeenan/testing/blead/lib/perl5/5.39.10/ExtUtils/MM_Unix.pm line 1530.
Use of uninitialized value $mandir in pattern match (m//) at /home/jkeenan/testing/blead/lib/perl5/5.39.10/ExtUtils/MM_Unix.pm line 1530.
Use of uninitialized value $mandir in pattern match (m//) at /home/jkeenan/testing/blead/lib/perl5/5.39.10/ExtUtils/MM_Unix.pm line 1530.
Use of uninitialized value $mandir in pattern match (m//) at /home/jkeenan/testing/blead/lib/perl5/5.39.10/ExtUtils/MM_Unix.pm line 1530.
Use of uninitialized value $mandir in pattern match (m//) at /home/jkeenan/testing/blead/lib/perl5/5.39.10/ExtUtils/MM_Unix.pm line 1530.
Use of uninitialized value $mandir in pattern match (m//) at /home/jkeenan/testing/blead/lib/perl5/5.39.10/ExtUtils/MM_Unix.pm line 1530.
Use of uninitialized value $cmd in substitution (s///) at /home/jkeenan/testing/blead/lib/perl5/5.39.10/ExtUtils/MM_Any.pm line 347.
Use of uninitialized value $mandir in pattern match (m//) at /home/jkeenan/testing/blead/lib/perl5/5.39.10/ExtUtils/MM_Unix.pm line 1530.
Use of uninitialized value $mandir in pattern match (m//) at /home/jkeenan/testing/blead/lib/perl5/5.39.10/ExtUtils/MM_Unix.pm line 1530.
Use of uninitialized value $mandir in pattern match (m//) at /home/jkeenan/testing/blead/lib/perl5/5.39.10/ExtUtils/MM_Unix.pm line 1530.
Use of uninitialized value $mandir in pattern match (m//) at /home/jkeenan/testing/blead/lib/perl5/5.39.10/ExtUtils/MM_Unix.pm line 1530.
Use of uninitialized value $mandir in pattern match (m//) at /home/jkeenan/testing/blead/lib/perl5/5.39.10/ExtUtils/MM_Unix.pm line 1530.
Use of uninitialized value $mandir in pattern match (m//) at /home/jkeenan/testing/blead/lib/perl5/5.39.10/ExtUtils/MM_Unix.pm line 1530.
Use of uninitialized value $mandir in pattern match (m//) at /home/jkeenan/testing/blead/lib/perl5/5.39.10/ExtUtils/MM_Unix.pm line 1530.
Use of uninitialized value $mandir in pattern match (m//) at /home/jkeenan/testing/blead/lib/perl5/5.39.10/ExtUtils/MM_Unix.pm line 1530.
Use of uninitialized value $mandir in pattern match (m//) at /home/jkeenan/testing/blead/lib/perl5/5.39.10/ExtUtils/MM_Unix.pm line 1530.
Use of uninitialized value $cmd in substitution (s///) at /home/jkeenan/testing/blead/lib/perl5/5.39.10/ExtUtils/MM_Any.pm line 347.
Use of uninitialized value $mandir in pattern match (m//) at /home/jkeenan/testing/blead/lib/perl5/5.39.10/ExtUtils/MM_Unix.pm line 1530.
Use of uninitialized value $mandir in pattern match (m//) at /home/jkeenan/testing/blead/lib/perl5/5.39.10/ExtUtils/MM_Unix.pm line 1530.
Use of uninitialized value $mandir in pattern match (m//) at /home/jkeenan/testing/blead/lib/perl5/5.39.10/ExtUtils/MM_Unix.pm line 1530.
Use of uninitialized value $mandir in pattern match (m//) at /home/jkeenan/testing/blead/lib/perl5/5.39.10/ExtUtils/MM_Unix.pm line 1530.
Use of uninitialized value $mandir in pattern match (m//) at /home/jkeenan/testing/blead/lib/perl5/5.39.10/ExtUtils/MM_Unix.pm line 1530.
Use of uninitialized value $mandir in pattern match (m//) at /home/jkeenan/testing/blead/lib/perl5/5.39.10/ExtUtils/MM_Unix.pm line 1530.
Use of uninitialized value $mandir in pattern match (m//) at /home/jkeenan/testing/blead/lib/perl5/5.39.10/ExtUtils/MM_Unix.pm line 1530.
Use of uninitialized value $mandir in pattern match (m//) at /home/jkeenan/testing/blead/lib/perl5/5.39.10/ExtUtils/MM_Unix.pm line 1530.
Use of uninitialized value $mandir in pattern match (m//) at /home/jkeenan/testing/blead/lib/perl5/5.39.10/ExtUtils/MM_Unix.pm line 1530.
old INSTALLDIRS (probably set by makemaker_args) is overriden by installdirs
Use of uninitialized value $cmd in substitution (s///) at /home/jkeenan/testing/blead/lib/perl5/5.39.10/ExtUtils/MM_Any.pm line 347.
Use of uninitialized value $mandir in pattern match (m//) at /home/jkeenan/testing/blead/lib/perl5/5.39.10/ExtUtils/MM_Unix.pm line 1530.
Use of uninitialized value $mandir in pattern match (m//) at /home/jkeenan/testing/blead/lib/perl5/5.39.10/ExtUtils/MM_Unix.pm line 1530.
Use of uninitialized value $mandir in pattern match (m//) at /home/jkeenan/testing/blead/lib/perl5/5.39.10/ExtUtils/MM_Unix.pm line 1530.
Use of uninitialized value $mandir in pattern match (m//) at /home/jkeenan/testing/blead/lib/perl5/5.39.10/ExtUtils/MM_Unix.pm line 1530.
Use of uninitialized value $mandir in pattern match (m//) at /home/jkeenan/testing/blead/lib/perl5/5.39.10/ExtUtils/MM_Unix.pm line 1530.
Use of uninitialized value $mandir in pattern match (m//) at /home/jkeenan/testing/blead/lib/perl5/5.39.10/ExtUtils/MM_Unix.pm line 1530.
Use of uninitialized value $mandir in pattern match (m//) at /home/jkeenan/testing/blead/lib/perl5/5.39.10/ExtUtils/MM_Unix.pm line 1530.
Use of uninitialized value $mandir in pattern match (m//) at /home/jkeenan/testing/blead/lib/perl5/5.39.10/ExtUtils/MM_Unix.pm line 1530.
Use of uninitialized value $mandir in pattern match (m//) at /home/jkeenan/testing/blead/lib/perl5/5.39.10/ExtUtils/MM_Unix.pm line 1530.
Use of uninitialized value $cmd in substitution (s///) at /home/jkeenan/testing/blead/lib/perl5/5.39.10/ExtUtils/MM_Any.pm line 347.
Use of uninitialized value $mandir in pattern match (m//) at /home/jkeenan/testing/blead/lib/perl5/5.39.10/ExtUtils/MM_Unix.pm line 1530.
Use of uninitialized value $mandir in pattern match (m//) at /home/jkeenan/testing/blead/lib/perl5/5.39.10/ExtUtils/MM_Unix.pm line 1530.
Use of uninitialized value $mandir in pattern match (m//) at /home/jkeenan/testing/blead/lib/perl5/5.39.10/ExtUtils/MM_Unix.pm line 1530.
Use of uninitialized value $mandir in pattern match (m//) at /home/jkeenan/testing/blead/lib/perl5/5.39.10/ExtUtils/MM_Unix.pm line 1530.
Use of uninitialized value $mandir in pattern match (m//) at /home/jkeenan/testing/blead/lib/perl5/5.39.10/ExtUtils/MM_Unix.pm line 1530.
Use of uninitialized value $mandir in pattern match (m//) at /home/jkeenan/testing/blead/lib/perl5/5.39.10/ExtUtils/MM_Unix.pm line 1530.
Use of uninitialized value $mandir in pattern match (m//) at /home/jkeenan/testing/blead/lib/perl5/5.39.10/ExtUtils/MM_Unix.pm line 1530.
Use of uninitialized value $mandir in pattern match (m//) at /home/jkeenan/testing/blead/lib/perl5/5.39.10/ExtUtils/MM_Unix.pm line 1530.
Use of uninitialized value $mandir in pattern match (m//) at /home/jkeenan/testing/blead/lib/perl5/5.39.10/ExtUtils/MM_Unix.pm line 1530.
t/22_installdirs.t ...................... ok
t/23_pl_files.t ......................... ok
t/24_multiple_license_blocks.t .......... ok
t/25_perl_version_from.t ................ ok
t/26_unknown_func.t ..................... ok
Warning: prerequisite Test::More 9999 not found. We have 1.302198.
t/27_build_requires_and_include.t ....... ok
t/28_makemaker_args.t ................... ok
t/29_requires_from.t .................... ok
t/30_build_subdirs.t .................... ok
t/31_add_metadata.t ..................... ok
t/32_module_name.t ...................... ok
t/33_copy.t ............................. ok
t/34_readwrite.t ........................ ok
t/recursive/test.t ...................... ok
All tests successful.
Files=36, Tests=547, 22 wallclock secs ( 0.12 usr  0.05 sys + 19.07 cusr  2.73 csys = 21.98 CPU)
Result: PASS

------------------------------
PREREQUISITES
------------------------------

Prerequisite modules loaded:

requires:

    Module              Need   Have      
    ------------------- ------ ----------
    Devel::PPPort       3.16   3.72      
    ExtUtils::Install   1.52   2.22      
    ExtUtils::MakeMaker 6.59   7.70      
    ExtUtils::ParseXS   2.19   3.51      
    File::Path          0      2.18      
    File::Remove        1.42   1.61      
    File::Spec          3.28   3.90      
    Module::Build       0.29   0.4234    
    Module::CoreList    2.17   5.20240420
    Module::ScanDeps    1.09   1.35      
    Parse::CPAN::Meta   1.4413 2.150010  
    perl                5.006  5.039010  
    YAML::Tiny          1.38   1.74      

build_requires:

    Module              Need   Have      
    ------------------- ------ ----------
    autodie             0      2.37      
    ExtUtils::MakeMaker 6.59   7.70      
    Test::Harness       3.13   3.48      
    Test::More          0.86   1.302198  
    YAML::Tiny          1.33   1.74      

configure_requires:

    Module              Need   Have      
    ------------------- ------ ----------
    ExtUtils::MakeMaker 6.59   7.70      
    YAML::Tiny          1.33   1.74      


------------------------------
ENVIRONMENT AND OTHER CONTEXT
------------------------------

Environment variables:

    LANG = C.UTF-8
    NONINTERACTIVE_TESTING = 1
    P7_TEST_REPORTS_DIR = /home/jkeenan/learn/perl/p5p/core-p7/alpha/test-reports
    PATH = /sbin:/bin:/usr/sbin:/usr/bin:/usr/local/sbin:/usr/local/bin:/home/jkeenan/bin:/home/jkeenan/bin/perl:/home/jkeenan/bin/shell:/home/jkeenan/gitwork/metaconfig/bin
    PERL2DIR = /home/jkeenan/gitwork/perl2
    PERL5LIB = 
    PERL5OPT = 
    PERL5_CPANPLUS_IS_RUNNING = 78427
    PERL5_CPAN_IS_RUNNING = 78427
    PERL_MM_USE_DEFAULT = 1
    PERL_USE_UNSAFE_INC = 1
    PERL_WORKDIR = /home/jkeenan/gitwork/perl
    SHELL = /bin/sh
    TERM = screen

Perl special variables (and OS-specific diagnostics, for MSWin32):

    $^X = /usr/home/jkeenan/testing/blead/bin/perl
    $UID/$EUID = 1002 / 1002
    $GID = 1002 1002 0 5 920 1003
    $EGID = 1002 1002 0 5 920 1003

Perl module toolchain versions installed:

    Module              Have    
    ------------------- --------
    CPAN                2.36    
    CPAN::Meta          2.150010
    Cwd                 3.90    
    ExtUtils::CBuilder  0.280240
    ExtUtils::Command   7.70    
    ExtUtils::Install   2.22    
    ExtUtils::MakeMaker 7.70    
    ExtUtils::Manifest  1.75    
    ExtUtils::ParseXS   3.51    
    File::Spec          3.90    
    JSON                4.10    
    JSON::PP            4.16    
    Module::Build       0.4234  
    Module::Signature   n/a     
    Parse::CPAN::Meta   2.150010
    Test2               1.302198
    Test::Harness       3.48    
    Test::More          1.302198
    YAML                1.31    
    YAML::Syck          1.34    
    version             0.9930  


--

Summary of my perl5 (revision 5 version 39 subversion 10) configuration:
  Commit id: f936cd91ee430786a1bb6068a4a7c8362610dd5f
  Platform:
    osname=freebsd
    osvers=13.2-release-p1
    archname=amd64-freebsd-thread-multi
    uname='freebsd perlmonger.nycbug.org 13.2-release-p1 freebsd 13.2-release-p1 generic amd64 '
    config_args='-des -Dusedevel -Uversiononly -Dprefix=/home/jkeenan/testing/blead -Dman1dir=none -Dman3dir=none -Duseithreads -Doptimize=-O2 -pipe -fstack-protector -fno-strict-aliasing'
    hint=recommended
    useposix=true
    d_sigaction=define
    useithreads=define
    usemultiplicity=define
    use64bitint=define
    use64bitall=define
    uselongdouble=undef
    usemymalloc=n
    default_inc_excludes_dot=define
  Compiler:
    cc='cc'
    ccflags ='-DHAS_FPSETMASK -DHAS_FLOATINGPOINT_H -DNO_POSIX_2008_LOCALE -fno-strict-aliasing -pipe -fstack-protector-strong -I/usr/local/include'
    optimize='-O2 -pipe -fstack-protector -fno-strict-aliasing'
    cppflags='-DHAS_FPSETMASK -DHAS_FLOATINGPOINT_H -DNO_POSIX_2008_LOCALE -fno-strict-aliasing -pipe -fstack-protector-strong -I/usr/local/include'
    ccversion=''
    gccversion='FreeBSD Clang 14.0.5 (https://github.com/llvm/llvm-project.git llvmorg-14.0.5-0-gc12386ae247c)'
    gccosandvers=''
    intsize=4
    longsize=8
    ptrsize=8
    doublesize=8
    byteorder=12345678
    doublekind=3
    d_longlong=define
    longlongsize=8
    d_longdbl=define
    longdblsize=16
    longdblkind=3
    ivtype='long'
    ivsize=8
    nvtype='double'
    nvsize=8
    Off_t='off_t'
    lseeksize=8
    alignbytes=8
    prototype=define
  Linker and Libraries:
    ld='cc'
    ldflags ='-pthread -Wl,-E  -fstack-protector-strong -L/usr/local/lib'
    libpth=/usr/lib /usr/local/lib /usr/lib/clang/14.0.5/lib
    libs=-lpthread -lgdbm -ldl -lm -lcrypt -lutil
    perllibs=-lpthread -ldl -lm -lcrypt -lutil
    libc=
    so=so
    useshrplib=false
    libperl=libperl.a
    gnulibc_version=''
  Dynamic Linking:
    dlsrc=dl_dlopen.xs
    dlext=so
    d_dlsymun=undef
    ccdlflags=' '
    cccdlflags='-DPIC -fPIC'
    lddlflags='-shared  -L/usr/local/lib -fstack-protector-strong'


Characteristics of this binary (from libperl): 
  Compile-time options:
    HAS_LONG_DOUBLE
    HAS_STRTOLD
    HAS_TIMES
    MULTIPLICITY
    PERLIO_LAYERS
    PERL_COPY_ON_WRITE
    PERL_DONT_CREATE_GVSV
    PERL_HASH_FUNC_SIPHASH13
    PERL_HASH_USE_SBOX32
    PERL_MALLOC_WRAP
    PERL_OP_PARENT
    PERL_PRESERVE_IVUV
    PERL_USE_DEVEL
    PERL_USE_SAFE_PUTENV
    USE_64_BIT_ALL
    USE_64_BIT_INT
    USE_ITHREADS
    USE_LARGE_FILES
    USE_LOCALE
    USE_LOCALE_COLLATE
    USE_LOCALE_CTYPE
    USE_LOCALE_NUMERIC
    USE_LOCALE_TIME
    USE_PERLIO
    USE_PERL_ATOF
    USE_REENTRANT_API
  Built under freebsd
  Compiled at Apr 21 2024 12:55:19
  %ENV:
    PERL2DIR="/home/jkeenan/gitwork/perl2"
    PERL5LIB=""
    PERL5OPT=""
    PERL5_CPANPLUS_IS_RUNNING="78427"
    PERL5_CPAN_IS_RUNNING="78427"
    PERL_MM_USE_DEFAULT="1"
    PERL_USE_UNSAFE_INC="1"
    PERL_WORKDIR="/home/jkeenan/gitwork/perl"
  @INC:
    /home/jkeenan/testing/blead/lib/perl5/site_perl/5.39.10/amd64-freebsd-thread-multi
    /home/jkeenan/testing/blead/lib/perl5/site_perl/5.39.10
    /home/jkeenan/testing/blead/lib/perl5/5.39.10/amd64-freebsd-thread-multi
    /home/jkeenan/testing/blead/lib/perl5/5.39.10
    .