HTTP-Session2 v1.09 Perl 5 v5.27.8 x86_64-linux

Status
Pass
From
Slaven Rezić (SREZIC)
Dist
HTTP-Session2 v1.09
Platform
Perl 5 v5.27.8 x86_64-linux
Date
2018-01-22 00:07:27
ID
3b09e120-ff08-11e7-943f-9e5a3f5a6b05
This distribution has been tested as part of the CPAN Testers
project, supporting the Perl programming language.  See
http://wiki.cpantesters.org/ for more information or email
questions to cpan-testers-discuss@perl.org


--
Dear Author,

This is a computer-generated report for HTTP-Session2-1.09
on perl 5.27.8, created by CPAN-Reporter-1.2018.

Thank you for uploading your work to CPAN.  Congratulations!
All tests were successful.

Sections of this report:

    * Tester comments
    * Program output
    * Prerequisites
    * Environment and other context

------------------------------
TESTER COMMENTS
------------------------------

Additional comments from tester:

none provided

------------------------------
PROGRAM OUTPUT
------------------------------

Output from './Build test':

t/00_compile.t .............. ok
Secret string too short at /tmpfs/.cpan-build-cpansand/2018012121/HTTP-Session2-1.09-0/blib/lib/HTTP/Session2/Base.pm line 79.
	HTTP::Session2::Base::__ANON__(HTTP::Session2::ServerStore=HASH(0x17e97d0), "s3cret") called at t/01_server_side.t line 23
	main::__ANON__("client -> server: request without cookie", CODE(0x17e9578)) called at t/01_server_side.t line 25
	main::__ANON__() called at /opt/perl-5.27.8/lib/site_perl/5.27.8/Test/Builder.pm line 337
	eval {...} called at /opt/perl-5.27.8/lib/site_perl/5.27.8/Test/Builder.pm line 337
	Test::Builder::subtest(Test::Builder=HASH(0xf11bc0), "First request", CODE(0x15a8908)) called at /opt/perl-5.27.8/lib/site_perl/5.27.8/Test/More.pm line 807
	Test::More::subtest("First request", CODE(0x15a8908)) called at t/01_server_side.t line 11
	main::scenario("First request", CODE(0x15a8908)) called at t/01_server_side.t line 31
Secret string too short at /tmpfs/.cpan-build-cpansand/2018012121/HTTP-Session2-1.09-0/blib/lib/HTTP/Session2/Base.pm line 79.
	HTTP::Session2::Base::__ANON__(HTTP::Session2::ServerStore=HASH(0x17f2a80), "s3cret") called at t/01_server_side.t line 40
	main::__ANON__("client -> server: request without cookie", CODE(0x17ed448)) called at t/01_server_side.t line 42
	main::__ANON__() called at /opt/perl-5.27.8/lib/site_perl/5.27.8/Test/Builder.pm line 337
	eval {...} called at /opt/perl-5.27.8/lib/site_perl/5.27.8/Test/Builder.pm line 337
	Test::Builder::subtest(Test::Builder=HASH(0xf11bc0), "Store something without login", CODE(0x17c7318)) called at /opt/perl-5.27.8/lib/site_perl/5.27.8/Test/More.pm line 807
	Test::More::subtest("Store something without login", CODE(0x17c7318)) called at t/01_server_side.t line 11
	main::scenario("Store something without login", CODE(0x17c7318)) called at t/01_server_side.t line 58
Secret string too short at /tmpfs/.cpan-build-cpansand/2018012121/HTTP-Session2-1.09-0/blib/lib/HTTP/Session2/Base.pm line 79.
	HTTP::Session2::Base::__ANON__(HTTP::Session2::ServerStore=HASH(0x17ffb38), "s3cret") called at t/01_server_side.t line 70
	main::__ANON__("client -> server: request without cookie", CODE(0x17f3668)) called at t/01_server_side.t line 72
	main::__ANON__() called at /opt/perl-5.27.8/lib/site_perl/5.27.8/Test/Builder.pm line 337
	eval {...} called at /opt/perl-5.27.8/lib/site_perl/5.27.8/Test/Builder.pm line 337
	Test::Builder::subtest(Test::Builder=HASH(0xf11bc0), "Login", CODE(0x17c7600)) called at /opt/perl-5.27.8/lib/site_perl/5.27.8/Test/More.pm line 807
	Test::More::subtest("Login", CODE(0x17c7600)) called at t/01_server_side.t line 11
	main::scenario("Login", CODE(0x17c7600)) called at t/01_server_side.t line 96
Secret string too short at /tmpfs/.cpan-build-cpansand/2018012121/HTTP-Session2-1.09-0/blib/lib/HTTP/Session2/Base.pm line 79.
	HTTP::Session2::Base::__ANON__(HTTP::Session2::ServerStore=HASH(0x1806160), "s3cret") called at t/01_server_side.t line 108
	main::__ANON__("client -> server: request without cookie", CODE(0x18040e8)) called at t/01_server_side.t line 110
	main::__ANON__() called at /opt/perl-5.27.8/lib/site_perl/5.27.8/Test/Builder.pm line 337
	eval {...} called at /opt/perl-5.27.8/lib/site_perl/5.27.8/Test/Builder.pm line 337
	Test::Builder::subtest(Test::Builder=HASH(0xf11bc0), "In a login session", CODE(0x17d48c8)) called at /opt/perl-5.27.8/lib/site_perl/5.27.8/Test/More.pm line 807
	Test::More::subtest("In a login session", CODE(0x17d48c8)) called at t/01_server_side.t line 11
	main::scenario("In a login session", CODE(0x17d48c8)) called at t/01_server_side.t line 124
Secret string too short at /tmpfs/.cpan-build-cpansand/2018012121/HTTP-Session2-1.09-0/blib/lib/HTTP/Session2/Base.pm line 79.
	HTTP::Session2::Base::__ANON__(HTTP::Session2::ServerStore=HASH(0x1808eb0), "s3cret") called at t/01_server_side.t line 131
	main::__ANON__("client -> server: request without cookie", CODE(0x17d4bf8)) called at t/01_server_side.t line 138
	main::__ANON__() called at /opt/perl-5.27.8/lib/site_perl/5.27.8/Test/Builder.pm line 337
	eval {...} called at /opt/perl-5.27.8/lib/site_perl/5.27.8/Test/Builder.pm line 337
	Test::Builder::subtest(Test::Builder=HASH(0xf11bc0), "Logout", CODE(0x17d4fa0)) called at /opt/perl-5.27.8/lib/site_perl/5.27.8/Test/More.pm line 807
	Test::More::subtest("Logout", CODE(0x17d4fa0)) called at t/01_server_side.t line 11
	main::scenario("Logout", CODE(0x17d4fa0)) called at t/01_server_side.t line 153
t/01_server_side.t .......... ok
Secret string too short at /tmpfs/.cpan-build-cpansand/2018012121/HTTP-Session2-1.09-0/blib/lib/HTTP/Session2/Base.pm line 79.
	HTTP::Session2::Base::__ANON__(HTTP::Session2::ClientStore=HASH(0x1e8ca60), "s3cret") called at t/02_client_side.t line 17
	main::__ANON__("client -> server: request without cookie", CODE(0x1e8c7f0)) called at t/02_client_side.t line 22
	main::__ANON__() called at /opt/perl-5.27.8/lib/site_perl/5.27.8/Test/Builder.pm line 337
	eval {...} called at /opt/perl-5.27.8/lib/site_perl/5.27.8/Test/Builder.pm line 337
	Test::Builder::subtest(Test::Builder=HASH(0x1525a30), "First request", CODE(0x1c22e08)) called at /opt/perl-5.27.8/lib/site_perl/5.27.8/Test/More.pm line 807
	Test::More::subtest("First request", CODE(0x1c22e08)) called at t/02_client_side.t line 9
	main::scenario("First request", CODE(0x1c22e08)) called at t/02_client_side.t line 28
Secret string too short at /tmpfs/.cpan-build-cpansand/2018012121/HTTP-Session2-1.09-0/blib/lib/HTTP/Session2/Base.pm line 79.
	HTTP::Session2::Base::__ANON__(HTTP::Session2::ClientStore=HASH(0x1e94c78), "s3cret") called at t/02_client_side.t line 33
	main::__ANON__("client -> server: request without cookie", CODE(0x1e944b0)) called at t/02_client_side.t line 38
	main::__ANON__() called at /opt/perl-5.27.8/lib/site_perl/5.27.8/Test/Builder.pm line 337
	eval {...} called at /opt/perl-5.27.8/lib/site_perl/5.27.8/Test/Builder.pm line 337
	Test::Builder::subtest(Test::Builder=HASH(0x1525a30), "Store something without login", CODE(0x1e6a580)) called at /opt/perl-5.27.8/lib/site_perl/5.27.8/Test/More.pm line 807
	Test::More::subtest("Store something without login", CODE(0x1e6a580)) called at t/02_client_side.t line 9
	main::scenario("Store something without login", CODE(0x1e6a580)) called at t/02_client_side.t line 54
Do not use HTTP::Session2::ClientStore. Use HTTP::Session2::ServerStore or HTTP::Session2::ClientStore2 instead. at /tmpfs/.cpan-build-cpansand/2018012121/HTTP-Session2-1.09-0/blib/lib/HTTP/Session2/ClientStore.pm line 25.
Secret string too short at /tmpfs/.cpan-build-cpansand/2018012121/HTTP-Session2-1.09-0/blib/lib/HTTP/Session2/Base.pm line 79.
	HTTP::Session2::Base::__ANON__(HTTP::Session2::ClientStore=HASH(0x1ea1ec0), "s3cret") called at t/02_client_side.t line 60
	main::__ANON__("client -> server: request without cookie", CODE(0x1e99370)) called at t/02_client_side.t line 66
	main::__ANON__() called at /opt/perl-5.27.8/lib/site_perl/5.27.8/Test/Builder.pm line 337
	eval {...} called at /opt/perl-5.27.8/lib/site_perl/5.27.8/Test/Builder.pm line 337
	Test::Builder::subtest(Test::Builder=HASH(0x1525a30), "Login", CODE(0x1e6a7a8)) called at /opt/perl-5.27.8/lib/site_perl/5.27.8/Test/More.pm line 807
	Test::More::subtest("Login", CODE(0x1e6a7a8)) called at t/02_client_side.t line 9
	main::scenario("Login", CODE(0x1e6a7a8)) called at t/02_client_side.t line 86
Do not use HTTP::Session2::ClientStore. Use HTTP::Session2::ServerStore or HTTP::Session2::ClientStore2 instead. at /tmpfs/.cpan-build-cpansand/2018012121/HTTP-Session2-1.09-0/blib/lib/HTTP/Session2/ClientStore.pm line 35.
Do not use HTTP::Session2::ClientStore. Use HTTP::Session2::ServerStore or HTTP::Session2::ClientStore2 instead. at /tmpfs/.cpan-build-cpansand/2018012121/HTTP-Session2-1.09-0/blib/lib/HTTP/Session2/ClientStore.pm line 25.
Secret string too short at /tmpfs/.cpan-build-cpansand/2018012121/HTTP-Session2-1.09-0/blib/lib/HTTP/Session2/Base.pm line 79.
	HTTP::Session2::Base::__ANON__(HTTP::Session2::ClientStore=HASH(0x1ea9858), "s3cret") called at t/02_client_side.t line 92
	main::__ANON__("client -> server: request without cookie", CODE(0x1ea7dd0)) called at t/02_client_side.t line 98
	main::__ANON__() called at /opt/perl-5.27.8/lib/site_perl/5.27.8/Test/Builder.pm line 337
	eval {...} called at /opt/perl-5.27.8/lib/site_perl/5.27.8/Test/Builder.pm line 337
	Test::Builder::subtest(Test::Builder=HASH(0x1525a30), "In a login session", CODE(0x1e6ac70)) called at /opt/perl-5.27.8/lib/site_perl/5.27.8/Test/More.pm line 807
	Test::More::subtest("In a login session", CODE(0x1e6ac70)) called at t/02_client_side.t line 9
	main::scenario("In a login session", CODE(0x1e6ac70)) called at t/02_client_side.t line 107
Do not use HTTP::Session2::ClientStore. Use HTTP::Session2::ServerStore or HTTP::Session2::ClientStore2 instead. at /tmpfs/.cpan-build-cpansand/2018012121/HTTP-Session2-1.09-0/blib/lib/HTTP/Session2/ClientStore.pm line 35.
Do not use HTTP::Session2::ClientStore. Use HTTP::Session2::ServerStore or HTTP::Session2::ClientStore2 instead. at /tmpfs/.cpan-build-cpansand/2018012121/HTTP-Session2-1.09-0/blib/lib/HTTP/Session2/ClientStore.pm line 25.
Secret string too short at /tmpfs/.cpan-build-cpansand/2018012121/HTTP-Session2-1.09-0/blib/lib/HTTP/Session2/Base.pm line 79.
	HTTP::Session2::Base::__ANON__(HTTP::Session2::ClientStore=HASH(0x1eae0a0), "s3cret") called at t/02_client_side.t line 112
	main::__ANON__("client -> server: request without cookie", CODE(0x1ead890)) called at t/02_client_side.t line 118
	main::__ANON__() called at /opt/perl-5.27.8/lib/site_perl/5.27.8/Test/Builder.pm line 337
	eval {...} called at /opt/perl-5.27.8/lib/site_perl/5.27.8/Test/Builder.pm line 337
	Test::Builder::subtest(Test::Builder=HASH(0x1525a30), "Logout", CODE(0x1e6ace8)) called at /opt/perl-5.27.8/lib/site_perl/5.27.8/Test/More.pm line 807
	Test::More::subtest("Logout", CODE(0x1e6ace8)) called at t/02_client_side.t line 9
	main::scenario("Logout", CODE(0x1e6ace8)) called at t/02_client_side.t line 131
t/02_client_side.t .......... ok
Secret string too short at /tmpfs/.cpan-build-cpansand/2018012121/HTTP-Session2-1.09-0/blib/lib/HTTP/Session2/Base.pm line 79.
	HTTP::Session2::Base::__ANON__(HTTP::Session2::ServerStore=HASH(0x3114d50), "s3cret") called at t/03_mech.t line 121
	main::server_session(HASH(0x2fde890)) called at t/03_mech.t line 17
	main::__ANON__(HASH(0x2fde890)) called at /opt/perl-5.27.8/lib/site_perl/5.27.8/Test/WWW/Mechanize/PSGI.pm line 43
	Test::WWW::Mechanize::PSGI::try {...} () called at /opt/perl-5.27.8/lib/site_perl/5.27.8/Try/Tiny.pm line 102
	eval {...} called at /opt/perl-5.27.8/lib/site_perl/5.27.8/Try/Tiny.pm line 93
	Try::Tiny::try(CODE(0x3114a68), Try::Tiny::Catch=REF(0x2368260)) called at /opt/perl-5.27.8/lib/site_perl/5.27.8/Test/WWW/Mechanize/PSGI.pm line 50
	Test::WWW::Mechanize::PSGI::simple_request(Test::WWW::Mechanize::PSGI=HASH(0x2fde9b0), HTTP::Request=HASH(0x30c57d0), undef, undef) called at /opt/perl-5.27.8/lib/site_perl/5.27.8/LWP/UserAgent.pm line 297
	LWP::UserAgent::request(Test::WWW::Mechanize::PSGI=HASH(0x2fde9b0), HTTP::Request=HASH(0x30c57d0)) called at /opt/perl-5.27.8/lib/site_perl/5.27.8/WWW/Mechanize.pm line 1413
	WWW::Mechanize::_make_request(Test::WWW::Mechanize::PSGI=HASH(0x2fde9b0), HTTP::Request=HASH(0x30c57d0)) called at /opt/perl-5.27.8/lib/site_perl/5.27.8/WWW/Mechanize.pm line 1253
	WWW::Mechanize::request(Test::WWW::Mechanize::PSGI=HASH(0x2fde9b0), HTTP::Request=HASH(0x30c57d0)) called at /opt/perl-5.27.8/lib/site_perl/5.27.8/LWP/UserAgent.pm line 435
	LWP::UserAgent::get(Test::WWW::Mechanize::PSGI=HASH(0x2fde9b0), "/") called at /opt/perl-5.27.8/lib/site_perl/5.27.8/WWW/Mechanize.pm line 117
	WWW::Mechanize::get(Test::WWW::Mechanize::PSGI=HASH(0x2fde9b0), "/") called at /opt/perl-5.27.8/lib/site_perl/5.27.8/Test/WWW/Mechanize.pm line 160
	Test::WWW::Mechanize::get_ok(Test::WWW::Mechanize::PSGI=HASH(0x2fde9b0), "/") called at t/03_mech.t line 74
Secret string too short at /tmpfs/.cpan-build-cpansand/2018012121/HTTP-Session2-1.09-0/blib/lib/HTTP/Session2/Base.pm line 79.
	HTTP::Session2::Base::__ANON__(HTTP::Session2::ServerStore=HASH(0x31435f8), "s3cret") called at t/03_mech.t line 121
	main::server_session(HASH(0x3114fc0)) called at t/03_mech.t line 17
	main::__ANON__(HASH(0x3114fc0)) called at /opt/perl-5.27.8/lib/site_perl/5.27.8/Test/WWW/Mechanize/PSGI.pm line 43
	Test::WWW::Mechanize::PSGI::try {...} () called at /opt/perl-5.27.8/lib/site_perl/5.27.8/Try/Tiny.pm line 102
	eval {...} called at /opt/perl-5.27.8/lib/site_perl/5.27.8/Try/Tiny.pm line 93
	Try::Tiny::try(CODE(0x31158a8), Try::Tiny::Catch=REF(0x3114c18)) called at /opt/perl-5.27.8/lib/site_perl/5.27.8/Test/WWW/Mechanize/PSGI.pm line 50
	Test::WWW::Mechanize::PSGI::simple_request(Test::WWW::Mechanize::PSGI=HASH(0x2fde9b0), HTTP::Request=HASH(0x3114960), undef, undef) called at /opt/perl-5.27.8/lib/site_perl/5.27.8/LWP/UserAgent.pm line 297
	LWP::UserAgent::request(Test::WWW::Mechanize::PSGI=HASH(0x2fde9b0), HTTP::Request=HASH(0x3114960)) called at /opt/perl-5.27.8/lib/site_perl/5.27.8/WWW/Mechanize.pm line 1413
	WWW::Mechanize::_make_request(Test::WWW::Mechanize::PSGI=HASH(0x2fde9b0), HTTP::Request=HASH(0x3114960)) called at /opt/perl-5.27.8/lib/site_perl/5.27.8/WWW/Mechanize.pm line 1253
	WWW::Mechanize::request(Test::WWW::Mechanize::PSGI=HASH(0x2fde9b0), HTTP::Request=HASH(0x3114960)) called at /opt/perl-5.27.8/lib/site_perl/5.27.8/LWP/UserAgent.pm line 478
	LWP::UserAgent::post(Test::WWW::Mechanize::PSGI=HASH(0x2fde9b0), "/wishlist?foo", HASH(0x2be6ac8)) called at /opt/perl-5.27.8/lib/site_perl/5.27.8/Test/WWW/Mechanize.pm line 237
	Test::WWW::Mechanize::post_ok(Test::WWW::Mechanize::PSGI=HASH(0x2fde9b0), "/wishlist?foo") called at t/03_mech.t line 75
Secret string too short at /tmpfs/.cpan-build-cpansand/2018012121/HTTP-Session2-1.09-0/blib/lib/HTTP/Session2/Base.pm line 79.
	HTTP::Session2::Base::__ANON__(HTTP::Session2::ServerStore=HASH(0x3143e98), "s3cret") called at t/03_mech.t line 121
	main::server_session(HASH(0x31434c0)) called at t/03_mech.t line 17
	main::__ANON__(HASH(0x31434c0)) called at /opt/perl-5.27.8/lib/site_perl/5.27.8/Test/WWW/Mechanize/PSGI.pm line 43
	Test::WWW::Mechanize::PSGI::try {...} () called at /opt/perl-5.27.8/lib/site_perl/5.27.8/Try/Tiny.pm line 102
	eval {...} called at /opt/perl-5.27.8/lib/site_perl/5.27.8/Try/Tiny.pm line 93
	Try::Tiny::try(CODE(0x31435e0), Try::Tiny::Catch=REF(0x31434d8)) called at /opt/perl-5.27.8/lib/site_perl/5.27.8/Test/WWW/Mechanize/PSGI.pm line 50
	Test::WWW::Mechanize::PSGI::simple_request(Test::WWW::Mechanize::PSGI=HASH(0x2fde9b0), HTTP::Request=HASH(0x3143340), undef, undef) called at /opt/perl-5.27.8/lib/site_perl/5.27.8/LWP/UserAgent.pm line 297
	LWP::UserAgent::request(Test::WWW::Mechanize::PSGI=HASH(0x2fde9b0), HTTP::Request=HASH(0x3143340)) called at /opt/perl-5.27.8/lib/site_perl/5.27.8/WWW/Mechanize.pm line 1413
	WWW::Mechanize::_make_request(Test::WWW::Mechanize::PSGI=HASH(0x2fde9b0), HTTP::Request=HASH(0x3143340)) called at /opt/perl-5.27.8/lib/site_perl/5.27.8/WWW/Mechanize.pm line 1253
	WWW::Mechanize::request(Test::WWW::Mechanize::PSGI=HASH(0x2fde9b0), HTTP::Request=HASH(0x3143340)) called at /opt/perl-5.27.8/lib/site_perl/5.27.8/LWP/UserAgent.pm line 435
	LWP::UserAgent::get(Test::WWW::Mechanize::PSGI=HASH(0x2fde9b0), "http://localhost/wishlist") called at /opt/perl-5.27.8/lib/site_perl/5.27.8/WWW/Mechanize.pm line 117
	WWW::Mechanize::get(Test::WWW::Mechanize::PSGI=HASH(0x2fde9b0), "/wishlist") called at /opt/perl-5.27.8/lib/site_perl/5.27.8/Test/WWW/Mechanize.pm line 160
	Test::WWW::Mechanize::get_ok(Test::WWW::Mechanize::PSGI=HASH(0x2fde9b0), "/wishlist") called at t/03_mech.t line 76
Secret string too short at /tmpfs/.cpan-build-cpansand/2018012121/HTTP-Session2-1.09-0/blib/lib/HTTP/Session2/Base.pm line 79.
	HTTP::Session2::Base::__ANON__(HTTP::Session2::ServerStore=HASH(0x314d6f0), "s3cret") called at t/03_mech.t line 121
	main::server_session(HASH(0x3143da8)) called at t/03_mech.t line 17
	main::__ANON__(HASH(0x3143da8)) called at /opt/perl-5.27.8/lib/site_perl/5.27.8/Test/WWW/Mechanize/PSGI.pm line 43
	Test::WWW::Mechanize::PSGI::try {...} () called at /opt/perl-5.27.8/lib/site_perl/5.27.8/Try/Tiny.pm line 102
	eval {...} called at /opt/perl-5.27.8/lib/site_perl/5.27.8/Try/Tiny.pm line 93
	Try::Tiny::try(CODE(0x3143fa0), Try::Tiny::Catch=REF(0x3143ca0)) called at /opt/perl-5.27.8/lib/site_perl/5.27.8/Test/WWW/Mechanize/PSGI.pm line 50
	Test::WWW::Mechanize::PSGI::simple_request(Test::WWW::Mechanize::PSGI=HASH(0x2fde9b0), HTTP::Request=HASH(0x3115188), undef, undef) called at /opt/perl-5.27.8/lib/site_perl/5.27.8/LWP/UserAgent.pm line 297
	LWP::UserAgent::request(Test::WWW::Mechanize::PSGI=HASH(0x2fde9b0), HTTP::Request=HASH(0x3115188)) called at /opt/perl-5.27.8/lib/site_perl/5.27.8/WWW/Mechanize.pm line 1413
	WWW::Mechanize::_make_request(Test::WWW::Mechanize::PSGI=HASH(0x2fde9b0), HTTP::Request=HASH(0x3115188)) called at /opt/perl-5.27.8/lib/site_perl/5.27.8/WWW/Mechanize.pm line 1253
	WWW::Mechanize::request(Test::WWW::Mechanize::PSGI=HASH(0x2fde9b0), HTTP::Request=HASH(0x3115188)) called at /opt/perl-5.27.8/lib/site_perl/5.27.8/LWP/UserAgent.pm line 478
	LWP::UserAgent::post(Test::WWW::Mechanize::PSGI=HASH(0x2fde9b0), "/wishlist?bar") called at t/03_mech.t line 78
Secret string too short at /tmpfs/.cpan-build-cpansand/2018012121/HTTP-Session2-1.09-0/blib/lib/HTTP/Session2/Base.pm line 79.
	HTTP::Session2::Base::__ANON__(HTTP::Session2::ServerStore=HASH(0x314dbd0), "s3cret") called at t/03_mech.t line 121
	main::server_session(HASH(0x3144150)) called at t/03_mech.t line 17
	main::__ANON__(HASH(0x3144150)) called at /opt/perl-5.27.8/lib/site_perl/5.27.8/Test/WWW/Mechanize/PSGI.pm line 43
	Test::WWW::Mechanize::PSGI::try {...} () called at /opt/perl-5.27.8/lib/site_perl/5.27.8/Try/Tiny.pm line 102
	eval {...} called at /opt/perl-5.27.8/lib/site_perl/5.27.8/Try/Tiny.pm line 93
	Try::Tiny::try(CODE(0x314d9f0), Try::Tiny::Catch=REF(0x3144270)) called at /opt/perl-5.27.8/lib/site_perl/5.27.8/Test/WWW/Mechanize/PSGI.pm line 50
	Test::WWW::Mechanize::PSGI::simple_request(Test::WWW::Mechanize::PSGI=HASH(0x2fde9b0), HTTP::Request=HASH(0x3143f40), undef, undef) called at /opt/perl-5.27.8/lib/site_perl/5.27.8/LWP/UserAgent.pm line 297
	LWP::UserAgent::request(Test::WWW::Mechanize::PSGI=HASH(0x2fde9b0), HTTP::Request=HASH(0x3143f40)) called at /opt/perl-5.27.8/lib/site_perl/5.27.8/WWW/Mechanize.pm line 1413
	WWW::Mechanize::_make_request(Test::WWW::Mechanize::PSGI=HASH(0x2fde9b0), HTTP::Request=HASH(0x3143f40)) called at /opt/perl-5.27.8/lib/site_perl/5.27.8/WWW/Mechanize.pm line 1253
	WWW::Mechanize::request(Test::WWW::Mechanize::PSGI=HASH(0x2fde9b0), HTTP::Request=HASH(0x3143f40)) called at /opt/perl-5.27.8/lib/site_perl/5.27.8/LWP/UserAgent.pm line 478
	LWP::UserAgent::post(Test::WWW::Mechanize::PSGI=HASH(0x2fde9b0), "/wishlist?bar", HASH(0x2be6ac8)) called at /opt/perl-5.27.8/lib/site_perl/5.27.8/Test/WWW/Mechanize.pm line 237
	Test::WWW::Mechanize::post_ok(Test::WWW::Mechanize::PSGI=HASH(0x2fde9b0), "/wishlist?bar") called at t/03_mech.t line 81
Secret string too short at /tmpfs/.cpan-build-cpansand/2018012121/HTTP-Session2-1.09-0/blib/lib/HTTP/Session2/Base.pm line 79.
	HTTP::Session2::Base::__ANON__(HTTP::Session2::ServerStore=HASH(0x3143e38), "s3cret") called at t/03_mech.t line 121
	main::server_session(HASH(0x3144240)) called at t/03_mech.t line 17
	main::__ANON__(HASH(0x3144240)) called at /opt/perl-5.27.8/lib/site_perl/5.27.8/Test/WWW/Mechanize/PSGI.pm line 43
	Test::WWW::Mechanize::PSGI::try {...} () called at /opt/perl-5.27.8/lib/site_perl/5.27.8/Try/Tiny.pm line 102
	eval {...} called at /opt/perl-5.27.8/lib/site_perl/5.27.8/Try/Tiny.pm line 93
	Try::Tiny::try(CODE(0x3143ce8), Try::Tiny::Catch=REF(0x314d948)) called at /opt/perl-5.27.8/lib/site_perl/5.27.8/Test/WWW/Mechanize/PSGI.pm line 50
	Test::WWW::Mechanize::PSGI::simple_request(Test::WWW::Mechanize::PSGI=HASH(0x2fde9b0), HTTP::Request=HASH(0x3143ca0), undef, undef) called at /opt/perl-5.27.8/lib/site_perl/5.27.8/LWP/UserAgent.pm line 297
	LWP::UserAgent::request(Test::WWW::Mechanize::PSGI=HASH(0x2fde9b0), HTTP::Request=HASH(0x3143ca0)) called at /opt/perl-5.27.8/lib/site_perl/5.27.8/WWW/Mechanize.pm line 1413
	WWW::Mechanize::_make_request(Test::WWW::Mechanize::PSGI=HASH(0x2fde9b0), HTTP::Request=HASH(0x3143ca0)) called at /opt/perl-5.27.8/lib/site_perl/5.27.8/WWW/Mechanize.pm line 1253
	WWW::Mechanize::request(Test::WWW::Mechanize::PSGI=HASH(0x2fde9b0), HTTP::Request=HASH(0x3143ca0)) called at /opt/perl-5.27.8/lib/site_perl/5.27.8/LWP/UserAgent.pm line 435
	LWP::UserAgent::get(Test::WWW::Mechanize::PSGI=HASH(0x2fde9b0), "http://localhost/wishlist") called at /opt/perl-5.27.8/lib/site_perl/5.27.8/WWW/Mechanize.pm line 117
	WWW::Mechanize::get(Test::WWW::Mechanize::PSGI=HASH(0x2fde9b0), "/wishlist") called at /opt/perl-5.27.8/lib/site_perl/5.27.8/Test/WWW/Mechanize.pm line 160
	Test::WWW::Mechanize::get_ok(Test::WWW::Mechanize::PSGI=HASH(0x2fde9b0), "/wishlist") called at t/03_mech.t line 82
Secret string too short at /tmpfs/.cpan-build-cpansand/2018012121/HTTP-Session2-1.09-0/blib/lib/HTTP/Session2/Base.pm line 79.
	HTTP::Session2::Base::__ANON__(HTTP::Session2::ServerStore=HASH(0x314e500), "s3cret") called at t/03_mech.t line 121
	main::server_session(HASH(0x31441c8)) called at t/03_mech.t line 17
	main::__ANON__(HASH(0x31441c8)) called at /opt/perl-5.27.8/lib/site_perl/5.27.8/Test/WWW/Mechanize/PSGI.pm line 43
	Test::WWW::Mechanize::PSGI::try {...} () called at /opt/perl-5.27.8/lib/site_perl/5.27.8/Try/Tiny.pm line 102
	eval {...} called at /opt/perl-5.27.8/lib/site_perl/5.27.8/Try/Tiny.pm line 93
	Try::Tiny::try(CODE(0x314e548), Try::Tiny::Catch=REF(0x314da50)) called at /opt/perl-5.27.8/lib/site_perl/5.27.8/Test/WWW/Mechanize/PSGI.pm line 50
	Test::WWW::Mechanize::PSGI::simple_request(Test::WWW::Mechanize::PSGI=HASH(0x2fde9b0), HTTP::Request=HASH(0x314dbd0), undef, undef) called at /opt/perl-5.27.8/lib/site_perl/5.27.8/LWP/UserAgent.pm line 297
	LWP::UserAgent::request(Test::WWW::Mechanize::PSGI=HASH(0x2fde9b0), HTTP::Request=HASH(0x314dbd0)) called at /opt/perl-5.27.8/lib/site_perl/5.27.8/WWW/Mechanize.pm line 1413
	WWW::Mechanize::_make_request(Test::WWW::Mechanize::PSGI=HASH(0x2fde9b0), HTTP::Request=HASH(0x314dbd0)) called at /opt/perl-5.27.8/lib/site_perl/5.27.8/WWW/Mechanize.pm line 1253
	WWW::Mechanize::request(Test::WWW::Mechanize::PSGI=HASH(0x2fde9b0), HTTP::Request=HASH(0x314dbd0)) called at /opt/perl-5.27.8/lib/site_perl/5.27.8/LWP/UserAgent.pm line 478
	LWP::UserAgent::post(Test::WWW::Mechanize::PSGI=HASH(0x2fde9b0), "/account/login?john", HASH(0x2be6ac8)) called at /opt/perl-5.27.8/lib/site_perl/5.27.8/Test/WWW/Mechanize.pm line 237
	Test::WWW::Mechanize::post_ok(Test::WWW::Mechanize::PSGI=HASH(0x2fde9b0), "/account/login?john") called at t/03_mech.t line 84
Secret string too short at /tmpfs/.cpan-build-cpansand/2018012121/HTTP-Session2-1.09-0/blib/lib/HTTP/Session2/Base.pm line 79.
	HTTP::Session2::Base::__ANON__(HTTP::Session2::ServerStore=HASH(0x3153610), "s3cret") called at t/03_mech.t line 121
	main::server_session(HASH(0x314e638)) called at t/03_mech.t line 17
	main::__ANON__(HASH(0x314e638)) called at /opt/perl-5.27.8/lib/site_perl/5.27.8/Test/WWW/Mechanize/PSGI.pm line 43
	Test::WWW::Mechanize::PSGI::try {...} () called at /opt/perl-5.27.8/lib/site_perl/5.27.8/Try/Tiny.pm line 102
	eval {...} called at /opt/perl-5.27.8/lib/site_perl/5.27.8/Try/Tiny.pm line 93
	Try::Tiny::try(CODE(0x314dc78), Try::Tiny::Catch=REF(0x314e260)) called at /opt/perl-5.27.8/lib/site_perl/5.27.8/Test/WWW/Mechanize/PSGI.pm line 50
	Test::WWW::Mechanize::PSGI::simple_request(Test::WWW::Mechanize::PSGI=HASH(0x2fde9b0), HTTP::Request=HASH(0x314e458), undef, undef) called at /opt/perl-5.27.8/lib/site_perl/5.27.8/LWP/UserAgent.pm line 297
	LWP::UserAgent::request(Test::WWW::Mechanize::PSGI=HASH(0x2fde9b0), HTTP::Request=HASH(0x314e458)) called at /opt/perl-5.27.8/lib/site_perl/5.27.8/WWW/Mechanize.pm line 1413
	WWW::Mechanize::_make_request(Test::WWW::Mechanize::PSGI=HASH(0x2fde9b0), HTTP::Request=HASH(0x314e458)) called at /opt/perl-5.27.8/lib/site_perl/5.27.8/WWW/Mechanize.pm line 1253
	WWW::Mechanize::request(Test::WWW::Mechanize::PSGI=HASH(0x2fde9b0), HTTP::Request=HASH(0x314e458)) called at /opt/perl-5.27.8/lib/site_perl/5.27.8/LWP/UserAgent.pm line 435
	LWP::UserAgent::get(Test::WWW::Mechanize::PSGI=HASH(0x2fde9b0), "http://localhost/wishlist") called at /opt/perl-5.27.8/lib/site_perl/5.27.8/WWW/Mechanize.pm line 117
	WWW::Mechanize::get(Test::WWW::Mechanize::PSGI=HASH(0x2fde9b0), "/wishlist") called at /opt/perl-5.27.8/lib/site_perl/5.27.8/Test/WWW/Mechanize.pm line 160
	Test::WWW::Mechanize::get_ok(Test::WWW::Mechanize::PSGI=HASH(0x2fde9b0), "/wishlist", "Wishlist is still available") called at t/03_mech.t line 85
Secret string too short at /tmpfs/.cpan-build-cpansand/2018012121/HTTP-Session2-1.09-0/blib/lib/HTTP/Session2/Base.pm line 79.
	HTTP::Session2::Base::__ANON__(HTTP::Session2::ServerStore=HASH(0x3153be0), "s3cret") called at t/03_mech.t line 121
	main::server_session(HASH(0x3143520)) called at t/03_mech.t line 17
	main::__ANON__(HASH(0x3143520)) called at /opt/perl-5.27.8/lib/site_perl/5.27.8/Test/WWW/Mechanize/PSGI.pm line 43
	Test::WWW::Mechanize::PSGI::try {...} () called at /opt/perl-5.27.8/lib/site_perl/5.27.8/Try/Tiny.pm line 102
	eval {...} called at /opt/perl-5.27.8/lib/site_perl/5.27.8/Try/Tiny.pm line 93
	Try::Tiny::try(CODE(0x31153e0), Try::Tiny::Catch=REF(0x314e698)) called at /opt/perl-5.27.8/lib/site_perl/5.27.8/Test/WWW/Mechanize/PSGI.pm line 50
	Test::WWW::Mechanize::PSGI::simple_request(Test::WWW::Mechanize::PSGI=HASH(0x2fde9b0), HTTP::Request=HASH(0x31438b0), undef, undef) called at /opt/perl-5.27.8/lib/site_perl/5.27.8/LWP/UserAgent.pm line 297
	LWP::UserAgent::request(Test::WWW::Mechanize::PSGI=HASH(0x2fde9b0), HTTP::Request=HASH(0x31438b0)) called at /opt/perl-5.27.8/lib/site_perl/5.27.8/WWW/Mechanize.pm line 1413
	WWW::Mechanize::_make_request(Test::WWW::Mechanize::PSGI=HASH(0x2fde9b0), HTTP::Request=HASH(0x31438b0)) called at /opt/perl-5.27.8/lib/site_perl/5.27.8/WWW/Mechanize.pm line 1253
	WWW::Mechanize::request(Test::WWW::Mechanize::PSGI=HASH(0x2fde9b0), HTTP::Request=HASH(0x31438b0)) called at /opt/perl-5.27.8/lib/site_perl/5.27.8/LWP/UserAgent.pm line 478
	LWP::UserAgent::post(Test::WWW::Mechanize::PSGI=HASH(0x2fde9b0), "/wishlist?baz") called at t/03_mech.t line 87
Secret string too short at /tmpfs/.cpan-build-cpansand/2018012121/HTTP-Session2-1.09-0/blib/lib/HTTP/Session2/Base.pm line 79.
	HTTP::Session2::Base::__ANON__(HTTP::Session2::ServerStore=HASH(0x3153730), "s3cret") called at t/03_mech.t line 121
	main::server_session(HASH(0x314dd98)) called at t/03_mech.t line 17
	main::__ANON__(HASH(0x314dd98)) called at /opt/perl-5.27.8/lib/site_perl/5.27.8/Test/WWW/Mechanize/PSGI.pm line 43
	Test::WWW::Mechanize::PSGI::try {...} () called at /opt/perl-5.27.8/lib/site_perl/5.27.8/Try/Tiny.pm line 102
	eval {...} called at /opt/perl-5.27.8/lib/site_perl/5.27.8/Try/Tiny.pm line 93
	Try::Tiny::try(CODE(0x3153628), Try::Tiny::Catch=REF(0x314e5d8)) called at /opt/perl-5.27.8/lib/site_perl/5.27.8/Test/WWW/Mechanize/PSGI.pm line 50
	Test::WWW::Mechanize::PSGI::simple_request(Test::WWW::Mechanize::PSGI=HASH(0x2fde9b0), HTTP::Request=HASH(0x314e188), undef, undef) called at /opt/perl-5.27.8/lib/site_perl/5.27.8/LWP/UserAgent.pm line 297
	LWP::UserAgent::request(Test::WWW::Mechanize::PSGI=HASH(0x2fde9b0), HTTP::Request=HASH(0x314e188)) called at /opt/perl-5.27.8/lib/site_perl/5.27.8/WWW/Mechanize.pm line 1413
	WWW::Mechanize::_make_request(Test::WWW::Mechanize::PSGI=HASH(0x2fde9b0), HTTP::Request=HASH(0x314e188)) called at /opt/perl-5.27.8/lib/site_perl/5.27.8/WWW/Mechanize.pm line 1253
	WWW::Mechanize::request(Test::WWW::Mechanize::PSGI=HASH(0x2fde9b0), HTTP::Request=HASH(0x314e188)) called at /opt/perl-5.27.8/lib/site_perl/5.27.8/LWP/UserAgent.pm line 478
	LWP::UserAgent::post(Test::WWW::Mechanize::PSGI=HASH(0x2fde9b0), "/wishlist?baz", HASH(0x2be6ac8)) called at /opt/perl-5.27.8/lib/site_perl/5.27.8/Test/WWW/Mechanize.pm line 237
	Test::WWW::Mechanize::post_ok(Test::WWW::Mechanize::PSGI=HASH(0x2fde9b0), "/wishlist?baz") called at t/03_mech.t line 90
Secret string too short at /tmpfs/.cpan-build-cpansand/2018012121/HTTP-Session2-1.09-0/blib/lib/HTTP/Session2/Base.pm line 79.
	HTTP::Session2::Base::__ANON__(HTTP::Session2::ServerStore=HASH(0x3153fd0), "s3cret") called at t/03_mech.t line 121
	main::server_session(HASH(0x3153bf8)) called at t/03_mech.t line 17
	main::__ANON__(HASH(0x3153bf8)) called at /opt/perl-5.27.8/lib/site_perl/5.27.8/Test/WWW/Mechanize/PSGI.pm line 43
	Test::WWW::Mechanize::PSGI::try {...} () called at /opt/perl-5.27.8/lib/site_perl/5.27.8/Try/Tiny.pm line 102
	eval {...} called at /opt/perl-5.27.8/lib/site_perl/5.27.8/Try/Tiny.pm line 93
	Try::Tiny::try(CODE(0x3153d60), Try::Tiny::Catch=REF(0x3154210)) called at /opt/perl-5.27.8/lib/site_perl/5.27.8/Test/WWW/Mechanize/PSGI.pm line 50
	Test::WWW::Mechanize::PSGI::simple_request(Test::WWW::Mechanize::PSGI=HASH(0x2fde9b0), HTTP::Request=HASH(0x3153e20), undef, undef) called at /opt/perl-5.27.8/lib/site_perl/5.27.8/LWP/UserAgent.pm line 297
	LWP::UserAgent::request(Test::WWW::Mechanize::PSGI=HASH(0x2fde9b0), HTTP::Request=HASH(0x3153e20)) called at /opt/perl-5.27.8/lib/site_perl/5.27.8/WWW/Mechanize.pm line 1413
	WWW::Mechanize::_make_request(Test::WWW::Mechanize::PSGI=HASH(0x2fde9b0), HTTP::Request=HASH(0x3153e20)) called at /opt/perl-5.27.8/lib/site_perl/5.27.8/WWW/Mechanize.pm line 1253
	WWW::Mechanize::request(Test::WWW::Mechanize::PSGI=HASH(0x2fde9b0), HTTP::Request=HASH(0x3153e20)) called at /opt/perl-5.27.8/lib/site_perl/5.27.8/LWP/UserAgent.pm line 435
	LWP::UserAgent::get(Test::WWW::Mechanize::PSGI=HASH(0x2fde9b0), "http://localhost/wishlist") called at /opt/perl-5.27.8/lib/site_perl/5.27.8/WWW/Mechanize.pm line 117
	WWW::Mechanize::get(Test::WWW::Mechanize::PSGI=HASH(0x2fde9b0), "/wishlist") called at /opt/perl-5.27.8/lib/site_perl/5.27.8/Test/WWW/Mechanize.pm line 160
	Test::WWW::Mechanize::get_ok(Test::WWW::Mechanize::PSGI=HASH(0x2fde9b0), "/wishlist", "Wishlist is still available") called at t/03_mech.t line 91
Secret string too short at /tmpfs/.cpan-build-cpansand/2018012121/HTTP-Session2-1.09-0/blib/lib/HTTP/Session2/Base.pm line 79.
	HTTP::Session2::Base::__ANON__(HTTP::Session2::ServerStore=HASH(0x31570c0), "s3cret") called at t/03_mech.t line 121
	main::server_session(HASH(0x31539e8)) called at t/03_mech.t line 17
	main::__ANON__(HASH(0x31539e8)) called at /opt/perl-5.27.8/lib/site_perl/5.27.8/Test/WWW/Mechanize/PSGI.pm line 43
	Test::WWW::Mechanize::PSGI::try {...} () called at /opt/perl-5.27.8/lib/site_perl/5.27.8/Try/Tiny.pm line 102
	eval {...} called at /opt/perl-5.27.8/lib/site_perl/5.27.8/Try/Tiny.pm line 93
	Try::Tiny::try(CODE(0x3156c70), Try::Tiny::Catch=REF(0x3154180)) called at /opt/perl-5.27.8/lib/site_perl/5.27.8/Test/WWW/Mechanize/PSGI.pm line 50
	Test::WWW::Mechanize::PSGI::simple_request(Test::WWW::Mechanize::PSGI=HASH(0x2fde9b0), HTTP::Request=HASH(0x3156bf8), undef, undef) called at /opt/perl-5.27.8/lib/site_perl/5.27.8/LWP/UserAgent.pm line 297
	LWP::UserAgent::request(Test::WWW::Mechanize::PSGI=HASH(0x2fde9b0), HTTP::Request=HASH(0x3156bf8)) called at /opt/perl-5.27.8/lib/site_perl/5.27.8/WWW/Mechanize.pm line 1413
	WWW::Mechanize::_make_request(Test::WWW::Mechanize::PSGI=HASH(0x2fde9b0), HTTP::Request=HASH(0x3156bf8)) called at /opt/perl-5.27.8/lib/site_perl/5.27.8/WWW/Mechanize.pm line 1253
	WWW::Mechanize::request(Test::WWW::Mechanize::PSGI=HASH(0x2fde9b0), HTTP::Request=HASH(0x3156bf8)) called at /opt/perl-5.27.8/lib/site_perl/5.27.8/LWP/UserAgent.pm line 435
	LWP::UserAgent::get(Test::WWW::Mechanize::PSGI=HASH(0x2fde9b0), "http://localhost/my/name") called at /opt/perl-5.27.8/lib/site_perl/5.27.8/WWW/Mechanize.pm line 117
	WWW::Mechanize::get(Test::WWW::Mechanize::PSGI=HASH(0x2fde9b0), "/my/name") called at /opt/perl-5.27.8/lib/site_perl/5.27.8/Test/WWW/Mechanize.pm line 160
	Test::WWW::Mechanize::get_ok(Test::WWW::Mechanize::PSGI=HASH(0x2fde9b0), "/my/name") called at t/03_mech.t line 93
Secret string too short at /tmpfs/.cpan-build-cpansand/2018012121/HTTP-Session2-1.09-0/blib/lib/HTTP/Session2/Base.pm line 79.
	HTTP::Session2::Base::__ANON__(HTTP::Session2::ServerStore=HASH(0x31568e0), "s3cret") called at t/03_mech.t line 121
	main::server_session(HASH(0x31569b8)) called at t/03_mech.t line 17
	main::__ANON__(HASH(0x31569b8)) called at /opt/perl-5.27.8/lib/site_perl/5.27.8/Test/WWW/Mechanize/PSGI.pm line 43
	Test::WWW::Mechanize::PSGI::try {...} () called at /opt/perl-5.27.8/lib/site_perl/5.27.8/Try/Tiny.pm line 102
	eval {...} called at /opt/perl-5.27.8/lib/site_perl/5.27.8/Try/Tiny.pm line 93
	Try::Tiny::try(CODE(0x31575b8), Try::Tiny::Catch=REF(0x3156f40)) called at /opt/perl-5.27.8/lib/site_perl/5.27.8/Test/WWW/Mechanize/PSGI.pm line 50
	Test::WWW::Mechanize::PSGI::simple_request(Test::WWW::Mechanize::PSGI=HASH(0x2fde9b0), HTTP::Request=HASH(0x3156a78), undef, undef) called at /opt/perl-5.27.8/lib/site_perl/5.27.8/LWP/UserAgent.pm line 297
	LWP::UserAgent::request(Test::WWW::Mechanize::PSGI=HASH(0x2fde9b0), HTTP::Request=HASH(0x3156a78)) called at /opt/perl-5.27.8/lib/site_perl/5.27.8/WWW/Mechanize.pm line 1413
	WWW::Mechanize::_make_request(Test::WWW::Mechanize::PSGI=HASH(0x2fde9b0), HTTP::Request=HASH(0x3156a78)) called at /opt/perl-5.27.8/lib/site_perl/5.27.8/WWW/Mechanize.pm line 1253
	WWW::Mechanize::request(Test::WWW::Mechanize::PSGI=HASH(0x2fde9b0), HTTP::Request=HASH(0x3156a78)) called at /opt/perl-5.27.8/lib/site_perl/5.27.8/LWP/UserAgent.pm line 478
	LWP::UserAgent::post(Test::WWW::Mechanize::PSGI=HASH(0x2fde9b0), "/account/logout?john") called at t/03_mech.t line 97
Secret string too short at /tmpfs/.cpan-build-cpansand/2018012121/HTTP-Session2-1.09-0/blib/lib/HTTP/Session2/Base.pm line 79.
	HTTP::Session2::Base::__ANON__(HTTP::Session2::ClientStore=HASH(0x3144228), "s3cret") called at t/03_mech.t line 127
	main::client_session(HASH(0x315b928)) called at t/03_mech.t line 17
	main::__ANON__(HASH(0x315b928)) called at /opt/perl-5.27.8/lib/site_perl/5.27.8/Test/WWW/Mechanize/PSGI.pm line 43
	Test::WWW::Mechanize::PSGI::try {...} () called at /opt/perl-5.27.8/lib/site_perl/5.27.8/Try/Tiny.pm line 102
	eval {...} called at /opt/perl-5.27.8/lib/site_perl/5.27.8/Try/Tiny.pm line 93
	Try::Tiny::try(CODE(0x2db15b0), Try::Tiny::Catch=REF(0x3157390)) called at /opt/perl-5.27.8/lib/site_perl/5.27.8/Test/WWW/Mechanize/PSGI.pm line 50
	Test::WWW::Mechanize::PSGI::simple_request(Test::WWW::Mechanize::PSGI=HASH(0x308ec68), HTTP::Request=HASH(0x3115260), undef, undef) called at /opt/perl-5.27.8/lib/site_perl/5.27.8/LWP/UserAgent.pm line 297
	LWP::UserAgent::request(Test::WWW::Mechanize::PSGI=HASH(0x308ec68), HTTP::Request=HASH(0x3115260)) called at /opt/perl-5.27.8/lib/site_perl/5.27.8/WWW/Mechanize.pm line 1413
	WWW::Mechanize::_make_request(Test::WWW::Mechanize::PSGI=HASH(0x308ec68), HTTP::Request=HASH(0x3115260)) called at /opt/perl-5.27.8/lib/site_perl/5.27.8/WWW/Mechanize.pm line 1253
	WWW::Mechanize::request(Test::WWW::Mechanize::PSGI=HASH(0x308ec68), HTTP::Request=HASH(0x3115260)) called at /opt/perl-5.27.8/lib/site_perl/5.27.8/LWP/UserAgent.pm line 435
	LWP::UserAgent::get(Test::WWW::Mechanize::PSGI=HASH(0x308ec68), "/") called at /opt/perl-5.27.8/lib/site_perl/5.27.8/WWW/Mechanize.pm line 117
	WWW::Mechanize::get(Test::WWW::Mechanize::PSGI=HASH(0x308ec68), "/") called at /opt/perl-5.27.8/lib/site_perl/5.27.8/Test/WWW/Mechanize.pm line 160
	Test::WWW::Mechanize::get_ok(Test::WWW::Mechanize::PSGI=HASH(0x308ec68), "/") called at t/03_mech.t line 74
Secret string too short at /tmpfs/.cpan-build-cpansand/2018012121/HTTP-Session2-1.09-0/blib/lib/HTTP/Session2/Base.pm line 79.
	HTTP::Session2::Base::__ANON__(HTTP::Session2::ClientStore=HASH(0x314e218), "s3cret") called at t/03_mech.t line 127
	main::client_session(HASH(0x314d7b0)) called at t/03_mech.t line 17
	main::__ANON__(HASH(0x314d7b0)) called at /opt/perl-5.27.8/lib/site_perl/5.27.8/Test/WWW/Mechanize/PSGI.pm line 43
	Test::WWW::Mechanize::PSGI::try {...} () called at /opt/perl-5.27.8/lib/site_perl/5.27.8/Try/Tiny.pm line 102
	eval {...} called at /opt/perl-5.27.8/lib/site_perl/5.27.8/Try/Tiny.pm line 93
	Try::Tiny::try(CODE(0x31435c8), Try::Tiny::Catch=REF(0x314d738)) called at /opt/perl-5.27.8/lib/site_perl/5.27.8/Test/WWW/Mechanize/PSGI.pm line 50
	Test::WWW::Mechanize::PSGI::simple_request(Test::WWW::Mechanize::PSGI=HASH(0x308ec68), HTTP::Request=HASH(0x3156ce8), undef, undef) called at /opt/perl-5.27.8/lib/site_perl/5.27.8/LWP/UserAgent.pm line 297
	LWP::UserAgent::request(Test::WWW::Mechanize::PSGI=HASH(0x308ec68), HTTP::Request=HASH(0x3156ce8)) called at /opt/perl-5.27.8/lib/site_perl/5.27.8/WWW/Mechanize.pm line 1413
	WWW::Mechanize::_make_request(Test::WWW::Mechanize::PSGI=HASH(0x308ec68), HTTP::Request=HASH(0x3156ce8)) called at /opt/perl-5.27.8/lib/site_perl/5.27.8/WWW/Mechanize.pm line 1253
	WWW::Mechanize::request(Test::WWW::Mechanize::PSGI=HASH(0x308ec68), HTTP::Request=HASH(0x3156ce8)) called at /opt/perl-5.27.8/lib/site_perl/5.27.8/LWP/UserAgent.pm line 478
	LWP::UserAgent::post(Test::WWW::Mechanize::PSGI=HASH(0x308ec68), "/wishlist?foo", HASH(0x2be6ac8)) called at /opt/perl-5.27.8/lib/site_perl/5.27.8/Test/WWW/Mechanize.pm line 237
	Test::WWW::Mechanize::post_ok(Test::WWW::Mechanize::PSGI=HASH(0x308ec68), "/wishlist?foo") called at t/03_mech.t line 75
Do not use HTTP::Session2::ClientStore. Use HTTP::Session2::ServerStore or HTTP::Session2::ClientStore2 instead. at /tmpfs/.cpan-build-cpansand/2018012121/HTTP-Session2-1.09-0/blib/lib/HTTP/Session2/ClientStore.pm line 25.
Secret string too short at /tmpfs/.cpan-build-cpansand/2018012121/HTTP-Session2-1.09-0/blib/lib/HTTP/Session2/Base.pm line 79.
	HTTP::Session2::Base::__ANON__(HTTP::Session2::ClientStore=HASH(0x3153328), "s3cret") called at t/03_mech.t line 127
	main::client_session(HASH(0x315b9d0)) called at t/03_mech.t line 17
	main::__ANON__(HASH(0x315b9d0)) called at /opt/perl-5.27.8/lib/site_perl/5.27.8/Test/WWW/Mechanize/PSGI.pm line 43
	Test::WWW::Mechanize::PSGI::try {...} () called at /opt/perl-5.27.8/lib/site_perl/5.27.8/Try/Tiny.pm line 102
	eval {...} called at /opt/perl-5.27.8/lib/site_perl/5.27.8/Try/Tiny.pm line 93
	Try::Tiny::try(CODE(0x314db70), Try::Tiny::Catch=REF(0x314e1e8)) called at /opt/perl-5.27.8/lib/site_perl/5.27.8/Test/WWW/Mechanize/PSGI.pm line 50
	Test::WWW::Mechanize::PSGI::simple_request(Test::WWW::Mechanize::PSGI=HASH(0x308ec68), HTTP::Request=HASH(0x31569b8), undef, undef) called at /opt/perl-5.27.8/lib/site_perl/5.27.8/LWP/UserAgent.pm line 297
	LWP::UserAgent::request(Test::WWW::Mechanize::PSGI=HASH(0x308ec68), HTTP::Request=HASH(0x31569b8)) called at /opt/perl-5.27.8/lib/site_perl/5.27.8/WWW/Mechanize.pm line 1413
	WWW::Mechanize::_make_request(Test::WWW::Mechanize::PSGI=HASH(0x308ec68), HTTP::Request=HASH(0x31569b8)) called at /opt/perl-5.27.8/lib/site_perl/5.27.8/WWW/Mechanize.pm line 1253
	WWW::Mechanize::request(Test::WWW::Mechanize::PSGI=HASH(0x308ec68), HTTP::Request=HASH(0x31569b8)) called at /opt/perl-5.27.8/lib/site_perl/5.27.8/LWP/UserAgent.pm line 435
	LWP::UserAgent::get(Test::WWW::Mechanize::PSGI=HASH(0x308ec68), "http://localhost/wishlist") called at /opt/perl-5.27.8/lib/site_perl/5.27.8/WWW/Mechanize.pm line 117
	WWW::Mechanize::get(Test::WWW::Mechanize::PSGI=HASH(0x308ec68), "/wishlist") called at /opt/perl-5.27.8/lib/site_perl/5.27.8/Test/WWW/Mechanize.pm line 160
	Test::WWW::Mechanize::get_ok(Test::WWW::Mechanize::PSGI=HASH(0x308ec68), "/wishlist") called at t/03_mech.t line 76
Do not use HTTP::Session2::ClientStore. Use HTTP::Session2::ServerStore or HTTP::Session2::ClientStore2 instead. at /tmpfs/.cpan-build-cpansand/2018012121/HTTP-Session2-1.09-0/blib/lib/HTTP/Session2/ClientStore.pm line 35.
Secret string too short at /tmpfs/.cpan-build-cpansand/2018012121/HTTP-Session2-1.09-0/blib/lib/HTTP/Session2/Base.pm line 79.
	HTTP::Session2::Base::__ANON__(HTTP::Session2::ClientStore=HASH(0x31153e0), "s3cret") called at t/03_mech.t line 127
	main::client_session(HASH(0x3153760)) called at t/03_mech.t line 17
	main::__ANON__(HASH(0x3153760)) called at /opt/perl-5.27.8/lib/site_perl/5.27.8/Test/WWW/Mechanize/PSGI.pm line 43
	Test::WWW::Mechanize::PSGI::try {...} () called at /opt/perl-5.27.8/lib/site_perl/5.27.8/Try/Tiny.pm line 102
	eval {...} called at /opt/perl-5.27.8/lib/site_perl/5.27.8/Try/Tiny.pm line 93
	Try::Tiny::try(CODE(0x31538e0), Try::Tiny::Catch=REF(0x3153a18)) called at /opt/perl-5.27.8/lib/site_perl/5.27.8/Test/WWW/Mechanize/PSGI.pm line 50
	Test::WWW::Mechanize::PSGI::simple_request(Test::WWW::Mechanize::PSGI=HASH(0x308ec68), HTTP::Request=HASH(0x3143b50), undef, undef) called at /opt/perl-5.27.8/lib/site_perl/5.27.8/LWP/UserAgent.pm line 297
	LWP::UserAgent::request(Test::WWW::Mechanize::PSGI=HASH(0x308ec68), HTTP::Request=HASH(0x3143b50)) called at /opt/perl-5.27.8/lib/site_perl/5.27.8/WWW/Mechanize.pm line 1413
	WWW::Mechanize::_make_request(Test::WWW::Mechanize::PSGI=HASH(0x308ec68), HTTP::Request=HASH(0x3143b50)) called at /opt/perl-5.27.8/lib/site_perl/5.27.8/WWW/Mechanize.pm line 1253
	WWW::Mechanize::request(Test::WWW::Mechanize::PSGI=HASH(0x308ec68), HTTP::Request=HASH(0x3143b50)) called at /opt/perl-5.27.8/lib/site_perl/5.27.8/LWP/UserAgent.pm line 478
	LWP::UserAgent::post(Test::WWW::Mechanize::PSGI=HASH(0x308ec68), "/wishlist?bar") called at t/03_mech.t line 78
Do not use HTTP::Session2::ClientStore. Use HTTP::Session2::ServerStore or HTTP::Session2::ClientStore2 instead. at /tmpfs/.cpan-build-cpansand/2018012121/HTTP-Session2-1.09-0/blib/lib/HTTP/Session2/ClientStore.pm line 35.
Secret string too short at /tmpfs/.cpan-build-cpansand/2018012121/HTTP-Session2-1.09-0/blib/lib/HTTP/Session2/Base.pm line 79.
	HTTP::Session2::Base::__ANON__(HTTP::Session2::ClientStore=HASH(0x3156ec8), "s3cret") called at t/03_mech.t line 127
	main::client_session(HASH(0x314e638)) called at t/03_mech.t line 17
	main::__ANON__(HASH(0x314e638)) called at /opt/perl-5.27.8/lib/site_perl/5.27.8/Test/WWW/Mechanize/PSGI.pm line 43
	Test::WWW::Mechanize::PSGI::try {...} () called at /opt/perl-5.27.8/lib/site_perl/5.27.8/Try/Tiny.pm line 102
	eval {...} called at /opt/perl-5.27.8/lib/site_perl/5.27.8/Try/Tiny.pm line 93
	Try::Tiny::try(CODE(0x31537c0), Try::Tiny::Catch=REF(0x31533e8)) called at /opt/perl-5.27.8/lib/site_perl/5.27.8/Test/WWW/Mechanize/PSGI.pm line 50
	Test::WWW::Mechanize::PSGI::simple_request(Test::WWW::Mechanize::PSGI=HASH(0x308ec68), HTTP::Request=HASH(0x31440a8), undef, undef) called at /opt/perl-5.27.8/lib/site_perl/5.27.8/LWP/UserAgent.pm line 297
	LWP::UserAgent::request(Test::WWW::Mechanize::PSGI=HASH(0x308ec68), HTTP::Request=HASH(0x31440a8)) called at /opt/perl-5.27.8/lib/site_perl/5.27.8/WWW/Mechanize.pm line 1413
	WWW::Mechanize::_make_request(Test::WWW::Mechanize::PSGI=HASH(0x308ec68), HTTP::Request=HASH(0x31440a8)) called at /opt/perl-5.27.8/lib/site_perl/5.27.8/WWW/Mechanize.pm line 1253
	WWW::Mechanize::request(Test::WWW::Mechanize::PSGI=HASH(0x308ec68), HTTP::Request=HASH(0x31440a8)) called at /opt/perl-5.27.8/lib/site_perl/5.27.8/LWP/UserAgent.pm line 478
	LWP::UserAgent::post(Test::WWW::Mechanize::PSGI=HASH(0x308ec68), "/wishlist?bar", HASH(0x2be6ac8)) called at /opt/perl-5.27.8/lib/site_perl/5.27.8/Test/WWW/Mechanize.pm line 237
	Test::WWW::Mechanize::post_ok(Test::WWW::Mechanize::PSGI=HASH(0x308ec68), "/wishlist?bar") called at t/03_mech.t line 81
Do not use HTTP::Session2::ClientStore. Use HTTP::Session2::ServerStore or HTTP::Session2::ClientStore2 instead. at /tmpfs/.cpan-build-cpansand/2018012121/HTTP-Session2-1.09-0/blib/lib/HTTP/Session2/ClientStore.pm line 35.
Do not use HTTP::Session2::ClientStore. Use HTTP::Session2::ServerStore or HTTP::Session2::ClientStore2 instead. at /tmpfs/.cpan-build-cpansand/2018012121/HTTP-Session2-1.09-0/blib/lib/HTTP/Session2/ClientStore.pm line 25.
Secret string too short at /tmpfs/.cpan-build-cpansand/2018012121/HTTP-Session2-1.09-0/blib/lib/HTTP/Session2/Base.pm line 79.
	HTTP::Session2::Base::__ANON__(HTTP::Session2::ClientStore=HASH(0x3144258), "s3cret") called at t/03_mech.t line 127
	main::client_session(HASH(0x314e470)) called at t/03_mech.t line 17
	main::__ANON__(HASH(0x314e470)) called at /opt/perl-5.27.8/lib/site_perl/5.27.8/Test/WWW/Mechanize/PSGI.pm line 43
	Test::WWW::Mechanize::PSGI::try {...} () called at /opt/perl-5.27.8/lib/site_perl/5.27.8/Try/Tiny.pm line 102
	eval {...} called at /opt/perl-5.27.8/lib/site_perl/5.27.8/Try/Tiny.pm line 93
	Try::Tiny::try(CODE(0x31540c0), Try::Tiny::Catch=REF(0x31536a0)) called at /opt/perl-5.27.8/lib/site_perl/5.27.8/Test/WWW/Mechanize/PSGI.pm line 50
	Test::WWW::Mechanize::PSGI::simple_request(Test::WWW::Mechanize::PSGI=HASH(0x308ec68), HTTP::Request=HASH(0x3153f40), undef, undef) called at /opt/perl-5.27.8/lib/site_perl/5.27.8/LWP/UserAgent.pm line 297
	LWP::UserAgent::request(Test::WWW::Mechanize::PSGI=HASH(0x308ec68), HTTP::Request=HASH(0x3153f40)) called at /opt/perl-5.27.8/lib/site_perl/5.27.8/WWW/Mechanize.pm line 1413
	WWW::Mechanize::_make_request(Test::WWW::Mechanize::PSGI=HASH(0x308ec68), HTTP::Request=HASH(0x3153f40)) called at /opt/perl-5.27.8/lib/site_perl/5.27.8/WWW/Mechanize.pm line 1253
	WWW::Mechanize::request(Test::WWW::Mechanize::PSGI=HASH(0x308ec68), HTTP::Request=HASH(0x3153f40)) called at /opt/perl-5.27.8/lib/site_perl/5.27.8/LWP/UserAgent.pm line 435
	LWP::UserAgent::get(Test::WWW::Mechanize::PSGI=HASH(0x308ec68), "http://localhost/wishlist") called at /opt/perl-5.27.8/lib/site_perl/5.27.8/WWW/Mechanize.pm line 117
	WWW::Mechanize::get(Test::WWW::Mechanize::PSGI=HASH(0x308ec68), "/wishlist") called at /opt/perl-5.27.8/lib/site_perl/5.27.8/Test/WWW/Mechanize.pm line 160
	Test::WWW::Mechanize::get_ok(Test::WWW::Mechanize::PSGI=HASH(0x308ec68), "/wishlist") called at t/03_mech.t line 82
Do not use HTTP::Session2::ClientStore. Use HTTP::Session2::ServerStore or HTTP::Session2::ClientStore2 instead. at /tmpfs/.cpan-build-cpansand/2018012121/HTTP-Session2-1.09-0/blib/lib/HTTP/Session2/ClientStore.pm line 35.
Secret string too short at /tmpfs/.cpan-build-cpansand/2018012121/HTTP-Session2-1.09-0/blib/lib/HTTP/Session2/Base.pm line 79.
	HTTP::Session2::Base::__ANON__(HTTP::Session2::ClientStore=HASH(0x3153e38), "s3cret") called at t/03_mech.t line 127
	main::client_session(HASH(0x31540d8)) called at t/03_mech.t line 17
	main::__ANON__(HASH(0x31540d8)) called at /opt/perl-5.27.8/lib/site_perl/5.27.8/Test/WWW/Mechanize/PSGI.pm line 43
	Test::WWW::Mechanize::PSGI::try {...} () called at /opt/perl-5.27.8/lib/site_perl/5.27.8/Try/Tiny.pm line 102
	eval {...} called at /opt/perl-5.27.8/lib/site_perl/5.27.8/Try/Tiny.pm line 93
	Try::Tiny::try(CODE(0x2ff1700), Try::Tiny::Catch=REF(0x31536d0)) called at /opt/perl-5.27.8/lib/site_perl/5.27.8/Test/WWW/Mechanize/PSGI.pm line 50
	Test::WWW::Mechanize::PSGI::simple_request(Test::WWW::Mechanize::PSGI=HASH(0x308ec68), HTTP::Request=HASH(0x3156b80), undef, undef) called at /opt/perl-5.27.8/lib/site_perl/5.27.8/LWP/UserAgent.pm line 297
	LWP::UserAgent::request(Test::WWW::Mechanize::PSGI=HASH(0x308ec68), HTTP::Request=HASH(0x3156b80)) called at /opt/perl-5.27.8/lib/site_perl/5.27.8/WWW/Mechanize.pm line 1413
	WWW::Mechanize::_make_request(Test::WWW::Mechanize::PSGI=HASH(0x308ec68), HTTP::Request=HASH(0x3156b80)) called at /opt/perl-5.27.8/lib/site_perl/5.27.8/WWW/Mechanize.pm line 1253
	WWW::Mechanize::request(Test::WWW::Mechanize::PSGI=HASH(0x308ec68), HTTP::Request=HASH(0x3156b80)) called at /opt/perl-5.27.8/lib/site_perl/5.27.8/LWP/UserAgent.pm line 478
	LWP::UserAgent::post(Test::WWW::Mechanize::PSGI=HASH(0x308ec68), "/account/login?john", HASH(0x2be6ac8)) called at /opt/perl-5.27.8/lib/site_perl/5.27.8/Test/WWW/Mechanize.pm line 237
	Test::WWW::Mechanize::post_ok(Test::WWW::Mechanize::PSGI=HASH(0x308ec68), "/account/login?john") called at t/03_mech.t line 84
Do not use HTTP::Session2::ClientStore. Use HTTP::Session2::ServerStore or HTTP::Session2::ClientStore2 instead. at /tmpfs/.cpan-build-cpansand/2018012121/HTTP-Session2-1.09-0/blib/lib/HTTP/Session2/ClientStore.pm line 35.
Do not use HTTP::Session2::ClientStore. Use HTTP::Session2::ServerStore or HTTP::Session2::ClientStore2 instead. at /tmpfs/.cpan-build-cpansand/2018012121/HTTP-Session2-1.09-0/blib/lib/HTTP/Session2/ClientStore.pm line 35.
Do not use HTTP::Session2::ClientStore. Use HTTP::Session2::ServerStore or HTTP::Session2::ClientStore2 instead. at /tmpfs/.cpan-build-cpansand/2018012121/HTTP-Session2-1.09-0/blib/lib/HTTP/Session2/ClientStore.pm line 25.
Secret string too short at /tmpfs/.cpan-build-cpansand/2018012121/HTTP-Session2-1.09-0/blib/lib/HTTP/Session2/Base.pm line 79.
	HTTP::Session2::Base::__ANON__(HTTP::Session2::ClientStore=HASH(0x306d298), "s3cret") called at t/03_mech.t line 127
	main::client_session(HASH(0x3156a60)) called at t/03_mech.t line 17
	main::__ANON__(HASH(0x3156a60)) called at /opt/perl-5.27.8/lib/site_perl/5.27.8/Test/WWW/Mechanize/PSGI.pm line 43
	Test::WWW::Mechanize::PSGI::try {...} () called at /opt/perl-5.27.8/lib/site_perl/5.27.8/Try/Tiny.pm line 102
	eval {...} called at /opt/perl-5.27.8/lib/site_perl/5.27.8/Try/Tiny.pm line 93
	Try::Tiny::try(CODE(0x31539e8), Try::Tiny::Catch=REF(0x3157150)) called at /opt/perl-5.27.8/lib/site_perl/5.27.8/Test/WWW/Mechanize/PSGI.pm line 50
	Test::WWW::Mechanize::PSGI::simple_request(Test::WWW::Mechanize::PSGI=HASH(0x308ec68), HTTP::Request=HASH(0x31532f8), undef, undef) called at /opt/perl-5.27.8/lib/site_perl/5.27.8/LWP/UserAgent.pm line 297
	LWP::UserAgent::request(Test::WWW::Mechanize::PSGI=HASH(0x308ec68), HTTP::Request=HASH(0x31532f8)) called at /opt/perl-5.27.8/lib/site_perl/5.27.8/WWW/Mechanize.pm line 1413
	WWW::Mechanize::_make_request(Test::WWW::Mechanize::PSGI=HASH(0x308ec68), HTTP::Request=HASH(0x31532f8)) called at /opt/perl-5.27.8/lib/site_perl/5.27.8/WWW/Mechanize.pm line 1253
	WWW::Mechanize::request(Test::WWW::Mechanize::PSGI=HASH(0x308ec68), HTTP::Request=HASH(0x31532f8)) called at /opt/perl-5.27.8/lib/site_perl/5.27.8/LWP/UserAgent.pm line 435
	LWP::UserAgent::get(Test::WWW::Mechanize::PSGI=HASH(0x308ec68), "http://localhost/wishlist") called at /opt/perl-5.27.8/lib/site_perl/5.27.8/WWW/Mechanize.pm line 117
	WWW::Mechanize::get(Test::WWW::Mechanize::PSGI=HASH(0x308ec68), "/wishlist") called at /opt/perl-5.27.8/lib/site_perl/5.27.8/Test/WWW/Mechanize.pm line 160
	Test::WWW::Mechanize::get_ok(Test::WWW::Mechanize::PSGI=HASH(0x308ec68), "/wishlist", "Wishlist is still available") called at t/03_mech.t line 85
Do not use HTTP::Session2::ClientStore. Use HTTP::Session2::ServerStore or HTTP::Session2::ClientStore2 instead. at /tmpfs/.cpan-build-cpansand/2018012121/HTTP-Session2-1.09-0/blib/lib/HTTP/Session2/ClientStore.pm line 35.
Secret string too short at /tmpfs/.cpan-build-cpansand/2018012121/HTTP-Session2-1.09-0/blib/lib/HTTP/Session2/Base.pm line 79.
	HTTP::Session2::Base::__ANON__(HTTP::Session2::ClientStore=HASH(0x30b2838), "s3cret") called at t/03_mech.t line 127
	main::client_session(HASH(0x2fded40)) called at t/03_mech.t line 17
	main::__ANON__(HASH(0x2fded40)) called at /opt/perl-5.27.8/lib/site_perl/5.27.8/Test/WWW/Mechanize/PSGI.pm line 43
	Test::WWW::Mechanize::PSGI::try {...} () called at /opt/perl-5.27.8/lib/site_perl/5.27.8/Try/Tiny.pm line 102
	eval {...} called at /opt/perl-5.27.8/lib/site_perl/5.27.8/Try/Tiny.pm line 93
	Try::Tiny::try(CODE(0x31436a0), Try::Tiny::Catch=REF(0x2fde9f8)) called at /opt/perl-5.27.8/lib/site_perl/5.27.8/Test/WWW/Mechanize/PSGI.pm line 50
	Test::WWW::Mechanize::PSGI::simple_request(Test::WWW::Mechanize::PSGI=HASH(0x308ec68), HTTP::Request=HASH(0x3153f58), undef, undef) called at /opt/perl-5.27.8/lib/site_perl/5.27.8/LWP/UserAgent.pm line 297
	LWP::UserAgent::request(Test::WWW::Mechanize::PSGI=HASH(0x308ec68), HTTP::Request=HASH(0x3153f58)) called at /opt/perl-5.27.8/lib/site_perl/5.27.8/WWW/Mechanize.pm line 1413
	WWW::Mechanize::_make_request(Test::WWW::Mechanize::PSGI=HASH(0x308ec68), HTTP::Request=HASH(0x3153f58)) called at /opt/perl-5.27.8/lib/site_perl/5.27.8/WWW/Mechanize.pm line 1253
	WWW::Mechanize::request(Test::WWW::Mechanize::PSGI=HASH(0x308ec68), HTTP::Request=HASH(0x3153f58)) called at /opt/perl-5.27.8/lib/site_perl/5.27.8/LWP/UserAgent.pm line 478
	LWP::UserAgent::post(Test::WWW::Mechanize::PSGI=HASH(0x308ec68), "/wishlist?baz") called at t/03_mech.t line 87
Do not use HTTP::Session2::ClientStore. Use HTTP::Session2::ServerStore or HTTP::Session2::ClientStore2 instead. at /tmpfs/.cpan-build-cpansand/2018012121/HTTP-Session2-1.09-0/blib/lib/HTTP/Session2/ClientStore.pm line 35.
Secret string too short at /tmpfs/.cpan-build-cpansand/2018012121/HTTP-Session2-1.09-0/blib/lib/HTTP/Session2/Base.pm line 79.
	HTTP::Session2::Base::__ANON__(HTTP::Session2::ClientStore=HASH(0x300db40), "s3cret") called at t/03_mech.t line 127
	main::client_session(HASH(0x3156a18)) called at t/03_mech.t line 17
	main::__ANON__(HASH(0x3156a18)) called at /opt/perl-5.27.8/lib/site_perl/5.27.8/Test/WWW/Mechanize/PSGI.pm line 43
	Test::WWW::Mechanize::PSGI::try {...} () called at /opt/perl-5.27.8/lib/site_perl/5.27.8/Try/Tiny.pm line 102
	eval {...} called at /opt/perl-5.27.8/lib/site_perl/5.27.8/Try/Tiny.pm line 93
	Try::Tiny::try(CODE(0x315baf0), Try::Tiny::Catch=REF(0x3156e68)) called at /opt/perl-5.27.8/lib/site_perl/5.27.8/Test/WWW/Mechanize/PSGI.pm line 50
	Test::WWW::Mechanize::PSGI::simple_request(Test::WWW::Mechanize::PSGI=HASH(0x308ec68), HTTP::Request=HASH(0x2fdea40), undef, undef) called at /opt/perl-5.27.8/lib/site_perl/5.27.8/LWP/UserAgent.pm line 297
	LWP::UserAgent::request(Test::WWW::Mechanize::PSGI=HASH(0x308ec68), HTTP::Request=HASH(0x2fdea40)) called at /opt/perl-5.27.8/lib/site_perl/5.27.8/WWW/Mechanize.pm line 1413
	WWW::Mechanize::_make_request(Test::WWW::Mechanize::PSGI=HASH(0x308ec68), HTTP::Request=HASH(0x2fdea40)) called at /opt/perl-5.27.8/lib/site_perl/5.27.8/WWW/Mechanize.pm line 1253
	WWW::Mechanize::request(Test::WWW::Mechanize::PSGI=HASH(0x308ec68), HTTP::Request=HASH(0x2fdea40)) called at /opt/perl-5.27.8/lib/site_perl/5.27.8/LWP/UserAgent.pm line 478
	LWP::UserAgent::post(Test::WWW::Mechanize::PSGI=HASH(0x308ec68), "/wishlist?baz", HASH(0x2be6ac8)) called at /opt/perl-5.27.8/lib/site_perl/5.27.8/Test/WWW/Mechanize.pm line 237
	Test::WWW::Mechanize::post_ok(Test::WWW::Mechanize::PSGI=HASH(0x308ec68), "/wishlist?baz") called at t/03_mech.t line 90
Do not use HTTP::Session2::ClientStore. Use HTTP::Session2::ServerStore or HTTP::Session2::ClientStore2 instead. at /tmpfs/.cpan-build-cpansand/2018012121/HTTP-Session2-1.09-0/blib/lib/HTTP/Session2/ClientStore.pm line 35.
Do not use HTTP::Session2::ClientStore. Use HTTP::Session2::ServerStore or HTTP::Session2::ClientStore2 instead. at /tmpfs/.cpan-build-cpansand/2018012121/HTTP-Session2-1.09-0/blib/lib/HTTP/Session2/ClientStore.pm line 25.
Secret string too short at /tmpfs/.cpan-build-cpansand/2018012121/HTTP-Session2-1.09-0/blib/lib/HTTP/Session2/Base.pm line 79.
	HTTP::Session2::Base::__ANON__(HTTP::Session2::ClientStore=HASH(0x315b940), "s3cret") called at t/03_mech.t line 127
	main::client_session(HASH(0x308e9f8)) called at t/03_mech.t line 17
	main::__ANON__(HASH(0x308e9f8)) called at /opt/perl-5.27.8/lib/site_perl/5.27.8/Test/WWW/Mechanize/PSGI.pm line 43
	Test::WWW::Mechanize::PSGI::try {...} () called at /opt/perl-5.27.8/lib/site_perl/5.27.8/Try/Tiny.pm line 102
	eval {...} called at /opt/perl-5.27.8/lib/site_perl/5.27.8/Try/Tiny.pm line 93
	Try::Tiny::try(CODE(0x3156ef8), Try::Tiny::Catch=REF(0x3143ee0)) called at /opt/perl-5.27.8/lib/site_perl/5.27.8/Test/WWW/Mechanize/PSGI.pm line 50
	Test::WWW::Mechanize::PSGI::simple_request(Test::WWW::Mechanize::PSGI=HASH(0x308ec68), HTTP::Request=HASH(0x31433b8), undef, undef) called at /opt/perl-5.27.8/lib/site_perl/5.27.8/LWP/UserAgent.pm line 297
	LWP::UserAgent::request(Test::WWW::Mechanize::PSGI=HASH(0x308ec68), HTTP::Request=HASH(0x31433b8)) called at /opt/perl-5.27.8/lib/site_perl/5.27.8/WWW/Mechanize.pm line 1413
	WWW::Mechanize::_make_request(Test::WWW::Mechanize::PSGI=HASH(0x308ec68), HTTP::Request=HASH(0x31433b8)) called at /opt/perl-5.27.8/lib/site_perl/5.27.8/WWW/Mechanize.pm line 1253
	WWW::Mechanize::request(Test::WWW::Mechanize::PSGI=HASH(0x308ec68), HTTP::Request=HASH(0x31433b8)) called at /opt/perl-5.27.8/lib/site_perl/5.27.8/LWP/UserAgent.pm line 435
	LWP::UserAgent::get(Test::WWW::Mechanize::PSGI=HASH(0x308ec68), "http://localhost/wishlist") called at /opt/perl-5.27.8/lib/site_perl/5.27.8/WWW/Mechanize.pm line 117
	WWW::Mechanize::get(Test::WWW::Mechanize::PSGI=HASH(0x308ec68), "/wishlist") called at /opt/perl-5.27.8/lib/site_perl/5.27.8/Test/WWW/Mechanize.pm line 160
	Test::WWW::Mechanize::get_ok(Test::WWW::Mechanize::PSGI=HASH(0x308ec68), "/wishlist", "Wishlist is still available") called at t/03_mech.t line 91
Do not use HTTP::Session2::ClientStore. Use HTTP::Session2::ServerStore or HTTP::Session2::ClientStore2 instead. at /tmpfs/.cpan-build-cpansand/2018012121/HTTP-Session2-1.09-0/blib/lib/HTTP/Session2/ClientStore.pm line 35.
Secret string too short at /tmpfs/.cpan-build-cpansand/2018012121/HTTP-Session2-1.09-0/blib/lib/HTTP/Session2/Base.pm line 79.
	HTTP::Session2::Base::__ANON__(HTTP::Session2::ClientStore=HASH(0x315c240), "s3cret") called at t/03_mech.t line 127
	main::client_session(HASH(0x3153d78)) called at t/03_mech.t line 17
	main::__ANON__(HASH(0x3153d78)) called at /opt/perl-5.27.8/lib/site_perl/5.27.8/Test/WWW/Mechanize/PSGI.pm line 43
	Test::WWW::Mechanize::PSGI::try {...} () called at /opt/perl-5.27.8/lib/site_perl/5.27.8/Try/Tiny.pm line 102
	eval {...} called at /opt/perl-5.27.8/lib/site_perl/5.27.8/Try/Tiny.pm line 93
	Try::Tiny::try(CODE(0x3157180), Try::Tiny::Catch=REF(0x3153748)) called at /opt/perl-5.27.8/lib/site_perl/5.27.8/Test/WWW/Mechanize/PSGI.pm line 50
	Test::WWW::Mechanize::PSGI::simple_request(Test::WWW::Mechanize::PSGI=HASH(0x308ec68), HTTP::Request=HASH(0x31569e8), undef, undef) called at /opt/perl-5.27.8/lib/site_perl/5.27.8/LWP/UserAgent.pm line 297
	LWP::UserAgent::request(Test::WWW::Mechanize::PSGI=HASH(0x308ec68), HTTP::Request=HASH(0x31569e8)) called at /opt/perl-5.27.8/lib/site_perl/5.27.8/WWW/Mechanize.pm line 1413
	WWW::Mechanize::_make_request(Test::WWW::Mechanize::PSGI=HASH(0x308ec68), HTTP::Request=HASH(0x31569e8)) called at /opt/perl-5.27.8/lib/site_perl/5.27.8/WWW/Mechanize.pm line 1253
	WWW::Mechanize::request(Test::WWW::Mechanize::PSGI=HASH(0x308ec68), HTTP::Request=HASH(0x31569e8)) called at /opt/perl-5.27.8/lib/site_perl/5.27.8/LWP/UserAgent.pm line 435
	LWP::UserAgent::get(Test::WWW::Mechanize::PSGI=HASH(0x308ec68), "http://localhost/my/name") called at /opt/perl-5.27.8/lib/site_perl/5.27.8/WWW/Mechanize.pm line 117
	WWW::Mechanize::get(Test::WWW::Mechanize::PSGI=HASH(0x308ec68), "/my/name") called at /opt/perl-5.27.8/lib/site_perl/5.27.8/Test/WWW/Mechanize.pm line 160
	Test::WWW::Mechanize::get_ok(Test::WWW::Mechanize::PSGI=HASH(0x308ec68), "/my/name") called at t/03_mech.t line 93
Do not use HTTP::Session2::ClientStore. Use HTTP::Session2::ServerStore or HTTP::Session2::ClientStore2 instead. at /tmpfs/.cpan-build-cpansand/2018012121/HTTP-Session2-1.09-0/blib/lib/HTTP/Session2/ClientStore.pm line 35.
Secret string too short at /tmpfs/.cpan-build-cpansand/2018012121/HTTP-Session2-1.09-0/blib/lib/HTTP/Session2/Base.pm line 79.
	HTTP::Session2::Base::__ANON__(HTTP::Session2::ClientStore=HASH(0x315c5b8), "s3cret") called at t/03_mech.t line 127
	main::client_session(HASH(0x3157438)) called at t/03_mech.t line 17
	main::__ANON__(HASH(0x3157438)) called at /opt/perl-5.27.8/lib/site_perl/5.27.8/Test/WWW/Mechanize/PSGI.pm line 43
	Test::WWW::Mechanize::PSGI::try {...} () called at /opt/perl-5.27.8/lib/site_perl/5.27.8/Try/Tiny.pm line 102
	eval {...} called at /opt/perl-5.27.8/lib/site_perl/5.27.8/Try/Tiny.pm line 93
	Try::Tiny::try(CODE(0x315c8a0), Try::Tiny::Catch=REF(0x315bc88)) called at /opt/perl-5.27.8/lib/site_perl/5.27.8/Test/WWW/Mechanize/PSGI.pm line 50
	Test::WWW::Mechanize::PSGI::simple_request(Test::WWW::Mechanize::PSGI=HASH(0x308ec68), HTTP::Request=HASH(0x26b4b30), undef, undef) called at /opt/perl-5.27.8/lib/site_perl/5.27.8/LWP/UserAgent.pm line 297
	LWP::UserAgent::request(Test::WWW::Mechanize::PSGI=HASH(0x308ec68), HTTP::Request=HASH(0x26b4b30)) called at /opt/perl-5.27.8/lib/site_perl/5.27.8/WWW/Mechanize.pm line 1413
	WWW::Mechanize::_make_request(Test::WWW::Mechanize::PSGI=HASH(0x308ec68), HTTP::Request=HASH(0x26b4b30)) called at /opt/perl-5.27.8/lib/site_perl/5.27.8/WWW/Mechanize.pm line 1253
	WWW::Mechanize::request(Test::WWW::Mechanize::PSGI=HASH(0x308ec68), HTTP::Request=HASH(0x26b4b30)) called at /opt/perl-5.27.8/lib/site_perl/5.27.8/LWP/UserAgent.pm line 478
	LWP::UserAgent::post(Test::WWW::Mechanize::PSGI=HASH(0x308ec68), "/account/logout?john") called at t/03_mech.t line 97
Do not use HTTP::Session2::ClientStore. Use HTTP::Session2::ServerStore or HTTP::Session2::ClientStore2 instead. at /tmpfs/.cpan-build-cpansand/2018012121/HTTP-Session2-1.09-0/blib/lib/HTTP/Session2/ClientStore.pm line 35.
Do not use HTTP::Session2::ClientStore. Use HTTP::Session2::ServerStore or HTTP::Session2::ClientStore2 instead. at /tmpfs/.cpan-build-cpansand/2018012121/HTTP-Session2-1.09-0/blib/lib/HTTP/Session2/ClientStore.pm line 35.
t/03_mech.t ................. ok
Do not use HTTP::Session2::ClientStore. Use HTTP::Session2::ServerStore or HTTP::Session2::ClientStore2 instead. at /tmpfs/.cpan-build-cpansand/2018012121/HTTP-Session2-1.09-0/blib/lib/HTTP/Session2/ClientStore.pm line 25.
t/04_plack_response.t ....... ok
Secret string too short at /tmpfs/.cpan-build-cpansand/2018012121/HTTP-Session2-1.09-0/blib/lib/HTTP/Session2/Base.pm line 79.
	HTTP::Session2::Base::__ANON__(HTTP::Session2::ClientStore=HASH(0x19eb4e0), "s3cret") called at t/05_keep_me_signed_in.t line 20
Do not use HTTP::Session2::ClientStore. Use HTTP::Session2::ServerStore or HTTP::Session2::ClientStore2 instead. at /tmpfs/.cpan-build-cpansand/2018012121/HTTP-Session2-1.09-0/blib/lib/HTTP/Session2/ClientStore.pm line 25.
t/05_keep_me_signed_in.t .... ok
Secret string too short at /tmpfs/.cpan-build-cpansand/2018012121/HTTP-Session2-1.09-0/blib/lib/HTTP/Session2/Base.pm line 79.
	HTTP::Session2::Base::__ANON__(HTTP::Session2::Base=HASH(0x2b30b38), "i am secret") called at t/06_base_abstract.t line 7
t/06_base_abstract.t ........ ok
Secret string too short at /tmpfs/.cpan-build-cpansand/2018012121/HTTP-Session2-1.09-0/blib/lib/HTTP/Session2/Base.pm line 79.
	HTTP::Session2::Base::__ANON__(HTTP::Session2::ClientStore=HASH(0x1c61c78), "secret") called at t/07_client_store.t line 23
	main::__ANON__() called at /opt/perl-5.27.8/lib/site_perl/5.27.8/Test/Builder.pm line 337
	eval {...} called at /opt/perl-5.27.8/lib/site_perl/5.27.8/Test/Builder.pm line 337
	Test::Builder::subtest(Test::Builder=HASH(0xeaa150), "get/set/remove", CODE(0x17dfa00)) called at /opt/perl-5.27.8/lib/site_perl/5.27.8/Test/More.pm line 807
	Test::More::subtest("get/set/remove", CODE(0x17dfa00)) called at t/07_client_store.t line 31
Secret string too short at /tmpfs/.cpan-build-cpansand/2018012121/HTTP-Session2-1.09-0/blib/lib/HTTP/Session2/Base.pm line 79.
	HTTP::Session2::Base::__ANON__(HTTP::Session2::ClientStore=HASH(0x1c61990), "secret") called at t/07_client_store.t line 35
	main::__ANON__() called at /opt/perl-5.27.8/lib/site_perl/5.27.8/Test/Builder.pm line 337
	eval {...} called at /opt/perl-5.27.8/lib/site_perl/5.27.8/Test/Builder.pm line 337
	Test::Builder::subtest(Test::Builder=HASH(0xeaa150), "validate_token", CODE(0x1c38160)) called at /opt/perl-5.27.8/lib/site_perl/5.27.8/Test/More.pm line 807
	Test::More::subtest("validate_token", CODE(0x1c38160)) called at t/07_client_store.t line 71
Do not use HTTP::Session2::ClientStore. Use HTTP::Session2::ServerStore or HTTP::Session2::ClientStore2 instead. at /tmpfs/.cpan-build-cpansand/2018012121/HTTP-Session2-1.09-0/blib/lib/HTTP/Session2/ClientStore.pm line 25.
Secret string too short at /tmpfs/.cpan-build-cpansand/2018012121/HTTP-Session2-1.09-0/blib/lib/HTTP/Session2/Base.pm line 79.
	HTTP::Session2::Base::__ANON__(HTTP::Session2::ClientStore=HASH(0x1c74ef8), "secret") called at t/07_client_store.t line 51
	main::__ANON__() called at /opt/perl-5.27.8/lib/site_perl/5.27.8/Test/Builder.pm line 337
	eval {...} called at /opt/perl-5.27.8/lib/site_perl/5.27.8/Test/Builder.pm line 337
	Test::Builder::subtest(Test::Builder=HASH(0xeaa150), "bad", CODE(0x1c6f360)) called at /opt/perl-5.27.8/lib/site_perl/5.27.8/Test/More.pm line 807
	Test::More::subtest("bad", CODE(0x1c6f360)) called at t/07_client_store.t line 57
	main::__ANON__() called at /opt/perl-5.27.8/lib/site_perl/5.27.8/Test/Builder.pm line 337
	eval {...} called at /opt/perl-5.27.8/lib/site_perl/5.27.8/Test/Builder.pm line 337
	Test::Builder::subtest(Test::Builder=HASH(0xeaa150), "validate_token", CODE(0x1c38160)) called at /opt/perl-5.27.8/lib/site_perl/5.27.8/Test/More.pm line 807
	Test::More::subtest("validate_token", CODE(0x1c38160)) called at t/07_client_store.t line 71
Do not use HTTP::Session2::ClientStore. Use HTTP::Session2::ServerStore or HTTP::Session2::ClientStore2 instead. at /tmpfs/.cpan-build-cpansand/2018012121/HTTP-Session2-1.09-0/blib/lib/HTTP/Session2/ClientStore.pm line 35.
Secret string too short at /tmpfs/.cpan-build-cpansand/2018012121/HTTP-Session2-1.09-0/blib/lib/HTTP/Session2/Base.pm line 79.
	HTTP::Session2::Base::__ANON__(HTTP::Session2::ClientStore=HASH(0x1c78540), "secret") called at t/07_client_store.t line 65
	main::__ANON__() called at /opt/perl-5.27.8/lib/site_perl/5.27.8/Test/Builder.pm line 337
	eval {...} called at /opt/perl-5.27.8/lib/site_perl/5.27.8/Test/Builder.pm line 337
	Test::Builder::subtest(Test::Builder=HASH(0xeaa150), "good", CODE(0x1c6f360)) called at /opt/perl-5.27.8/lib/site_perl/5.27.8/Test/More.pm line 807
	Test::More::subtest("good", CODE(0x1c6f360)) called at t/07_client_store.t line 70
	main::__ANON__() called at /opt/perl-5.27.8/lib/site_perl/5.27.8/Test/Builder.pm line 337
	eval {...} called at /opt/perl-5.27.8/lib/site_perl/5.27.8/Test/Builder.pm line 337
	Test::Builder::subtest(Test::Builder=HASH(0xeaa150), "validate_token", CODE(0x1c38160)) called at /opt/perl-5.27.8/lib/site_perl/5.27.8/Test/More.pm line 807
	Test::More::subtest("validate_token", CODE(0x1c38160)) called at t/07_client_store.t line 71
Do not use HTTP::Session2::ClientStore. Use HTTP::Session2::ServerStore or HTTP::Session2::ClientStore2 instead. at /tmpfs/.cpan-build-cpansand/2018012121/HTTP-Session2-1.09-0/blib/lib/HTTP/Session2/ClientStore.pm line 35.
Secret string too short at /tmpfs/.cpan-build-cpansand/2018012121/HTTP-Session2-1.09-0/blib/lib/HTTP/Session2/Base.pm line 79.
	HTTP::Session2::Base::__ANON__(HTTP::Session2::ClientStore=HASH(0x1c6fa20), "secret") called at t/07_client_store.t line 76
	main::__ANON__() called at /opt/perl-5.27.8/lib/site_perl/5.27.8/Test/Builder.pm line 337
	eval {...} called at /opt/perl-5.27.8/lib/site_perl/5.27.8/Test/Builder.pm line 337
	Test::Builder::subtest(Test::Builder=HASH(0xeaa150), "ignore_old", CODE(0x1c55cd0)) called at /opt/perl-5.27.8/lib/site_perl/5.27.8/Test/More.pm line 807
	Test::More::subtest("ignore_old", CODE(0x1c55cd0)) called at t/07_client_store.t line 106
Do not use HTTP::Session2::ClientStore. Use HTTP::Session2::ServerStore or HTTP::Session2::ClientStore2 instead. at /tmpfs/.cpan-build-cpansand/2018012121/HTTP-Session2-1.09-0/blib/lib/HTTP/Session2/ClientStore.pm line 25.
Secret string too short at /tmpfs/.cpan-build-cpansand/2018012121/HTTP-Session2-1.09-0/blib/lib/HTTP/Session2/Base.pm line 79.
	HTTP::Session2::Base::__ANON__(HTTP::Session2::ClientStore=HASH(0x1c7f3e0), "secret") called at t/07_client_store.t line 87
	main::__ANON__() called at /opt/perl-5.27.8/lib/site_perl/5.27.8/Test/Builder.pm line 337
	eval {...} called at /opt/perl-5.27.8/lib/site_perl/5.27.8/Test/Builder.pm line 337
	Test::Builder::subtest(Test::Builder=HASH(0xeaa150), "ignore_old disabled", CODE(0x1c7c890)) called at /opt/perl-5.27.8/lib/site_perl/5.27.8/Test/More.pm line 807
	Test::More::subtest("ignore_old disabled", CODE(0x1c7c890)) called at t/07_client_store.t line 95
	main::__ANON__() called at /opt/perl-5.27.8/lib/site_perl/5.27.8/Test/Builder.pm line 337
	eval {...} called at /opt/perl-5.27.8/lib/site_perl/5.27.8/Test/Builder.pm line 337
	Test::Builder::subtest(Test::Builder=HASH(0xeaa150), "ignore_old", CODE(0x1c55cd0)) called at /opt/perl-5.27.8/lib/site_perl/5.27.8/Test/More.pm line 807
	Test::More::subtest("ignore_old", CODE(0x1c55cd0)) called at t/07_client_store.t line 106
Do not use HTTP::Session2::ClientStore. Use HTTP::Session2::ServerStore or HTTP::Session2::ClientStore2 instead. at /tmpfs/.cpan-build-cpansand/2018012121/HTTP-Session2-1.09-0/blib/lib/HTTP/Session2/ClientStore.pm line 35.
Secret string too short at /tmpfs/.cpan-build-cpansand/2018012121/HTTP-Session2-1.09-0/blib/lib/HTTP/Session2/Base.pm line 79.
	HTTP::Session2::Base::__ANON__(HTTP::Session2::ClientStore=HASH(0x1c83468), "secret") called at t/07_client_store.t line 97
	main::__ANON__() called at /opt/perl-5.27.8/lib/site_perl/5.27.8/Test/Builder.pm line 337
	eval {...} called at /opt/perl-5.27.8/lib/site_perl/5.27.8/Test/Builder.pm line 337
	Test::Builder::subtest(Test::Builder=HASH(0xeaa150), "ignore_old enabled", CODE(0x1c7c890)) called at /opt/perl-5.27.8/lib/site_perl/5.27.8/Test/More.pm line 807
	Test::More::subtest("ignore_old enabled", CODE(0x1c7c890)) called at t/07_client_store.t line 105
	main::__ANON__() called at /opt/perl-5.27.8/lib/site_perl/5.27.8/Test/Builder.pm line 337
	eval {...} called at /opt/perl-5.27.8/lib/site_perl/5.27.8/Test/Builder.pm line 337
	Test::Builder::subtest(Test::Builder=HASH(0xeaa150), "ignore_old", CODE(0x1c55cd0)) called at /opt/perl-5.27.8/lib/site_perl/5.27.8/Test/More.pm line 807
	Test::More::subtest("ignore_old", CODE(0x1c55cd0)) called at t/07_client_store.t line 106
t/07_client_store.t ......... ok
Secret string too short at /tmpfs/.cpan-build-cpansand/2018012121/HTTP-Session2-1.09-0/blib/lib/HTTP/Session2/Base.pm line 79.
	HTTP::Session2::Base::__ANON__(HTTP::Session2::Expired=HASH(0x23c84d0), 33333) called at t/08_expired.t line 7
t/08_expired.t .............. ok
# /dev/urandom available
# /dev/urandom(1): Gna10kW6gcWVDGBhPQzkQgOqiEq_i6Q
# /dev/urandom(2): HHT8aKqB4cc3ppF1sJ0B9ArFbAi6Ruv
# perl:            643f86b5fb60bdc6d52239b2aac9963
t/09_random.t ............... ok
t/11_secret_string.t ........ ok
Secret string too short at /tmpfs/.cpan-build-cpansand/2018012121/HTTP-Session2-1.09-0/blib/lib/HTTP/Session2/Base.pm line 79.
	HTTP::Session2::Base::__ANON__(HTTP::Session2::ClientStore2=HASH(0x308c198), "s3cret") called at t/client_store2/01_basic.t line 24
	main::__ANON__("client -> server: request without cookie", CODE(0x308bf88)) called at t/client_store2/01_basic.t line 30
	main::__ANON__() called at /opt/perl-5.27.8/lib/site_perl/5.27.8/Test/Builder.pm line 337
	eval {...} called at /opt/perl-5.27.8/lib/site_perl/5.27.8/Test/Builder.pm line 337
	Test::Builder::subtest(Test::Builder=HASH(0x2697b80), "First request", CODE(0x2651190)) called at /opt/perl-5.27.8/lib/site_perl/5.27.8/Test/More.pm line 807
	Test::More::subtest("First request", CODE(0x2651190)) called at t/client_store2/01_basic.t line 9
	main::scenario("First request", CODE(0x2651190)) called at t/client_store2/01_basic.t line 36
Secret string too short at /tmpfs/.cpan-build-cpansand/2018012121/HTTP-Session2-1.09-0/blib/lib/HTTP/Session2/Base.pm line 79.
	HTTP::Session2::Base::__ANON__(HTTP::Session2::ClientStore2=HASH(0x309a158), "s3cret") called at t/client_store2/01_basic.t line 41
	main::__ANON__("client -> server: request without cookie", CODE(0x3099f90)) called at t/client_store2/01_basic.t line 47
	main::__ANON__() called at /opt/perl-5.27.8/lib/site_perl/5.27.8/Test/Builder.pm line 337
	eval {...} called at /opt/perl-5.27.8/lib/site_perl/5.27.8/Test/Builder.pm line 337
	Test::Builder::subtest(Test::Builder=HASH(0x2697b80), "Store something without login", CODE(0x2651190)) called at /opt/perl-5.27.8/lib/site_perl/5.27.8/Test/More.pm line 807
	Test::More::subtest("Store something without login", CODE(0x2651190)) called at t/client_store2/01_basic.t line 9
	main::scenario("Store something without login", CODE(0x2651190)) called at t/client_store2/01_basic.t line 63
Secret string too short at /tmpfs/.cpan-build-cpansand/2018012121/HTTP-Session2-1.09-0/blib/lib/HTTP/Session2/Base.pm line 79.
	HTTP::Session2::Base::__ANON__(HTTP::Session2::ClientStore2=HASH(0x30a9320), "s3cret") called at t/client_store2/01_basic.t line 69
	main::__ANON__("client -> server: request without cookie", CODE(0x30a2a98)) called at t/client_store2/01_basic.t line 76
	main::__ANON__() called at /opt/perl-5.27.8/lib/site_perl/5.27.8/Test/Builder.pm line 337
	eval {...} called at /opt/perl-5.27.8/lib/site_perl/5.27.8/Test/Builder.pm line 337
	Test::Builder::subtest(Test::Builder=HASH(0x2697b80), "Login", CODE(0x2651190)) called at /opt/perl-5.27.8/lib/site_perl/5.27.8/Test/More.pm line 807
	Test::More::subtest("Login", CODE(0x2651190)) called at t/client_store2/01_basic.t line 9
	main::scenario("Login", CODE(0x2651190)) called at t/client_store2/01_basic.t line 96
Ciphertext does not begin with a valid header for 'salt' header mode at /tmpfs/.cpan-build-cpansand/2018012121/HTTP-Session2-1.09-0/blib/lib/HTTP/Session2/ClientStore2.pm line 81.
Ciphertext does not begin with a valid header for 'salt' header mode at /tmpfs/.cpan-build-cpansand/2018012121/HTTP-Session2-1.09-0/blib/lib/HTTP/Session2/ClientStore2.pm line 81.
Secret string too short at /tmpfs/.cpan-build-cpansand/2018012121/HTTP-Session2-1.09-0/blib/lib/HTTP/Session2/Base.pm line 79.
	HTTP::Session2::Base::__ANON__(HTTP::Session2::ClientStore2=HASH(0x30b0038), "s3cret") called at t/client_store2/01_basic.t line 102
	main::__ANON__("client -> server: request without cookie", CODE(0x30ac5d8)) called at t/client_store2/01_basic.t line 109
	main::__ANON__() called at /opt/perl-5.27.8/lib/site_perl/5.27.8/Test/Builder.pm line 337
	eval {...} called at /opt/perl-5.27.8/lib/site_perl/5.27.8/Test/Builder.pm line 337
	Test::Builder::subtest(Test::Builder=HASH(0x2697b80), "In a login session", CODE(0x2651190)) called at /opt/perl-5.27.8/lib/site_perl/5.27.8/Test/More.pm line 807
	Test::More::subtest("In a login session", CODE(0x2651190)) called at t/client_store2/01_basic.t line 9
	main::scenario("In a login session", CODE(0x2651190)) called at t/client_store2/01_basic.t line 118
Ciphertext does not begin with a valid header for 'salt' header mode at /tmpfs/.cpan-build-cpansand/2018012121/HTTP-Session2-1.09-0/blib/lib/HTTP/Session2/ClientStore2.pm line 81.
Secret string too short at /tmpfs/.cpan-build-cpansand/2018012121/HTTP-Session2-1.09-0/blib/lib/HTTP/Session2/Base.pm line 79.
	HTTP::Session2::Base::__ANON__(HTTP::Session2::ClientStore2=HASH(0x30b1c08), "s3cret") called at t/client_store2/01_basic.t line 123
	main::__ANON__("client -> server: request without cookie", CODE(0x30b06b0)) called at t/client_store2/01_basic.t line 130
	main::__ANON__() called at /opt/perl-5.27.8/lib/site_perl/5.27.8/Test/Builder.pm line 337
	eval {...} called at /opt/perl-5.27.8/lib/site_perl/5.27.8/Test/Builder.pm line 337
	Test::Builder::subtest(Test::Builder=HASH(0x2697b80), "Logout", CODE(0x2651190)) called at /opt/perl-5.27.8/lib/site_perl/5.27.8/Test/More.pm line 807
	Test::More::subtest("Logout", CODE(0x2651190)) called at t/client_store2/01_basic.t line 9
	main::scenario("Logout", CODE(0x2651190)) called at t/client_store2/01_basic.t line 143
Ciphertext does not begin with a valid header for 'salt' header mode at /tmpfs/.cpan-build-cpansand/2018012121/HTTP-Session2-1.09-0/blib/lib/HTTP/Session2/ClientStore2.pm line 81.
t/client_store2/01_basic.t .. ok
t/client_store2/02_mech.t ... ok
t/client_store2/03_colon.t .. ok
All tests successful.
Files=14, Tests=83,  7 wallclock secs ( 0.05 usr  0.07 sys +  1.24 cusr  0.21 csys =  1.57 CPU)
Result: PASS

------------------------------
PREREQUISITES
------------------------------

Prerequisite modules loaded:

requires:

    Module                     Need     Have    
    -------------------------- -------- --------
    Cookie::Baker              0        0.08    
    Crypt::CBC                 0        2.33    
    Data::MessagePack          0        1.00    
    Digest::HMAC               0        1.03    
    Digest::SHA                0        6.01    
    Digest::SHA1               0        2.13    
    MIME::Base64               3.11     3.15    
    Mouse                      0        v2.5.1  
    parent                     0        0.236   
    perl                       5.008005 5.027008
    Time::HiRes                0        1.9753  

build_requires:

    Module                     Need     Have    
    -------------------------- -------- --------
    Crypt::Rijndael            0        1.13    
    Plack::Request             0        1.0045  
    Plack::Response            0        1.0045  
    Test::More                 0.98     1.302120
    Test::WWW::Mechanize::PSGI 0        0.38    

configure_requires:

    Module                     Need     Have    
    -------------------------- -------- --------
    Module::Build              0.38     0.4224  


------------------------------
ENVIRONMENT AND OTHER CONTEXT
------------------------------

Environment variables:

    LANG = C
    LC_ALL = de_DE.UTF-8
    PATH = /usr/local/bin:/usr/bin:/bin:/usr/local/sbin:/usr/sbin:/sbin:/home/cpansand/bin/linux-gnu:/home/cpansand/bin/sh:/home/cpansand/bin:/usr/games:/home/cpansand/devel:/home/eserte/src/srezic-misc/scripts
    PERL5LIB = 
    PERL5OPT = 
    PERL5_CPANPLUS_IS_RUNNING = 816
    PERL5_CPAN_IS_RUNNING = 816
    PERL5_CPAN_IS_RUNNING_IN_RECURSION = 27376,816
    PERLDOC = -MPod::Perldoc::ToTextOverstrike
    PERL_BATCH = yes
    PERL_CANARY_STABILITY_NOPROMPT = 1
    PERL_CPAN_REPORTER_CONFIG = /var/tmp/cpansmoker-1023/2018012118/cpanreporter_001_config.ini
    PERL_EXTUTILS_AUTOINSTALL = --defaultdeps
    PERL_PARALLEL_SMOKER = yes
    PERL_USE_UNSAFE_INC = 1
    SHELL = /bin/zsh
    TERM = screen
    TMPDIR = /var/tmp/cpansmoker-1023/2018012118

Perl special variables (and OS-specific diagnostics, for MSWin32):

    $^X = /bbbike/perl-5.27.8/bin/perl5.27.8
    $UID/$EUID = 1023 / 1023
    $GID = 1023 1023
    $EGID = 1023 1023

Perl module toolchain versions installed:

    Module              Have    
    ------------------- --------
    CPAN                2.20    
    CPAN::Meta          2.150010
    Cwd                 3.72    
    ExtUtils::CBuilder  0.280230
    ExtUtils::Command   7.30    
    ExtUtils::Install   2.14    
    ExtUtils::MakeMaker 7.30    
    ExtUtils::Manifest  1.70    
    ExtUtils::ParseXS   3.36    
    File::Spec          3.72    
    JSON                2.97001 
    JSON::PP            2.97001 
    Module::Build       0.4224  
    Module::Signature   0.81    
    Parse::CPAN::Meta   2.150010
    Test::Harness       3.39    
    Test::More          1.302120
    YAML                1.24    
    YAML::Syck          1.30    
    version             0.9918  


--

Summary of my perl5 (revision 5 version 27 subversion 8) configuration:
   
  Platform:
    osname=linux
    osvers=3.16.0-4-amd64
    archname=x86_64-linux
    uname='linux eserte 3.16.0-4-amd64 #1 smp debian 3.16.51-2 (2017-12-03) x86_64 gnulinux '
    config_args='-ds -e -Dprefix=/opt/perl-5.27.8 -Dusedevel -Dusemallocwrap=no -Dcf_email=srezic@cpan.org'
    hint=recommended
    useposix=true
    d_sigaction=define
    useithreads=undef
    usemultiplicity=undef
    use64bitint=define
    use64bitall=define
    uselongdouble=undef
    usemymalloc=n
    default_inc_excludes_dot=define
    bincompat5005=undef
  Compiler:
    cc='cc'
    ccflags ='-fwrapv -fno-strict-aliasing -pipe -fstack-protector-strong -I/usr/local/include -D_LARGEFILE_SOURCE -D_FILE_OFFSET_BITS=64 -D_FORTIFY_SOURCE=2'
    optimize='-O2'
    cppflags='-fwrapv -fno-strict-aliasing -pipe -fstack-protector-strong -I/usr/local/include'
    ccversion=''
    gccversion='4.9.2'
    gccosandvers=''
    intsize=4
    longsize=8
    ptrsize=8
    doublesize=8
    byteorder=12345678
    doublekind=3
    d_longlong=define
    longlongsize=8
    d_longdbl=define
    longdblsize=16
    longdblkind=3
    ivtype='long'
    ivsize=8
    nvtype='double'
    nvsize=8
    Off_t='off_t'
    lseeksize=8
    alignbytes=8
    prototype=define
  Linker and Libraries:
    ld='cc'
    ldflags =' -fstack-protector-strong -L/usr/local/lib'
    libpth=/usr/local/lib /usr/lib/gcc/x86_64-linux-gnu/4.9/include-fixed /usr/include/x86_64-linux-gnu /usr/lib /lib/x86_64-linux-gnu /lib/../lib /usr/lib/x86_64-linux-gnu /usr/lib/../lib /lib
    libs=-lpthread -lnsl -lgdbm -ldb -ldl -lm -lcrypt -lutil -lc -lgdbm_compat
    perllibs=-lpthread -lnsl -ldl -lm -lcrypt -lutil -lc
    libc=libc-2.19.so
    so=so
    useshrplib=false
    libperl=libperl.a
    gnulibc_version='2.19'
  Dynamic Linking:
    dlsrc=dl_dlopen.xs
    dlext=so
    d_dlsymun=undef
    ccdlflags='-Wl,-E'
    cccdlflags='-fPIC'
    lddlflags='-shared -O2 -L/usr/local/lib -fstack-protector-strong'


Characteristics of this binary (from libperl): 
  Compile-time options:
    HAS_TIMES
    PERLIO_LAYERS
    PERL_COPY_ON_WRITE
    PERL_DONT_CREATE_GVSV
    PERL_OP_PARENT
    PERL_PRESERVE_IVUV
    PERL_USE_DEVEL
    USE_64_BIT_ALL
    USE_64_BIT_INT
    USE_LARGE_FILES
    USE_LOCALE
    USE_LOCALE_COLLATE
    USE_LOCALE_CTYPE
    USE_LOCALE_NUMERIC
    USE_LOCALE_TIME
    USE_PERLIO
    USE_PERL_ATOF
  Built under linux
  Compiled at Jan 20 2018 08:24:13
  %ENV:
    PERL5LIB=""
    PERL5OPT=""
    PERL5_CPANPLUS_IS_RUNNING="816"
    PERL5_CPAN_IS_RUNNING="816"
    PERL5_CPAN_IS_RUNNING_IN_RECURSION="27376,816"
    PERLDOC="-MPod::Perldoc::ToTextOverstrike"
    PERL_BATCH="yes"
    PERL_CANARY_STABILITY_NOPROMPT="1"
    PERL_CPAN_REPORTER_CONFIG="/var/tmp/cpansmoker-1023/2018012118/cpanreporter_001_config.ini"
    PERL_EXTUTILS_AUTOINSTALL="--defaultdeps"
    PERL_PARALLEL_SMOKER="yes"
    PERL_USE_UNSAFE_INC="1"
  @INC:
    /opt/perl-5.27.8/lib/site_perl/5.27.8/x86_64-linux
    /opt/perl-5.27.8/lib/site_perl/5.27.8
    /opt/perl-5.27.8/lib/5.27.8/x86_64-linux
    /opt/perl-5.27.8/lib/5.27.8
    .