JSON-Create v0.35 Perl 5 v5.35.9 x86_64-linux-thread-multi
- Status
- Pass
- From
- Carlos Guevara
- Dist
-
JSON-Create v0.35
- Platform
- Perl 5 v5.35.9 x86_64-linux-thread-multi
- Date
- 2022-02-14 06:13:30
- ID
- 3b049110-8d5d-11ec-a33c-db6cdf0dbbbc
This distribution has been tested as part of the CPAN Testers
project, supporting the Perl programming language. See
http://wiki.cpantesters.org/ for more information or email
questions to cpan-testers-discuss@perl.org
--
Dear Ben Bullock,
This is a computer-generated report for JSON-Create-0.35
on perl 5.35.9, created by CPAN-Reporter-1.2018.
Thank you for uploading your work to CPAN. Congratulations!
All tests were successful.
Sections of this report:
* Tester comments
* Program output
* Prerequisites
* Environment and other context
------------------------------
TESTER COMMENTS
------------------------------
Additional comments from tester:
this report is from an automated smoke testing program
and was not reviewed by a human for accuracy
------------------------------
PROGRAM OUTPUT
------------------------------
Output from '/usr/bin/make test':
"/home/cpan/bin/perl-blead/bin/perl5.35.9" -MExtUtils::Command::MM -e 'cp_nonempty' -- Create.bs blib/arch/auto/JSON/Create/Create.bs 644
PERL_DL_NONLAZY=1 "/home/cpan/bin/perl-blead/bin/perl5.35.9" "-MExtUtils::Command::MM" "-MTest::Harness" "-e" "undef *Test::Harness::Switches; test_harness(0, 'blib/lib', 'blib/arch')" t/*.t
t/bool.t ............ ok
t/code.t ............ ok
t/downgrade-utf8.t .. ok
t/dualvar.t ......... ok
t/escape-slash.t .... ok
t/fformat.t ......... ok
t/float.t ........... ok
t/funky-numbers.t ... ok
t/indent.t .......... ok
t/jcbool.t .......... ok
t/json-create.t ..... ok
t/json-parse.t ...... ok
t/leading-zero.t .... ok
t/object.t .......... ok
t/scalar-ref.t ...... ok
t/single.t .......... ok
t/sort-cmp.t ........ ok
t/sort.t ............ ok
t/strict.t .......... ok
t/string-num.t ...... ok
t/to-json.t ......... ok
t/unicode.t ......... ok
t/user-undef.t ...... ok
t/write-json.t ...... ok
t/zz-pure-perl.t .... ok
All tests successful.
Files=25, Tests=287, 9 wallclock secs ( 0.14 usr 0.04 sys + 6.80 cusr 1.54 csys = 8.52 CPU)
Result: PASS
------------------------------
PREREQUISITES
------------------------------
Prerequisite modules loaded:
requires:
Module Need Have
------------------- -------- --------
B 0 1.83
Carp 0 1.52
JSON::Parse 0.60 0.61
perl 5.006001 5.035009
POSIX 0 2.03
Scalar::Util 0 1.60
Unicode::UTF8 0.62 0.62
build_requires:
Module Need Have
------------------- -------- --------
ExtUtils::MakeMaker 0 7.64
File::Spec 0 3.83
File::Temp 0 0.2311
configure_requires:
Module Need Have
------------------- -------- --------
ExtUtils::MakeMaker 0 7.64
------------------------------
ENVIRONMENT AND OTHER CONTEXT
------------------------------
Environment variables:
AUTOMATED_TESTING = 1
DATE_MANIP_TEST_DM5 = 1
LANG = C.UTF-8
LC_COLLATE = C
NONINTERACTIVE_TESTING = 1
PATH = /home/cpan/bin/perl-blead/bin:/usr/local/sbin:/usr/local/bin:/usr/sbin:/usr/bin:/sbin:/bin
PERL5LIB =
PERL5OPT =
PERL5_CPANPLUS_IS_RUNNING = 4863
PERL5_CPAN_IS_RUNNING = 4863
PERL_MM_USE_DEFAULT = 1
PERL_USE_UNSAFE_INC = 1
PERL_VERSION = blead
SHELL = /bin/bash
TERM = screen
Perl special variables (and OS-specific diagnostics, for MSWin32):
$^X = /home/cpan/bin/perl-blead/bin/perl5.35.9
$UID/$EUID = 1001 / 1001
$GID = 1001 1001
$EGID = 1001 1001
Perl module toolchain versions installed:
Module Have
------------------- --------
CPAN 2.33
CPAN::Meta 2.150010
Cwd 3.83
ExtUtils::CBuilder 0.280236
ExtUtils::Command 7.64
ExtUtils::Install 2.20
ExtUtils::MakeMaker 7.64
ExtUtils::Manifest 1.73
ExtUtils::ParseXS 3.44
File::Spec 3.83
JSON 4.05
JSON::PP 4.07
Module::Build 0.4231
Module::Signature n/a
Parse::CPAN::Meta 2.150010
Test::Harness 3.43
Test::More 1.302188
YAML 1.30
YAML::Syck 1.34
version 0.9929
--
Summary of my perl5 (revision 5 version 35 subversion 9) configuration:
Commit id: 573a2c73805f828cb693378973b3f57d402e05d9
Platform:
osname=linux
osvers=5.15.16-0-lts
archname=x86_64-linux-thread-multi
uname='linux cjg-alpine3 5.15.16-0-lts #1-alpine smp wed, 26 jan 2022 16:46:12 +0000 x86_64 linux '
config_args='-des -Dprefix=~/bin/perl-blead -Dscriptdir=~/bin/perl-blead/bin -Dusedevel -Duse64bitall -Duseithreads'
hint=recommended
useposix=true
d_sigaction=define
useithreads=define
usemultiplicity=define
use64bitint=define
use64bitall=define
uselongdouble=undef
usemymalloc=n
default_inc_excludes_dot=define
Compiler:
cc='cc'
ccflags ='-D_REENTRANT -D_GNU_SOURCE -D_GNU_SOURCE -fwrapv -fno-strict-aliasing -pipe -fstack-protector-strong -D_LARGEFILE_SOURCE -D_FILE_OFFSET_BITS=64'
optimize='-O2'
cppflags='-D_REENTRANT -D_GNU_SOURCE -D_GNU_SOURCE -fwrapv -fno-strict-aliasing -pipe -fstack-protector-strong'
ccversion=''
gccversion='10.3.1 20211027'
gccosandvers=''
intsize=4
longsize=8
ptrsize=8
doublesize=8
byteorder=12345678
doublekind=3
d_longlong=define
longlongsize=8
d_longdbl=define
longdblsize=16
longdblkind=3
ivtype='long'
ivsize=8
nvtype='double'
nvsize=8
Off_t='off_t'
lseeksize=8
alignbytes=8
prototype=define
Linker and Libraries:
ld='cc'
ldflags =' -fstack-protector-strong -L/usr/local/lib'
libpth=/usr/lib /usr/local/lib /lib
libs=-lpthread -ldb -ldl -lm -lcrypt -lutil -lc
perllibs=-lpthread -ldl -lm -lcrypt -lutil -lc
libc=/usr/lib/libc.a
so=so
useshrplib=false
libperl=libperl.a
gnulibc_version=''
Dynamic Linking:
dlsrc=dl_dlopen.xs
dlext=so
d_dlsymun=undef
ccdlflags='-Wl,-E'
cccdlflags='-fPIC'
lddlflags='-shared -O2 -L/usr/local/lib -fstack-protector-strong'
Characteristics of this binary (from libperl):
Compile-time options:
HAS_TIMES
MULTIPLICITY
PERLIO_LAYERS
PERL_COPY_ON_WRITE
PERL_DONT_CREATE_GVSV
PERL_MALLOC_WRAP
PERL_OP_PARENT
PERL_PRESERVE_IVUV
PERL_USE_DEVEL
USE_64_BIT_ALL
USE_64_BIT_INT
USE_ITHREADS
USE_LARGE_FILES
USE_LOCALE
USE_LOCALE_COLLATE
USE_LOCALE_CTYPE
USE_LOCALE_NUMERIC
USE_LOCALE_TIME
USE_PERLIO
USE_PERL_ATOF
USE_REENTRANT_API
USE_THREAD_SAFE_LOCALE
Built under linux
Compiled at Feb 13 2022 13:41:04
%ENV:
PERL5LIB=""
PERL5OPT=""
PERL5_CPANPLUS_IS_RUNNING="4863"
PERL5_CPAN_IS_RUNNING="4863"
PERL_MM_USE_DEFAULT="1"
PERL_USE_UNSAFE_INC="1"
PERL_VERSION="blead"
@INC:
/home/cpan/bin/perl-blead/lib/site_perl/5.35.9/x86_64-linux-thread-multi
/home/cpan/bin/perl-blead/lib/site_perl/5.35.9
/home/cpan/bin/perl-blead/lib/5.35.9/x86_64-linux-thread-multi
/home/cpan/bin/perl-blead/lib/5.35.9
.