Module-FromPerlVer v0.030000 Perl 5 v5.24.3 armv7l-linux

Status
Pass
From
Nigel Horne
Dist
Module-FromPerlVer v0.030000
Platform
Perl 5 v5.24.3 armv7l-linux
Date
2018-05-09 20:26:18
ID
3af6a57e-53c7-11e8-9da6-f703c768dc7a
This distribution has been tested as part of the CPAN Testers
project, supporting the Perl programming language.  See
http://wiki.cpantesters.org/ for more information or email
questions to cpan-testers-discuss@perl.org


--
Dear Steven Lembark,

This is a computer-generated report for Module-FromPerlVer-0.030000
on perl 5.24.3, created by CPAN-Reporter-1.2018.

Thank you for uploading your work to CPAN.  Congratulations!
All tests were successful.

Sections of this report:

    * Tester comments
    * Program output
    * Prerequisites
    * Environment and other context

------------------------------
TESTER COMMENTS
------------------------------

Additional comments from tester:

this report is from an automated smoke testing program
and was not reviewed by a human for accuracy

------------------------------
PROGRAM OUTPUT
------------------------------

Output from '/usr/bin/make test':

PERL_DL_NONLAZY=1 "/mnt/nas/home/pi2/njh/perl5/perlbrew/perls/perl-5.24.3/bin/perl5.24.3" "-MExtUtils::Command::MM" "-MTest::Harness" "-e" "undef *Test::Harness::Switches; test_harness(0, 'blib/lib', 'blib/arch')" t/*.t t/dynamic/*.t
# Working dir: '/mnt/nas/home/pi2/njh/.cpan/build/Module-FromPerlVer-0.030000-5'
# Executable:  't/00-usable.t'
# Found 'lib' directory
# Search: '/mnt/nas/home/pi2/njh/.cpan/build/Module-FromPerlVer-0.030000-5' for files with 'File::Copy::Recursive'
# Module-FromPerlVer-0.030000-5/Makefile  19 : '#     META_MERGE => { CONFIGURE_REQUIRES=>{ ExtUtils::MakeMaker=>undef, strict=>q[0], version=>q[0] }, TEST_REQUIRES=>{ Archive::Tar=>q[0], Cwd=>q[3.073000], File::Basename=>q[0], File::Copy::Recursive::Reduced=>q[0.006000], File::Find=>q[0], File::Spec::Functions=>q[0], File::Temp=>q[0], FindBin=>q[0], List::MoreUtils=>q[0], List::Util=>q[1.046000], Symbol=>q[0], Test::Deep=>q[0], Test::More=>q[0], lib=>q[0], strict=>q[0], version=>q[0] }, dynamic_config=>q[1], meta-spec=>{ version=>q[2] } }
# '
# Module-FromPerlVer-0.030000-5/Makefile  21 : '#     PREREQ_PM => { Cwd=>q[3.073000], File::Basename=>q[0], File::Copy::Recursive::Reduced=>q[0.006000], File::Find=>q[0], File::Spec::Functions=>q[0], FindBin=>q[0], List::Util=>q[1.046000], Symbol=>q[0], Test::More=>q[0], strict=>q[0], version=>q[0] }
# '
# Module-FromPerlVer-0.030000-5/Makefile  509 : '	$(NOECHO) $(ECHO) '  File::Copy::Recursive::Reduced: '\''0.006000'\''' >> META_new.yml
# '
# Module-FromPerlVer-0.030000-5/Makefile  527 : '	$(NOECHO) $(ECHO) '  File::Copy::Recursive::Reduced: '\''0.006000'\''' >> META_new.yml
# '
# Module-FromPerlVer-0.030000-5/Makefile  579 : '	$(NOECHO) $(ECHO) '            "File::Copy::Recursive::Reduced" : "0.006000",' >> META_new.json
# '
# Module-FromPerlVer-0.030000-5/Makefile  602 : '	$(NOECHO) $(ECHO) '      "File::Copy::Recursive::Reduced" : "0.006000",' >> META_new.json
# '
# Module-FromPerlVer-0.030000-5/Makefile  931 : '	$(NOECHO) $(ECHO) '        <REQUIRE NAME="File::Copy::Recursive::Reduced" VERSION="0.006000" />' >> Module-FromPerlVer.ppd
# '
# Module-FromPerlVer-0.030000-5/MYMETA.yml  23 : '  File::Copy::Recursive::Reduced: '0.006000'
# '
# Module-FromPerlVer-0.030000-5/MYMETA.yml  41 : '  File::Copy::Recursive::Reduced: '0.006000'
# '
# Module-FromPerlVer-0.030000-5/MYMETA.json  37 : '            "File::Copy::Recursive::Reduced" : "0.006000",
# '
# Module-FromPerlVer-0.030000-5/MYMETA.json  60 : '      "File::Copy::Recursive::Reduced" : "0.006000",
# '
# Module-FromPerlVer-0.030000-5/Makefile.PL  81 : '                    [ qw( File::Copy::Recursive::Reduced    v0.6.0  ) ],
# '
# Module-FromPerlVer-0.030000-5/Makefile.PL  112 : '            [ qw( File::Copy::Recursive::Reduced    v0.6.0  ) ],
# '
# Module-FromPerlVer-0.030000-5/CHANGES  5 : '    out File::Copy::Recursive, which is not used in the Makefile.PL,
# '
# Module-FromPerlVer-0.030000-5/CHANGES  6 : '    module, or test code. File::Copy::Recursive is not installed 
# '
# Module-FromPerlVer-0.030000-5/CHANGES  13 : '    "File::Copy::Recursive" and dumping the result along with 
# '
# Module-FromPerlVer-0.030000-5/CHANGES  27 : '    File::Copy::Recursive may still have problems; revert to 
# '
# Module-FromPerlVer-0.030000-5/CHANGES  28 : '    File::Copy::Recursive::Reduced.
# '
# Module-FromPerlVer-0.030000-5/META.yml  23 : '  File::Copy::Recursive::Reduced: '0.006000'
# '
# Module-FromPerlVer-0.030000-5/META.yml  41 : '  File::Copy::Recursive::Reduced: '0.006000'
# '
# Module-FromPerlVer-0.030000-5/META.json  37 : '            "File::Copy::Recursive::Reduced" : "0.006000",
# '
# Module-FromPerlVer-0.030000-5/META.json  60 : '      "File::Copy::Recursive::Reduced" : "0.006000",
# '
# man3/Module::FromPerlVer.3  417 : '.IP "File::Copy::Recursive" 4
# '
# man3/Module::FromPerlVer.3  418 : '.IX Item "File::Copy::Recursive"
# '
# Module/FromPerlVer.pm  6 : '# File::Copy::Recursive & friends -- yeah, ancient.
# '
# Module/FromPerlVer.pm  21 : 'use File::Copy::Recursive::Reduced  qw( dircopy );
# '
# Module/FromPerlVer.pm  460 : '    # this returns the count from File::Copy::Recursive,
# '
# Module/FromPerlVer.pm  828 : '=item File::Copy::Recursive
# '
# t/00-usable.t  39 : '            -1 < index  $line, 'File::Copy::Recursive'
# '
# t/00-usable.t  50 : 'diag "Search: '$cwd' for files with 'File::Copy::Recursive'";
# '
# Module/FromPerlVer.pm  6 : '# File::Copy::Recursive & friends -- yeah, ancient.
# '
# Module/FromPerlVer.pm  21 : 'use File::Copy::Recursive::Reduced  qw( dircopy );
# '
# Module/FromPerlVer.pm  460 : '    # this returns the count from File::Copy::Recursive,
# '
# Module/FromPerlVer.pm  828 : '=item File::Copy::Recursive
# '
t/00-usable.t ................................ ok

# Search: 't' (/mnt/nas/home/pi2/njh/.cpan/build/Module-FromPerlVer-0.030000-5/t)
# Created:  '/mnt/nas/home/pi2/njh/.cpan/build/Module-FromPerlVer-0.030000-5/t/sandbox'.
# Search: 't' (/mnt/nas/home/pi2/njh/.cpan/build/Module-FromPerlVer-0.030000-5/t)
# Existing: '/mnt/nas/home/pi2/njh/.cpan/build/Module-FromPerlVer-0.030000-5/t/sandbox'.
# Work dir: 't/sandbox/12-path-version.t-qP17'
# Search: 't' (/mnt/nas/home/pi2/njh/.cpan/build/Module-FromPerlVer-0.030000-5/t)
# Existing: '/mnt/nas/home/pi2/njh/.cpan/build/Module-FromPerlVer-0.030000-5/t/sandbox'.
# Search: 't' (/mnt/nas/home/pi2/njh/.cpan/build/Module-FromPerlVer-0.030000-5/t)
# Existing: '/mnt/nas/home/pi2/njh/.cpan/build/Module-FromPerlVer-0.030000-5/t/sandbox'.
# Work dir: 't/sandbox/10-perl-version.t-fD41'
# Search: 't' (/mnt/nas/home/pi2/njh/.cpan/build/Module-FromPerlVer-0.030000-5/t)
# Created:  '/mnt/nas/home/pi2/njh/.cpan/build/Module-FromPerlVer-0.030000-5/t/sandbox'.
# Search: 't' (/mnt/nas/home/pi2/njh/.cpan/build/Module-FromPerlVer-0.030000-5/t)
# Existing: '/mnt/nas/home/pi2/njh/.cpan/build/Module-FromPerlVer-0.030000-5/t/sandbox'.
# Work dir: 't/sandbox/11-env-version.t-E6hM't/12-path-version.t .......................... ok
t/11-env-version.t ........................... ok
t/10-perl-version.t .......................... ok
t/13-reject-bogus-no-5.0.t ................... ok

# Search: 't' (/mnt/nas/home/pi2/njh/.cpan/build/Module-FromPerlVer-0.030000-5/t)
# Existing: '/mnt/nas/home/pi2/njh/.cpan/build/Module-FromPerlVer-0.030000-5/t/sandbox'.
# Search: 't' (/mnt/nas/home/pi2/njh/.cpan/build/Module-FromPerlVer-0.030000-5/t)
# Existing: '/mnt/nas/home/pi2/njh/.cpan/build/Module-FromPerlVer-0.030000-5/t/sandbox'.
# Work dir: 't/sandbox/20-file-defaults-5.000001.t-XUxv'
# Testing perl version: '5.000001' (20-file-defaults-5.000001).

# Search: 't' (/mnt/nas/home/pi2/njh/.cpan/build/Module-FromPerlVer-0.030000-5/t)
# Existing: '/mnt/nas/home/pi2/njh/.cpan/build/Module-FromPerlVer-0.030000-5/t/sandbox'.
# Search: 't' (/mnt/nas/home/pi2/njh/.cpan/build/Module-FromPerlVer-0.030000-5/t)
# Existing: '/mnt/nas/home/pi2/njh/.cpan/build/Module-FromPerlVer-0.030000-5/t/sandbox'.
# Work dir: 't/sandbox/20-file-defaults-5.000.001.t-7GIr'
# Testing perl version: '5.000.001' (20-file-defaults-5.000.001).

# Search: 't' (/mnt/nas/home/pi2/njh/.cpan/build/Module-FromPerlVer-0.030000-5/t)
# Existing: '/mnt/nas/home/pi2/njh/.cpan/build/Module-FromPerlVer-0.030000-5/t/sandbox'.
# Search: 't' (/mnt/nas/home/pi2/njh/.cpan/build/Module-FromPerlVer-0.030000-5/t)
# Existing: '/mnt/nas/home/pi2/njh/.cpan/build/Module-FromPerlVer-0.030000-5/t/sandbox'.
# Work dir: 't/sandbox/20-file-defaults-5.0.1.t-gQWj'
# Testing perl version: '5.0.1' (20-file-defaults-5.0.1).
t/dynamic/20-file-defaults-5.000001.t ........ ok
t/dynamic/20-file-defaults-5.000.001.t ....... ok
t/dynamic/20-file-defaults-5.0.1.t ........... ok

# Search: 't' (/mnt/nas/home/pi2/njh/.cpan/build/Module-FromPerlVer-0.030000-5/t)
# Existing: '/mnt/nas/home/pi2/njh/.cpan/build/Module-FromPerlVer-0.030000-5/t/sandbox'.
# Search: 't' (/mnt/nas/home/pi2/njh/.cpan/build/Module-FromPerlVer-0.030000-5/t)
# Existing: '/mnt/nas/home/pi2/njh/.cpan/build/Module-FromPerlVer-0.030000-5/t/sandbox'.
# Work dir: 't/sandbox/20-file-defaults-5.000_001.t-tk95'
# Testing perl version: '5.000_001' (20-file-defaults-5.000_001).

# Search: 't' (/mnt/nas/home/pi2/njh/.cpan/build/Module-FromPerlVer-0.030000-5/t)
# Existing: '/mnt/nas/home/pi2/njh/.cpan/build/Module-FromPerlVer-0.030000-5/t/sandbox'.
# Search: 't' (/mnt/nas/home/pi2/njh/.cpan/build/Module-FromPerlVer-0.030000-5/t)
# Existing: '/mnt/nas/home/pi2/njh/.cpan/build/Module-FromPerlVer-0.030000-5/t/sandbox'.
# Work dir: 't/sandbox/20-file-defaults-5.006.000.t-wXi7'
# Testing perl version: '5.006.000' (20-file-defaults-5.006.000).

# Search: 't' (/mnt/nas/home/pi2/njh/.cpan/build/Module-FromPerlVer-0.030000-5/t)
# Existing: '/mnt/nas/home/pi2/njh/.cpan/build/Module-FromPerlVer-0.030000-5/t/sandbox'.
# Search: 't' (/mnt/nas/home/pi2/njh/.cpan/build/Module-FromPerlVer-0.030000-5/t)
# Existing: '/mnt/nas/home/pi2/njh/.cpan/build/Module-FromPerlVer-0.030000-5/t/sandbox'.
# Work dir: 't/sandbox/20-file-defaults-5.006000.t-rV0C'
# Testing perl version: '5.006000' (20-file-defaults-5.006000).

# Search: 't' (/mnt/nas/home/pi2/njh/.cpan/build/Module-FromPerlVer-0.030000-5/t)
# Existing: '/mnt/nas/home/pi2/njh/.cpan/build/Module-FromPerlVer-0.030000-5/t/sandbox'.
# Search: 't' (/mnt/nas/home/pi2/njh/.cpan/build/Module-FromPerlVer-0.030000-5/t)
# Existing: '/mnt/nas/home/pi2/njh/.cpan/build/Module-FromPerlVer-0.030000-5/t/sandbox'.
# Work dir: 't/sandbox/20-file-defaults-5.006_000.t-UMZY'
# Testing perl version: '5.006_000' (20-file-defaults-5.006_000).
t/dynamic/20-file-defaults-5.000_001.t ....... ok
t/dynamic/20-file-defaults-5.006_000.t ....... ok
t/dynamic/20-file-defaults-5.006000.t ........ ok
t/dynamic/20-file-defaults-5.006.000.t ....... ok

# Search: 't' (/mnt/nas/home/pi2/njh/.cpan/build/Module-FromPerlVer-0.030000-5/t)
# Existing: '/mnt/nas/home/pi2/njh/.cpan/build/Module-FromPerlVer-0.030000-5/t/sandbox'.
# Search: 't' (/mnt/nas/home/pi2/njh/.cpan/build/Module-FromPerlVer-0.030000-5/t)
# Existing: '/mnt/nas/home/pi2/njh/.cpan/build/Module-FromPerlVer-0.030000-5/t/sandbox'.
# Work dir: 't/sandbox/20-file-defaults-5.008.008.t-srV9'
# Testing perl version: '5.008.008' (20-file-defaults-5.008.008).

# Search: 't' (/mnt/nas/home/pi2/njh/.cpan/build/Module-FromPerlVer-0.030000-5/t)
# Existing: '/mnt/nas/home/pi2/njh/.cpan/build/Module-FromPerlVer-0.030000-5/t/sandbox'.
# Search: 't' (/mnt/nas/home/pi2/njh/.cpan/build/Module-FromPerlVer-0.030000-5/t)
# Existing: '/mnt/nas/home/pi2/njh/.cpan/build/Module-FromPerlVer-0.030000-5/t/sandbox'.
# Work dir: 't/sandbox/20-file-defaults-5.6.0.t-UamR'
# Testing perl version: '5.6.0' (20-file-defaults-5.6.0).

# Search: 't' (/mnt/nas/home/pi2/njh/.cpan/build/Module-FromPerlVer-0.030000-5/t)
# Existing: '/mnt/nas/home/pi2/njh/.cpan/build/Module-FromPerlVer-0.030000-5/t/sandbox'.
# Search: 't' (/mnt/nas/home/pi2/njh/.cpan/build/Module-FromPerlVer-0.030000-5/t)
# Existing: '/mnt/nas/home/pi2/njh/.cpan/build/Module-FromPerlVer-0.030000-5/t/sandbox'.
# Work dir: 't/sandbox/20-file-defaults-5.008008.t-xUsn'
# Testing perl version: '5.008008' (20-file-defaults-5.008008).

# Search: 't' (/mnt/nas/home/pi2/njh/.cpan/build/Module-FromPerlVer-0.030000-5/t)
# Existing: '/mnt/nas/home/pi2/njh/.cpan/build/Module-FromPerlVer-0.030000-5/t/sandbox'.
# Search: 't' (/mnt/nas/home/pi2/njh/.cpan/build/Module-FromPerlVer-0.030000-5/t)
# Existing: '/mnt/nas/home/pi2/njh/.cpan/build/Module-FromPerlVer-0.030000-5/t/sandbox'.
# Work dir: 't/sandbox/20-file-defaults-5.008_008.t-ib2C'
# Testing perl version: '5.008_008' (20-file-defaults-5.008_008).
t/dynamic/20-file-defaults-5.008.008.t ....... ok
t/dynamic/20-file-defaults-5.008008.t ........ ok
t/dynamic/20-file-defaults-5.008_008.t ....... ok
t/dynamic/20-file-defaults-5.6.0.t ........... ok

# Search: 't' (/mnt/nas/home/pi2/njh/.cpan/build/Module-FromPerlVer-0.030000-5/t)
# Existing: '/mnt/nas/home/pi2/njh/.cpan/build/Module-FromPerlVer-0.030000-5/t/sandbox'.
# Search: 't' (/mnt/nas/home/pi2/njh/.cpan/build/Module-FromPerlVer-0.030000-5/t)
# Existing: '/mnt/nas/home/pi2/njh/.cpan/build/Module-FromPerlVer-0.030000-5/t/sandbox'.
# Work dir: 't/sandbox/20-file-defaults-5.8.8.t-OWWS'
# Testing perl version: '5.8.8' (20-file-defaults-5.8.8).

# Search: 't' (/mnt/nas/home/pi2/njh/.cpan/build/Module-FromPerlVer-0.030000-5/t)
# Existing: '/mnt/nas/home/pi2/njh/.cpan/build/Module-FromPerlVer-0.030000-5/t/sandbox'.
# Search: 't' (/mnt/nas/home/pi2/njh/.cpan/build/Module-FromPerlVer-0.030000-5/t)
# Existing: '/mnt/nas/home/pi2/njh/.cpan/build/Module-FromPerlVer-0.030000-5/t/sandbox'.
# Work dir: 't/sandbox/20-file-defaults-5.888_888.t-LKgU'
# Testing perl version: '5.888_888' (20-file-defaults-5.888_888).

# Search: 't' (/mnt/nas/home/pi2/njh/.cpan/build/Module-FromPerlVer-0.030000-5/t)
# Existing: '/mnt/nas/home/pi2/njh/.cpan/build/Module-FromPerlVer-0.030000-5/t/sandbox'.
# Search: 't' (/mnt/nas/home/pi2/njh/.cpan/build/Module-FromPerlVer-0.030000-5/t)
# Existing: '/mnt/nas/home/pi2/njh/.cpan/build/Module-FromPerlVer-0.030000-5/t/sandbox'.
# Work dir: 't/sandbox/20-file-defaults-5.888.888.t-jBF2'
# Testing perl version: '5.888.888' (20-file-defaults-5.888.888).

# Search: 't' (/mnt/nas/home/pi2/njh/.cpan/build/Module-FromPerlVer-0.030000-5/t)
# Existing: '/mnt/nas/home/pi2/njh/.cpan/build/Module-FromPerlVer-0.030000-5/t/sandbox'.
# Search: 't' (/mnt/nas/home/pi2/njh/.cpan/build/Module-FromPerlVer-0.030000-5/t)
# Existing: '/mnt/nas/home/pi2/njh/.cpan/build/Module-FromPerlVer-0.030000-5/t/sandbox'.
# Work dir: 't/sandbox/20-file-defaults-5.888888.t-vWQe'
# Testing perl version: '5.888888' (20-file-defaults-5.888888).
t/dynamic/20-file-defaults-5.8.8.t ........... ok
t/dynamic/20-file-defaults-5.888_888.t ....... ok
t/dynamic/20-file-defaults-5.888.888.t ....... ok
t/dynamic/20-file-defaults-5.888888.t ........ ok

# Search: 't' (/mnt/nas/home/pi2/njh/.cpan/build/Module-FromPerlVer-0.030000-5/t)
# Existing: '/mnt/nas/home/pi2/njh/.cpan/build/Module-FromPerlVer-0.030000-5/t/sandbox'.
# Search: 't' (/mnt/nas/home/pi2/njh/.cpan/build/Module-FromPerlVer-0.030000-5/t)
# Existing: '/mnt/nas/home/pi2/njh/.cpan/build/Module-FromPerlVer-0.030000-5/t/sandbox'.
# Work dir: 't/sandbox/20-file-defaults-5.999.999.t-JFkQ'
# Testing perl version: '5.999.999' (20-file-defaults-5.999.999).

# Search: 't' (/mnt/nas/home/pi2/njh/.cpan/build/Module-FromPerlVer-0.030000-5/t)
# Existing: '/mnt/nas/home/pi2/njh/.cpan/build/Module-FromPerlVer-0.030000-5/t/sandbox'.
# Search: 't' (/mnt/nas/home/pi2/njh/.cpan/build/Module-FromPerlVer-0.030000-5/t)
# Existing: '/mnt/nas/home/pi2/njh/.cpan/build/Module-FromPerlVer-0.030000-5/t/sandbox'.
# Work dir: 't/sandbox/20-file-defaults-5.999999.t-MQeh'
# Testing perl version: '5.999999' (20-file-defaults-5.999999).

# Search: 't' (/mnt/nas/home/pi2/njh/.cpan/build/Module-FromPerlVer-0.030000-5/t)
# Existing: '/mnt/nas/home/pi2/njh/.cpan/build/Module-FromPerlVer-0.030000-5/t/sandbox'.
# Search: 't' (/mnt/nas/home/pi2/njh/.cpan/build/Module-FromPerlVer-0.030000-5/t)
# Existing: '/mnt/nas/home/pi2/njh/.cpan/build/Module-FromPerlVer-0.030000-5/t/sandbox'.
# Work dir: 't/sandbox/20-file-defaults-v5.0.1.t-4Iqe'
# Testing perl version: 'v5.0.1' (20-file-defaults-v5.0.1).
t/dynamic/20-file-defaults-5.999.999.t ....... ok

# Search: 't' (/mnt/nas/home/pi2/njh/.cpan/build/Module-FromPerlVer-0.030000-5/t)
# Existing: '/mnt/nas/home/pi2/njh/.cpan/build/Module-FromPerlVer-0.030000-5/t/sandbox'.
# Search: 't' (/mnt/nas/home/pi2/njh/.cpan/build/Module-FromPerlVer-0.030000-5/t)
# Existing: '/mnt/nas/home/pi2/njh/.cpan/build/Module-FromPerlVer-0.030000-5/t/sandbox'.
# Work dir: 't/sandbox/20-file-defaults-5.999_999.t-kv84'
# Testing perl version: '5.999_999' (20-file-defaults-5.999_999).
t/dynamic/20-file-defaults-5.999999.t ........ ok
t/dynamic/20-file-defaults-v5.0.1.t .......... ok
t/dynamic/20-file-defaults-5.999_999.t ....... ok

# Search: 't' (/mnt/nas/home/pi2/njh/.cpan/build/Module-FromPerlVer-0.030000-5/t)
# Existing: '/mnt/nas/home/pi2/njh/.cpan/build/Module-FromPerlVer-0.030000-5/t/sandbox'.
# Search: 't' (/mnt/nas/home/pi2/njh/.cpan/build/Module-FromPerlVer-0.030000-5/t)
# Existing: '/mnt/nas/home/pi2/njh/.cpan/build/Module-FromPerlVer-0.030000-5/t/sandbox'.
# Work dir: 't/sandbox/20-file-defaults-v5.000.001.t-9Lsn'
# Testing perl version: 'v5.000.001' (20-file-defaults-v5.000.001).

# Search: 't' (/mnt/nas/home/pi2/njh/.cpan/build/Module-FromPerlVer-0.030000-5/t)
# Existing: '/mnt/nas/home/pi2/njh/.cpan/build/Module-FromPerlVer-0.030000-5/t/sandbox'.
# Search: 't' (/mnt/nas/home/pi2/njh/.cpan/build/Module-FromPerlVer-0.030000-5/t)
# Existing: '/mnt/nas/home/pi2/njh/.cpan/build/Module-FromPerlVer-0.030000-5/t/sandbox'.
# Work dir: 't/sandbox/20-file-defaults-v5.000001.t-9xIX'
# Testing perl version: 'v5.000001' (20-file-defaults-v5.000001).
t/dynamic/20-file-defaults-v5.000.001.t ...... ok
t/dynamic/20-file-defaults-v5.000001.t ....... ok

# Search: 't' (/mnt/nas/home/pi2/njh/.cpan/build/Module-FromPerlVer-0.030000-5/t)
# Existing: '/mnt/nas/home/pi2/njh/.cpan/build/Module-FromPerlVer-0.030000-5/t/sandbox'.
# Search: 't' (/mnt/nas/home/pi2/njh/.cpan/build/Module-FromPerlVer-0.030000-5/t)
# Existing: '/mnt/nas/home/pi2/njh/.cpan/build/Module-FromPerlVer-0.030000-5/t/sandbox'.
# Work dir: 't/sandbox/20-file-defaults-v5.000_001.t-BB4O'
# Testing perl version: 'v5.000_001' (20-file-defaults-v5.000_001).

# Search: 't' (/mnt/nas/home/pi2/njh/.cpan/build/Module-FromPerlVer-0.030000-5/t)
# Existing: '/mnt/nas/home/pi2/njh/.cpan/build/Module-FromPerlVer-0.030000-5/t/sandbox'.
# Search: 't' (/mnt/nas/home/pi2/njh/.cpan/build/Module-FromPerlVer-0.030000-5/t)
# Existing: '/mnt/nas/home/pi2/njh/.cpan/build/Module-FromPerlVer-0.030000-5/t/sandbox'.
# Work dir: 't/sandbox/20-file-defaults-v5.006.000.t-iR2h'
# Testing perl version: 'v5.006.000' (20-file-defaults-v5.006.000).
t/dynamic/20-file-defaults-v5.000_001.t ...... ok
t/dynamic/20-file-defaults-v5.006.000.t ...... ok

# Search: 't' (/mnt/nas/home/pi2/njh/.cpan/build/Module-FromPerlVer-0.030000-5/t)
# Existing: '/mnt/nas/home/pi2/njh/.cpan/build/Module-FromPerlVer-0.030000-5/t/sandbox'.
# Search: 't' (/mnt/nas/home/pi2/njh/.cpan/build/Module-FromPerlVer-0.030000-5/t)
# Existing: '/mnt/nas/home/pi2/njh/.cpan/build/Module-FromPerlVer-0.030000-5/t/sandbox'.
# Work dir: 't/sandbox/20-file-defaults-v5.006000.t-rXTq'
# Testing perl version: 'v5.006000' (20-file-defaults-v5.006000).
t/dynamic/20-file-defaults-v5.006000.t ....... ok

# Search: 't' (/mnt/nas/home/pi2/njh/.cpan/build/Module-FromPerlVer-0.030000-5/t)
# Existing: '/mnt/nas/home/pi2/njh/.cpan/build/Module-FromPerlVer-0.030000-5/t/sandbox'.
# Search: 't' (/mnt/nas/home/pi2/njh/.cpan/build/Module-FromPerlVer-0.030000-5/t)
# Existing: '/mnt/nas/home/pi2/njh/.cpan/build/Module-FromPerlVer-0.030000-5/t/sandbox'.
# Work dir: 't/sandbox/20-file-defaults-v5.006_000.t-ulMQ'
# Testing perl version: 'v5.006_000' (20-file-defaults-v5.006_000).

# Search: 't' (/mnt/nas/home/pi2/njh/.cpan/build/Module-FromPerlVer-0.030000-5/t)
# Existing: '/mnt/nas/home/pi2/njh/.cpan/build/Module-FromPerlVer-0.030000-5/t/sandbox'.
# Search: 't' (/mnt/nas/home/pi2/njh/.cpan/build/Module-FromPerlVer-0.030000-5/t)
# Existing: '/mnt/nas/home/pi2/njh/.cpan/build/Module-FromPerlVer-0.030000-5/t/sandbox'.
# Work dir: 't/sandbox/20-file-defaults-v5.008.008.t-Xk80'
# Testing perl version: 'v5.008.008' (20-file-defaults-v5.008.008).

# Search: 't' (/mnt/nas/home/pi2/njh/.cpan/build/Module-FromPerlVer-0.030000-5/t)
# Existing: '/mnt/nas/home/pi2/njh/.cpan/build/Module-FromPerlVer-0.030000-5/t/sandbox'.
# Search: 't' (/mnt/nas/home/pi2/njh/.cpan/build/Module-FromPerlVer-0.030000-5/t)
# Existing: '/mnt/nas/home/pi2/njh/.cpan/build/Module-FromPerlVer-0.030000-5/t/sandbox'.
# Work dir: 't/sandbox/20-file-defaults-v5.008008.t-LpL2'
# Testing perl version: 'v5.008008' (20-file-defaults-v5.008008).
t/dynamic/20-file-defaults-v5.006_000.t ...... ok
t/dynamic/20-file-defaults-v5.008.008.t ...... ok
t/dynamic/20-file-defaults-v5.008008.t ....... ok

# Search: 't' (/mnt/nas/home/pi2/njh/.cpan/build/Module-FromPerlVer-0.030000-5/t)
# Existing: '/mnt/nas/home/pi2/njh/.cpan/build/Module-FromPerlVer-0.030000-5/t/sandbox'.
# Search: 't' (/mnt/nas/home/pi2/njh/.cpan/build/Module-FromPerlVer-0.030000-5/t)
# Existing: '/mnt/nas/home/pi2/njh/.cpan/build/Module-FromPerlVer-0.030000-5/t/sandbox'.
# Work dir: 't/sandbox/20-file-defaults-v5.008_008.t-14fd'
# Testing perl version: 'v5.008_008' (20-file-defaults-v5.008_008).

# Search: 't' (/mnt/nas/home/pi2/njh/.cpan/build/Module-FromPerlVer-0.030000-5/t)
# Existing: '/mnt/nas/home/pi2/njh/.cpan/build/Module-FromPerlVer-0.030000-5/t/sandbox'.
# Search: 't' (/mnt/nas/home/pi2/njh/.cpan/build/Module-FromPerlVer-0.030000-5/t)
# Existing: '/mnt/nas/home/pi2/njh/.cpan/build/Module-FromPerlVer-0.030000-5/t/sandbox'.
# Work dir: 't/sandbox/20-file-defaults-v5.6.0.t-yFh2'
# Testing perl version: 'v5.6.0' (20-file-defaults-v5.6.0).
t/dynamic/20-file-defaults-v5.008_008.t ...... ok

# Search: 't' (/mnt/nas/home/pi2/njh/.cpan/build/Module-FromPerlVer-0.030000-5/t)
# Existing: '/mnt/nas/home/pi2/njh/.cpan/build/Module-FromPerlVer-0.030000-5/t/sandbox'.
# Search: 't' (/mnt/nas/home/pi2/njh/.cpan/build/Module-FromPerlVer-0.030000-5/t)
# Existing: '/mnt/nas/home/pi2/njh/.cpan/build/Module-FromPerlVer-0.030000-5/t/sandbox'.
# Work dir: 't/sandbox/20-file-defaults-v5.8.8.t-es6R'
# Testing perl version: 'v5.8.8' (20-file-defaults-v5.8.8).
t/dynamic/20-file-defaults-v5.6.0.t .......... ok

# Search: 't' (/mnt/nas/home/pi2/njh/.cpan/build/Module-FromPerlVer-0.030000-5/t)
# Existing: '/mnt/nas/home/pi2/njh/.cpan/build/Module-FromPerlVer-0.030000-5/t/sandbox'.
# Search: 't' (/mnt/nas/home/pi2/njh/.cpan/build/Module-FromPerlVer-0.030000-5/t)
# Existing: '/mnt/nas/home/pi2/njh/.cpan/build/Module-FromPerlVer-0.030000-5/t/sandbox'.
# Work dir: 't/sandbox/20-file-defaults-v5.888.888.t-5QGS'
# Testing perl version: 'v5.888.888' (20-file-defaults-v5.888.888).
t/dynamic/20-file-defaults-v5.8.8.t .......... ok
t/dynamic/20-file-defaults-v5.888.888.t ...... ok

# Search: 't' (/mnt/nas/home/pi2/njh/.cpan/build/Module-FromPerlVer-0.030000-5/t)
# Existing: '/mnt/nas/home/pi2/njh/.cpan/build/Module-FromPerlVer-0.030000-5/t/sandbox'.
# Search: 't' (/mnt/nas/home/pi2/njh/.cpan/build/Module-FromPerlVer-0.030000-5/t)
# Existing: '/mnt/nas/home/pi2/njh/.cpan/build/Module-FromPerlVer-0.030000-5/t/sandbox'.
# Work dir: 't/sandbox/20-file-defaults-v5.888888.t-2XyP'
# Testing perl version: 'v5.888888' (20-file-defaults-v5.888888).

# Search: 't' (/mnt/nas/home/pi2/njh/.cpan/build/Module-FromPerlVer-0.030000-5/t)
# Existing: '/mnt/nas/home/pi2/njh/.cpan/build/Module-FromPerlVer-0.030000-5/t/sandbox'.
# Search: 't' (/mnt/nas/home/pi2/njh/.cpan/build/Module-FromPerlVer-0.030000-5/t)
# Existing: '/mnt/nas/home/pi2/njh/.cpan/build/Module-FromPerlVer-0.030000-5/t/sandbox'.
# Work dir: 't/sandbox/20-file-defaults-v5.888_888.t-Ny2Z'
# Testing perl version: 'v5.888_888' (20-file-defaults-v5.888_888).
t/dynamic/20-file-defaults-v5.888888.t ....... ok
t/dynamic/20-file-defaults-v5.888_888.t ...... ok

# Search: 't' (/mnt/nas/home/pi2/njh/.cpan/build/Module-FromPerlVer-0.030000-5/t)
# Existing: '/mnt/nas/home/pi2/njh/.cpan/build/Module-FromPerlVer-0.030000-5/t/sandbox'.
# Search: 't' (/mnt/nas/home/pi2/njh/.cpan/build/Module-FromPerlVer-0.030000-5/t)
# Existing: '/mnt/nas/home/pi2/njh/.cpan/build/Module-FromPerlVer-0.030000-5/t/sandbox'.
# Work dir: 't/sandbox/20-file-defaults-v5.999.999.t-FTjC'
# Testing perl version: 'v5.999.999' (20-file-defaults-v5.999.999).

# Search: 't' (/mnt/nas/home/pi2/njh/.cpan/build/Module-FromPerlVer-0.030000-5/t)
# Existing: '/mnt/nas/home/pi2/njh/.cpan/build/Module-FromPerlVer-0.030000-5/t/sandbox'.
# Search: 't' (/mnt/nas/home/pi2/njh/.cpan/build/Module-FromPerlVer-0.030000-5/t)
# Existing: '/mnt/nas/home/pi2/njh/.cpan/build/Module-FromPerlVer-0.030000-5/t/sandbox'.
# Work dir: 't/sandbox/20-file-defaults-v5.999999.t-npni'
# Testing perl version: 'v5.999999' (20-file-defaults-v5.999999).
t/dynamic/20-file-defaults-v5.999.999.t ...... ok
t/dynamic/20-file-defaults-v5.999999.t ....... ok

# Search: 't' (/mnt/nas/home/pi2/njh/.cpan/build/Module-FromPerlVer-0.030000-5/t)
# Existing: '/mnt/nas/home/pi2/njh/.cpan/build/Module-FromPerlVer-0.030000-5/t/sandbox'.
# Search: 't' (/mnt/nas/home/pi2/njh/.cpan/build/Module-FromPerlVer-0.030000-5/t)
# Existing: '/mnt/nas/home/pi2/njh/.cpan/build/Module-FromPerlVer-0.030000-5/t/sandbox'.
# Work dir: 't/sandbox/20-file-defaults-v5.999_999.t-Bea4'
# Testing perl version: 'v5.999_999' (20-file-defaults-v5.999_999).
t/dynamic/20-file-defaults-v5.999_999.t ...... ok

# Search: 't' (/mnt/nas/home/pi2/njh/.cpan/build/Module-FromPerlVer-0.030000-5/t)
# Existing: '/mnt/nas/home/pi2/njh/.cpan/build/Module-FromPerlVer-0.030000-5/t/sandbox'.
# Search: 't' (/mnt/nas/home/pi2/njh/.cpan/build/Module-FromPerlVer-0.030000-5/t)
# Existing: '/mnt/nas/home/pi2/njh/.cpan/build/Module-FromPerlVer-0.030000-5/t/sandbox'.
# Work dir: 't/sandbox/30-file-version-from-5.0.1.t-tJ9F'
# Testing perl version: '5.0.1' (30-file-version-from-5.0.1).

# Search: 'sandbox' (/mnt/nas/home/pi2/njh/.cpan/build/Module-FromPerlVer-0.030000-5/t/sandbox)t/dynamic/30-file-version-from-5.0.1.t ....... ok

# Search: 't' (/mnt/nas/home/pi2/njh/.cpan/build/Module-FromPerlVer-0.030000-5/t)
# Existing: '/mnt/nas/home/pi2/njh/.cpan/build/Module-FromPerlVer-0.030000-5/t/sandbox'.
# Search: 't' (/mnt/nas/home/pi2/njh/.cpan/build/Module-FromPerlVer-0.030000-5/t)
# Existing: '/mnt/nas/home/pi2/njh/.cpan/build/Module-FromPerlVer-0.030000-5/t/sandbox'.
# Work dir: 't/sandbox/30-file-version-from-5.000.001.t-lI41'
# Testing perl version: '5.000.001' (30-file-version-from-5.000.001).

# Search: 'sandbox' (/mnt/nas/home/pi2/njh/.cpan/build/Module-FromPerlVer-0.030000-5/t/sandbox)t/dynamic/30-file-version-from-5.000.001.t ... ok

# Search: 't' (/mnt/nas/home/pi2/njh/.cpan/build/Module-FromPerlVer-0.030000-5/t)
# Existing: '/mnt/nas/home/pi2/njh/.cpan/build/Module-FromPerlVer-0.030000-5/t/sandbox'.
# Search: 't' (/mnt/nas/home/pi2/njh/.cpan/build/Module-FromPerlVer-0.030000-5/t)
# Existing: '/mnt/nas/home/pi2/njh/.cpan/build/Module-FromPerlVer-0.030000-5/t/sandbox'.
# Work dir: 't/sandbox/30-file-version-from-5.000001.t-bcCB'
# Testing perl version: '5.000001' (30-file-version-from-5.000001).

# Search: 'sandbox' (/mnt/nas/home/pi2/njh/.cpan/build/Module-FromPerlVer-0.030000-5/t/sandbox)t/dynamic/30-file-version-from-5.000001.t .... ok

# Search: 't' (/mnt/nas/home/pi2/njh/.cpan/build/Module-FromPerlVer-0.030000-5/t)
# Existing: '/mnt/nas/home/pi2/njh/.cpan/build/Module-FromPerlVer-0.030000-5/t/sandbox'.
# Search: 't' (/mnt/nas/home/pi2/njh/.cpan/build/Module-FromPerlVer-0.030000-5/t)
# Existing: '/mnt/nas/home/pi2/njh/.cpan/build/Module-FromPerlVer-0.030000-5/t/sandbox'.
# Work dir: 't/sandbox/30-file-version-from-5.000_001.t-6jBM'
# Testing perl version: '5.000_001' (30-file-version-from-5.000_001).

# Search: 'sandbox' (/mnt/nas/home/pi2/njh/.cpan/build/Module-FromPerlVer-0.030000-5/t/sandbox)t/dynamic/30-file-version-from-5.000_001.t ... ok

# Search: 't' (/mnt/nas/home/pi2/njh/.cpan/build/Module-FromPerlVer-0.030000-5/t)
# Existing: '/mnt/nas/home/pi2/njh/.cpan/build/Module-FromPerlVer-0.030000-5/t/sandbox'.
# Search: 't' (/mnt/nas/home/pi2/njh/.cpan/build/Module-FromPerlVer-0.030000-5/t)
# Existing: '/mnt/nas/home/pi2/njh/.cpan/build/Module-FromPerlVer-0.030000-5/t/sandbox'.
# Work dir: 't/sandbox/30-file-version-from-5.006.000.t-QIvW'
# Testing perl version: '5.006.000' (30-file-version-from-5.006.000).

# Search: 'sandbox' (/mnt/nas/home/pi2/njh/.cpan/build/Module-FromPerlVer-0.030000-5/t/sandbox)t/dynamic/30-file-version-from-5.006.000.t ... ok

# Search: 't' (/mnt/nas/home/pi2/njh/.cpan/build/Module-FromPerlVer-0.030000-5/t)
# Existing: '/mnt/nas/home/pi2/njh/.cpan/build/Module-FromPerlVer-0.030000-5/t/sandbox'.
# Search: 't' (/mnt/nas/home/pi2/njh/.cpan/build/Module-FromPerlVer-0.030000-5/t)
# Existing: '/mnt/nas/home/pi2/njh/.cpan/build/Module-FromPerlVer-0.030000-5/t/sandbox'.
# Work dir: 't/sandbox/30-file-version-from-5.006000.t-8JeS'
# Testing perl version: '5.006000' (30-file-version-from-5.006000).

# Search: 'sandbox' (/mnt/nas/home/pi2/njh/.cpan/build/Module-FromPerlVer-0.030000-5/t/sandbox)
# Search: 't' (/mnt/nas/home/pi2/njh/.cpan/build/Module-FromPerlVer-0.030000-5/t)
# Existing: '/mnt/nas/home/pi2/njh/.cpan/build/Module-FromPerlVer-0.030000-5/t/sandbox'.
# Search: 't' (/mnt/nas/home/pi2/njh/.cpan/build/Module-FromPerlVer-0.030000-5/t)
# Existing: '/mnt/nas/home/pi2/njh/.cpan/build/Module-FromPerlVer-0.030000-5/t/sandbox'.
# Work dir: 't/sandbox/30-file-version-from-5.006_000.t-P74t'
# Testing perl version: '5.006_000' (30-file-version-from-5.006_000).

# Search: 'sandbox' (/mnt/nas/home/pi2/njh/.cpan/build/Module-FromPerlVer-0.030000-5/t/sandbox)t/dynamic/30-file-version-from-5.006000.t .... ok
t/dynamic/30-file-version-from-5.006_000.t ... ok

# Search: 't' (/mnt/nas/home/pi2/njh/.cpan/build/Module-FromPerlVer-0.030000-5/t)
# Existing: '/mnt/nas/home/pi2/njh/.cpan/build/Module-FromPerlVer-0.030000-5/t/sandbox'.
# Search: 't' (/mnt/nas/home/pi2/njh/.cpan/build/Module-FromPerlVer-0.030000-5/t)
# Existing: '/mnt/nas/home/pi2/njh/.cpan/build/Module-FromPerlVer-0.030000-5/t/sandbox'.
# Work dir: 't/sandbox/30-file-version-from-5.008.008.t-uAQc'
# Testing perl version: '5.008.008' (30-file-version-from-5.008.008).

# Search: 'sandbox' (/mnt/nas/home/pi2/njh/.cpan/build/Module-FromPerlVer-0.030000-5/t/sandbox)t/dynamic/30-file-version-from-5.008.008.t ... ok

# Search: 't' (/mnt/nas/home/pi2/njh/.cpan/build/Module-FromPerlVer-0.030000-5/t)
# Existing: '/mnt/nas/home/pi2/njh/.cpan/build/Module-FromPerlVer-0.030000-5/t/sandbox'.
# Search: 't' (/mnt/nas/home/pi2/njh/.cpan/build/Module-FromPerlVer-0.030000-5/t)
# Existing: '/mnt/nas/home/pi2/njh/.cpan/build/Module-FromPerlVer-0.030000-5/t/sandbox'.
# Work dir: 't/sandbox/30-file-version-from-5.008008.t-kEQO'
# Testing perl version: '5.008008' (30-file-version-from-5.008008).

# Search: 'sandbox' (/mnt/nas/home/pi2/njh/.cpan/build/Module-FromPerlVer-0.030000-5/t/sandbox)t/dynamic/30-file-version-from-5.008008.t .... ok

# Search: 't' (/mnt/nas/home/pi2/njh/.cpan/build/Module-FromPerlVer-0.030000-5/t)
# Existing: '/mnt/nas/home/pi2/njh/.cpan/build/Module-FromPerlVer-0.030000-5/t/sandbox'.
# Search: 't' (/mnt/nas/home/pi2/njh/.cpan/build/Module-FromPerlVer-0.030000-5/t)
# Existing: '/mnt/nas/home/pi2/njh/.cpan/build/Module-FromPerlVer-0.030000-5/t/sandbox'.
# Work dir: 't/sandbox/30-file-version-from-5.008_008.t-t91s'
# Testing perl version: '5.008_008' (30-file-version-from-5.008_008).

# Search: 'sandbox' (/mnt/nas/home/pi2/njh/.cpan/build/Module-FromPerlVer-0.030000-5/t/sandbox)
# Search: 't' (/mnt/nas/home/pi2/njh/.cpan/build/Module-FromPerlVer-0.030000-5/t)
# Existing: '/mnt/nas/home/pi2/njh/.cpan/build/Module-FromPerlVer-0.030000-5/t/sandbox'.
# Search: 't' (/mnt/nas/home/pi2/njh/.cpan/build/Module-FromPerlVer-0.030000-5/t)
# Existing: '/mnt/nas/home/pi2/njh/.cpan/build/Module-FromPerlVer-0.030000-5/t/sandbox'.
# Work dir: 't/sandbox/30-file-version-from-5.6.0.t-15xJ'
# Testing perl version: '5.6.0' (30-file-version-from-5.6.0).

# Search: 'sandbox' (/mnt/nas/home/pi2/njh/.cpan/build/Module-FromPerlVer-0.030000-5/t/sandbox)t/dynamic/30-file-version-from-5.008_008.t ... ok
t/dynamic/30-file-version-from-5.6.0.t ....... ok

# Search: 't' (/mnt/nas/home/pi2/njh/.cpan/build/Module-FromPerlVer-0.030000-5/t)
# Existing: '/mnt/nas/home/pi2/njh/.cpan/build/Module-FromPerlVer-0.030000-5/t/sandbox'.
# Search: 't' (/mnt/nas/home/pi2/njh/.cpan/build/Module-FromPerlVer-0.030000-5/t)
# Existing: '/mnt/nas/home/pi2/njh/.cpan/build/Module-FromPerlVer-0.030000-5/t/sandbox'.
# Work dir: 't/sandbox/30-file-version-from-5.8.8.t-uTeU'
# Testing perl version: '5.8.8' (30-file-version-from-5.8.8).

# Search: 'sandbox' (/mnt/nas/home/pi2/njh/.cpan/build/Module-FromPerlVer-0.030000-5/t/sandbox)t/dynamic/30-file-version-from-5.8.8.t ....... ok

# Search: 't' (/mnt/nas/home/pi2/njh/.cpan/build/Module-FromPerlVer-0.030000-5/t)
# Existing: '/mnt/nas/home/pi2/njh/.cpan/build/Module-FromPerlVer-0.030000-5/t/sandbox'.
# Search: 't' (/mnt/nas/home/pi2/njh/.cpan/build/Module-FromPerlVer-0.030000-5/t)
# Existing: '/mnt/nas/home/pi2/njh/.cpan/build/Module-FromPerlVer-0.030000-5/t/sandbox'.
# Work dir: 't/sandbox/30-file-version-from-5.888.888.t-8vyM'
# Testing perl version: '5.888.888' (30-file-version-from-5.888.888).

# Search: 'sandbox' (/mnt/nas/home/pi2/njh/.cpan/build/Module-FromPerlVer-0.030000-5/t/sandbox)t/dynamic/30-file-version-from-5.888.888.t ... ok

# Search: 't' (/mnt/nas/home/pi2/njh/.cpan/build/Module-FromPerlVer-0.030000-5/t)
# Existing: '/mnt/nas/home/pi2/njh/.cpan/build/Module-FromPerlVer-0.030000-5/t/sandbox'.
# Search: 't' (/mnt/nas/home/pi2/njh/.cpan/build/Module-FromPerlVer-0.030000-5/t)
# Existing: '/mnt/nas/home/pi2/njh/.cpan/build/Module-FromPerlVer-0.030000-5/t/sandbox'.
# Work dir: 't/sandbox/30-file-version-from-5.888888.t-fl2v'
# Testing perl version: '5.888888' (30-file-version-from-5.888888).

# Search: 'sandbox' (/mnt/nas/home/pi2/njh/.cpan/build/Module-FromPerlVer-0.030000-5/t/sandbox)t/dynamic/30-file-version-from-5.888888.t .... ok

# Search: 't' (/mnt/nas/home/pi2/njh/.cpan/build/Module-FromPerlVer-0.030000-5/t)
# Existing: '/mnt/nas/home/pi2/njh/.cpan/build/Module-FromPerlVer-0.030000-5/t/sandbox'.
# Search: 't' (/mnt/nas/home/pi2/njh/.cpan/build/Module-FromPerlVer-0.030000-5/t)
# Existing: '/mnt/nas/home/pi2/njh/.cpan/build/Module-FromPerlVer-0.030000-5/t/sandbox'.
# Work dir: 't/sandbox/30-file-version-from-5.888_888.t-dPLT'
# Testing perl version: '5.888_888' (30-file-version-from-5.888_888).

# Search: 'sandbox' (/mnt/nas/home/pi2/njh/.cpan/build/Module-FromPerlVer-0.030000-5/t/sandbox)
# Search: 't' (/mnt/nas/home/pi2/njh/.cpan/build/Module-FromPerlVer-0.030000-5/t)
# Existing: '/mnt/nas/home/pi2/njh/.cpan/build/Module-FromPerlVer-0.030000-5/t/sandbox'.
# Search: 't' (/mnt/nas/home/pi2/njh/.cpan/build/Module-FromPerlVer-0.030000-5/t)
# Existing: '/mnt/nas/home/pi2/njh/.cpan/build/Module-FromPerlVer-0.030000-5/t/sandbox'.
# Work dir: 't/sandbox/30-file-version-from-5.999.999.t-Hryk'
# Testing perl version: '5.999.999' (30-file-version-from-5.999.999).

# Search: 'sandbox' (/mnt/nas/home/pi2/njh/.cpan/build/Module-FromPerlVer-0.030000-5/t/sandbox)t/dynamic/30-file-version-from-5.888_888.t ... ok
t/dynamic/30-file-version-from-5.999.999.t ... ok

# Search: 't' (/mnt/nas/home/pi2/njh/.cpan/build/Module-FromPerlVer-0.030000-5/t)
# Existing: '/mnt/nas/home/pi2/njh/.cpan/build/Module-FromPerlVer-0.030000-5/t/sandbox'.
# Search: 't' (/mnt/nas/home/pi2/njh/.cpan/build/Module-FromPerlVer-0.030000-5/t)
# Existing: '/mnt/nas/home/pi2/njh/.cpan/build/Module-FromPerlVer-0.030000-5/t/sandbox'.
# Work dir: 't/sandbox/30-file-version-from-5.999999.t-n3kc'
# Testing perl version: '5.999999' (30-file-version-from-5.999999).

# Search: 'sandbox' (/mnt/nas/home/pi2/njh/.cpan/build/Module-FromPerlVer-0.030000-5/t/sandbox)t/dynamic/30-file-version-from-5.999999.t .... ok

# Search: 't' (/mnt/nas/home/pi2/njh/.cpan/build/Module-FromPerlVer-0.030000-5/t)
# Existing: '/mnt/nas/home/pi2/njh/.cpan/build/Module-FromPerlVer-0.030000-5/t/sandbox'.
# Search: 't' (/mnt/nas/home/pi2/njh/.cpan/build/Module-FromPerlVer-0.030000-5/t)
# Existing: '/mnt/nas/home/pi2/njh/.cpan/build/Module-FromPerlVer-0.030000-5/t/sandbox'.
# Work dir: 't/sandbox/30-file-version-from-5.999_999.t-tZM9'
# Testing perl version: '5.999_999' (30-file-version-from-5.999_999).

# Search: 'sandbox' (/mnt/nas/home/pi2/njh/.cpan/build/Module-FromPerlVer-0.030000-5/t/sandbox)
# Search: 't' (/mnt/nas/home/pi2/njh/.cpan/build/Module-FromPerlVer-0.030000-5/t)
# Existing: '/mnt/nas/home/pi2/njh/.cpan/build/Module-FromPerlVer-0.030000-5/t/sandbox'.
# Search: 't' (/mnt/nas/home/pi2/njh/.cpan/build/Module-FromPerlVer-0.030000-5/t)
# Existing: '/mnt/nas/home/pi2/njh/.cpan/build/Module-FromPerlVer-0.030000-5/t/sandbox'.
# Work dir: 't/sandbox/30-file-version-from-v5.000.001.t-shmh'
# Testing perl version: 'v5.000.001' (30-file-version-from-v5.000.001).

# Search: 'sandbox' (/mnt/nas/home/pi2/njh/.cpan/build/Module-FromPerlVer-0.030000-5/t/sandbox)
# Search: 't' (/mnt/nas/home/pi2/njh/.cpan/build/Module-FromPerlVer-0.030000-5/t)
# Existing: '/mnt/nas/home/pi2/njh/.cpan/build/Module-FromPerlVer-0.030000-5/t/sandbox'.
# Search: 't' (/mnt/nas/home/pi2/njh/.cpan/build/Module-FromPerlVer-0.030000-5/t)
# Existing: '/mnt/nas/home/pi2/njh/.cpan/build/Module-FromPerlVer-0.030000-5/t/sandbox'.
# Work dir: 't/sandbox/30-file-version-from-v5.0.1.t-rZvP'
# Testing perl version: 'v5.0.1' (30-file-version-from-v5.0.1).

# Search: 'sandbox' (/mnt/nas/home/pi2/njh/.cpan/build/Module-FromPerlVer-0.030000-5/t/sandbox)t/dynamic/30-file-version-from-5.999_999.t ... ok
t/dynamic/30-file-version-from-v5.000.001.t .. ok
t/dynamic/30-file-version-from-v5.0.1.t ...... ok

# Search: 't' (/mnt/nas/home/pi2/njh/.cpan/build/Module-FromPerlVer-0.030000-5/t)
# Existing: '/mnt/nas/home/pi2/njh/.cpan/build/Module-FromPerlVer-0.030000-5/t/sandbox'.
# Search: 't' (/mnt/nas/home/pi2/njh/.cpan/build/Module-FromPerlVer-0.030000-5/t)
# Existing: '/mnt/nas/home/pi2/njh/.cpan/build/Module-FromPerlVer-0.030000-5/t/sandbox'.
# Work dir: 't/sandbox/30-file-version-from-v5.000001.t-a2bk'
# Testing perl version: 'v5.000001' (30-file-version-from-v5.000001).

# Search: 'sandbox' (/mnt/nas/home/pi2/njh/.cpan/build/Module-FromPerlVer-0.030000-5/t/sandbox)t/dynamic/30-file-version-from-v5.000001.t ... ok

# Search: 't' (/mnt/nas/home/pi2/njh/.cpan/build/Module-FromPerlVer-0.030000-5/t)
# Existing: '/mnt/nas/home/pi2/njh/.cpan/build/Module-FromPerlVer-0.030000-5/t/sandbox'.
# Search: 't' (/mnt/nas/home/pi2/njh/.cpan/build/Module-FromPerlVer-0.030000-5/t)
# Existing: '/mnt/nas/home/pi2/njh/.cpan/build/Module-FromPerlVer-0.030000-5/t/sandbox'.
# Work dir: 't/sandbox/30-file-version-from-v5.000_001.t-dreJ'
# Testing perl version: 'v5.000_001' (30-file-version-from-v5.000_001).

# Search: 'sandbox' (/mnt/nas/home/pi2/njh/.cpan/build/Module-FromPerlVer-0.030000-5/t/sandbox)
# Search: 't' (/mnt/nas/home/pi2/njh/.cpan/build/Module-FromPerlVer-0.030000-5/t)
# Existing: '/mnt/nas/home/pi2/njh/.cpan/build/Module-FromPerlVer-0.030000-5/t/sandbox'.
# Search: 't' (/mnt/nas/home/pi2/njh/.cpan/build/Module-FromPerlVer-0.030000-5/t)
# Existing: '/mnt/nas/home/pi2/njh/.cpan/build/Module-FromPerlVer-0.030000-5/t/sandbox'.
# Work dir: 't/sandbox/30-file-version-from-v5.006.000.t-mrYU'
# Testing perl version: 'v5.006.000' (30-file-version-from-v5.006.000).

# Search: 'sandbox' (/mnt/nas/home/pi2/njh/.cpan/build/Module-FromPerlVer-0.030000-5/t/sandbox)
# Search: 't' (/mnt/nas/home/pi2/njh/.cpan/build/Module-FromPerlVer-0.030000-5/t)
# Existing: '/mnt/nas/home/pi2/njh/.cpan/build/Module-FromPerlVer-0.030000-5/t/sandbox'.
# Search: 't' (/mnt/nas/home/pi2/njh/.cpan/build/Module-FromPerlVer-0.030000-5/t)
# Existing: '/mnt/nas/home/pi2/njh/.cpan/build/Module-FromPerlVer-0.030000-5/t/sandbox'.
# Work dir: 't/sandbox/30-file-version-from-v5.006000.t-eu1k'
# Testing perl version: 'v5.006000' (30-file-version-from-v5.006000).

# Search: 'sandbox' (/mnt/nas/home/pi2/njh/.cpan/build/Module-FromPerlVer-0.030000-5/t/sandbox)t/dynamic/30-file-version-from-v5.000_001.t .. ok
t/dynamic/30-file-version-from-v5.006.000.t .. ok
t/dynamic/30-file-version-from-v5.006000.t ... ok

# Search: 't' (/mnt/nas/home/pi2/njh/.cpan/build/Module-FromPerlVer-0.030000-5/t)
# Existing: '/mnt/nas/home/pi2/njh/.cpan/build/Module-FromPerlVer-0.030000-5/t/sandbox'.
# Search: 't' (/mnt/nas/home/pi2/njh/.cpan/build/Module-FromPerlVer-0.030000-5/t)
# Existing: '/mnt/nas/home/pi2/njh/.cpan/build/Module-FromPerlVer-0.030000-5/t/sandbox'.
# Work dir: 't/sandbox/30-file-version-from-v5.006_000.t-ZViO'
# Testing perl version: 'v5.006_000' (30-file-version-from-v5.006_000).

# Search: 'sandbox' (/mnt/nas/home/pi2/njh/.cpan/build/Module-FromPerlVer-0.030000-5/t/sandbox)t/dynamic/30-file-version-from-v5.006_000.t .. ok

# Search: 't' (/mnt/nas/home/pi2/njh/.cpan/build/Module-FromPerlVer-0.030000-5/t)
# Existing: '/mnt/nas/home/pi2/njh/.cpan/build/Module-FromPerlVer-0.030000-5/t/sandbox'.
# Search: 't' (/mnt/nas/home/pi2/njh/.cpan/build/Module-FromPerlVer-0.030000-5/t)
# Existing: '/mnt/nas/home/pi2/njh/.cpan/build/Module-FromPerlVer-0.030000-5/t/sandbox'.
# Work dir: 't/sandbox/30-file-version-from-v5.008.008.t-KEK_'
# Testing perl version: 'v5.008.008' (30-file-version-from-v5.008.008).

# Search: 'sandbox' (/mnt/nas/home/pi2/njh/.cpan/build/Module-FromPerlVer-0.030000-5/t/sandbox)
# Search: 't' (/mnt/nas/home/pi2/njh/.cpan/build/Module-FromPerlVer-0.030000-5/t)
# Existing: '/mnt/nas/home/pi2/njh/.cpan/build/Module-FromPerlVer-0.030000-5/t/sandbox'.
# Search: 't' (/mnt/nas/home/pi2/njh/.cpan/build/Module-FromPerlVer-0.030000-5/t)
# Existing: '/mnt/nas/home/pi2/njh/.cpan/build/Module-FromPerlVer-0.030000-5/t/sandbox'.
# Work dir: 't/sandbox/30-file-version-from-v5.008008.t-OejN'
# Testing perl version: 'v5.008008' (30-file-version-from-v5.008008).

# Search: 'sandbox' (/mnt/nas/home/pi2/njh/.cpan/build/Module-FromPerlVer-0.030000-5/t/sandbox)
# Search: 't' (/mnt/nas/home/pi2/njh/.cpan/build/Module-FromPerlVer-0.030000-5/t)
# Existing: '/mnt/nas/home/pi2/njh/.cpan/build/Module-FromPerlVer-0.030000-5/t/sandbox'.
# Search: 't' (/mnt/nas/home/pi2/njh/.cpan/build/Module-FromPerlVer-0.030000-5/t)
# Existing: '/mnt/nas/home/pi2/njh/.cpan/build/Module-FromPerlVer-0.030000-5/t/sandbox'.
# Work dir: 't/sandbox/30-file-version-from-v5.008_008.t-_AVJ'
# Testing perl version: 'v5.008_008' (30-file-version-from-v5.008_008).

# Search: 'sandbox' (/mnt/nas/home/pi2/njh/.cpan/build/Module-FromPerlVer-0.030000-5/t/sandbox)t/dynamic/30-file-version-from-v5.008.008.t .. ok
t/dynamic/30-file-version-from-v5.008008.t ... ok
t/dynamic/30-file-version-from-v5.008_008.t .. ok

# Search: 't' (/mnt/nas/home/pi2/njh/.cpan/build/Module-FromPerlVer-0.030000-5/t)
# Existing: '/mnt/nas/home/pi2/njh/.cpan/build/Module-FromPerlVer-0.030000-5/t/sandbox'.
# Search: 't' (/mnt/nas/home/pi2/njh/.cpan/build/Module-FromPerlVer-0.030000-5/t)
# Existing: '/mnt/nas/home/pi2/njh/.cpan/build/Module-FromPerlVer-0.030000-5/t/sandbox'.
# Work dir: 't/sandbox/30-file-version-from-v5.6.0.t-dgq1'
# Testing perl version: 'v5.6.0' (30-file-version-from-v5.6.0).

# Search: 'sandbox' (/mnt/nas/home/pi2/njh/.cpan/build/Module-FromPerlVer-0.030000-5/t/sandbox)t/dynamic/30-file-version-from-v5.6.0.t ...... ok

# Search: 't' (/mnt/nas/home/pi2/njh/.cpan/build/Module-FromPerlVer-0.030000-5/t)
# Existing: '/mnt/nas/home/pi2/njh/.cpan/build/Module-FromPerlVer-0.030000-5/t/sandbox'.
# Search: 't' (/mnt/nas/home/pi2/njh/.cpan/build/Module-FromPerlVer-0.030000-5/t)
# Existing: '/mnt/nas/home/pi2/njh/.cpan/build/Module-FromPerlVer-0.030000-5/t/sandbox'.
# Work dir: 't/sandbox/30-file-version-from-v5.888.888.t-zLEK'
# Testing perl version: 'v5.888.888' (30-file-version-from-v5.888.888).

# Search: 'sandbox' (/mnt/nas/home/pi2/njh/.cpan/build/Module-FromPerlVer-0.030000-5/t/sandbox)
# Search: 't' (/mnt/nas/home/pi2/njh/.cpan/build/Module-FromPerlVer-0.030000-5/t)
# Existing: '/mnt/nas/home/pi2/njh/.cpan/build/Module-FromPerlVer-0.030000-5/t/sandbox'.
# Search: 't' (/mnt/nas/home/pi2/njh/.cpan/build/Module-FromPerlVer-0.030000-5/t)
# Existing: '/mnt/nas/home/pi2/njh/.cpan/build/Module-FromPerlVer-0.030000-5/t/sandbox'.
# Work dir: 't/sandbox/30-file-version-from-v5.8.8.t-LERJ'
# Testing perl version: 'v5.8.8' (30-file-version-from-v5.8.8).

# Search: 'sandbox' (/mnt/nas/home/pi2/njh/.cpan/build/Module-FromPerlVer-0.030000-5/t/sandbox)
# Search: 't' (/mnt/nas/home/pi2/njh/.cpan/build/Module-FromPerlVer-0.030000-5/t)
# Existing: '/mnt/nas/home/pi2/njh/.cpan/build/Module-FromPerlVer-0.030000-5/t/sandbox'.
# Search: 't' (/mnt/nas/home/pi2/njh/.cpan/build/Module-FromPerlVer-0.030000-5/t)
# Existing: '/mnt/nas/home/pi2/njh/.cpan/build/Module-FromPerlVer-0.030000-5/t/sandbox'.
# Work dir: 't/sandbox/30-file-version-from-v5.888888.t-wCX0'
# Testing perl version: 'v5.888888' (30-file-version-from-v5.888888).

# Search: 'sandbox' (/mnt/nas/home/pi2/njh/.cpan/build/Module-FromPerlVer-0.030000-5/t/sandbox)t/dynamic/30-file-version-from-v5.888.888.t .. ok
t/dynamic/30-file-version-from-v5.8.8.t ...... ok
t/dynamic/30-file-version-from-v5.888888.t ... ok

# Search: 't' (/mnt/nas/home/pi2/njh/.cpan/build/Module-FromPerlVer-0.030000-5/t)
# Existing: '/mnt/nas/home/pi2/njh/.cpan/build/Module-FromPerlVer-0.030000-5/t/sandbox'.
# Search: 't' (/mnt/nas/home/pi2/njh/.cpan/build/Module-FromPerlVer-0.030000-5/t)
# Existing: '/mnt/nas/home/pi2/njh/.cpan/build/Module-FromPerlVer-0.030000-5/t/sandbox'.
# Work dir: 't/sandbox/30-file-version-from-v5.888_888.t-dA45'
# Testing perl version: 'v5.888_888' (30-file-version-from-v5.888_888).

# Search: 'sandbox' (/mnt/nas/home/pi2/njh/.cpan/build/Module-FromPerlVer-0.030000-5/t/sandbox)t/dynamic/30-file-version-from-v5.888_888.t .. ok

# Search: 't' (/mnt/nas/home/pi2/njh/.cpan/build/Module-FromPerlVer-0.030000-5/t)
# Existing: '/mnt/nas/home/pi2/njh/.cpan/build/Module-FromPerlVer-0.030000-5/t/sandbox'.
# Search: 't' (/mnt/nas/home/pi2/njh/.cpan/build/Module-FromPerlVer-0.030000-5/t)
# Existing: '/mnt/nas/home/pi2/njh/.cpan/build/Module-FromPerlVer-0.030000-5/t/sandbox'.
# Work dir: 't/sandbox/30-file-version-from-v5.999.999.t-VnET'
# Testing perl version: 'v5.999.999' (30-file-version-from-v5.999.999).

# Search: 'sandbox' (/mnt/nas/home/pi2/njh/.cpan/build/Module-FromPerlVer-0.030000-5/t/sandbox)
# Search: 't' (/mnt/nas/home/pi2/njh/.cpan/build/Module-FromPerlVer-0.030000-5/t)
# Existing: '/mnt/nas/home/pi2/njh/.cpan/build/Module-FromPerlVer-0.030000-5/t/sandbox'.
# Search: 't' (/mnt/nas/home/pi2/njh/.cpan/build/Module-FromPerlVer-0.030000-5/t)
# Existing: '/mnt/nas/home/pi2/njh/.cpan/build/Module-FromPerlVer-0.030000-5/t/sandbox'.
# Work dir: 't/sandbox/30-file-version-from-v5.999999.t-s6OD'
# Testing perl version: 'v5.999999' (30-file-version-from-v5.999999).

# Search: 'sandbox' (/mnt/nas/home/pi2/njh/.cpan/build/Module-FromPerlVer-0.030000-5/t/sandbox)t/dynamic/30-file-version-from-v5.999.999.t .. ok

# Search: 't' (/mnt/nas/home/pi2/njh/.cpan/build/Module-FromPerlVer-0.030000-5/t)
# Existing: '/mnt/nas/home/pi2/njh/.cpan/build/Module-FromPerlVer-0.030000-5/t/sandbox'.
# Search: 't' (/mnt/nas/home/pi2/njh/.cpan/build/Module-FromPerlVer-0.030000-5/t)
# Existing: '/mnt/nas/home/pi2/njh/.cpan/build/Module-FromPerlVer-0.030000-5/t/sandbox'.
# Work dir: 't/sandbox/30-file-version-from-v5.999_999.t-uqJU'
# Testing perl version: 'v5.999_999' (30-file-version-from-v5.999_999).

# Search: 'sandbox' (/mnt/nas/home/pi2/njh/.cpan/build/Module-FromPerlVer-0.030000-5/t/sandbox)t/dynamic/30-file-version-from-v5.999999.t ... ok
t/dynamic/30-file-version-from-v5.999_999.t .. ok
All tests successful.
Files=77, Tests=1049, 44 wallclock secs ( 3.58 usr  0.73 sys + 111.70 cusr 30.34 csys = 146.35 CPU)
Result: PASS

------------------------------
PREREQUISITES
------------------------------

Prerequisite modules loaded:

requires:

    Module                         Need     Have    
    ------------------------------ -------- --------
    Cwd                            3.073000 3.63_01 
    File::Basename                 0        2.85    
  ! File::Copy::Recursive::Reduced 0.006000 0.006   
    File::Find                     0        1.34    
    File::Spec::Functions          0        3.63_01 
    FindBin                        0        1.51    
    List::Util                     1.046000 1.50    
    strict                         0        1.11    
    Symbol                         0        1.07    
    Test::More                     0        1.302136
    version                        0        0.9916  

build_requires:

    Module                         Need     Have    
    ------------------------------ -------- --------
    ExtUtils::MakeMaker            0        7.30    

configure_requires:

    Module                         Need     Have    
    ------------------------------ -------- --------
    ExtUtils::MakeMaker            0        7.30    


------------------------------
ENVIRONMENT AND OTHER CONTEXT
------------------------------

Environment variables:

    AUTOMATED_TESTING = 1
    HARNESS_OPTIONS = j4
    LANG = en_GB.UTF-8
    PATH = /home/njh/perl5/perlbrew/bin:/home/njh/perl5/perlbrew/perls/perl-5.24.3/bin:src/njh/smoker/bin:/usr/bin:/bin
    PERL5LIB = /home/njh/.cpan/build/File-Copy-Recursive-Reduced-0.006-84/blib/arch:/home/njh/.cpan/build/File-Copy-Recursive-Reduced-0.006-84/blib/lib:/home/njh/.cpan/build/continuous-delivery-template-0.02-5/blib/arch:/home/njh/.cpan/build/continuous-delivery-template-0.02-5/blib/lib:/home/njh/.cpan/build/Time-Moment-0.44-5/blib/arch:/home/njh/.cpan/build/Time-Moment-0.44-5/blib/lib:/home/njh/.cpan/build/Tie-StringArray-1.101-5/blib/arch:/home/njh/.cpan/build/Tie-StringArray-1.101-5/blib/lib
    PERL5OPT = 
    PERL5_CPANPLUS_IS_RUNNING = 17029
    PERL5_CPAN_IS_RUNNING = 17029
    PERLBREW_BASHRC_VERSION = 0.80
    PERLBREW_HOME = /home/njh/.perlbrew
    PERLBREW_MANPATH = /home/njh/perl5/perlbrew/perls/perl-5.24.3/man
    PERLBREW_PATH = /home/njh/perl5/perlbrew/bin:/home/njh/perl5/perlbrew/perls/perl-5.24.3/bin
    PERLBREW_PERL = perl-5.24.3
    PERLBREW_ROOT = /home/njh/perl5/perlbrew
    PERLBREW_VERSION = 0.80
    SHELL = /bin/sh
    TMPDIR = /tmp/testwrapper.17019

Perl special variables (and OS-specific diagnostics, for MSWin32):

    $^X = /mnt/nas/home/pi2/njh/perl5/perlbrew/perls/perl-5.24.3/bin/perl5.24.3
    $UID/$EUID = 1000 / 1000
    $GID = 1000 4 20 24 25 27 29 30 44 46 60 100 101 108 997 998 999 1000
    $EGID = 1000 4 20 24 25 27 29 30 44 46 60 100 101 108 997 998 999 1000

Perl module toolchain versions installed:

    Module              Have      
    ------------------- ----------
    CPAN                2.16      
    CPAN::Meta          2.150005  
    Cwd                 3.63_01   
    ExtUtils::CBuilder  0.280225  
    ExtUtils::Command   7.30      
    ExtUtils::Install   2.06      
    ExtUtils::MakeMaker 7.30      
    ExtUtils::Manifest  1.70      
    ExtUtils::ParseXS   3.31      
    File::Spec          3.63_01   
    JSON                2.94      
    JSON::PP            2.27300_01
    Module::Build       0.4224    
    Module::Signature   n/a       
    Parse::CPAN::Meta   1.4417_001
    Test::Harness       3.36_01   
    Test::More          1.302136  
    YAML                1.24      
    YAML::Syck          1.30      
    version             0.9916    


--

Summary of my perl5 (revision 5 version 24 subversion 3) configuration:
   
  Platform:
    osname=linux, osvers=4.9.41-v7+, archname=armv7l-linux
    uname='linux pi2 4.9.41-v7+ #1023 smp tue aug 8 16:00:15 bst 2017 armv7l gnulinux '
    config_args='-de -Dprefix=/home/njh/perl5/perlbrew/perls/perl-5.24.3 -Dusedevel -Accflags= -Aeval:scriptdir=/home/njh/perl5/perlbrew/perls/perl-5.24.3/bin'
    hint=recommended, useposix=true, d_sigaction=define
    useithreads=undef, usemultiplicity=undef
    use64bitint=undef, use64bitall=undef, uselongdouble=undef
    usemymalloc=n, bincompat5005=undef
  Compiler:
    cc='cc', ccflags ='-fwrapv -fno-strict-aliasing -pipe -fstack-protector-strong -I/usr/local/include -D_LARGEFILE_SOURCE -D_FILE_OFFSET_BITS=64 -D_FORTIFY_SOURCE=2',
    optimize='-O2',
    cppflags='-fwrapv -fno-strict-aliasing -pipe -fstack-protector-strong -I/usr/local/include'
    ccversion='', gccversion='6.3.0 20170516', gccosandvers=''
    intsize=4, longsize=4, ptrsize=4, doublesize=8, byteorder=1234, doublekind=3
    d_longlong=define, longlongsize=8, d_longdbl=define, longdblsize=8, longdblkind=0
    ivtype='long', ivsize=4, nvtype='double', nvsize=8, Off_t='off_t', lseeksize=8
    alignbytes=8, prototype=define
  Linker and Libraries:
    ld='cc', ldflags =' -fstack-protector-strong -L/usr/local/lib'
    libpth=/usr/local/lib /usr/lib/gcc/arm-linux-gnueabihf/6/include-fixed /usr/include/arm-linux-gnueabihf /usr/lib /lib/arm-linux-gnueabihf /lib /usr/lib/arm-linux-gnueabihf
    libs=-lpthread -lnsl -lgdbm -ldb -ldl -lm -lcrypt -lutil -lc -lgdbm_compat
    perllibs=-lpthread -lnsl -ldl -lm -lcrypt -lutil -lc
    libc=libc-2.24.so, so=so, useshrplib=false, libperl=libperl.a
    gnulibc_version='2.24'
  Dynamic Linking:
    dlsrc=dl_dlopen.xs, dlext=so, d_dlsymun=undef, ccdlflags='-Wl,-E'
    cccdlflags='-fPIC', lddlflags='-shared -O2 -L/usr/local/lib -fstack-protector-strong'


Characteristics of this binary (from libperl): 
  Compile-time options: HAS_TIMES PERLIO_LAYERS PERL_COPY_ON_WRITE
                        PERL_DONT_CREATE_GVSV
                        PERL_HASH_FUNC_ONE_AT_A_TIME_HARD PERL_MALLOC_WRAP
                        PERL_PRESERVE_IVUV PERL_USE_DEVEL USE_LARGE_FILES
                        USE_LOCALE USE_LOCALE_COLLATE USE_LOCALE_CTYPE
                        USE_LOCALE_NUMERIC USE_LOCALE_TIME USE_PERLIO
                        USE_PERL_ATOF
  Built under linux
  Compiled at Oct  4 2017 00:41:37
  %ENV:
    PERL5LIB="/home/njh/.cpan/build/File-Copy-Recursive-Reduced-0.006-84/blib/arch:/home/njh/.cpan/build/File-Copy-Recursive-Reduced-0.006-84/blib/lib:/home/njh/.cpan/build/continuous-delivery-template-0.02-5/blib/arch:/home/njh/.cpan/build/continuous-delivery-template-0.02-5/blib/lib:/home/njh/.cpan/build/Time-Moment-0.44-5/blib/arch:/home/njh/.cpan/build/Time-Moment-0.44-5/blib/lib:/home/njh/.cpan/build/Tie-StringArray-1.101-5/blib/arch:/home/njh/.cpan/build/Tie-StringArray-1.101-5/blib/lib"
    PERL5OPT=""
    PERL5_CPANPLUS_IS_RUNNING="17029"
    PERL5_CPAN_IS_RUNNING="17029"
    PERLBREW_BASHRC_VERSION="0.80"
    PERLBREW_HOME="/home/njh/.perlbrew"
    PERLBREW_MANPATH="/home/njh/perl5/perlbrew/perls/perl-5.24.3/man"
    PERLBREW_PATH="/home/njh/perl5/perlbrew/bin:/home/njh/perl5/perlbrew/perls/perl-5.24.3/bin"
    PERLBREW_PERL="perl-5.24.3"
    PERLBREW_ROOT="/home/njh/perl5/perlbrew"
    PERLBREW_VERSION="0.80"
  @INC:
    /home/njh/.cpan/build/File-Copy-Recursive-Reduced-0.006-84/blib/arch
    /home/njh/.cpan/build/File-Copy-Recursive-Reduced-0.006-84/blib/lib
    /home/njh/.cpan/build/continuous-delivery-template-0.02-5/blib/arch
    /home/njh/.cpan/build/continuous-delivery-template-0.02-5/blib/lib
    /home/njh/.cpan/build/Time-Moment-0.44-5/blib/arch
    /home/njh/.cpan/build/Time-Moment-0.44-5/blib/lib
    /home/njh/.cpan/build/Tie-StringArray-1.101-5/blib/arch
    /home/njh/.cpan/build/Tie-StringArray-1.101-5/blib/lib
    /home/njh/perl5/perlbrew/perls/perl-5.24.3/lib/site_perl/5.24.3/armv7l-linux
    /home/njh/perl5/perlbrew/perls/perl-5.24.3/lib/site_perl/5.24.3
    /home/njh/perl5/perlbrew/perls/perl-5.24.3/lib/5.24.3/armv7l-linux
    /home/njh/perl5/perlbrew/perls/perl-5.24.3/lib/5.24.3
    .